{"text_format":"3","workbook":"xlsx","n_sheets":9,"sheets":["дебиторыкредиторы","кредитный портфель","Платежный календарь_экв","CF annual","Эффективность проекта","ToDo","Заключение УР","list","PD"],"not_rendered":{"images":1,"macros":1,"external_links":20,"defined_names":213,"comments":2},"read":"whole","date_system":"1900"}

{"sheet":"дебиторыкредиторы","index":0,"n_rows":144,"n_cols":48,"rows_kept":144,"hidden":true,"merged":[[0,0,0,45],[1,1,1,3],[1,4,1,8],[1,9,1,13],[1,14,1,18],[1,19,1,23],[1,24,1,28],[1,29,1,33],[2,1,2,3],[2,4,2,8],[2,9,2,13],[2,14,2,18],[2,19,2,23],[2,24,2,28],[2,29,2,33],[3,1,3,3],[3,4,3,8],[3,9,3,13],[3,14,3,18],[3,19,3,23],[3,24,3,28],[3,29,3,33],[4,1,4,3],[4,4,4,8],[4,9,4,13],[4,14,4,18],[4,19,4,23],[4,24,4,28],[4,29,4,33],[5,1,5,3],[5,4,5,8],[5,9,5,13],[5,14,5,18],[5,19,5,23],[5,24,5,28],[5,29,5,33],[6,1,6,3],[6,4,6,8],[6,9,6,13],[6,14,6,18],[6,19,6,23],[6,24,6,28],[6,29,6,33],[7,1,7,3],[7,4,7,8],[7,9,7,13],[7,14,7,18],[7,19,7,23],[7,24,7,28],[7,29,7,33],[8,1,8,3],[8,4,8,8],[8,9,8,13],[8,14,8,18],[8,19,8,23],[8,24,8,28],[8,29,8,33],[9,1,9,3],[9,4,9,8],[9,9,9,13],[9,14,9,18],[9,19,9,23],[9,24,9,28],[9,29,9,33],[10,1,10,3],[10,4,10,8],[10,9,10,13],[10,14,10,18],[10,19,10,23],[10,24,10,28],[10,29,10,33],[11,1,11,3],[11,4,11,8],[11,9,11,13],[11,14,11,18],[11,19,11,23],[11,24,11,28],[11,29,11,33],[12,1,12,3],[12,4,12,8],[12,9,12,13],[12,14,12,18],[12,19,12,23],[12,24,12,28],[12,29,12,33],[13,1,13,3],[13,4,13,8],[13,9,13,13],[13,14,13,18],[13,19,13,23],[13,24,13,28],[13,29,13,33],[14,1,14,3],[14,4,14,8],[14,9,14,13],[14,14,14,18],[14,19,14,23],[14,24,14,28],[14,29,14,33],[15,1,15,3],[15,4,15,8],[15,9,15,13],[15,14,15,18],[15,19,15,23],[15,24,15,28],[15,29,15,33],[16,1,16,3],[16,4,16,8],[16,9,16,13],[16,14,16,18],[16,19,16,23],[16,24,16,28],[16,29,16,33],[17,1,17,3],[17,4,17,8],[17,9,17,13],[17,14,17,18],[17,19,17,23],[17,24,17,28],[17,29,17,33],[18,1,18,3],[18,4,18,8],[18,9,18,13],[18,14,18,18],[18,19,18,23],[18,24,18,28],[18,29,18,33],[19,1,19,3],[19,4,19,8],[19,9,19,13],[19,14,19,18],[19,19,19,23],[19,24,19,28],[19,29,19,33],[20,1,20,3],[20,4,20,8],[20,9,20,13],[20,14,20,18],[20,19,20,23],[20,24,20,28],[20,29,20,33],[21,1,21,3],[21,4,21,8],[21,9,21,13],[21,14,21,18],[21,19,21,23],[21,24,21,28],[21,29,21,33],[22,1,22,3],[22,4,22,8],[22,9,22,13],[22,14,22,18],[22,19,22,23],[22,24,22,28],[22,29,22,33],[23,1,23,3],[23,4,23,8],[23,9,23,13],[23,14,23,18],[23,19,23,23],[23,24,23,28],[23,29,23,33],[24,1,24,3],[24,4,24,8],[24,9,24,13],[24,14,24,18],[24,19,24,23],[24,24,24,28],[24,29,24,33],[25,1,25,3],[25,4,25,8],[25,9,25,13],[25,14,25,18],[25,19,25,23],[25,24,25,28],[25,29,25,33],[27,0,27,45],[28,0,28,45],[30,0,30,39],[30,40,30,45],[31,0,32,13],[31,14,32,19],[31,20,32,22],[31,23,31,30],[31,31,32,33],[31,42,32,42],[31,43,32,44],[31,45,32,45],[32,23,32,24],[32,25,32,26],[32,27,32,28],[32,29,32,30],[33,20,33,21],[33,22,33,35],[34,20,34,21],[34,23,34,24],[34,25,34,26],[34,27,34,28],[34,29,34,30],[34,33,34,34],[35,20,35,21],[35,23,35,24],[35,25,35,26],[35,27,35,28],[35,29,35,30],[35,33,35,34],[36,20,36,21],[36,22,36,35],[37,20,37,21],[37,23,37,24],[37,25,37,26],[37,27,37,28],[37,29,37,30],[37,33,37,34],[38,20,38,21],[38,23,38,24],[38,25,38,26],[38,27,38,28],[38,29,38,30],[38,33,38,34],[39,20,39,21],[39,22,39,35],[40,20,40,21],[40,23,40,24],[40,25,40,26],[40,27,40,28],[40,29,40,30],[40,33,40,34],[41,20,41,21],[41,23,41,24],[41,25,41,26],[41,27,41,28],[41,29,41,30],[41,33,41,34],[42,20,42,21],[42,22,42,35],[43,20,43,21],[43,23,43,24],[43,25,43,26],[43,27,43,28],[43,29,43,30],[43,33,43,34],[44,20,44,21],[44,23,44,24],[44,25,44,26],[44,27,44,28],[44,29,44,30],[44,33,44,34],[45,20,45,21],[45,22,45,35],[46,20,46,21],[46,23,46,24],[46,25,46,26],[46,27,46,28],[46,29,46,30],[46,33,46,34],[47,20,47,21],[47,23,47,24],[47,25,47,26],[47,27,47,28],[47,29,47,30],[47,33,47,34],[48,20,48,21],[48,23,48,24],[48,25,48,26],[48,27,48,28],[48,29,48,30],[48,33,48,34],[51,0,52,10],[51,11,52,16],[51,17,52,21],[51,22,52,24],[51,25,52,34],[51,35,52,45],[53,0,53,10],[53,11,53,16],[53,17,53,21],[53,22,53,24],[53,25,53,34],[53,35,53,45],[54,0,54,10],[54,11,54,16],[54,17,54,21],[54,22,54,24],[54,25,54,34],[54,35,54,45],[55,0,55,10],[55,11,55,16],[55,17,55,21],[55,22,55,24],[55,25,55,34],[55,35,55,45],[56,0,56,10],[56,11,56,16],[56,17,56,21],[56,22,56,24],[56,25,56,34],[56,35,56,45],[57,0,57,10],[57,11,57,16],[57,17,57,21],[57,22,57,24],[57,25,57,34],[57,35,57,45],[58,0,58,10],[58,11,58,16],[58,17,58,21],[58,22,58,24],[58,25,58,34],[58,35,58,45],[59,0,59,10],[59,11,59,16],[59,17,59,21],[59,22,59,24],[59,25,59,34],[59,35,59,45],[60,0,60,10],[60,11,60,16],[60,17,60,21],[60,22,60,24],[60,25,60,34],[60,35,60,45],[61,0,61,10],[61,11,61,16],[61,17,61,21],[61,22,61,24],[61,25,61,34],[61,35,61,45],[62,0,62,10],[62,11,62,16],[62,17,62,21],[62,22,62,24],[62,25,62,34],[62,35,62,45],[63,0,63,10],[63,11,63,16],[63,17,63,21],[63,22,63,24],[63,25,63,34],[63,35,63,45],[64,0,64,10],[64,11,64,16],[64,17,64,21],[64,22,64,24],[64,25,64,34],[64,35,64,45],[65,0,65,10],[65,11,65,16],[65,17,65,21],[65,22,65,24],[65,25,65,34],[65,35,65,45],[66,0,66,10],[66,11,66,16],[66,17,66,21],[66,22,66,24],[66,25,66,34],[66,35,66,45],[67,0,67,10],[67,11,67,16],[67,17,67,21],[67,22,67,24],[67,25,67,34],[67,35,67,45],[68,0,68,10],[68,11,68,16],[68,17,68,21],[68,22,68,24],[68,25,68,34],[68,35,68,45],[69,0,69,10],[69,11,69,16],[69,17,69,21],[69,22,69,24],[69,25,69,34],[69,35,69,45],[70,0,70,45],[72,0,72,45],[73,0,73,32],[74,0,75,10],[74,11,75,16],[74,17,75,21],[74,22,75,32],[76,0,76,10],[76,11,76,16],[76,17,76,21],[76,22,76,32],[77,0,77,10],[77,11,77,16],[77,17,77,21],[77,22,77,32],[78,0,78,10],[78,11,78,16],[78,17,78,21],[78,22,78,32],[79,0,79,10],[79,11,79,16],[79,17,79,21],[79,22,79,32],[80,0,80,10],[80,11,80,16],[80,17,80,21],[80,22,80,32],[81,0,81,10],[81,11,81,16],[81,17,81,21],[81,22,81,32],[82,0,82,10],[82,11,82,16],[82,17,82,21],[82,22,82,32],[84,0,84,23],[85,0,85,5],[85,6,85,14],[85,15,85,23],[86,0,86,5],[86,6,86,14],[86,15,86,23],[87,0,87,5],[87,6,87,14],[87,15,87,23],[88,0,88,5],[88,6,88,14],[88,15,88,23],[91,0,91,39],[91,40,91,45],[92,0,93,10],[92,11,93,16],[92,17,93,21],[92,22,93,24],[92,25,93,34],[92,35,93,45],[94,0,94,10],[94,11,94,16],[94,17,94,21],[94,22,94,24],[94,25,94,34],[94,35,94,45],[95,0,95,10],[95,11,95,16],[95,17,95,21],[95,22,95,24],[95,25,95,34],[95,35,95,45],[96,0,96,10],[96,11,96,16],[96,17,96,21],[96,22,96,24],[96,25,96,34],[96,35,96,45],[97,0,97,10],[97,11,97,16],[97,17,97,21],[97,22,97,24],[97,25,97,34],[97,35,97,45],[98,0,98,10],[98,11,98,16],[98,17,98,21],[98,22,98,24],[98,25,98,34],[98,35,98,45],[99,0,99,10],[99,11,99,16],[99,17,99,21],[99,22,99,24],[99,25,99,34],[99,35,99,45],[100,0,100,10],[100,11,100,16],[100,17,100,21],[100,22,100,24],[100,25,100,34],[100,35,100,45],[101,0,101,10],[101,11,101,16],[101,17,101,21],[101,22,101,24],[101,25,101,34],[101,35,101,45],[102,0,102,10],[102,11,102,16],[102,17,102,21],[102,22,102,24],[102,25,102,34],[102,35,102,45],[103,0,103,10],[103,11,103,16],[103,17,103,21],[103,22,103,24],[103,25,103,34],[103,35,103,45],[104,0,104,10],[104,11,104,16],[104,17,104,21],[104,22,104,24],[104,25,104,34],[104,35,104,45],[105,0,105,10],[105,11,105,16],[105,17,105,21],[105,22,105,24],[105,25,105,34],[105,35,105,45],[106,0,106,10],[106,11,106,16],[106,17,106,21],[106,22,106,24],[106,25,106,34],[106,35,106,45],[107,0,107,10],[107,11,107,16],[107,17,107,21],[107,22,107,24],[107,25,107,34],[107,35,107,45],[108,0,108,10],[108,11,108,16],[108,17,108,21],[108,22,108,24],[108,25,108,34],[108,35,108,45],[109,0,109,10],[109,11,109,16],[109,17,109,21],[109,22,109,24],[109,25,109,34],[109,35,109,45],[110,0,110,10],[110,11,110,16],[110,17,110,21],[110,22,110,24],[110,25,110,34],[110,35,110,45],[111,0,111,10],[111,11,111,16],[111,17,111,21],[111,22,111,24],[111,25,111,34],[111,35,111,45],[112,0,112,10],[112,11,112,16],[112,17,112,21],[112,22,112,24],[112,25,112,34],[112,35,112,45],[113,0,113,10],[113,11,113,16],[113,17,113,21],[113,22,113,24],[113,25,113,34],[113,35,113,45],[114,0,114,10],[114,11,114,16],[114,17,114,21],[114,22,114,24],[114,25,114,34],[114,35,114,45],[115,0,115,45],[117,0,117,45],[118,0,118,32],[119,0,120,10],[119,11,120,16],[119,17,120,21],[119,22,120,32],[121,0,121,10],[121,11,121,16],[121,17,121,21],[121,22,121,32],[122,0,122,10],[122,11,122,16],[122,17,122,21],[122,22,122,32],[123,0,123,10],[123,11,123,16],[123,17,123,21],[123,22,123,32],[124,0,124,10],[124,11,124,16],[124,17,124,21],[124,22,124,32],[125,0,125,10],[125,11,125,16],[125,17,125,21],[125,22,125,32],[126,0,126,10],[126,11,126,16],[126,17,126,21],[126,22,126,32],[127,0,127,10],[127,11,127,16],[127,17,127,21],[127,22,127,32],[129,0,129,23],[130,0,130,5],[130,6,130,14],[130,15,130,23],[131,0,131,5],[131,6,131,14],[131,15,131,23],[132,0,132,5],[132,6,132,14],[132,15,132,23],[133,0,133,5],[133,6,133,14],[133,15,133,23]]}
["Данные о выручке (90сч.) и оборотах по расчетным счетам (приход) за последние 12 месяцев: "]
[null,"Месяц",null,null,"Выручка по 90 сч.",{"$nulls":4},"Полные обороты по Р/сч в БНБ Банк",{"$nulls":4},"Чистые обороты по ОАО БНБ Банк",{"$nulls":4},"Обороты по Р/с  в Банке ______1______",{"$nulls":4},"Обороты по Р/с  в Банке _____2______",{"$nulls":4},"Доля валютной выручки (при наличии таковой)"]
[1]
[2]
[3]
[4]
[5]
[6]
[7]
[8]
[9]
[10]
[11]
[12]
[13]
[14]
[15]
[16]
[17]
[18]
[19]
[20]
[21]
[22]
[23]
[24]
["Комментарии:"]
[]
["В расшифровках ниже допускается при достаточно большом количестве дебиторов/кредиторов указывать основных и наиболее крупных дебиторов/кредиторов  (от 5-10 и более шт),  остальные приводятся общей строкой «прочие».  Расшифровка задолженности производится на дату предоставления заявки или последнюю возможную отчетную дату."]
[]
["Расшифровка дебиторской задолженности ( включая займы выданные (анализ счетов 45, 60, 62 и 76)) по состоянию на",{"$nulls":39},"2020-03-01",{"$nulls":6},"исправить дату!"]
["Наименование дебитора, резидентство",{"$nulls":13},"Сумма задолженности",{"$nulls":5},"Дата образования",null,null,"Длительность задолженности",{"$nulls":7},"Проср\n+/-",{"$nulls":10},"Сумма просроченной","Доля в структуре",null,"За что задолженность"]
[{"$nulls":23},"0-30",null,"31-60",null,"61-90",null,">90"]
[{"$nulls":20},{"$f":"SUM(U35:V36)","v":0},null,"строка 250 баланса \"Расчеты с поставщиками и подрядчиками\" (предоплата - счет 60) "]
[{"$nulls":20},{"$f":"X35+Z35+AB35+AD35","v":0},{"$nulls":12},{"$f":"IFERROR(U35/$D$143,\"-\")","v":"-"}]
[{"$nulls":20},{"$f":"X36+Z36+AB36+AD36","v":0},{"$nulls":12},{"$f":"IFERROR(U36/$D$143,\"-\")","v":"-"}]
[{"$nulls":20},{"$f":"SUM(U38:V39)","v":0},null,"строка 250 баланса \"Расчеты с покупателями и заказчиками\" (счет 62)"]
[{"$nulls":20},{"$f":"X38+Z38+AB38+AD38","v":0},{"$nulls":12},{"$f":"IFERROR(U38/$D$143,\"-\")","v":"-"}]
[{"$nulls":20},{"$f":"X39+Z39+AB39+AD39","v":0},{"$nulls":12},{"$f":"IFERROR(U39/$D$143,\"-\")","v":"-"}]
[{"$nulls":20},{"$f":"SUM(U41:V42)","v":0},null,"Финансовые вложения"]
[{"$nulls":20},{"$f":"X41+Z41+AB41+AD41","v":0},{"$nulls":12},{"$f":"IFERROR(U41/$D$143,\"-\")","v":"-"}]
[{"$nulls":20},{"$f":"X42+Z42+AB42+AD42","v":0},{"$nulls":12},{"$f":"IFERROR(U42/$D$143,\"-\")","v":"-"}]
[{"$nulls":20},{"$f":"SUM(U44:V45)","v":0},null,"Товары отгруженные"]
[{"$nulls":20},{"$f":"X44+Z44+AB44+AD44","v":0},{"$nulls":12},{"$f":"IFERROR(U44/$D$143,\"-\")","v":"-"}]
[{"$nulls":20},{"$f":"X45+Z45+AB45+AD45","v":0},{"$nulls":12},{"$f":"IFERROR(U45/$D$143,\"-\")","v":"-"}]
[{"$nulls":20},{"$f":"SUM(U47:V48)","v":0},null,"Строка 250 баланса \"Прочая дебиторская задолженность\""]
[{"$nulls":20},{"$f":"X47+Z47+AB47+AD47","v":0},{"$nulls":12},{"$f":"IFERROR(U47/$D$143,\"-\")","v":"-"}]
[{"$nulls":20},{"$f":"X48+Z48+AB48+AD48","v":0},{"$nulls":12},{"$f":"IFERROR(U48/$D$143,\"-\")","v":"-"}]
["Итого",{"$nulls":19},{"$f":"U34+U37+U40+U43+U46","v":0},null,"-",{"$f":"SUM(X34:Y48)","v":0},null,{"$f":"SUM(Z34:AA48)","v":0},null,{"$f":"SUM(AB34:AC48)","v":0},null,{"$f":"SUM(AD34:AE48)","v":0},null,"-",{"$f":"SUM(AG35:AG48)","v":{"v":0,"d":"0.00"}},{"$f":"SUM(AH35:AH48)","v":{"v":0,"d":"0%"}}]
[]
[]
["Наименование дебитора",{"$nulls":10},"Сумма задолженности на дату расшифровки",{"$nulls":5},"Дата образования задолженности",{"$nulls":4},"Просрочено (да/нет)",null,null,"Если просрочено, то сумма и дата, с которой долг считается просроченным",{"$nulls":9},"Характер задолженности (авансы выданные, товар (услуга, работа) отгруженные, выданный займ, другое)"]
{"$rows_empty":17}
["Итого",{"$nulls":10},{"$f":"SUM(L54:Q69)","v":0}]
["В случае наличия дебиторов, взыскание долгов с которых производится в судебном порядке (уже поданы или еще готовятся иски в суд), необходимо указать всех таких дебиторов вне зависимости от суммы долга с обязательным указанием в 5-м столбце таблицы даты (фактической или предполагаемой) обращения в суд. "]
["Комментарии:"]
[]
["Просроченная дебиторская задолженность, включая займы выданные, со сроком просрочки более 90 дней: указываются все дебиторы, имеющие просроченную задолженность более 90 дней."]
["Наименование дебитора",{"$nulls":10},"Сумма задолженности на дату расшифровки",{"$nulls":5},"Дата опл.(отгрузки) по дог-ру (начиная с кот. задолж-ть признана просроч-ой)",{"$nulls":4},"Характер задолженности (За что задолженность)"]
{"$rows_empty":7}
["Итого",{"$nulls":10},{"$f":"SUM(L77:Q82)","v":0}]
[]
["Динамика дебиторской задолженности"]
["дата",{"$nulls":5},"сумма задолженности",{"$nulls":8},"в т.ч.  просроченной"]
[]
[]
[]
["* указываются данные на 3 последних квартальных даты"]
[]
["Расшифровка  кредиторской  задолженности (включая кредиты/займы полученные (анализ 60, 62, 66, 67, 68, 69, 73 и 76 счетов)) по состоянию на",{"$nulls":39},{"$f":"AO31","v":"2020-03-01"},{"$nulls":6},"исправить дату!"]
["Наименование кредитора",{"$nulls":10},"Сумма задолженности на дату расшифровки",{"$nulls":5},"Дата образования задолженности",{"$nulls":4},"Просрочено (да/нет)",null,null,"Если просрочено, то сумма и дата, с которой долг считается просроченным",{"$nulls":9},"Характер задолженности (авансы полученные, товар (работа, услуга) полученные, полученный займ, другое)"]
{"$rows_empty":21}
["Итого",{"$nulls":10},{"$f":"SUM(L95:Q114)","v":0}]
["В случае наличия кредиторов, подавших на заявителя в суд в связи с несвоевременным исполнением договорных обязательств, необходимо указать всех таких кредиторов вне зависимости от суммы долга с обязательным указанием в 5-м столбце таблицы даты получения извещения о поданном в суд иске. "]
["Комментарии:"]
[]
["Просроченная кредиторская задолженность, включая займы и кредиты полученные, со сроком просрочки более 90 дней: указываются все кредиторы, перед которыми имеется просроченная задолженность более 90 дней."]
["Наименование кредитора",{"$nulls":10},"Сумма задолженности на дату расшифровки",{"$nulls":5},"Дата опл.(отгрузки) по дог-ру (начиная с кот. задолж-ть признана просроч-ой)",{"$nulls":4},"Характер задолженности (За что задолженность)"]
{"$rows_empty":7}
["Итого",{"$nulls":10},{"$f":"SUM(L122:Q127)","v":0}]
[]
["Динамика кредиторской задолженности"]
["дата",{"$nulls":5},"сумма задолженности",{"$nulls":8},"в т.ч.  просроченной"]
[]
[]
[]
["* указываются данные на 3 последних квартальных даты"]
[]
[]
[]
["Директор"]
[]
["Гл.бухгалтер"]
[]
[]
[{"$nulls":16},"МП"]

{"sheet":"кредитный портфель","index":1,"n_rows":52,"n_cols":11,"rows_kept":52,"merged":[[0,0,0,10],[1,0,1,10],[2,0,2,10],[4,0,4,3],[4,4,4,5],[5,4,5,5],[7,1,7,10],[8,1,8,2],[8,3,8,4],[8,5,8,6],[8,7,8,8],[8,9,8,10],[9,1,9,2],[9,3,9,4],[9,5,9,6],[9,7,9,8],[9,9,9,10],[11,0,12,0],[11,1,12,1],[11,2,12,2],[11,3,12,3],[11,4,12,4],[11,5,12,5],[11,6,11,7],[11,8,12,8],[11,9,11,10],[13,0,13,10],[18,0,18,10],[23,0,23,10],[28,0,28,10],[33,0,33,10],[38,0,38,10],[42,0,42,10],[45,0,45,10]]}
["Сведения о кредитном портфеле и начисленной амортизации"]
["___________________________________________________________"]
["наименование организации"]
[]
["по состоянию на ",{"$nulls":5},"г."]
[{"$nulls":4},"дата"]
[]
["начисленная амортизация за предыдущий отчетный год","начисленная амортизация за последние 4 (четыре) отчетных квартала"]
["за ____._________. 202_ г.\n(за предыдущий отчетный год,  BYN)","за ___._______.202_ г.\n(1й отчетный квартал, BYN)",null,"за ___._______.202_ г.\n(2й отчетный квартал, BYN)",null,"за ___._______.202_ г.\n(3й отчетный квартал, BYN)",null,"за ___._______.202_ г.\n(4й отчетный квартал, BYN)",null,"Итого:\n(за последние 4 квартала, BYN)"]
[]
[]
["Кредитор","% ставка, размер прочих комиссий","Сумма договора, валюта","Обеспечение","Дата договора","Дата погашения по договору","среднемесячное погашение  \nна ближайшие 3 месяца",null,"Остаток  задолженности\n (при НВКЛ, кредит, лизинг, факторинг) / лимит (при ВКЛ)","по гарантиям\nусловия в случае исполнения банком гарантии"]
[{"$nulls":6},"по основному долгу","по процентам",null,"Срок возмещения\n","% ставка"]
["кредиты (разовые кредиты, невозобновляемые кредитные линии) "]
[]
[]
[]
[]
["возобновляемые кредитные линии"]
[]
[]
[]
[]
["факторинги"]
[]
[]
[]
[]
["лизинги "]
[]
[]
[]
[]
["гарантии "]
[]
[]
[]
[]
["Облигации"]
[]
[]
[]
["Токены"]
[]
[]
["Займы привлеченные от третьих лиц (кроме взаимосвязанных лиц)"]
[]
[]
["* - в случае, если кредитором является ОАО\"БНБ-Банк\" информация может не вноситься"]
["Директор"]
[]
["Главный бухгалтер"]

{"sheet":"Платежный календарь_экв","index":2,"n_rows":90,"n_cols":207,"rows_kept":90,"hidden":true,"merged":[[3,1,5,1],[3,2,5,2],[3,3,3,6],[3,7,3,10],[3,11,3,14],[3,15,3,18],[3,19,3,22],[3,23,3,26],[3,27,3,30],[3,31,3,34],[3,35,3,38],[3,39,3,42],[3,43,3,46],[3,47,3,50],[3,51,3,54],[3,55,3,58],[3,59,3,62],[3,63,3,66],[3,67,3,70],[3,71,3,74],[3,75,3,78],[3,79,3,82],[3,83,3,86],[3,87,3,90],[3,91,3,94],[3,95,3,98],[3,99,3,102],[3,103,3,106],[3,107,3,110],[3,111,3,114],[3,115,3,118],[3,119,3,122],[3,123,3,126],[3,127,3,130],[3,131,3,134],[3,135,3,138],[3,139,3,142],[3,143,3,146],[3,147,3,150],[3,151,3,154],[3,155,3,158],[3,159,3,162],[3,163,3,166],[3,167,3,170],[3,171,3,174],[3,175,3,178],[3,179,3,182],[3,183,3,186],[3,187,3,190],[3,191,3,194],[3,195,3,198],[3,199,3,202],[3,203,3,206]]}
[]
[]
[]
[null,"№","Период","Испрашиваемый кредит 1",{"$nulls":3},"Кредит 2",{"$nulls":3},"Кредит 3",{"$nulls":3},"Кредит 4",{"$nulls":3},"Кредит 5",{"$nulls":3},"Кредит 6",{"$nulls":3},"Кредит 7",{"$nulls":3},"Кредит 8",{"$nulls":3},"Кредит 9",{"$nulls":3},"Кредит 10",{"$nulls":3},"Кредит 11",{"$nulls":3},"Кредит 12",{"$nulls":3},"Кредит 13",{"$nulls":3},"Кредит 14",{"$nulls":3},"Кредит 15",{"$nulls":3},"Кредит 16",{"$nulls":3},"Кредит 17",{"$nulls":3},"Кредит 18",{"$nulls":3},"Кредит 19",{"$nulls":3},"Кредит 20",{"$nulls":3},"Кредит 21",{"$nulls":3},"Кредит 22",{"$nulls":3},"Кредит 23",{"$nulls":3},"Кредит 24",{"$nulls":3},"Кредит 25",{"$nulls":3},"Кредит 26",{"$nulls":3},"Кредит 27",{"$nulls":3},"Кредит 28",{"$nulls":3},"Кредит 29",{"$nulls":3},"Кредит 30",{"$nulls":3},"Кредит 31",{"$nulls":3},"Кредит 32",{"$nulls":3},"Кредит 33",{"$nulls":3},"Кредит 34",{"$nulls":3},"Кредит 35",{"$nulls":3},"Кредит 36",{"$nulls":3},"Кредит 37",{"$nulls":3},"Кредит 38",{"$nulls":3},"Кредит 39",{"$nulls":3},"Кредит 40",{"$nulls":3},"Кредит 41",{"$nulls":3},"Кредит 42",{"$nulls":3},"Кредит 43",{"$nulls":3},"Кредит 44",{"$nulls":3},"Кредит 45",{"$nulls":3},"Кредит 46",{"$nulls":3},"Кредит 47",{"$nulls":3},"Кредит 48",{"$nulls":3},"Кредит 49",{"$nulls":3},"Кредит 50",{"$nulls":3},"Итого"]
[{"$nulls":3},{"$f":"IFERROR(#REF!,0)*E5","v":0},{"$f":"IFERROR(VLOOKUP(F5,#REF!,2,0)/VLOOKUP($GX$5,#REF!,2,0),0)","v":{"v":0,"d":"0.0000"}},{"$f":"IFERROR(#REF!,0)","v":0},{"$f":"IFERROR(#REF!,0)*D5","v":0},{"$f":"IFERROR(#REF!,0)*I5","v":0},{"$f":"IFERROR(VLOOKUP(J5,#REF!,2,0)/VLOOKUP($GX$5,#REF!,2,0),0)","v":{"v":0,"d":"0.0000"}},{"$f":"IFERROR(#REF!,0)","v":0},{"$f":"IFERROR(#REF!,0)*H5","v":0},{"$f":"IFERROR(#REF!,0)*M5","v":0},{"$f":"IFERROR(VLOOKUP(N5,#REF!,2,0)/VLOOKUP($GX$5,#REF!,2,0),0)","v":{"v":0,"d":"0.0000"}},{"$f":"IFERROR(#REF!,0)","v":0},{"$f":"IFERROR(#REF!,0)*L5","v":0},{"$f":"IFERROR(#REF!,0)*Q5","v":0},{"$f":"IFERROR(VLOOKUP(R5,#REF!,2,0)/VLOOKUP($GX$5,#REF!,2,0),0)","v":{"v":0,"d":"0.0000"}},{"$f":"IFERROR(#REF!,0)","v":0},{"$f":"IFERROR(#REF!,0)*P5","v":0},{"$f":"IFERROR(#REF!,0)*U5","v":0},{"$f":"IFERROR(VLOOKUP(V5,#REF!,2,0)/VLOOKUP($GX$5,#REF!,2,0),0)","v":{"v":0,"d":"0.0000"}},{"$f":"IFERROR(#REF!,0)","v":0},{"$f":"IFERROR(#REF!,0)*T5","v":0},{"$f":"IFERROR(#REF!,0)*Y5","v":0},{"$f":"IFERROR(VLOOKUP(Z5,#REF!,2,0)/VLOOKUP($GX$5,#REF!,2,0),0)","v":{"v":0,"d":"0.0000"}},{"$f":"IFERROR(#REF!,0)","v":0},{"$f":"IFERROR(#REF!,0)*X5","v":0},{"$f":"IFERROR(#REF!,0)*AC5","v":0},{"$f":"IFERROR(VLOOKUP(AD5,#REF!,2,0)/VLOOKUP($GX$5,#REF!,2,0),0)","v":{"v":0,"d":"0.0000"}},{"$f":"IFERROR(#REF!,0)","v":0},{"$f":"IFERROR(#REF!,0)*AB5","v":0},{"$f":"IFERROR(#REF!,0)*AG5","v":0},{"$f":"IFERROR(VLOOKUP(AH5,#REF!,2,0)/VLOOKUP($GX$5,#REF!,2,0),0)","v":{"v":0,"d":"0.0000"}},{"$f":"IFERROR(#REF!,0)","v":0},{"$f":"IFERROR(#REF!,0)*AF5","v":0},{"$f":"IFERROR(#REF!,0)*AK5","v":0},{"$f":"IFERROR(VLOOKUP(AL5,#REF!,2,0)/VLOOKUP($GX$5,#REF!,2,0),0)","v":{"v":0,"d":"0.0000"}},{"$f":"IFERROR(#REF!,0)","v":0},{"$f":"IFERROR(#REF!,0)*AJ5","v":0},{"$f":"IFERROR(#REF!,0)*AO5","v":0},{"$f":"IFERROR(VLOOKUP(AP5,#REF!,2,0)/VLOOKUP($GX$5,#REF!,2,0),0)","v":{"v":0,"d":"0.0000"}},{"$f":"IFERROR(#REF!,0)","v":0},{"$f":"IFERROR(#REF!,0)*AN5","v":0},{"$f":"IFERROR(#REF!,0)*AS5","v":0},{"$f":"IFERROR(VLOOKUP(AT5,#REF!,2,0)/VLOOKUP($GX$5,#REF!,2,0),0)","v":{"v":0,"d":"0.0000"}},{"$f":"IFERROR(#REF!,0)","v":0},{"$f":"IFERROR(#REF!,0)*AR5","v":0},{"$f":"IFERROR(#REF!,0)*AW5","v":0},{"$f":"IFERROR(VLOOKUP(AX5,#REF!,2,0)/VLOOKUP($GX$5,#REF!,2,0),0)","v":{"v":0,"d":"0.0000"}},{"$f":"IFERROR(#REF!,0)","v":0},{"$f":"IFERROR(#REF!,0)*AV5","v":0},{"$f":"IFERROR(#REF!,0)*BA5","v":0},{"$f":"IFERROR(VLOOKUP(BB5,#REF!,2,0)/VLOOKUP($GX$5,#REF!,2,0),0)","v":{"v":0,"d":"0.0000"}},{"$f":"IFERROR(#REF!,0)","v":0},{"$f":"IFERROR(#REF!,0)*AZ5","v":0},{"$f":"IFERROR(#REF!,0)*BE5","v":0},{"$f":"IFERROR(VLOOKUP(BF5,#REF!,2,0)/VLOOKUP($GX$5,#REF!,2,0),0)","v":{"v":0,"d":"0.0000"}},{"$f":"IFERROR(#REF!,0)","v":0},{"$f":"IFERROR(#REF!,0)*BD5","v":0},{"$f":"IFERROR(#REF!,0)*BI5","v":0},{"$f":"IFERROR(VLOOKUP(BJ5,#REF!,2,0)/VLOOKUP($GX$5,#REF!,2,0),0)","v":{"v":0,"d":"0.0000"}},{"$f":"IFERROR(#REF!,0)","v":0},{"$f":"IFERROR(#REF!,0)*BH5","v":0},{"$f":"IFERROR(#REF!,0)*BM5","v":0},{"$f":"IFERROR(VLOOKUP(BN5,#REF!,2,0)/VLOOKUP($GX$5,#REF!,2,0),0)","v":{"v":0,"d":"0.0000"}},{"$f":"IFERROR(#REF!,0)","v":0},{"$f":"IFERROR(#REF!,0)*BL5","v":0},{"$f":"IFERROR(#REF!,0)*BQ5","v":0},{"$f":"IFERROR(VLOOKUP(BR5,#REF!,2,0)/VLOOKUP($GX$5,#REF!,2,0),0)","v":{"v":0,"d":"0.0000"}},{"$f":"IFERROR(#REF!,0)","v":0},{"$f":"IFERROR(#REF!,0)*BP5","v":0},{"$f":"IFERROR(#REF!,0)*BU5","v":0},{"$f":"IFERROR(VLOOKUP(BV5,#REF!,2,0)/VLOOKUP($GX$5,#REF!,2,0),0)","v":{"v":0,"d":"0.0000"}},{"$f":"IFERROR(#REF!,0)","v":0},{"$f":"IFERROR(#REF!,0)*BT5","v":0},{"$f":"IFERROR(#REF!,0)*BY5","v":0},{"$f":"IFERROR(VLOOKUP(BZ5,#REF!,2,0)/VLOOKUP($GX$5,#REF!,2,0),0)","v":{"v":0,"d":"0.0000"}},{"$f":"IFERROR(#REF!,0)","v":0},{"$f":"IFERROR(#REF!,0)*BX5","v":0},{"$f":"IFERROR(#REF!,0)*CC5","v":0},{"$f":"IFERROR(VLOOKUP(CD5,#REF!,2,0)/VLOOKUP($GX$5,#REF!,2,0),0)","v":{"v":0,"d":"0.0000"}},{"$f":"IFERROR(#REF!,0)","v":0},{"$f":"IFERROR(#REF!,0)*CB5","v":0},{"$f":"IFERROR(#REF!,0)*CG5","v":0},{"$f":"IFERROR(VLOOKUP(CH5,#REF!,2,0)/VLOOKUP($GX$5,#REF!,2,0),0)","v":{"v":0,"d":"0.0000"}},{"$f":"IFERROR(#REF!,0)","v":0},{"$f":"IFERROR(#REF!,0)*CF5","v":0},{"$f":"IFERROR(#REF!,0)*CK5","v":0},{"$f":"IFERROR(VLOOKUP(CL5,#REF!,2,0)/VLOOKUP($GX$5,#REF!,2,0),0)","v":{"v":0,"d":"0.0000"}},{"$f":"IFERROR(#REF!,0)","v":0},{"$f":"IFERROR(#REF!,0)*CJ5","v":0},{"$f":"IFERROR(#REF!,0)*CO5","v":0},{"$f":"IFERROR(VLOOKUP(CP5,#REF!,2,0)/VLOOKUP($GX$5,#REF!,2,0),0)","v":{"v":0,"d":"0.0000"}},{"$f":"IFERROR(#REF!,0)","v":0},{"$f":"IFERROR(#REF!,0)*CN5","v":0},{"$f":"IFERROR(#REF!,0)*CS5","v":0},{"$f":"IFERROR(VLOOKUP(CT5,#REF!,2,0)/VLOOKUP($GX$5,#REF!,2,0),0)","v":{"v":0,"d":"0.0000"}},{"$f":"IFERROR(#REF!,0)","v":0},{"$f":"IFERROR(#REF!,0)*CR5","v":0},{"$f":"IFERROR(#REF!,0)*CW5","v":0},{"$f":"IFERROR(VLOOKUP(CX5,#REF!,2,0)/VLOOKUP($GX$5,#REF!,2,0),0)","v":{"v":0,"d":"0.0000"}},{"$f":"IFERROR(#REF!,0)","v":0},{"$f":"IFERROR(#REF!,0)*CV5","v":0},{"$f":"IFERROR(#REF!,0)*DA5","v":0},{"$f":"IFERROR(VLOOKUP(DB5,#REF!,2,0)/VLOOKUP($GX$5,#REF!,2,0),0)","v":{"v":0,"d":"0.0000"}},{"$f":"IFERROR(#REF!,0)","v":0},{"$f":"IFERROR(#REF!,0)*CZ5","v":0},{"$f":"IFERROR(#REF!,0)*DE5","v":0},{"$f":"IFERROR(VLOOKUP(DF5,#REF!,2,0)/VLOOKUP($GX$5,#REF!,2,0),0)","v":{"v":0,"d":"0.0000"}},{"$f":"IFERROR(#REF!,0)","v":0},{"$f":"IFERROR(#REF!,0)*DD5","v":0},{"$f":"IFERROR(#REF!,0)*DI5","v":0},{"$f":"IFERROR(VLOOKUP(DJ5,#REF!,2,0)/VLOOKUP($GX$5,#REF!,2,0),0)","v":{"v":0,"d":"0.0000"}},{"$f":"IFERROR(#REF!,0)","v":0},{"$f":"IFERROR(#REF!,0)*DH5","v":0},{"$f":"IFERROR(#REF!,0)*DM5","v":0},{"$f":"IFERROR(VLOOKUP(DN5,#REF!,2,0)/VLOOKUP($GX$5,#REF!,2,0),0)","v":{"v":0,"d":"0.0000"}},{"$f":"IFERROR(#REF!,0)","v":0},{"$f":"IFERROR(#REF!,0)*DL5","v":0},{"$f":"IFERROR(#REF!,0)*DQ5","v":0},{"$f":"IFERROR(VLOOKUP(DR5,#REF!,2,0)/VLOOKUP($GX$5,#REF!,2,0),0)","v":{"v":0,"d":"0.0000"}},{"$f":"IFERROR(#REF!,0)","v":0},{"$f":"IFERROR(#REF!,0)*DP5","v":0},{"$f":"IFERROR(#REF!,0)*DU5","v":0},{"$f":"IFERROR(VLOOKUP(DV5,#REF!,2,0)/VLOOKUP($GX$5,#REF!,2,0),0)","v":{"v":0,"d":"0.0000"}},{"$f":"IFERROR(#REF!,0)","v":0},{"$f":"IFERROR(#REF!,0)*DT5","v":0},{"$f":"IFERROR(#REF!,0)*DY5","v":0},{"$f":"IFERROR(VLOOKUP(DZ5,#REF!,2,0)/VLOOKUP($GX$5,#REF!,2,0),0)","v":{"v":0,"d":"0.0000"}},{"$f":"IFERROR(#REF!,0)","v":0},{"$f":"IFERROR(#REF!,0)*DX5","v":0},{"$f":"IFERROR(#REF!,0)*EC5","v":0},{"$f":"IFERROR(VLOOKUP(ED5,#REF!,2,0)/VLOOKUP($GX$5,#REF!,2,0),0)","v":{"v":0,"d":"0.0000"}},{"$f":"IFERROR(#REF!,0)","v":0},{"$f":"IFERROR(#REF!,0)*EB5","v":0},{"$f":"IFERROR(#REF!,0)*EG5","v":0},{"$f":"IFERROR(VLOOKUP(EH5,#REF!,2,0)/VLOOKUP($GX$5,#REF!,2,0),0)","v":{"v":0,"d":"0.0000"}},{"$f":"IFERROR(#REF!,0)","v":0},{"$f":"IFERROR(#REF!,0)*EF5","v":0},{"$f":"IFERROR(#REF!,0)*EK5","v":0},{"$f":"IFERROR(VLOOKUP(EL5,#REF!,2,0)/VLOOKUP($GX$5,#REF!,2,0),0)","v":{"v":0,"d":"0.0000"}},{"$f":"IFERROR(#REF!,0)","v":0},{"$f":"IFERROR(#REF!,0)*EJ5","v":0},{"$f":"IFERROR(#REF!,0)*EO5","v":0},{"$f":"IFERROR(VLOOKUP(EP5,#REF!,2,0)/VLOOKUP($GX$5,#REF!,2,0),0)","v":{"v":0,"d":"0.0000"}},{"$f":"IFERROR(#REF!,0)","v":0},{"$f":"IFERROR(#REF!,0)*EN5","v":0},{"$f":"IFERROR(#REF!,0)*ES5","v":0},{"$f":"IFERROR(VLOOKUP(ET5,#REF!,2,0)/VLOOKUP($GX$5,#REF!,2,0),0)","v":{"v":0,"d":"0.0000"}},{"$f":"IFERROR(#REF!,0)","v":0},{"$f":"IFERROR(#REF!,0)*ER5","v":0},{"$f":"IFERROR(#REF!,0)*EW5","v":0},{"$f":"IFERROR(VLOOKUP(EX5,#REF!,2,0)/VLOOKUP($GX$5,#REF!,2,0),0)","v":{"v":0,"d":"0.0000"}},{"$f":"IFERROR(#REF!,0)","v":0},{"$f":"IFERROR(#REF!,0)*EV5","v":0},{"$f":"IFERROR(#REF!,0)*FA5","v":0},{"$f":"IFERROR(VLOOKUP(FB5,#REF!,2,0)/VLOOKUP($GX$5,#REF!,2,0),0)","v":{"v":0,"d":"0.0000"}},{"$f":"IFERROR(#REF!,0)","v":0},{"$f":"IFERROR(#REF!,0)*EZ5","v":0},{"$f":"IFERROR(#REF!,0)*FE5","v":0},{"$f":"IFERROR(VLOOKUP(FF5,#REF!,2,0)/VLOOKUP($GX$5,#REF!,2,0),0)","v":{"v":0,"d":"0.0000"}},{"$f":"IFERROR(#REF!,0)","v":0},{"$f":"IFERROR(#REF!,0)*FD5","v":0},{"$f":"IFERROR(#REF!,0)*FI5","v":0},{"$f":"IFERROR(VLOOKUP(FJ5,#REF!,2,0)/VLOOKUP($GX$5,#REF!,2,0),0)","v":{"v":0,"d":"0.0000"}},{"$f":"IFERROR(#REF!,0)","v":0},{"$f":"IFERROR(#REF!,0)*FH5","v":0},{"$f":"IFERROR(#REF!,0)*FM5","v":0},{"$f":"IFERROR(VLOOKUP(FN5,#REF!,2,0)/VLOOKUP($GX$5,#REF!,2,0),0)","v":{"v":0,"d":"0.0000"}},{"$f":"IFERROR(#REF!,0)","v":0},{"$f":"IFERROR(#REF!,0)*FL5","v":0},{"$f":"IFERROR(#REF!,0)*FQ5","v":0},{"$f":"IFERROR(VLOOKUP(FR5,#REF!,2,0)/VLOOKUP($GX$5,#REF!,2,0),0)","v":{"v":0,"d":"0.0000"}},{"$f":"IFERROR(#REF!,0)","v":0},{"$f":"IFERROR(#REF!,0)*FP5","v":0},{"$f":"IFERROR(#REF!,0)*FU5","v":0},{"$f":"IFERROR(VLOOKUP(FV5,#REF!,2,0)/VLOOKUP($GX$5,#REF!,2,0),0)","v":{"v":0,"d":"0.0000"}},{"$f":"IFERROR(#REF!,0)","v":0},{"$f":"IFERROR(#REF!,0)*FT5","v":0},{"$f":"IFERROR(#REF!,0)*FY5","v":0},{"$f":"IFERROR(VLOOKUP(FZ5,#REF!,2,0)/VLOOKUP($GX$5,#REF!,2,0),0)","v":{"v":0,"d":"0.0000"}},{"$f":"IFERROR(#REF!,0)","v":0},{"$f":"IFERROR(#REF!,0)*FX5","v":0},{"$f":"IFERROR(#REF!,0)*GC5","v":0},{"$f":"IFERROR(VLOOKUP(GD5,#REF!,2,0)/VLOOKUP($GX$5,#REF!,2,0),0)","v":{"v":0,"d":"0.0000"}},{"$f":"IFERROR(#REF!,0)","v":0},{"$f":"IFERROR(#REF!,0)*GB5","v":0},{"$f":"IFERROR(#REF!,0)*GG5","v":0},{"$f":"IFERROR(VLOOKUP(GH5,#REF!,2,0)/VLOOKUP($GX$5,#REF!,2,0),0)","v":{"v":0,"d":"0.0000"}},{"$f":"IFERROR(#REF!,0)","v":0},{"$f":"IFERROR(#REF!,0)*GF5","v":0},{"$f":"IFERROR(#REF!,0)*GK5","v":0},{"$f":"IFERROR(VLOOKUP(GL5,#REF!,2,0)/VLOOKUP($GX$5,#REF!,2,0),0)","v":{"v":0,"d":"0.0000"}},{"$f":"IFERROR(#REF!,0)","v":0},{"$f":"IFERROR(#REF!,0)*GJ5","v":0},{"$f":"IFERROR(#REF!,0)*GO5","v":0},{"$f":"IFERROR(VLOOKUP(GP5,#REF!,2,0)/VLOOKUP($GX$5,#REF!,2,0),0)","v":{"v":0,"d":"0.0000"}},{"$f":"IFERROR(#REF!,0)","v":0},{"$f":"IFERROR(#REF!,0)*GN5","v":0},{"$f":"IFERROR(#REF!,0)*GS5","v":0},{"$f":"IFERROR(VLOOKUP(GT5,#REF!,2,0)/VLOOKUP($GX$5,#REF!,2,0),0)","v":{"v":0,"d":"0.0000"}},{"$f":"IFERROR(#REF!,0)","v":0},{"$f":"IFERROR(#REF!,0)*GR5","v":0},{"$f":"GR5+GN5+GJ5+GF5+GB5+FX5+FT5+FP5+FL5+FH5+FD5+EZ5+EV5+ER5+EN5+EJ5+EF5+EB5+DX5+DT5+DP5+DL5+DH5+DD5+CZ5+CV5+CR5+CN5+CJ5+CF5+CB5+BX5+BT5+BP5+BL5+BH5+BD5+AZ5+AV5+AR5+AN5+AJ5+AF5+AB5+X5+T5+P5+L5+H5+D5","v":{"v":0,"d":"0.00"}},null,{"$f":"IFERROR(#REF!,0)","v":0},{"$f":"(GU5+GQ5+GM5+GI5+GE5+GA5+FW5+FS5+FO5+FK5+FG5+FC5+EY5+EU5+EQ5+EM5+EI5+EE5+EA5+DW5+DS5+DO5+DK5+DG5+DC5+CY5+CU5+CQ5+CM5+CI5+CE5+CA5+BW5+BS5+BO5+BK5+BG5+BC5+AY5+AU5+AQ5+AM5+AI5+AE5+AA5+W5+S5+O5+K5+G5)/GV5","v":{"$error":"#DIV/0!"}}]
[{"$nulls":3},"Остаток лимита","Платеж ОД","Платеж %","Итого","Остаток лимита","Платеж ОД","Платеж %","Итого","Остаток лимита","Платеж ОД","Платеж %","Итого","Остаток лимита","Платеж ОД","Платеж %","Итого","Остаток лимита","Платеж ОД","Платеж %","Итого","Остаток лимита","Платеж ОД","Платеж %","Итого","Остаток лимита","Платеж ОД","Платеж %","Итого","Остаток лимита","Платеж ОД","Платеж %","Итого","Остаток лимита","Платеж ОД","Платеж %","Итого","Остаток лимита","Платеж ОД","Платеж %","Итого","Остаток лимита","Платеж ОД","Платеж %","Итого","Остаток лимита","Платеж ОД","Платеж %","Итого","Остаток лимита","Платеж ОД","Платеж %","Итого","Остаток лимита","Платеж ОД","Платеж %","Итого","Остаток лимита","Платеж ОД","Платеж %","Итого","Остаток лимита","Платеж ОД","Платеж %","Итого","Остаток лимита","Платеж ОД","Платеж %","Итого","Остаток лимита","Платеж ОД","Платеж %","Итого","Остаток лимита","Платеж ОД","Платеж %","Итого","Остаток лимита","Платеж ОД","Платеж %","Итого","Остаток лимита","Платеж ОД","Платеж %","Итого","Остаток лимита","Платеж ОД","Платеж %","Итого","Остаток лимита","Платеж ОД","Платеж %","Итого","Остаток лимита","Платеж ОД","Платеж %","Итого","Остаток лимита","Платеж ОД","Платеж %","Итого","Остаток лимита","Платеж ОД","Платеж %","Итого","Остаток лимита","Платеж ОД","Платеж %","Итого","Остаток лимита","Платеж ОД","Платеж %","Итого","Остаток лимита","Платеж ОД","Платеж %","Итого","Остаток лимита","Платеж ОД","Платеж %","Итого","Остаток лимита","Платеж ОД","Платеж %","Итого","Остаток лимита","Платеж ОД","Платеж %","Итого","Остаток лимита","Платеж ОД","Платеж %","Итого","Остаток лимита","Платеж ОД","Платеж %","Итого","Остаток лимита","Платеж ОД","Платеж %","Итого","Остаток лимита","Платеж ОД","Платеж %","Итого","Остаток лимита","Платеж ОД","Платеж %","Итого","Остаток лимита","Платеж ОД","Платеж %","Итого","Остаток лимита","Платеж ОД","Платеж %","Итого","Остаток лимита","Платеж ОД","Платеж %","Итого","Остаток лимита","Платеж ОД","Платеж %","Итого","Остаток лимита","Платеж ОД","Платеж %","Итого","Остаток лимита","Платеж ОД","Платеж %","Итого","Остаток лимита","Платеж ОД","Платеж %","Итого","Остаток лимита","Платеж ОД","Платеж %","Итого","Остаток лимита","Платеж ОД","Платеж %","Итого","Остаток лимита","Платеж ОД","Платеж %","Итого","Остаток лимита","Платеж ОД","Платеж %","Итого","Остаток лимита","Платеж ОД","Платеж %","Итого","Остаток лимита","Платеж ОД","Платеж %","Итого","Остаток лимита","Платеж ОД","Платеж %","Итого"]
[null,{"$f":"#REF!","v":{"$error":"#REF!"}},{"$f":"#REF!","v":{"$error":"#REF!"}},{"$f":"IFERROR(#REF!,0)*E5","v":0},{"$f":"IFERROR(#REF!,0)*E5","v":0},{"$f":"IFERROR(#REF!,0)*E5","v":0},{"$f":"IFERROR(#REF!,0)*E5","v":0},{"$f":"IFERROR(#REF!,0)*I5","v":0},{"$f":"IFERROR(#REF!,0)*I5","v":0},{"$f":"IFERROR(#REF!,0)*I5","v":0},{"$f":"IFERROR(#REF!,0)*I5","v":0},{"$f":"IFERROR(#REF!,0)*M5","v":0},{"$f":"IFERROR(#REF!,0)*M5","v":0},{"$f":"IFERROR(#REF!,0)*M5","v":0},{"$f":"IFERROR(#REF!,0)*M5","v":0},{"$f":"IFERROR(#REF!,0)*Q5","v":0},{"$f":"IFERROR(#REF!,0)*Q5","v":0},{"$f":"IFERROR(#REF!,0)*Q5","v":0},{"$f":"IFERROR(#REF!,0)*Q5","v":0},{"$f":"IFERROR(#REF!,0)*U5","v":0},{"$f":"IFERROR(#REF!,0)*U5","v":0},{"$f":"IFERROR(#REF!,0)*U5","v":0},{"$f":"IFERROR(#REF!,0)*U5","v":0},{"$f":"IFERROR(#REF!,0)*Y5","v":0},{"$f":"IFERROR(#REF!,0)*Y5","v":0},{"$f":"IFERROR(#REF!,0)*Y5","v":0},{"$f":"IFERROR(#REF!,0)*Y5","v":0},{"$f":"IFERROR(#REF!,0)*AC5","v":0},{"$f":"IFERROR(#REF!,0)*AC5","v":0},{"$f":"IFERROR(#REF!,0)*AC5","v":0},{"$f":"IFERROR(#REF!,0)*AC5","v":0},{"$f":"IFERROR(#REF!,0)*AG5","v":0},{"$f":"IFERROR(#REF!,0)*AG5","v":0},{"$f":"IFERROR(#REF!,0)*AG5","v":0},{"$f":"IFERROR(#REF!,0)*AG5","v":0},{"$f":"IFERROR(#REF!,0)*AK5","v":0},{"$f":"IFERROR(#REF!,0)*AK5","v":0},{"$f":"IFERROR(#REF!,0)*AK5","v":0},{"$f":"IFERROR(#REF!,0)*AK5","v":0},{"$f":"IFERROR(#REF!,0)*AO5","v":0},{"$f":"IFERROR(#REF!,0)*AO5","v":0},{"$f":"IFERROR(#REF!,0)*AO5","v":0},{"$f":"IFERROR(#REF!,0)*AO5","v":0},{"$f":"IFERROR(#REF!,0)*AS5","v":0},{"$f":"IFERROR(#REF!,0)*AS5","v":0},{"$f":"IFERROR(#REF!,0)*AS5","v":0},{"$f":"IFERROR(#REF!,0)*AS5","v":0},{"$f":"IFERROR(#REF!,0)*AW5","v":0},{"$f":"IFERROR(#REF!,0)*AW5","v":0},{"$f":"IFERROR(#REF!,0)*AW5","v":0},{"$f":"IFERROR(#REF!,0)*AW5","v":0},{"$f":"IFERROR(#REF!,0)*BA5","v":0},{"$f":"IFERROR(#REF!,0)*BA5","v":0},{"$f":"IFERROR(#REF!,0)*BA5","v":0},{"$f":"IFERROR(#REF!,0)*BA5","v":0},{"$f":"IFERROR(#REF!,0)*BE5","v":0},{"$f":"IFERROR(#REF!,0)*BE5","v":0},{"$f":"IFERROR(#REF!,0)*BE5","v":0},{"$f":"IFERROR(#REF!,0)*BE5","v":0},{"$f":"IFERROR(#REF!,0)*BI5","v":0},{"$f":"IFERROR(#REF!,0)*BI5","v":0},{"$f":"IFERROR(#REF!,0)*BI5","v":0},{"$f":"IFERROR(#REF!,0)*BI5","v":0},{"$f":"IFERROR(#REF!,0)*BM5","v":0},{"$f":"IFERROR(#REF!,0)*BM5","v":0},{"$f":"IFERROR(#REF!,0)*BM5","v":0},{"$f":"IFERROR(#REF!,0)*BM5","v":0},{"$f":"IFERROR(#REF!,0)*BQ5","v":0},{"$f":"IFERROR(#REF!,0)*BQ5","v":0},{"$f":"IFERROR(#REF!,0)*BQ5","v":0},{"$f":"IFERROR(#REF!,0)*BQ5","v":0},{"$f":"IFERROR(#REF!,0)*BU5","v":0},{"$f":"IFERROR(#REF!,0)*BU5","v":0},{"$f":"IFERROR(#REF!,0)*BU5","v":0},{"$f":"IFERROR(#REF!,0)*BU5","v":0},{"$f":"IFERROR(#REF!,0)*BY5","v":0},{"$f":"IFERROR(#REF!,0)*BY5","v":0},{"$f":"IFERROR(#REF!,0)*BY5","v":0},{"$f":"IFERROR(#REF!,0)*BY5","v":0},{"$f":"IFERROR(#REF!,0)*CC5","v":0},{"$f":"IFERROR(#REF!,0)*CC5","v":0},{"$f":"IFERROR(#REF!,0)*CC5","v":0},{"$f":"IFERROR(#REF!,0)*CC5","v":0},{"$f":"IFERROR(#REF!,0)*CG5","v":0},{"$f":"IFERROR(#REF!,0)*CG5","v":0},{"$f":"IFERROR(#REF!,0)*CG5","v":0},{"$f":"IFERROR(#REF!,0)*CG5","v":0},{"$f":"IFERROR(#REF!,0)*CK5","v":0},{"$f":"IFERROR(#REF!,0)*CK5","v":0},{"$f":"IFERROR(#REF!,0)*CK5","v":0},{"$f":"IFERROR(#REF!,0)*CK5","v":0},{"$f":"IFERROR(#REF!,0)*CO5","v":0},{"$f":"IFERROR(#REF!,0)*CO5","v":0},{"$f":"IFERROR(#REF!,0)*CO5","v":0},{"$f":"IFERROR(#REF!,0)*CO5","v":0},{"$f":"IFERROR(#REF!,0)*CS5","v":0},{"$f":"IFERROR(#REF!,0)*CS5","v":0},{"$f":"IFERROR(#REF!,0)*CS5","v":0},{"$f":"IFERROR(#REF!,0)*CS5","v":0},{"$f":"IFERROR(#REF!,0)*CW5","v":0},{"$f":"IFERROR(#REF!,0)*CW5","v":0},{"$f":"IFERROR(#REF!,0)*CW5","v":0},{"$f":"IFERROR(#REF!,0)*CW5","v":0},{"$f":"IFERROR(#REF!,0)*DA5","v":0},{"$f":"IFERROR(#REF!,0)*DA5","v":0},{"$f":"IFERROR(#REF!,0)*DA5","v":0},{"$f":"IFERROR(#REF!,0)*DA5","v":0},{"$f":"IFERROR(#REF!,0)*DE5","v":0},{"$f":"IFERROR(#REF!,0)*DE5","v":0},{"$f":"IFERROR(#REF!,0)*DE5","v":0},{"$f":"IFERROR(#REF!,0)*DE5","v":0},{"$f":"IFERROR(#REF!,0)*DI5","v":0},{"$f":"IFERROR(#REF!,0)*DI5","v":0},{"$f":"IFERROR(#REF!,0)*DI5","v":0},{"$f":"IFERROR(#REF!,0)*DI5","v":0},{"$f":"IFERROR(#REF!,0)*DM5","v":0},{"$f":"IFERROR(#REF!,0)*DM5","v":0},{"$f":"IFERROR(#REF!,0)*DM5","v":0},{"$f":"IFERROR(#REF!,0)*DM5","v":0},{"$f":"IFERROR(#REF!,0)*DQ5","v":0},{"$f":"IFERROR(#REF!,0)*DQ5","v":0},{"$f":"IFERROR(#REF!,0)*DQ5","v":0},{"$f":"IFERROR(#REF!,0)*DQ5","v":0},{"$f":"IFERROR(#REF!,0)*DU5","v":0},{"$f":"IFERROR(#REF!,0)*DU5","v":0},{"$f":"IFERROR(#REF!,0)*DU5","v":0},{"$f":"IFERROR(#REF!,0)*DU5","v":0},{"$f":"IFERROR(#REF!,0)*DY5","v":0},{"$f":"IFERROR(#REF!,0)*DY5","v":0},{"$f":"IFERROR(#REF!,0)*DY5","v":0},{"$f":"IFERROR(#REF!,0)*DY5","v":0},{"$f":"IFERROR(#REF!,0)*EC5","v":0},{"$f":"IFERROR(#REF!,0)*EC5","v":0},{"$f":"IFERROR(#REF!,0)*EC5","v":0},{"$f":"IFERROR(#REF!,0)*EC5","v":0},{"$f":"IFERROR(#REF!,0)*EG5","v":0},{"$f":"IFERROR(#REF!,0)*EG5","v":0},{"$f":"IFERROR(#REF!,0)*EG5","v":0},{"$f":"IFERROR(#REF!,0)*EG5","v":0},{"$f":"IFERROR(#REF!,0)*EK5","v":0},{"$f":"IFERROR(#REF!,0)*EK5","v":0},{"$f":"IFERROR(#REF!,0)*EK5","v":0},{"$f":"IFERROR(#REF!,0)*EK5","v":0},{"$f":"IFERROR(#REF!,0)*EO5","v":0},{"$f":"IFERROR(#REF!,0)*EO5","v":0},{"$f":"IFERROR(#REF!,0)*EO5","v":0},{"$f":"IFERROR(#REF!,0)*EO5","v":0},{"$f":"IFERROR(#REF!,0)*ES5","v":0},{"$f":"IFERROR(#REF!,0)*ES5","v":0},{"$f":"IFERROR(#REF!,0)*ES5","v":0},{"$f":"IFERROR(#REF!,0)*ES5","v":0},{"$f":"IFERROR(#REF!,0)*EW5","v":0},{"$f":"IFERROR(#REF!,0)*EW5","v":0},{"$f":"IFERROR(#REF!,0)*EW5","v":0},{"$f":"IFERROR(#REF!,0)*EW5","v":0},{"$f":"IFERROR(#REF!,0)*FA5","v":0},{"$f":"IFERROR(#REF!,0)*FA5","v":0},{"$f":"IFERROR(#REF!,0)*FA5","v":0},{"$f":"IFERROR(#REF!,0)*FA5","v":0},{"$f":"IFERROR(#REF!,0)*FE5","v":0},{"$f":"IFERROR(#REF!,0)*FE5","v":0},{"$f":"IFERROR(#REF!,0)*FE5","v":0},{"$f":"IFERROR(#REF!,0)*FE5","v":0},{"$f":"IFERROR(#REF!,0)*FI5","v":0},{"$f":"IFERROR(#REF!,0)*FI5","v":0},{"$f":"IFERROR(#REF!,0)*FI5","v":0},{"$f":"IFERROR(#REF!,0)*FI5","v":0},{"$f":"IFERROR(#REF!,0)*FM5","v":0},{"$f":"IFERROR(#REF!,0)*FM5","v":0},{"$f":"IFERROR(#REF!,0)*FM5","v":0},{"$f":"IFERROR(#REF!,0)*FM5","v":0},{"$f":"IFERROR(#REF!,0)*FQ5","v":0},{"$f":"IFERROR(#REF!,0)*FQ5","v":0},{"$f":"IFERROR(#REF!,0)*FQ5","v":0},{"$f":"IFERROR(#REF!,0)*FQ5","v":0},{"$f":"IFERROR(#REF!,0)*FU5","v":0},{"$f":"IFERROR(#REF!,0)*FU5","v":0},{"$f":"IFERROR(#REF!,0)*FU5","v":0},{"$f":"IFERROR(#REF!,0)*FU5","v":0},{"$f":"IFERROR(#REF!,0)*FY5","v":0},{"$f":"IFERROR(#REF!,0)*FY5","v":0},{"$f":"IFERROR(#REF!,0)*FY5","v":0},{"$f":"IFERROR(#REF!,0)*FY5","v":0},{"$f":"IFERROR(#REF!,0)*GC5","v":0},{"$f":"IFERROR(#REF!,0)*GC5","v":0},{"$f":"IFERROR(#REF!,0)*GC5","v":0},{"$f":"IFERROR(#REF!,0)*GC5","v":0},{"$f":"IFERROR(#REF!,0)*GG5","v":0},{"$f":"IFERROR(#REF!,0)*GG5","v":0},{"$f":"IFERROR(#REF!,0)*GG5","v":0},{"$f":"IFERROR(#REF!,0)*GG5","v":0},{"$f":"IFERROR(#REF!,0)*GK5","v":0},{"$f":"IFERROR(#REF!,0)*GK5","v":0},{"$f":"IFERROR(#REF!,0)*GK5","v":0},{"$f":"IFERROR(#REF!,0)*GK5","v":0},{"$f":"IFERROR(#REF!,0)*GO5","v":0},{"$f":"IFERROR(#REF!,0)*GO5","v":0},{"$f":"IFERROR(#REF!,0)*GO5","v":0},{"$f":"IFERROR(#REF!,0)*GO5","v":0},{"$f":"IFERROR(#REF!,0)*GS5","v":0},{"$f":"IFERROR(#REF!,0)*GS5","v":0},{"$f":"IFERROR(#REF!,0)*GS5","v":0},{"$f":"IFERROR(#REF!,0)*GS5","v":0},{"$f":"GR7+GN7+GJ7+GF7+GB7+FX7+FT7+FP7+FL7+FH7+FD7+EZ7+EV7+ER7+EN7+EJ7+EF7+EB7+DX7+DT7+DP7+DL7+DH7+DD7+CZ7+CV7+CR7+CN7+CJ7+CF7+CB7+BX7+BT7+BP7+BL7+BH7+BD7+AZ7+AV7+AR7+AN7+AJ7+AF7+AB7+X7+T7+P7+L7+H7+D7","v":{"v":0,"d":"0.00"}},{"$f":"GS7+GO7+GK7+GG7+GC7+FY7+FU7+FQ7+FM7+FI7+FE7+FA7+EW7+ES7+EO7+EK7+EG7+EC7+DY7+DU7+DQ7+DM7+DI7+DE7+DA7+CW7+CS7+CO7+CK7+CG7+CC7+BY7+BU7+BQ7+BM7+BI7+BE7+BA7+AW7+AS7+AO7+AK7+AG7+AC7+Y7+U7+Q7+M7+I7+E7","v":{"v":0,"d":"0.00"}},{"$f":"GT7+GP7+GL7+GH7+GD7+FZ7+FV7+FR7+FN7+FJ7+FF7+FB7+EX7+ET7+EP7+EL7+EH7+ED7+DZ7+DV7+DR7+DN7+DJ7+DF7+DB7+CX7+CT7+CP7+CL7+CH7+CD7+BZ7+BV7+BR7+BN7+BJ7+BF7+BB7+AX7+AT7+AP7+AL7+AH7+AD7+Z7+V7+R7+N7+J7+F7","v":{"v":0,"d":"0.00"}},{"$f":"GU7+GQ7+GM7+GI7+GE7+GA7+FW7+FS7+FO7+FK7+FG7+FC7+EY7+EU7+EQ7+EM7+EI7+EE7+EA7+DW7+DS7+DO7+DK7+DG7+DC7+CY7+CU7+CQ7+CM7+CI7+CE7+CA7+BW7+BS7+BO7+BK7+BG7+BC7+AY7+AU7+AQ7+AM7+AI7+AE7+AA7+W7+S7+O7+K7+G7","v":{"v":0,"d":"0.00"}}]
[null,{"$f":"#REF!","v":{"$error":"#REF!"}},{"$f":"#REF!","v":{"$error":"#REF!"}},{"$f":"IFERROR(#REF!,0)*E5","v":0},{"$f":"IFERROR(#REF!,0)*E5","v":0},{"$f":"IFERROR(#REF!,0)*E5","v":0},{"$f":"IFERROR(#REF!,0)*E5","v":0},{"$f":"IFERROR(#REF!,0)*I5","v":0},{"$f":"IFERROR(#REF!,0)*I5","v":0},{"$f":"IFERROR(#REF!,0)*I5","v":0},{"$f":"IFERROR(#REF!,0)*I5","v":0},{"$f":"IFERROR(#REF!,0)*M5","v":0},{"$f":"IFERROR(#REF!,0)*M5","v":0},{"$f":"IFERROR(#REF!,0)*M5","v":0},{"$f":"IFERROR(#REF!,0)*M5","v":0},{"$f":"IFERROR(#REF!,0)*Q5","v":0},{"$f":"IFERROR(#REF!,0)*Q5","v":0},{"$f":"IFERROR(#REF!,0)*Q5","v":0},{"$f":"IFERROR(#REF!,0)*Q5","v":0},{"$f":"IFERROR(#REF!,0)*U5","v":0},{"$f":"IFERROR(#REF!,0)*U5","v":0},{"$f":"IFERROR(#REF!,0)*U5","v":0},{"$f":"IFERROR(#REF!,0)*U5","v":0},{"$f":"IFERROR(#REF!,0)*Y5","v":0},{"$f":"IFERROR(#REF!,0)*Y5","v":0},{"$f":"IFERROR(#REF!,0)*Y5","v":0},{"$f":"IFERROR(#REF!,0)*Y5","v":0},{"$f":"IFERROR(#REF!,0)*AC5","v":0},{"$f":"IFERROR(#REF!,0)*AC5","v":0},{"$f":"IFERROR(#REF!,0)*AC5","v":0},{"$f":"IFERROR(#REF!,0)*AC5","v":0},{"$f":"IFERROR(#REF!,0)*AG5","v":0},{"$f":"IFERROR(#REF!,0)*AG5","v":0},{"$f":"IFERROR(#REF!,0)*AG5","v":0},{"$f":"IFERROR(#REF!,0)*AG5","v":0},{"$f":"IFERROR(#REF!,0)*AK5","v":0},{"$f":"IFERROR(#REF!,0)*AK5","v":0},{"$f":"IFERROR(#REF!,0)*AK5","v":0},{"$f":"IFERROR(#REF!,0)*AK5","v":0},{"$f":"IFERROR(#REF!,0)*AO5","v":0},{"$f":"IFERROR(#REF!,0)*AO5","v":0},{"$f":"IFERROR(#REF!,0)*AO5","v":0},{"$f":"IFERROR(#REF!,0)*AO5","v":0},{"$f":"IFERROR(#REF!,0)*AS5","v":0},{"$f":"IFERROR(#REF!,0)*AS5","v":0},{"$f":"IFERROR(#REF!,0)*AS5","v":0},{"$f":"IFERROR(#REF!,0)*AS5","v":0},{"$f":"IFERROR(#REF!,0)*AW5","v":0},{"$f":"IFERROR(#REF!,0)*AW5","v":0},{"$f":"IFERROR(#REF!,0)*AW5","v":0},{"$f":"IFERROR(#REF!,0)*AW5","v":0},{"$f":"IFERROR(#REF!,0)*BA5","v":0},{"$f":"IFERROR(#REF!,0)*BA5","v":0},{"$f":"IFERROR(#REF!,0)*BA5","v":0},{"$f":"IFERROR(#REF!,0)*BA5","v":0},{"$f":"IFERROR(#REF!,0)*BE5","v":0},{"$f":"IFERROR(#REF!,0)*BE5","v":0},{"$f":"IFERROR(#REF!,0)*BE5","v":0},{"$f":"IFERROR(#REF!,0)*BE5","v":0},{"$f":"IFERROR(#REF!,0)*BI5","v":0},{"$f":"IFERROR(#REF!,0)*BI5","v":0},{"$f":"IFERROR(#REF!,0)*BI5","v":0},{"$f":"IFERROR(#REF!,0)*BI5","v":0},{"$f":"IFERROR(#REF!,0)*BM5","v":0},{"$f":"IFERROR(#REF!,0)*BM5","v":0},{"$f":"IFERROR(#REF!,0)*BM5","v":0},{"$f":"IFERROR(#REF!,0)*BM5","v":0},{"$f":"IFERROR(#REF!,0)*BQ5","v":0},{"$f":"IFERROR(#REF!,0)*BQ5","v":0},{"$f":"IFERROR(#REF!,0)*BQ5","v":0},{"$f":"IFERROR(#REF!,0)*BQ5","v":0},{"$f":"IFERROR(#REF!,0)*BU5","v":0},{"$f":"IFERROR(#REF!,0)*BU5","v":0},{"$f":"IFERROR(#REF!,0)*BU5","v":0},{"$f":"IFERROR(#REF!,0)*BU5","v":0},{"$f":"IFERROR(#REF!,0)*BY5","v":0},{"$f":"IFERROR(#REF!,0)*BY5","v":0},{"$f":"IFERROR(#REF!,0)*BY5","v":0},{"$f":"IFERROR(#REF!,0)*BY5","v":0},{"$f":"IFERROR(#REF!,0)*CC5","v":0},{"$f":"IFERROR(#REF!,0)*CC5","v":0},{"$f":"IFERROR(#REF!,0)*CC5","v":0},{"$f":"IFERROR(#REF!,0)*CC5","v":0},{"$f":"IFERROR(#REF!,0)*CG5","v":0},{"$f":"IFERROR(#REF!,0)*CG5","v":0},{"$f":"IFERROR(#REF!,0)*CG5","v":0},{"$f":"IFERROR(#REF!,0)*CG5","v":0},{"$f":"IFERROR(#REF!,0)*CK5","v":0},{"$f":"IFERROR(#REF!,0)*CK5","v":0},{"$f":"IFERROR(#REF!,0)*CK5","v":0},{"$f":"IFERROR(#REF!,0)*CK5","v":0},{"$f":"IFERROR(#REF!,0)*CO5","v":0},{"$f":"IFERROR(#REF!,0)*CO5","v":0},{"$f":"IFERROR(#REF!,0)*CO5","v":0},{"$f":"IFERROR(#REF!,0)*CO5","v":0},{"$f":"IFERROR(#REF!,0)*CS5","v":0},{"$f":"IFERROR(#REF!,0)*CS5","v":0},{"$f":"IFERROR(#REF!,0)*CS5","v":0},{"$f":"IFERROR(#REF!,0)*CS5","v":0},{"$f":"IFERROR(#REF!,0)*CW5","v":0},{"$f":"IFERROR(#REF!,0)*CW5","v":0},{"$f":"IFERROR(#REF!,0)*CW5","v":0},{"$f":"IFERROR(#REF!,0)*CW5","v":0},{"$f":"IFERROR(#REF!,0)*DA5","v":0},{"$f":"IFERROR(#REF!,0)*DA5","v":0},{"$f":"IFERROR(#REF!,0)*DA5","v":0},{"$f":"IFERROR(#REF!,0)*DA5","v":0},{"$f":"IFERROR(#REF!,0)*DE5","v":0},{"$f":"IFERROR(#REF!,0)*DE5","v":0},{"$f":"IFERROR(#REF!,0)*DE5","v":0},{"$f":"IFERROR(#REF!,0)*DE5","v":0},{"$f":"IFERROR(#REF!,0)*DI5","v":0},{"$f":"IFERROR(#REF!,0)*DI5","v":0},{"$f":"IFERROR(#REF!,0)*DI5","v":0},{"$f":"IFERROR(#REF!,0)*DI5","v":0},{"$f":"IFERROR(#REF!,0)*DM5","v":0},{"$f":"IFERROR(#REF!,0)*DM5","v":0},{"$f":"IFERROR(#REF!,0)*DM5","v":0},{"$f":"IFERROR(#REF!,0)*DM5","v":0},{"$f":"IFERROR(#REF!,0)*DQ5","v":0},{"$f":"IFERROR(#REF!,0)*DQ5","v":0},{"$f":"IFERROR(#REF!,0)*DQ5","v":0},{"$f":"IFERROR(#REF!,0)*DQ5","v":0},{"$f":"IFERROR(#REF!,0)*DU5","v":0},{"$f":"IFERROR(#REF!,0)*DU5","v":0},{"$f":"IFERROR(#REF!,0)*DU5","v":0},{"$f":"IFERROR(#REF!,0)*DU5","v":0},{"$f":"IFERROR(#REF!,0)*DY5","v":0},{"$f":"IFERROR(#REF!,0)*DY5","v":0},{"$f":"IFERROR(#REF!,0)*DY5","v":0},{"$f":"IFERROR(#REF!,0)*DY5","v":0},{"$f":"IFERROR(#REF!,0)*EC5","v":0},{"$f":"IFERROR(#REF!,0)*EC5","v":0},{"$f":"IFERROR(#REF!,0)*EC5","v":0},{"$f":"IFERROR(#REF!,0)*EC5","v":0},{"$f":"IFERROR(#REF!,0)*EG5","v":0},{"$f":"IFERROR(#REF!,0)*EG5","v":0},{"$f":"IFERROR(#REF!,0)*EG5","v":0},{"$f":"IFERROR(#REF!,0)*EG5","v":0},{"$f":"IFERROR(#REF!,0)*EK5","v":0},{"$f":"IFERROR(#REF!,0)*EK5","v":0},{"$f":"IFERROR(#REF!,0)*EK5","v":0},{"$f":"IFERROR(#REF!,0)*EK5","v":0},{"$f":"IFERROR(#REF!,0)*EO5","v":0},{"$f":"IFERROR(#REF!,0)*EO5","v":0},{"$f":"IFERROR(#REF!,0)*EO5","v":0},{"$f":"IFERROR(#REF!,0)*EO5","v":0},{"$f":"IFERROR(#REF!,0)*ES5","v":0},{"$f":"IFERROR(#REF!,0)*ES5","v":0},{"$f":"IFERROR(#REF!,0)*ES5","v":0},{"$f":"IFERROR(#REF!,0)*ES5","v":0},{"$f":"IFERROR(#REF!,0)*EW5","v":0},{"$f":"IFERROR(#REF!,0)*EW5","v":0},{"$f":"IFERROR(#REF!,0)*EW5","v":0},{"$f":"IFERROR(#REF!,0)*EW5","v":0},{"$f":"IFERROR(#REF!,0)*FA5","v":0},{"$f":"IFERROR(#REF!,0)*FA5","v":0},{"$f":"IFERROR(#REF!,0)*FA5","v":0},{"$f":"IFERROR(#REF!,0)*FA5","v":0},{"$f":"IFERROR(#REF!,0)*FE5","v":0},{"$f":"IFERROR(#REF!,0)*FE5","v":0},{"$f":"IFERROR(#REF!,0)*FE5","v":0},{"$f":"IFERROR(#REF!,0)*FE5","v":0},{"$f":"IFERROR(#REF!,0)*FI5","v":0},{"$f":"IFERROR(#REF!,0)*FI5","v":0},{"$f":"IFERROR(#REF!,0)*FI5","v":0},{"$f":"IFERROR(#REF!,0)*FI5","v":0},{"$f":"IFERROR(#REF!,0)*FM5","v":0},{"$f":"IFERROR(#REF!,0)*FM5","v":0},{"$f":"IFERROR(#REF!,0)*FM5","v":0},{"$f":"IFERROR(#REF!,0)*FM5","v":0},{"$f":"IFERROR(#REF!,0)*FQ5","v":0},{"$f":"IFERROR(#REF!,0)*FQ5","v":0},{"$f":"IFERROR(#REF!,0)*FQ5","v":0},{"$f":"IFERROR(#REF!,0)*FQ5","v":0},{"$f":"IFERROR(#REF!,0)*FU5","v":0},{"$f":"IFERROR(#REF!,0)*FU5","v":0},{"$f":"IFERROR(#REF!,0)*FU5","v":0},{"$f":"IFERROR(#REF!,0)*FU5","v":0},{"$f":"IFERROR(#REF!,0)*FY5","v":0},{"$f":"IFERROR(#REF!,0)*FY5","v":0},{"$f":"IFERROR(#REF!,0)*FY5","v":0},{"$f":"IFERROR(#REF!,0)*FY5","v":0},{"$f":"IFERROR(#REF!,0)*GC5","v":0},{"$f":"IFERROR(#REF!,0)*GC5","v":0},{"$f":"IFERROR(#REF!,0)*GC5","v":0},{"$f":"IFERROR(#REF!,0)*GC5","v":0},{"$f":"IFERROR(#REF!,0)*GG5","v":0},{"$f":"IFERROR(#REF!,0)*GG5","v":0},{"$f":"IFERROR(#REF!,0)*GG5","v":0},{"$f":"IFERROR(#REF!,0)*GG5","v":0},{"$f":"IFERROR(#REF!,0)*GK5","v":0},{"$f":"IFERROR(#REF!,0)*GK5","v":0},{"$f":"IFERROR(#REF!,0)*GK5","v":0},{"$f":"IFERROR(#REF!,0)*GK5","v":0},{"$f":"IFERROR(#REF!,0)*GO5","v":0},{"$f":"IFERROR(#REF!,0)*GO5","v":0},{"$f":"IFERROR(#REF!,0)*GO5","v":0},{"$f":"IFERROR(#REF!,0)*GO5","v":0},{"$f":"IFERROR(#REF!,0)*GS5","v":0},{"$f":"IFERROR(#REF!,0)*GS5","v":0},{"$f":"IFERROR(#REF!,0)*GS5","v":0},{"$f":"IFERROR(#REF!,0)*GS5","v":0},{"$f":"GR8+GN8+GJ8+GF8+GB8+FX8+FT8+FP8+FL8+FH8+FD8+EZ8+EV8+ER8+EN8+EJ8+EF8+EB8+DX8+DT8+DP8+DL8+DH8+DD8+CZ8+CV8+CR8+CN8+CJ8+CF8+CB8+BX8+BT8+BP8+BL8+BH8+BD8+AZ8+AV8+AR8+AN8+AJ8+AF8+AB8+X8+T8+P8+L8+H8+D8","v":{"v":0,"d":"0.00"}},{"v":0,"d":"0.00"},{"v":0,"d":"0.00"},{"v":0,"d":"0.00"}]
[null,{"$f":"#REF!","v":{"$error":"#REF!"}},{"$f":"#REF!","v":{"$error":"#REF!"}},{"$f":"IFERROR(#REF!,0)*E5","v":0},{"$f":"IFERROR(#REF!,0)*E5","v":0},{"$f":"IFERROR(#REF!,0)*E5","v":0},{"$f":"IFERROR(#REF!,0)*E5","v":0},{"$f":"IFERROR(#REF!,0)*I5","v":0},{"$f":"IFERROR(#REF!,0)*I5","v":0},{"$f":"IFERROR(#REF!,0)*I5","v":0},{"$f":"IFERROR(#REF!,0)*I5","v":0},{"$f":"IFERROR(#REF!,0)*M5","v":0},{"$f":"IFERROR(#REF!,0)*M5","v":0},{"$f":"IFERROR(#REF!,0)*M5","v":0},{"$f":"IFERROR(#REF!,0)*M5","v":0},{"$f":"IFERROR(#REF!,0)*Q5","v":0},{"$f":"IFERROR(#REF!,0)*Q5","v":0},{"$f":"IFERROR(#REF!,0)*Q5","v":0},{"$f":"IFERROR(#REF!,0)*Q5","v":0},{"$f":"IFERROR(#REF!,0)*U5","v":0},{"$f":"IFERROR(#REF!,0)*U5","v":0},{"$f":"IFERROR(#REF!,0)*U5","v":0},{"$f":"IFERROR(#REF!,0)*U5","v":0},{"$f":"IFERROR(#REF!,0)*Y5","v":0},{"$f":"IFERROR(#REF!,0)*Y5","v":0},{"$f":"IFERROR(#REF!,0)*Y5","v":0},{"$f":"IFERROR(#REF!,0)*Y5","v":0},{"$f":"IFERROR(#REF!,0)*AC5","v":0},{"$f":"IFERROR(#REF!,0)*AC5","v":0},{"$f":"IFERROR(#REF!,0)*AC5","v":0},{"$f":"IFERROR(#REF!,0)*AC5","v":0},{"$f":"IFERROR(#REF!,0)*AG5","v":0},{"$f":"IFERROR(#REF!,0)*AG5","v":0},{"$f":"IFERROR(#REF!,0)*AG5","v":0},{"$f":"IFERROR(#REF!,0)*AG5","v":0},{"$f":"IFERROR(#REF!,0)*AK5","v":0},{"$f":"IFERROR(#REF!,0)*AK5","v":0},{"$f":"IFERROR(#REF!,0)*AK5","v":0},{"$f":"IFERROR(#REF!,0)*AK5","v":0},{"$f":"IFERROR(#REF!,0)*AO5","v":0},{"$f":"IFERROR(#REF!,0)*AO5","v":0},{"$f":"IFERROR(#REF!,0)*AO5","v":0},{"$f":"IFERROR(#REF!,0)*AO5","v":0},{"$f":"IFERROR(#REF!,0)*AS5","v":0},{"$f":"IFERROR(#REF!,0)*AS5","v":0},{"$f":"IFERROR(#REF!,0)*AS5","v":0},{"$f":"IFERROR(#REF!,0)*AS5","v":0},{"$f":"IFERROR(#REF!,0)*AW5","v":0},{"$f":"IFERROR(#REF!,0)*AW5","v":0},{"$f":"IFERROR(#REF!,0)*AW5","v":0},{"$f":"IFERROR(#REF!,0)*AW5","v":0},{"$f":"IFERROR(#REF!,0)*BA5","v":0},{"$f":"IFERROR(#REF!,0)*BA5","v":0},{"$f":"IFERROR(#REF!,0)*BA5","v":0},{"$f":"IFERROR(#REF!,0)*BA5","v":0},{"$f":"IFERROR(#REF!,0)*BE5","v":0},{"$f":"IFERROR(#REF!,0)*BE5","v":0},{"$f":"IFERROR(#REF!,0)*BE5","v":0},{"$f":"IFERROR(#REF!,0)*BE5","v":0},{"$f":"IFERROR(#REF!,0)*BI5","v":0},{"$f":"IFERROR(#REF!,0)*BI5","v":0},{"$f":"IFERROR(#REF!,0)*BI5","v":0},{"$f":"IFERROR(#REF!,0)*BI5","v":0},{"$f":"IFERROR(#REF!,0)*BM5","v":0},{"$f":"IFERROR(#REF!,0)*BM5","v":0},{"$f":"IFERROR(#REF!,0)*BM5","v":0},{"$f":"IFERROR(#REF!,0)*BM5","v":0},{"$f":"IFERROR(#REF!,0)*BQ5","v":0},{"$f":"IFERROR(#REF!,0)*BQ5","v":0},{"$f":"IFERROR(#REF!,0)*BQ5","v":0},{"$f":"IFERROR(#REF!,0)*BQ5","v":0},{"$f":"IFERROR(#REF!,0)*BU5","v":0},{"$f":"IFERROR(#REF!,0)*BU5","v":0},{"$f":"IFERROR(#REF!,0)*BU5","v":0},{"$f":"IFERROR(#REF!,0)*BU5","v":0},{"$f":"IFERROR(#REF!,0)*BY5","v":0},{"$f":"IFERROR(#REF!,0)*BY5","v":0},{"$f":"IFERROR(#REF!,0)*BY5","v":0},{"$f":"IFERROR(#REF!,0)*BY5","v":0},{"$f":"IFERROR(#REF!,0)*CC5","v":0},{"$f":"IFERROR(#REF!,0)*CC5","v":0},{"$f":"IFERROR(#REF!,0)*CC5","v":0},{"$f":"IFERROR(#REF!,0)*CC5","v":0},{"$f":"IFERROR(#REF!,0)*CG5","v":0},{"$f":"IFERROR(#REF!,0)*CG5","v":0},{"$f":"IFERROR(#REF!,0)*CG5","v":0},{"$f":"IFERROR(#REF!,0)*CG5","v":0},{"$f":"IFERROR(#REF!,0)*CK5","v":0},{"$f":"IFERROR(#REF!,0)*CK5","v":0},{"$f":"IFERROR(#REF!,0)*CK5","v":0},{"$f":"IFERROR(#REF!,0)*CK5","v":0},{"$f":"IFERROR(#REF!,0)*CO5","v":0},{"$f":"IFERROR(#REF!,0)*CO5","v":0},{"$f":"IFERROR(#REF!,0)*CO5","v":0},{"$f":"IFERROR(#REF!,0)*CO5","v":0},{"$f":"IFERROR(#REF!,0)*CS5","v":0},{"$f":"IFERROR(#REF!,0)*CS5","v":0},{"$f":"IFERROR(#REF!,0)*CS5","v":0},{"$f":"IFERROR(#REF!,0)*CS5","v":0},{"$f":"IFERROR(#REF!,0)*CW5","v":0},{"$f":"IFERROR(#REF!,0)*CW5","v":0},{"$f":"IFERROR(#REF!,0)*CW5","v":0},{"$f":"IFERROR(#REF!,0)*CW5","v":0},{"$f":"IFERROR(#REF!,0)*DA5","v":0},{"$f":"IFERROR(#REF!,0)*DA5","v":0},{"$f":"IFERROR(#REF!,0)*DA5","v":0},{"$f":"IFERROR(#REF!,0)*DA5","v":0},{"$f":"IFERROR(#REF!,0)*DE5","v":0},{"$f":"IFERROR(#REF!,0)*DE5","v":0},{"$f":"IFERROR(#REF!,0)*DE5","v":0},{"$f":"IFERROR(#REF!,0)*DE5","v":0},{"$f":"IFERROR(#REF!,0)*DI5","v":0},{"$f":"IFERROR(#REF!,0)*DI5","v":0},{"$f":"IFERROR(#REF!,0)*DI5","v":0},{"$f":"IFERROR(#REF!,0)*DI5","v":0},{"$f":"IFERROR(#REF!,0)*DM5","v":0},{"$f":"IFERROR(#REF!,0)*DM5","v":0},{"$f":"IFERROR(#REF!,0)*DM5","v":0},{"$f":"IFERROR(#REF!,0)*DM5","v":0},{"$f":"IFERROR(#REF!,0)*DQ5","v":0},{"$f":"IFERROR(#REF!,0)*DQ5","v":0},{"$f":"IFERROR(#REF!,0)*DQ5","v":0},{"$f":"IFERROR(#REF!,0)*DQ5","v":0},{"$f":"IFERROR(#REF!,0)*DU5","v":0},{"$f":"IFERROR(#REF!,0)*DU5","v":0},{"$f":"IFERROR(#REF!,0)*DU5","v":0},{"$f":"IFERROR(#REF!,0)*DU5","v":0},{"$f":"IFERROR(#REF!,0)*DY5","v":0},{"$f":"IFERROR(#REF!,0)*DY5","v":0},{"$f":"IFERROR(#REF!,0)*DY5","v":0},{"$f":"IFERROR(#REF!,0)*DY5","v":0},{"$f":"IFERROR(#REF!,0)*EC5","v":0},{"$f":"IFERROR(#REF!,0)*EC5","v":0},{"$f":"IFERROR(#REF!,0)*EC5","v":0},{"$f":"IFERROR(#REF!,0)*EC5","v":0},{"$f":"IFERROR(#REF!,0)*EG5","v":0},{"$f":"IFERROR(#REF!,0)*EG5","v":0},{"$f":"IFERROR(#REF!,0)*EG5","v":0},{"$f":"IFERROR(#REF!,0)*EG5","v":0},{"$f":"IFERROR(#REF!,0)*EK5","v":0},{"$f":"IFERROR(#REF!,0)*EK5","v":0},{"$f":"IFERROR(#REF!,0)*EK5","v":0},{"$f":"IFERROR(#REF!,0)*EK5","v":0},{"$f":"IFERROR(#REF!,0)*EO5","v":0},{"$f":"IFERROR(#REF!,0)*EO5","v":0},{"$f":"IFERROR(#REF!,0)*EO5","v":0},{"$f":"IFERROR(#REF!,0)*EO5","v":0},{"$f":"IFERROR(#REF!,0)*ES5","v":0},{"$f":"IFERROR(#REF!,0)*ES5","v":0},{"$f":"IFERROR(#REF!,0)*ES5","v":0},{"$f":"IFERROR(#REF!,0)*ES5","v":0},{"$f":"IFERROR(#REF!,0)*EW5","v":0},{"$f":"IFERROR(#REF!,0)*EW5","v":0},{"$f":"IFERROR(#REF!,0)*EW5","v":0},{"$f":"IFERROR(#REF!,0)*EW5","v":0},{"$f":"IFERROR(#REF!,0)*FA5","v":0},{"$f":"IFERROR(#REF!,0)*FA5","v":0},{"$f":"IFERROR(#REF!,0)*FA5","v":0},{"$f":"IFERROR(#REF!,0)*FA5","v":0},{"$f":"IFERROR(#REF!,0)*FE5","v":0},{"$f":"IFERROR(#REF!,0)*FE5","v":0},{"$f":"IFERROR(#REF!,0)*FE5","v":0},{"$f":"IFERROR(#REF!,0)*FE5","v":0},{"$f":"IFERROR(#REF!,0)*FI5","v":0},{"$f":"IFERROR(#REF!,0)*FI5","v":0},{"$f":"IFERROR(#REF!,0)*FI5","v":0},{"$f":"IFERROR(#REF!,0)*FI5","v":0},{"$f":"IFERROR(#REF!,0)*FM5","v":0},{"$f":"IFERROR(#REF!,0)*FM5","v":0},{"$f":"IFERROR(#REF!,0)*FM5","v":0},{"$f":"IFERROR(#REF!,0)*FM5","v":0},{"$f":"IFERROR(#REF!,0)*FQ5","v":0},{"$f":"IFERROR(#REF!,0)*FQ5","v":0},{"$f":"IFERROR(#REF!,0)*FQ5","v":0},{"$f":"IFERROR(#REF!,0)*FQ5","v":0},{"$f":"IFERROR(#REF!,0)*FU5","v":0},{"$f":"IFERROR(#REF!,0)*FU5","v":0},{"$f":"IFERROR(#REF!,0)*FU5","v":0},{"$f":"IFERROR(#REF!,0)*FU5","v":0},{"$f":"IFERROR(#REF!,0)*FY5","v":0},{"$f":"IFERROR(#REF!,0)*FY5","v":0},{"$f":"IFERROR(#REF!,0)*FY5","v":0},{"$f":"IFERROR(#REF!,0)*FY5","v":0},{"$f":"IFERROR(#REF!,0)*GC5","v":0},{"$f":"IFERROR(#REF!,0)*GC5","v":0},{"$f":"IFERROR(#REF!,0)*GC5","v":0},{"$f":"IFERROR(#REF!,0)*GC5","v":0},{"$f":"IFERROR(#REF!,0)*GG5","v":0},{"$f":"IFERROR(#REF!,0)*GG5","v":0},{"$f":"IFERROR(#REF!,0)*GG5","v":0},{"$f":"IFERROR(#REF!,0)*GG5","v":0},{"$f":"IFERROR(#REF!,0)*GK5","v":0},{"$f":"IFERROR(#REF!,0)*GK5","v":0},{"$f":"IFERROR(#REF!,0)*GK5","v":0},{"$f":"IFERROR(#REF!,0)*GK5","v":0},{"$f":"IFERROR(#REF!,0)*GO5","v":0},{"$f":"IFERROR(#REF!,0)*GO5","v":0},{"$f":"IFERROR(#REF!,0)*GO5","v":0},{"$f":"IFERROR(#REF!,0)*GO5","v":0},{"$f":"IFERROR(#REF!,0)*GS5","v":0},{"$f":"IFERROR(#REF!,0)*GS5","v":0},{"$f":"IFERROR(#REF!,0)*GS5","v":0},{"$f":"IFERROR(#REF!,0)*GS5","v":0},{"v":0,"d":"0.00"},{"v":0,"d":"0.00"},{"v":0,"d":"0.00"},{"v":0,"d":"0.00"}]
[null,{"$f":"#REF!","v":{"$error":"#REF!"}},{"$f":"#REF!","v":{"$error":"#REF!"}},{"$f":"IFERROR(#REF!,0)*E5","v":0},{"$f":"IFERROR(#REF!,0)*E5","v":0},{"$f":"IFERROR(#REF!,0)*E5","v":0},{"$f":"IFERROR(#REF!,0)*E5","v":0},{"$f":"IFERROR(#REF!,0)*I5","v":0},{"$f":"IFERROR(#REF!,0)*I5","v":0},{"$f":"IFERROR(#REF!,0)*I5","v":0},{"$f":"IFERROR(#REF!,0)*I5","v":0},{"$f":"IFERROR(#REF!,0)*M5","v":0},{"$f":"IFERROR(#REF!,0)*M5","v":0},{"$f":"IFERROR(#REF!,0)*M5","v":0},{"$f":"IFERROR(#REF!,0)*M5","v":0},{"$f":"IFERROR(#REF!,0)*Q5","v":0},{"$f":"IFERROR(#REF!,0)*Q5","v":0},{"$f":"IFERROR(#REF!,0)*Q5","v":0},{"$f":"IFERROR(#REF!,0)*Q5","v":0},{"$f":"IFERROR(#REF!,0)*U5","v":0},{"$f":"IFERROR(#REF!,0)*U5","v":0},{"$f":"IFERROR(#REF!,0)*U5","v":0},{"$f":"IFERROR(#REF!,0)*U5","v":0},{"$f":"IFERROR(#REF!,0)*Y5","v":0},{"$f":"IFERROR(#REF!,0)*Y5","v":0},{"$f":"IFERROR(#REF!,0)*Y5","v":0},{"$f":"IFERROR(#REF!,0)*Y5","v":0},{"$f":"IFERROR(#REF!,0)*AC5","v":0},{"$f":"IFERROR(#REF!,0)*AC5","v":0},{"$f":"IFERROR(#REF!,0)*AC5","v":0},{"$f":"IFERROR(#REF!,0)*AC5","v":0},{"$f":"IFERROR(#REF!,0)*AG5","v":0},{"$f":"IFERROR(#REF!,0)*AG5","v":0},{"$f":"IFERROR(#REF!,0)*AG5","v":0},{"$f":"IFERROR(#REF!,0)*AG5","v":0},{"$f":"IFERROR(#REF!,0)*AK5","v":0},{"$f":"IFERROR(#REF!,0)*AK5","v":0},{"$f":"IFERROR(#REF!,0)*AK5","v":0},{"$f":"IFERROR(#REF!,0)*AK5","v":0},{"$f":"IFERROR(#REF!,0)*AO5","v":0},{"$f":"IFERROR(#REF!,0)*AO5","v":0},{"$f":"IFERROR(#REF!,0)*AO5","v":0},{"$f":"IFERROR(#REF!,0)*AO5","v":0},{"$f":"IFERROR(#REF!,0)*AS5","v":0},{"$f":"IFERROR(#REF!,0)*AS5","v":0},{"$f":"IFERROR(#REF!,0)*AS5","v":0},{"$f":"IFERROR(#REF!,0)*AS5","v":0},{"$f":"IFERROR(#REF!,0)*AW5","v":0},{"$f":"IFERROR(#REF!,0)*AW5","v":0},{"$f":"IFERROR(#REF!,0)*AW5","v":0},{"$f":"IFERROR(#REF!,0)*AW5","v":0},{"$f":"IFERROR(#REF!,0)*BA5","v":0},{"$f":"IFERROR(#REF!,0)*BA5","v":0},{"$f":"IFERROR(#REF!,0)*BA5","v":0},{"$f":"IFERROR(#REF!,0)*BA5","v":0},{"$f":"IFERROR(#REF!,0)*BE5","v":0},{"$f":"IFERROR(#REF!,0)*BE5","v":0},{"$f":"IFERROR(#REF!,0)*BE5","v":0},{"$f":"IFERROR(#REF!,0)*BE5","v":0},{"$f":"IFERROR(#REF!,0)*BI5","v":0},{"$f":"IFERROR(#REF!,0)*BI5","v":0},{"$f":"IFERROR(#REF!,0)*BI5","v":0},{"$f":"IFERROR(#REF!,0)*BI5","v":0},{"$f":"IFERROR(#REF!,0)*BM5","v":0},{"$f":"IFERROR(#REF!,0)*BM5","v":0},{"$f":"IFERROR(#REF!,0)*BM5","v":0},{"$f":"IFERROR(#REF!,0)*BM5","v":0},{"$f":"IFERROR(#REF!,0)*BQ5","v":0},{"$f":"IFERROR(#REF!,0)*BQ5","v":0},{"$f":"IFERROR(#REF!,0)*BQ5","v":0},{"$f":"IFERROR(#REF!,0)*BQ5","v":0},{"$f":"IFERROR(#REF!,0)*BU5","v":0},{"$f":"IFERROR(#REF!,0)*BU5","v":0},{"$f":"IFERROR(#REF!,0)*BU5","v":0},{"$f":"IFERROR(#REF!,0)*BU5","v":0},{"$f":"IFERROR(#REF!,0)*BY5","v":0},{"$f":"IFERROR(#REF!,0)*BY5","v":0},{"$f":"IFERROR(#REF!,0)*BY5","v":0},{"$f":"IFERROR(#REF!,0)*BY5","v":0},{"$f":"IFERROR(#REF!,0)*CC5","v":0},{"$f":"IFERROR(#REF!,0)*CC5","v":0},{"$f":"IFERROR(#REF!,0)*CC5","v":0},{"$f":"IFERROR(#REF!,0)*CC5","v":0},{"$f":"IFERROR(#REF!,0)*CG5","v":0},{"$f":"IFERROR(#REF!,0)*CG5","v":0},{"$f":"IFERROR(#REF!,0)*CG5","v":0},{"$f":"IFERROR(#REF!,0)*CG5","v":0},{"$f":"IFERROR(#REF!,0)*CK5","v":0},{"$f":"IFERROR(#REF!,0)*CK5","v":0},{"$f":"IFERROR(#REF!,0)*CK5","v":0},{"$f":"IFERROR(#REF!,0)*CK5","v":0},{"$f":"IFERROR(#REF!,0)*CO5","v":0},{"$f":"IFERROR(#REF!,0)*CO5","v":0},{"$f":"IFERROR(#REF!,0)*CO5","v":0},{"$f":"IFERROR(#REF!,0)*CO5","v":0},{"$f":"IFERROR(#REF!,0)*CS5","v":0},{"$f":"IFERROR(#REF!,0)*CS5","v":0},{"$f":"IFERROR(#REF!,0)*CS5","v":0},{"$f":"IFERROR(#REF!,0)*CS5","v":0},{"$f":"IFERROR(#REF!,0)*CW5","v":0},{"$f":"IFERROR(#REF!,0)*CW5","v":0},{"$f":"IFERROR(#REF!,0)*CW5","v":0},{"$f":"IFERROR(#REF!,0)*CW5","v":0},{"$f":"IFERROR(#REF!,0)*DA5","v":0},{"$f":"IFERROR(#REF!,0)*DA5","v":0},{"$f":"IFERROR(#REF!,0)*DA5","v":0},{"$f":"IFERROR(#REF!,0)*DA5","v":0},{"$f":"IFERROR(#REF!,0)*DE5","v":0},{"$f":"IFERROR(#REF!,0)*DE5","v":0},{"$f":"IFERROR(#REF!,0)*DE5","v":0},{"$f":"IFERROR(#REF!,0)*DE5","v":0},{"$f":"IFERROR(#REF!,0)*DI5","v":0},{"$f":"IFERROR(#REF!,0)*DI5","v":0},{"$f":"IFERROR(#REF!,0)*DI5","v":0},{"$f":"IFERROR(#REF!,0)*DI5","v":0},{"$f":"IFERROR(#REF!,0)*DM5","v":0},{"$f":"IFERROR(#REF!,0)*DM5","v":0},{"$f":"IFERROR(#REF!,0)*DM5","v":0},{"$f":"IFERROR(#REF!,0)*DM5","v":0},{"$f":"IFERROR(#REF!,0)*DQ5","v":0},{"$f":"IFERROR(#REF!,0)*DQ5","v":0},{"$f":"IFERROR(#REF!,0)*DQ5","v":0},{"$f":"IFERROR(#REF!,0)*DQ5","v":0},{"$f":"IFERROR(#REF!,0)*DU5","v":0},{"$f":"IFERROR(#REF!,0)*DU5","v":0},{"$f":"IFERROR(#REF!,0)*DU5","v":0},{"$f":"IFERROR(#REF!,0)*DU5","v":0},{"$f":"IFERROR(#REF!,0)*DY5","v":0},{"$f":"IFERROR(#REF!,0)*DY5","v":0},{"$f":"IFERROR(#REF!,0)*DY5","v":0},{"$f":"IFERROR(#REF!,0)*DY5","v":0},{"$f":"IFERROR(#REF!,0)*EC5","v":0},{"$f":"IFERROR(#REF!,0)*EC5","v":0},{"$f":"IFERROR(#REF!,0)*EC5","v":0},{"$f":"IFERROR(#REF!,0)*EC5","v":0},{"$f":"IFERROR(#REF!,0)*EG5","v":0},{"$f":"IFERROR(#REF!,0)*EG5","v":0},{"$f":"IFERROR(#REF!,0)*EG5","v":0},{"$f":"IFERROR(#REF!,0)*EG5","v":0},{"$f":"IFERROR(#REF!,0)*EK5","v":0},{"$f":"IFERROR(#REF!,0)*EK5","v":0},{"$f":"IFERROR(#REF!,0)*EK5","v":0},{"$f":"IFERROR(#REF!,0)*EK5","v":0},{"$f":"IFERROR(#REF!,0)*EO5","v":0},{"$f":"IFERROR(#REF!,0)*EO5","v":0},{"$f":"IFERROR(#REF!,0)*EO5","v":0},{"$f":"IFERROR(#REF!,0)*EO5","v":0},{"$f":"IFERROR(#REF!,0)*ES5","v":0},{"$f":"IFERROR(#REF!,0)*ES5","v":0},{"$f":"IFERROR(#REF!,0)*ES5","v":0},{"$f":"IFERROR(#REF!,0)*ES5","v":0},{"$f":"IFERROR(#REF!,0)*EW5","v":0},{"$f":"IFERROR(#REF!,0)*EW5","v":0},{"$f":"IFERROR(#REF!,0)*EW5","v":0},{"$f":"IFERROR(#REF!,0)*EW5","v":0},{"$f":"IFERROR(#REF!,0)*FA5","v":0},{"$f":"IFERROR(#REF!,0)*FA5","v":0},{"$f":"IFERROR(#REF!,0)*FA5","v":0},{"$f":"IFERROR(#REF!,0)*FA5","v":0},{"$f":"IFERROR(#REF!,0)*FE5","v":0},{"$f":"IFERROR(#REF!,0)*FE5","v":0},{"$f":"IFERROR(#REF!,0)*FE5","v":0},{"$f":"IFERROR(#REF!,0)*FE5","v":0},{"$f":"IFERROR(#REF!,0)*FI5","v":0},{"$f":"IFERROR(#REF!,0)*FI5","v":0},{"$f":"IFERROR(#REF!,0)*FI5","v":0},{"$f":"IFERROR(#REF!,0)*FI5","v":0},{"$f":"IFERROR(#REF!,0)*FM5","v":0},{"$f":"IFERROR(#REF!,0)*FM5","v":0},{"$f":"IFERROR(#REF!,0)*FM5","v":0},{"$f":"IFERROR(#REF!,0)*FM5","v":0},{"$f":"IFERROR(#REF!,0)*FQ5","v":0},{"$f":"IFERROR(#REF!,0)*FQ5","v":0},{"$f":"IFERROR(#REF!,0)*FQ5","v":0},{"$f":"IFERROR(#REF!,0)*FQ5","v":0},{"$f":"IFERROR(#REF!,0)*FU5","v":0},{"$f":"IFERROR(#REF!,0)*FU5","v":0},{"$f":"IFERROR(#REF!,0)*FU5","v":0},{"$f":"IFERROR(#REF!,0)*FU5","v":0},{"$f":"IFERROR(#REF!,0)*FY5","v":0},{"$f":"IFERROR(#REF!,0)*FY5","v":0},{"$f":"IFERROR(#REF!,0)*FY5","v":0},{"$f":"IFERROR(#REF!,0)*FY5","v":0},{"$f":"IFERROR(#REF!,0)*GC5","v":0},{"$f":"IFERROR(#REF!,0)*GC5","v":0},{"$f":"IFERROR(#REF!,0)*GC5","v":0},{"$f":"IFERROR(#REF!,0)*GC5","v":0},{"$f":"IFERROR(#REF!,0)*GG5","v":0},{"$f":"IFERROR(#REF!,0)*GG5","v":0},{"$f":"IFERROR(#REF!,0)*GG5","v":0},{"$f":"IFERROR(#REF!,0)*GG5","v":0},{"$f":"IFERROR(#REF!,0)*GK5","v":0},{"$f":"IFERROR(#REF!,0)*GK5","v":0},{"$f":"IFERROR(#REF!,0)*GK5","v":0},{"$f":"IFERROR(#REF!,0)*GK5","v":0},{"$f":"IFERROR(#REF!,0)*GO5","v":0},{"$f":"IFERROR(#REF!,0)*GO5","v":0},{"$f":"IFERROR(#REF!,0)*GO5","v":0},{"$f":"IFERROR(#REF!,0)*GO5","v":0},{"$f":"IFERROR(#REF!,0)*GS5","v":0},{"$f":"IFERROR(#REF!,0)*GS5","v":0},{"$f":"IFERROR(#REF!,0)*GS5","v":0},{"$f":"IFERROR(#REF!,0)*GS5","v":0},{"v":0,"d":"0.00"},{"v":0,"d":"0.00"},{"v":0,"d":"0.00"},{"v":0,"d":"0.00"}]
[null,{"$f":"#REF!","v":{"$error":"#REF!"}},{"$f":"#REF!","v":{"$error":"#REF!"}},{"$f":"IFERROR(#REF!,0)*E5","v":0},{"$f":"IFERROR(#REF!,0)*E5","v":0},{"$f":"IFERROR(#REF!,0)*E5","v":0},{"$f":"IFERROR(#REF!,0)*E5","v":0},{"$f":"IFERROR(#REF!,0)*I5","v":0},{"$f":"IFERROR(#REF!,0)*I5","v":0},{"$f":"IFERROR(#REF!,0)*I5","v":0},{"$f":"IFERROR(#REF!,0)*I5","v":0},{"$f":"IFERROR(#REF!,0)*M5","v":0},{"$f":"IFERROR(#REF!,0)*M5","v":0},{"$f":"IFERROR(#REF!,0)*M5","v":0},{"$f":"IFERROR(#REF!,0)*M5","v":0},{"$f":"IFERROR(#REF!,0)*Q5","v":0},{"$f":"IFERROR(#REF!,0)*Q5","v":0},{"$f":"IFERROR(#REF!,0)*Q5","v":0},{"$f":"IFERROR(#REF!,0)*Q5","v":0},{"$f":"IFERROR(#REF!,0)*U5","v":0},{"$f":"IFERROR(#REF!,0)*U5","v":0},{"$f":"IFERROR(#REF!,0)*U5","v":0},{"$f":"IFERROR(#REF!,0)*U5","v":0},{"$f":"IFERROR(#REF!,0)*Y5","v":0},{"$f":"IFERROR(#REF!,0)*Y5","v":0},{"$f":"IFERROR(#REF!,0)*Y5","v":0},{"$f":"IFERROR(#REF!,0)*Y5","v":0},{"$f":"IFERROR(#REF!,0)*AC5","v":0},{"$f":"IFERROR(#REF!,0)*AC5","v":0},{"$f":"IFERROR(#REF!,0)*AC5","v":0},{"$f":"IFERROR(#REF!,0)*AC5","v":0},{"$f":"IFERROR(#REF!,0)*AG5","v":0},{"$f":"IFERROR(#REF!,0)*AG5","v":0},{"$f":"IFERROR(#REF!,0)*AG5","v":0},{"$f":"IFERROR(#REF!,0)*AG5","v":0},{"$f":"IFERROR(#REF!,0)*AK5","v":0},{"$f":"IFERROR(#REF!,0)*AK5","v":0},{"$f":"IFERROR(#REF!,0)*AK5","v":0},{"$f":"IFERROR(#REF!,0)*AK5","v":0},{"$f":"IFERROR(#REF!,0)*AO5","v":0},{"$f":"IFERROR(#REF!,0)*AO5","v":0},{"$f":"IFERROR(#REF!,0)*AO5","v":0},{"$f":"IFERROR(#REF!,0)*AO5","v":0},{"$f":"IFERROR(#REF!,0)*AS5","v":0},{"$f":"IFERROR(#REF!,0)*AS5","v":0},{"$f":"IFERROR(#REF!,0)*AS5","v":0},{"$f":"IFERROR(#REF!,0)*AS5","v":0},{"$f":"IFERROR(#REF!,0)*AW5","v":0},{"$f":"IFERROR(#REF!,0)*AW5","v":0},{"$f":"IFERROR(#REF!,0)*AW5","v":0},{"$f":"IFERROR(#REF!,0)*AW5","v":0},{"$f":"IFERROR(#REF!,0)*BA5","v":0},{"$f":"IFERROR(#REF!,0)*BA5","v":0},{"$f":"IFERROR(#REF!,0)*BA5","v":0},{"$f":"IFERROR(#REF!,0)*BA5","v":0},{"$f":"IFERROR(#REF!,0)*BE5","v":0},{"$f":"IFERROR(#REF!,0)*BE5","v":0},{"$f":"IFERROR(#REF!,0)*BE5","v":0},{"$f":"IFERROR(#REF!,0)*BE5","v":0},{"$f":"IFERROR(#REF!,0)*BI5","v":0},{"$f":"IFERROR(#REF!,0)*BI5","v":0},{"$f":"IFERROR(#REF!,0)*BI5","v":0},{"$f":"IFERROR(#REF!,0)*BI5","v":0},{"$f":"IFERROR(#REF!,0)*BM5","v":0},{"$f":"IFERROR(#REF!,0)*BM5","v":0},{"$f":"IFERROR(#REF!,0)*BM5","v":0},{"$f":"IFERROR(#REF!,0)*BM5","v":0},{"$f":"IFERROR(#REF!,0)*BQ5","v":0},{"$f":"IFERROR(#REF!,0)*BQ5","v":0},{"$f":"IFERROR(#REF!,0)*BQ5","v":0},{"$f":"IFERROR(#REF!,0)*BQ5","v":0},{"$f":"IFERROR(#REF!,0)*BU5","v":0},{"$f":"IFERROR(#REF!,0)*BU5","v":0},{"$f":"IFERROR(#REF!,0)*BU5","v":0},{"$f":"IFERROR(#REF!,0)*BU5","v":0},{"$f":"IFERROR(#REF!,0)*BY5","v":0},{"$f":"IFERROR(#REF!,0)*BY5","v":0},{"$f":"IFERROR(#REF!,0)*BY5","v":0},{"$f":"IFERROR(#REF!,0)*BY5","v":0},{"$f":"IFERROR(#REF!,0)*CC5","v":0},{"$f":"IFERROR(#REF!,0)*CC5","v":0},{"$f":"IFERROR(#REF!,0)*CC5","v":0},{"$f":"IFERROR(#REF!,0)*CC5","v":0},{"$f":"IFERROR(#REF!,0)*CG5","v":0},{"$f":"IFERROR(#REF!,0)*CG5","v":0},{"$f":"IFERROR(#REF!,0)*CG5","v":0},{"$f":"IFERROR(#REF!,0)*CG5","v":0},{"$f":"IFERROR(#REF!,0)*CK5","v":0},{"$f":"IFERROR(#REF!,0)*CK5","v":0},{"$f":"IFERROR(#REF!,0)*CK5","v":0},{"$f":"IFERROR(#REF!,0)*CK5","v":0},{"$f":"IFERROR(#REF!,0)*CO5","v":0},{"$f":"IFERROR(#REF!,0)*CO5","v":0},{"$f":"IFERROR(#REF!,0)*CO5","v":0},{"$f":"IFERROR(#REF!,0)*CO5","v":0},{"$f":"IFERROR(#REF!,0)*CS5","v":0},{"$f":"IFERROR(#REF!,0)*CS5","v":0},{"$f":"IFERROR(#REF!,0)*CS5","v":0},{"$f":"IFERROR(#REF!,0)*CS5","v":0},{"$f":"IFERROR(#REF!,0)*CW5","v":0},{"$f":"IFERROR(#REF!,0)*CW5","v":0},{"$f":"IFERROR(#REF!,0)*CW5","v":0},{"$f":"IFERROR(#REF!,0)*CW5","v":0},{"$f":"IFERROR(#REF!,0)*DA5","v":0},{"$f":"IFERROR(#REF!,0)*DA5","v":0},{"$f":"IFERROR(#REF!,0)*DA5","v":0},{"$f":"IFERROR(#REF!,0)*DA5","v":0},{"$f":"IFERROR(#REF!,0)*DE5","v":0},{"$f":"IFERROR(#REF!,0)*DE5","v":0},{"$f":"IFERROR(#REF!,0)*DE5","v":0},{"$f":"IFERROR(#REF!,0)*DE5","v":0},{"$f":"IFERROR(#REF!,0)*DI5","v":0},{"$f":"IFERROR(#REF!,0)*DI5","v":0},{"$f":"IFERROR(#REF!,0)*DI5","v":0},{"$f":"IFERROR(#REF!,0)*DI5","v":0},{"$f":"IFERROR(#REF!,0)*DM5","v":0},{"$f":"IFERROR(#REF!,0)*DM5","v":0},{"$f":"IFERROR(#REF!,0)*DM5","v":0},{"$f":"IFERROR(#REF!,0)*DM5","v":0},{"$f":"IFERROR(#REF!,0)*DQ5","v":0},{"$f":"IFERROR(#REF!,0)*DQ5","v":0},{"$f":"IFERROR(#REF!,0)*DQ5","v":0},{"$f":"IFERROR(#REF!,0)*DQ5","v":0},{"$f":"IFERROR(#REF!,0)*DU5","v":0},{"$f":"IFERROR(#REF!,0)*DU5","v":0},{"$f":"IFERROR(#REF!,0)*DU5","v":0},{"$f":"IFERROR(#REF!,0)*DU5","v":0},{"$f":"IFERROR(#REF!,0)*DY5","v":0},{"$f":"IFERROR(#REF!,0)*DY5","v":0},{"$f":"IFERROR(#REF!,0)*DY5","v":0},{"$f":"IFERROR(#REF!,0)*DY5","v":0},{"$f":"IFERROR(#REF!,0)*EC5","v":0},{"$f":"IFERROR(#REF!,0)*EC5","v":0},{"$f":"IFERROR(#REF!,0)*EC5","v":0},{"$f":"IFERROR(#REF!,0)*EC5","v":0},{"$f":"IFERROR(#REF!,0)*EG5","v":0},{"$f":"IFERROR(#REF!,0)*EG5","v":0},{"$f":"IFERROR(#REF!,0)*EG5","v":0},{"$f":"IFERROR(#REF!,0)*EG5","v":0},{"$f":"IFERROR(#REF!,0)*EK5","v":0},{"$f":"IFERROR(#REF!,0)*EK5","v":0},{"$f":"IFERROR(#REF!,0)*EK5","v":0},{"$f":"IFERROR(#REF!,0)*EK5","v":0},{"$f":"IFERROR(#REF!,0)*EO5","v":0},{"$f":"IFERROR(#REF!,0)*EO5","v":0},{"$f":"IFERROR(#REF!,0)*EO5","v":0},{"$f":"IFERROR(#REF!,0)*EO5","v":0},{"$f":"IFERROR(#REF!,0)*ES5","v":0},{"$f":"IFERROR(#REF!,0)*ES5","v":0},{"$f":"IFERROR(#REF!,0)*ES5","v":0},{"$f":"IFERROR(#REF!,0)*ES5","v":0},{"$f":"IFERROR(#REF!,0)*EW5","v":0},{"$f":"IFERROR(#REF!,0)*EW5","v":0},{"$f":"IFERROR(#REF!,0)*EW5","v":0},{"$f":"IFERROR(#REF!,0)*EW5","v":0},{"$f":"IFERROR(#REF!,0)*FA5","v":0},{"$f":"IFERROR(#REF!,0)*FA5","v":0},{"$f":"IFERROR(#REF!,0)*FA5","v":0},{"$f":"IFERROR(#REF!,0)*FA5","v":0},{"$f":"IFERROR(#REF!,0)*FE5","v":0},{"$f":"IFERROR(#REF!,0)*FE5","v":0},{"$f":"IFERROR(#REF!,0)*FE5","v":0},{"$f":"IFERROR(#REF!,0)*FE5","v":0},{"$f":"IFERROR(#REF!,0)*FI5","v":0},{"$f":"IFERROR(#REF!,0)*FI5","v":0},{"$f":"IFERROR(#REF!,0)*FI5","v":0},{"$f":"IFERROR(#REF!,0)*FI5","v":0},{"$f":"IFERROR(#REF!,0)*FM5","v":0},{"$f":"IFERROR(#REF!,0)*FM5","v":0},{"$f":"IFERROR(#REF!,0)*FM5","v":0},{"$f":"IFERROR(#REF!,0)*FM5","v":0},{"$f":"IFERROR(#REF!,0)*FQ5","v":0},{"$f":"IFERROR(#REF!,0)*FQ5","v":0},{"$f":"IFERROR(#REF!,0)*FQ5","v":0},{"$f":"IFERROR(#REF!,0)*FQ5","v":0},{"$f":"IFERROR(#REF!,0)*FU5","v":0},{"$f":"IFERROR(#REF!,0)*FU5","v":0},{"$f":"IFERROR(#REF!,0)*FU5","v":0},{"$f":"IFERROR(#REF!,0)*FU5","v":0},{"$f":"IFERROR(#REF!,0)*FY5","v":0},{"$f":"IFERROR(#REF!,0)*FY5","v":0},{"$f":"IFERROR(#REF!,0)*FY5","v":0},{"$f":"IFERROR(#REF!,0)*FY5","v":0},{"$f":"IFERROR(#REF!,0)*GC5","v":0},{"$f":"IFERROR(#REF!,0)*GC5","v":0},{"$f":"IFERROR(#REF!,0)*GC5","v":0},{"$f":"IFERROR(#REF!,0)*GC5","v":0},{"$f":"IFERROR(#REF!,0)*GG5","v":0},{"$f":"IFERROR(#REF!,0)*GG5","v":0},{"$f":"IFERROR(#REF!,0)*GG5","v":0},{"$f":"IFERROR(#REF!,0)*GG5","v":0},{"$f":"IFERROR(#REF!,0)*GK5","v":0},{"$f":"IFERROR(#REF!,0)*GK5","v":0},{"$f":"IFERROR(#REF!,0)*GK5","v":0},{"$f":"IFERROR(#REF!,0)*GK5","v":0},{"$f":"IFERROR(#REF!,0)*GO5","v":0},{"$f":"IFERROR(#REF!,0)*GO5","v":0},{"$f":"IFERROR(#REF!,0)*GO5","v":0},{"$f":"IFERROR(#REF!,0)*GO5","v":0},{"$f":"IFERROR(#REF!,0)*GS5","v":0},{"$f":"IFERROR(#REF!,0)*GS5","v":0},{"$f":"IFERROR(#REF!,0)*GS5","v":0},{"$f":"IFERROR(#REF!,0)*GS5","v":0},{"v":0,"d":"0.00"},{"v":0,"d":"0.00"},{"v":0,"d":"0.00"},{"v":0,"d":"0.00"}]
[null,{"$f":"#REF!","v":{"$error":"#REF!"}},{"$f":"#REF!","v":{"$error":"#REF!"}},{"$f":"IFERROR(#REF!,0)*E5","v":0},{"$f":"IFERROR(#REF!,0)*E5","v":0},{"$f":"IFERROR(#REF!,0)*E5","v":0},{"$f":"IFERROR(#REF!,0)*E5","v":0},{"$f":"IFERROR(#REF!,0)*I5","v":0},{"$f":"IFERROR(#REF!,0)*I5","v":0},{"$f":"IFERROR(#REF!,0)*I5","v":0},{"$f":"IFERROR(#REF!,0)*I5","v":0},{"$f":"IFERROR(#REF!,0)*M5","v":0},{"$f":"IFERROR(#REF!,0)*M5","v":0},{"$f":"IFERROR(#REF!,0)*M5","v":0},{"$f":"IFERROR(#REF!,0)*M5","v":0},{"$f":"IFERROR(#REF!,0)*Q5","v":0},{"$f":"IFERROR(#REF!,0)*Q5","v":0},{"$f":"IFERROR(#REF!,0)*Q5","v":0},{"$f":"IFERROR(#REF!,0)*Q5","v":0},{"$f":"IFERROR(#REF!,0)*U5","v":0},{"$f":"IFERROR(#REF!,0)*U5","v":0},{"$f":"IFERROR(#REF!,0)*U5","v":0},{"$f":"IFERROR(#REF!,0)*U5","v":0},{"$f":"IFERROR(#REF!,0)*Y5","v":0},{"$f":"IFERROR(#REF!,0)*Y5","v":0},{"$f":"IFERROR(#REF!,0)*Y5","v":0},{"$f":"IFERROR(#REF!,0)*Y5","v":0},{"$f":"IFERROR(#REF!,0)*AC5","v":0},{"$f":"IFERROR(#REF!,0)*AC5","v":0},{"$f":"IFERROR(#REF!,0)*AC5","v":0},{"$f":"IFERROR(#REF!,0)*AC5","v":0},{"$f":"IFERROR(#REF!,0)*AG5","v":0},{"$f":"IFERROR(#REF!,0)*AG5","v":0},{"$f":"IFERROR(#REF!,0)*AG5","v":0},{"$f":"IFERROR(#REF!,0)*AG5","v":0},{"$f":"IFERROR(#REF!,0)*AK5","v":0},{"$f":"IFERROR(#REF!,0)*AK5","v":0},{"$f":"IFERROR(#REF!,0)*AK5","v":0},{"$f":"IFERROR(#REF!,0)*AK5","v":0},{"$f":"IFERROR(#REF!,0)*AO5","v":0},{"$f":"IFERROR(#REF!,0)*AO5","v":0},{"$f":"IFERROR(#REF!,0)*AO5","v":0},{"$f":"IFERROR(#REF!,0)*AO5","v":0},{"$f":"IFERROR(#REF!,0)*AS5","v":0},{"$f":"IFERROR(#REF!,0)*AS5","v":0},{"$f":"IFERROR(#REF!,0)*AS5","v":0},{"$f":"IFERROR(#REF!,0)*AS5","v":0},{"$f":"IFERROR(#REF!,0)*AW5","v":0},{"$f":"IFERROR(#REF!,0)*AW5","v":0},{"$f":"IFERROR(#REF!,0)*AW5","v":0},{"$f":"IFERROR(#REF!,0)*AW5","v":0},{"$f":"IFERROR(#REF!,0)*BA5","v":0},{"$f":"IFERROR(#REF!,0)*BA5","v":0},{"$f":"IFERROR(#REF!,0)*BA5","v":0},{"$f":"IFERROR(#REF!,0)*BA5","v":0},{"$f":"IFERROR(#REF!,0)*BE5","v":0},{"$f":"IFERROR(#REF!,0)*BE5","v":0},{"$f":"IFERROR(#REF!,0)*BE5","v":0},{"$f":"IFERROR(#REF!,0)*BE5","v":0},{"$f":"IFERROR(#REF!,0)*BI5","v":0},{"$f":"IFERROR(#REF!,0)*BI5","v":0},{"$f":"IFERROR(#REF!,0)*BI5","v":0},{"$f":"IFERROR(#REF!,0)*BI5","v":0},{"$f":"IFERROR(#REF!,0)*BM5","v":0},{"$f":"IFERROR(#REF!,0)*BM5","v":0},{"$f":"IFERROR(#REF!,0)*BM5","v":0},{"$f":"IFERROR(#REF!,0)*BM5","v":0},{"$f":"IFERROR(#REF!,0)*BQ5","v":0},{"$f":"IFERROR(#REF!,0)*BQ5","v":0},{"$f":"IFERROR(#REF!,0)*BQ5","v":0},{"$f":"IFERROR(#REF!,0)*BQ5","v":0},{"$f":"IFERROR(#REF!,0)*BU5","v":0},{"$f":"IFERROR(#REF!,0)*BU5","v":0},{"$f":"IFERROR(#REF!,0)*BU5","v":0},{"$f":"IFERROR(#REF!,0)*BU5","v":0},{"$f":"IFERROR(#REF!,0)*BY5","v":0},{"$f":"IFERROR(#REF!,0)*BY5","v":0},{"$f":"IFERROR(#REF!,0)*BY5","v":0},{"$f":"IFERROR(#REF!,0)*BY5","v":0},{"$f":"IFERROR(#REF!,0)*CC5","v":0},{"$f":"IFERROR(#REF!,0)*CC5","v":0},{"$f":"IFERROR(#REF!,0)*CC5","v":0},{"$f":"IFERROR(#REF!,0)*CC5","v":0},{"$f":"IFERROR(#REF!,0)*CG5","v":0},{"$f":"IFERROR(#REF!,0)*CG5","v":0},{"$f":"IFERROR(#REF!,0)*CG5","v":0},{"$f":"IFERROR(#REF!,0)*CG5","v":0},{"$f":"IFERROR(#REF!,0)*CK5","v":0},{"$f":"IFERROR(#REF!,0)*CK5","v":0},{"$f":"IFERROR(#REF!,0)*CK5","v":0},{"$f":"IFERROR(#REF!,0)*CK5","v":0},{"$f":"IFERROR(#REF!,0)*CO5","v":0},{"$f":"IFERROR(#REF!,0)*CO5","v":0},{"$f":"IFERROR(#REF!,0)*CO5","v":0},{"$f":"IFERROR(#REF!,0)*CO5","v":0},{"$f":"IFERROR(#REF!,0)*CS5","v":0},{"$f":"IFERROR(#REF!,0)*CS5","v":0},{"$f":"IFERROR(#REF!,0)*CS5","v":0},{"$f":"IFERROR(#REF!,0)*CS5","v":0},{"$f":"IFERROR(#REF!,0)*CW5","v":0},{"$f":"IFERROR(#REF!,0)*CW5","v":0},{"$f":"IFERROR(#REF!,0)*CW5","v":0},{"$f":"IFERROR(#REF!,0)*CW5","v":0},{"$f":"IFERROR(#REF!,0)*DA5","v":0},{"$f":"IFERROR(#REF!,0)*DA5","v":0},{"$f":"IFERROR(#REF!,0)*DA5","v":0},{"$f":"IFERROR(#REF!,0)*DA5","v":0},{"$f":"IFERROR(#REF!,0)*DE5","v":0},{"$f":"IFERROR(#REF!,0)*DE5","v":0},{"$f":"IFERROR(#REF!,0)*DE5","v":0},{"$f":"IFERROR(#REF!,0)*DE5","v":0},{"$f":"IFERROR(#REF!,0)*DI5","v":0},{"$f":"IFERROR(#REF!,0)*DI5","v":0},{"$f":"IFERROR(#REF!,0)*DI5","v":0},{"$f":"IFERROR(#REF!,0)*DI5","v":0},{"$f":"IFERROR(#REF!,0)*DM5","v":0},{"$f":"IFERROR(#REF!,0)*DM5","v":0},{"$f":"IFERROR(#REF!,0)*DM5","v":0},{"$f":"IFERROR(#REF!,0)*DM5","v":0},{"$f":"IFERROR(#REF!,0)*DQ5","v":0},{"$f":"IFERROR(#REF!,0)*DQ5","v":0},{"$f":"IFERROR(#REF!,0)*DQ5","v":0},{"$f":"IFERROR(#REF!,0)*DQ5","v":0},{"$f":"IFERROR(#REF!,0)*DU5","v":0},{"$f":"IFERROR(#REF!,0)*DU5","v":0},{"$f":"IFERROR(#REF!,0)*DU5","v":0},{"$f":"IFERROR(#REF!,0)*DU5","v":0},{"$f":"IFERROR(#REF!,0)*DY5","v":0},{"$f":"IFERROR(#REF!,0)*DY5","v":0},{"$f":"IFERROR(#REF!,0)*DY5","v":0},{"$f":"IFERROR(#REF!,0)*DY5","v":0},{"$f":"IFERROR(#REF!,0)*EC5","v":0},{"$f":"IFERROR(#REF!,0)*EC5","v":0},{"$f":"IFERROR(#REF!,0)*EC5","v":0},{"$f":"IFERROR(#REF!,0)*EC5","v":0},{"$f":"IFERROR(#REF!,0)*EG5","v":0},{"$f":"IFERROR(#REF!,0)*EG5","v":0},{"$f":"IFERROR(#REF!,0)*EG5","v":0},{"$f":"IFERROR(#REF!,0)*EG5","v":0},{"$f":"IFERROR(#REF!,0)*EK5","v":0},{"$f":"IFERROR(#REF!,0)*EK5","v":0},{"$f":"IFERROR(#REF!,0)*EK5","v":0},{"$f":"IFERROR(#REF!,0)*EK5","v":0},{"$f":"IFERROR(#REF!,0)*EO5","v":0},{"$f":"IFERROR(#REF!,0)*EO5","v":0},{"$f":"IFERROR(#REF!,0)*EO5","v":0},{"$f":"IFERROR(#REF!,0)*EO5","v":0},{"$f":"IFERROR(#REF!,0)*ES5","v":0},{"$f":"IFERROR(#REF!,0)*ES5","v":0},{"$f":"IFERROR(#REF!,0)*ES5","v":0},{"$f":"IFERROR(#REF!,0)*ES5","v":0},{"$f":"IFERROR(#REF!,0)*EW5","v":0},{"$f":"IFERROR(#REF!,0)*EW5","v":0},{"$f":"IFERROR(#REF!,0)*EW5","v":0},{"$f":"IFERROR(#REF!,0)*EW5","v":0},{"$f":"IFERROR(#REF!,0)*FA5","v":0},{"$f":"IFERROR(#REF!,0)*FA5","v":0},{"$f":"IFERROR(#REF!,0)*FA5","v":0},{"$f":"IFERROR(#REF!,0)*FA5","v":0},{"$f":"IFERROR(#REF!,0)*FE5","v":0},{"$f":"IFERROR(#REF!,0)*FE5","v":0},{"$f":"IFERROR(#REF!,0)*FE5","v":0},{"$f":"IFERROR(#REF!,0)*FE5","v":0},{"$f":"IFERROR(#REF!,0)*FI5","v":0},{"$f":"IFERROR(#REF!,0)*FI5","v":0},{"$f":"IFERROR(#REF!,0)*FI5","v":0},{"$f":"IFERROR(#REF!,0)*FI5","v":0},{"$f":"IFERROR(#REF!,0)*FM5","v":0},{"$f":"IFERROR(#REF!,0)*FM5","v":0},{"$f":"IFERROR(#REF!,0)*FM5","v":0},{"$f":"IFERROR(#REF!,0)*FM5","v":0},{"$f":"IFERROR(#REF!,0)*FQ5","v":0},{"$f":"IFERROR(#REF!,0)*FQ5","v":0},{"$f":"IFERROR(#REF!,0)*FQ5","v":0},{"$f":"IFERROR(#REF!,0)*FQ5","v":0},{"$f":"IFERROR(#REF!,0)*FU5","v":0},{"$f":"IFERROR(#REF!,0)*FU5","v":0},{"$f":"IFERROR(#REF!,0)*FU5","v":0},{"$f":"IFERROR(#REF!,0)*FU5","v":0},{"$f":"IFERROR(#REF!,0)*FY5","v":0},{"$f":"IFERROR(#REF!,0)*FY5","v":0},{"$f":"IFERROR(#REF!,0)*FY5","v":0},{"$f":"IFERROR(#REF!,0)*FY5","v":0},{"$f":"IFERROR(#REF!,0)*GC5","v":0},{"$f":"IFERROR(#REF!,0)*GC5","v":0},{"$f":"IFERROR(#REF!,0)*GC5","v":0},{"$f":"IFERROR(#REF!,0)*GC5","v":0},{"$f":"IFERROR(#REF!,0)*GG5","v":0},{"$f":"IFERROR(#REF!,0)*GG5","v":0},{"$f":"IFERROR(#REF!,0)*GG5","v":0},{"$f":"IFERROR(#REF!,0)*GG5","v":0},{"$f":"IFERROR(#REF!,0)*GK5","v":0},{"$f":"IFERROR(#REF!,0)*GK5","v":0},{"$f":"IFERROR(#REF!,0)*GK5","v":0},{"$f":"IFERROR(#REF!,0)*GK5","v":0},{"$f":"IFERROR(#REF!,0)*GO5","v":0},{"$f":"IFERROR(#REF!,0)*GO5","v":0},{"$f":"IFERROR(#REF!,0)*GO5","v":0},{"$f":"IFERROR(#REF!,0)*GO5","v":0},{"$f":"IFERROR(#REF!,0)*GS5","v":0},{"$f":"IFERROR(#REF!,0)*GS5","v":0},{"$f":"IFERROR(#REF!,0)*GS5","v":0},{"$f":"IFERROR(#REF!,0)*GS5","v":0},{"v":0,"d":"0.00"},{"v":0,"d":"0.00"},{"v":0,"d":"0.00"},{"v":0,"d":"0.00"}]
[null,{"$f":"#REF!","v":{"$error":"#REF!"}},{"$f":"#REF!","v":{"$error":"#REF!"}},{"$f":"IFERROR(#REF!,0)*E5","v":0},{"$f":"IFERROR(#REF!,0)*E5","v":0},{"$f":"IFERROR(#REF!,0)*E5","v":0},{"$f":"IFERROR(#REF!,0)*E5","v":0},{"$f":"IFERROR(#REF!,0)*I5","v":0},{"$f":"IFERROR(#REF!,0)*I5","v":0},{"$f":"IFERROR(#REF!,0)*I5","v":0},{"$f":"IFERROR(#REF!,0)*I5","v":0},{"$f":"IFERROR(#REF!,0)*M5","v":0},{"$f":"IFERROR(#REF!,0)*M5","v":0},{"$f":"IFERROR(#REF!,0)*M5","v":0},{"$f":"IFERROR(#REF!,0)*M5","v":0},{"$f":"IFERROR(#REF!,0)*Q5","v":0},{"$f":"IFERROR(#REF!,0)*Q5","v":0},{"$f":"IFERROR(#REF!,0)*Q5","v":0},{"$f":"IFERROR(#REF!,0)*Q5","v":0},{"$f":"IFERROR(#REF!,0)*U5","v":0},{"$f":"IFERROR(#REF!,0)*U5","v":0},{"$f":"IFERROR(#REF!,0)*U5","v":0},{"$f":"IFERROR(#REF!,0)*U5","v":0},{"$f":"IFERROR(#REF!,0)*Y5","v":0},{"$f":"IFERROR(#REF!,0)*Y5","v":0},{"$f":"IFERROR(#REF!,0)*Y5","v":0},{"$f":"IFERROR(#REF!,0)*Y5","v":0},{"$f":"IFERROR(#REF!,0)*AC5","v":0},{"$f":"IFERROR(#REF!,0)*AC5","v":0},{"$f":"IFERROR(#REF!,0)*AC5","v":0},{"$f":"IFERROR(#REF!,0)*AC5","v":0},{"$f":"IFERROR(#REF!,0)*AG5","v":0},{"$f":"IFERROR(#REF!,0)*AG5","v":0},{"$f":"IFERROR(#REF!,0)*AG5","v":0},{"$f":"IFERROR(#REF!,0)*AG5","v":0},{"$f":"IFERROR(#REF!,0)*AK5","v":0},{"$f":"IFERROR(#REF!,0)*AK5","v":0},{"$f":"IFERROR(#REF!,0)*AK5","v":0},{"$f":"IFERROR(#REF!,0)*AK5","v":0},{"$f":"IFERROR(#REF!,0)*AO5","v":0},{"$f":"IFERROR(#REF!,0)*AO5","v":0},{"$f":"IFERROR(#REF!,0)*AO5","v":0},{"$f":"IFERROR(#REF!,0)*AO5","v":0},{"$f":"IFERROR(#REF!,0)*AS5","v":0},{"$f":"IFERROR(#REF!,0)*AS5","v":0},{"$f":"IFERROR(#REF!,0)*AS5","v":0},{"$f":"IFERROR(#REF!,0)*AS5","v":0},{"$f":"IFERROR(#REF!,0)*AW5","v":0},{"$f":"IFERROR(#REF!,0)*AW5","v":0},{"$f":"IFERROR(#REF!,0)*AW5","v":0},{"$f":"IFERROR(#REF!,0)*AW5","v":0},{"$f":"IFERROR(#REF!,0)*BA5","v":0},{"$f":"IFERROR(#REF!,0)*BA5","v":0},{"$f":"IFERROR(#REF!,0)*BA5","v":0},{"$f":"IFERROR(#REF!,0)*BA5","v":0},{"$f":"IFERROR(#REF!,0)*BE5","v":0},{"$f":"IFERROR(#REF!,0)*BE5","v":0},{"$f":"IFERROR(#REF!,0)*BE5","v":0},{"$f":"IFERROR(#REF!,0)*BE5","v":0},{"$f":"IFERROR(#REF!,0)*BI5","v":0},{"$f":"IFERROR(#REF!,0)*BI5","v":0},{"$f":"IFERROR(#REF!,0)*BI5","v":0},{"$f":"IFERROR(#REF!,0)*BI5","v":0},{"$f":"IFERROR(#REF!,0)*BM5","v":0},{"$f":"IFERROR(#REF!,0)*BM5","v":0},{"$f":"IFERROR(#REF!,0)*BM5","v":0},{"$f":"IFERROR(#REF!,0)*BM5","v":0},{"$f":"IFERROR(#REF!,0)*BQ5","v":0},{"$f":"IFERROR(#REF!,0)*BQ5","v":0},{"$f":"IFERROR(#REF!,0)*BQ5","v":0},{"$f":"IFERROR(#REF!,0)*BQ5","v":0},{"$f":"IFERROR(#REF!,0)*BU5","v":0},{"$f":"IFERROR(#REF!,0)*BU5","v":0},{"$f":"IFERROR(#REF!,0)*BU5","v":0},{"$f":"IFERROR(#REF!,0)*BU5","v":0},{"$f":"IFERROR(#REF!,0)*BY5","v":0},{"$f":"IFERROR(#REF!,0)*BY5","v":0},{"$f":"IFERROR(#REF!,0)*BY5","v":0},{"$f":"IFERROR(#REF!,0)*BY5","v":0},{"$f":"IFERROR(#REF!,0)*CC5","v":0},{"$f":"IFERROR(#REF!,0)*CC5","v":0},{"$f":"IFERROR(#REF!,0)*CC5","v":0},{"$f":"IFERROR(#REF!,0)*CC5","v":0},{"$f":"IFERROR(#REF!,0)*CG5","v":0},{"$f":"IFERROR(#REF!,0)*CG5","v":0},{"$f":"IFERROR(#REF!,0)*CG5","v":0},{"$f":"IFERROR(#REF!,0)*CG5","v":0},{"$f":"IFERROR(#REF!,0)*CK5","v":0},{"$f":"IFERROR(#REF!,0)*CK5","v":0},{"$f":"IFERROR(#REF!,0)*CK5","v":0},{"$f":"IFERROR(#REF!,0)*CK5","v":0},{"$f":"IFERROR(#REF!,0)*CO5","v":0},{"$f":"IFERROR(#REF!,0)*CO5","v":0},{"$f":"IFERROR(#REF!,0)*CO5","v":0},{"$f":"IFERROR(#REF!,0)*CO5","v":0},{"$f":"IFERROR(#REF!,0)*CS5","v":0},{"$f":"IFERROR(#REF!,0)*CS5","v":0},{"$f":"IFERROR(#REF!,0)*CS5","v":0},{"$f":"IFERROR(#REF!,0)*CS5","v":0},{"$f":"IFERROR(#REF!,0)*CW5","v":0},{"$f":"IFERROR(#REF!,0)*CW5","v":0},{"$f":"IFERROR(#REF!,0)*CW5","v":0},{"$f":"IFERROR(#REF!,0)*CW5","v":0},{"$f":"IFERROR(#REF!,0)*DA5","v":0},{"$f":"IFERROR(#REF!,0)*DA5","v":0},{"$f":"IFERROR(#REF!,0)*DA5","v":0},{"$f":"IFERROR(#REF!,0)*DA5","v":0},{"$f":"IFERROR(#REF!,0)*DE5","v":0},{"$f":"IFERROR(#REF!,0)*DE5","v":0},{"$f":"IFERROR(#REF!,0)*DE5","v":0},{"$f":"IFERROR(#REF!,0)*DE5","v":0},{"$f":"IFERROR(#REF!,0)*DI5","v":0},{"$f":"IFERROR(#REF!,0)*DI5","v":0},{"$f":"IFERROR(#REF!,0)*DI5","v":0},{"$f":"IFERROR(#REF!,0)*DI5","v":0},{"$f":"IFERROR(#REF!,0)*DM5","v":0},{"$f":"IFERROR(#REF!,0)*DM5","v":0},{"$f":"IFERROR(#REF!,0)*DM5","v":0},{"$f":"IFERROR(#REF!,0)*DM5","v":0},{"$f":"IFERROR(#REF!,0)*DQ5","v":0},{"$f":"IFERROR(#REF!,0)*DQ5","v":0},{"$f":"IFERROR(#REF!,0)*DQ5","v":0},{"$f":"IFERROR(#REF!,0)*DQ5","v":0},{"$f":"IFERROR(#REF!,0)*DU5","v":0},{"$f":"IFERROR(#REF!,0)*DU5","v":0},{"$f":"IFERROR(#REF!,0)*DU5","v":0},{"$f":"IFERROR(#REF!,0)*DU5","v":0},{"$f":"IFERROR(#REF!,0)*DY5","v":0},{"$f":"IFERROR(#REF!,0)*DY5","v":0},{"$f":"IFERROR(#REF!,0)*DY5","v":0},{"$f":"IFERROR(#REF!,0)*DY5","v":0},{"$f":"IFERROR(#REF!,0)*EC5","v":0},{"$f":"IFERROR(#REF!,0)*EC5","v":0},{"$f":"IFERROR(#REF!,0)*EC5","v":0},{"$f":"IFERROR(#REF!,0)*EC5","v":0},{"$f":"IFERROR(#REF!,0)*EG5","v":0},{"$f":"IFERROR(#REF!,0)*EG5","v":0},{"$f":"IFERROR(#REF!,0)*EG5","v":0},{"$f":"IFERROR(#REF!,0)*EG5","v":0},{"$f":"IFERROR(#REF!,0)*EK5","v":0},{"$f":"IFERROR(#REF!,0)*EK5","v":0},{"$f":"IFERROR(#REF!,0)*EK5","v":0},{"$f":"IFERROR(#REF!,0)*EK5","v":0},{"$f":"IFERROR(#REF!,0)*EO5","v":0},{"$f":"IFERROR(#REF!,0)*EO5","v":0},{"$f":"IFERROR(#REF!,0)*EO5","v":0},{"$f":"IFERROR(#REF!,0)*EO5","v":0},{"$f":"IFERROR(#REF!,0)*ES5","v":0},{"$f":"IFERROR(#REF!,0)*ES5","v":0},{"$f":"IFERROR(#REF!,0)*ES5","v":0},{"$f":"IFERROR(#REF!,0)*ES5","v":0},{"$f":"IFERROR(#REF!,0)*EW5","v":0},{"$f":"IFERROR(#REF!,0)*EW5","v":0},{"$f":"IFERROR(#REF!,0)*EW5","v":0},{"$f":"IFERROR(#REF!,0)*EW5","v":0},{"$f":"IFERROR(#REF!,0)*FA5","v":0},{"$f":"IFERROR(#REF!,0)*FA5","v":0},{"$f":"IFERROR(#REF!,0)*FA5","v":0},{"$f":"IFERROR(#REF!,0)*FA5","v":0},{"$f":"IFERROR(#REF!,0)*FE5","v":0},{"$f":"IFERROR(#REF!,0)*FE5","v":0},{"$f":"IFERROR(#REF!,0)*FE5","v":0},{"$f":"IFERROR(#REF!,0)*FE5","v":0},{"$f":"IFERROR(#REF!,0)*FI5","v":0},{"$f":"IFERROR(#REF!,0)*FI5","v":0},{"$f":"IFERROR(#REF!,0)*FI5","v":0},{"$f":"IFERROR(#REF!,0)*FI5","v":0},{"$f":"IFERROR(#REF!,0)*FM5","v":0},{"$f":"IFERROR(#REF!,0)*FM5","v":0},{"$f":"IFERROR(#REF!,0)*FM5","v":0},{"$f":"IFERROR(#REF!,0)*FM5","v":0},{"$f":"IFERROR(#REF!,0)*FQ5","v":0},{"$f":"IFERROR(#REF!,0)*FQ5","v":0},{"$f":"IFERROR(#REF!,0)*FQ5","v":0},{"$f":"IFERROR(#REF!,0)*FQ5","v":0},{"$f":"IFERROR(#REF!,0)*FU5","v":0},{"$f":"IFERROR(#REF!,0)*FU5","v":0},{"$f":"IFERROR(#REF!,0)*FU5","v":0},{"$f":"IFERROR(#REF!,0)*FU5","v":0},{"$f":"IFERROR(#REF!,0)*FY5","v":0},{"$f":"IFERROR(#REF!,0)*FY5","v":0},{"$f":"IFERROR(#REF!,0)*FY5","v":0},{"$f":"IFERROR(#REF!,0)*FY5","v":0},{"$f":"IFERROR(#REF!,0)*GC5","v":0},{"$f":"IFERROR(#REF!,0)*GC5","v":0},{"$f":"IFERROR(#REF!,0)*GC5","v":0},{"$f":"IFERROR(#REF!,0)*GC5","v":0},{"$f":"IFERROR(#REF!,0)*GG5","v":0},{"$f":"IFERROR(#REF!,0)*GG5","v":0},{"$f":"IFERROR(#REF!,0)*GG5","v":0},{"$f":"IFERROR(#REF!,0)*GG5","v":0},{"$f":"IFERROR(#REF!,0)*GK5","v":0},{"$f":"IFERROR(#REF!,0)*GK5","v":0},{"$f":"IFERROR(#REF!,0)*GK5","v":0},{"$f":"IFERROR(#REF!,0)*GK5","v":0},{"$f":"IFERROR(#REF!,0)*GO5","v":0},{"$f":"IFERROR(#REF!,0)*GO5","v":0},{"$f":"IFERROR(#REF!,0)*GO5","v":0},{"$f":"IFERROR(#REF!,0)*GO5","v":0},{"$f":"IFERROR(#REF!,0)*GS5","v":0},{"$f":"IFERROR(#REF!,0)*GS5","v":0},{"$f":"IFERROR(#REF!,0)*GS5","v":0},{"$f":"IFERROR(#REF!,0)*GS5","v":0},{"v":0,"d":"0.00"},{"v":0,"d":"0.00"},{"v":0,"d":"0.00"},{"v":0,"d":"0.00"}]
[null,{"$f":"#REF!","v":{"$error":"#REF!"}},{"$f":"#REF!","v":{"$error":"#REF!"}},{"$f":"IFERROR(#REF!,0)*E5","v":0},{"$f":"IFERROR(#REF!,0)*E5","v":0},{"$f":"IFERROR(#REF!,0)*E5","v":0},{"$f":"IFERROR(#REF!,0)*E5","v":0},{"$f":"IFERROR(#REF!,0)*I5","v":0},{"$f":"IFERROR(#REF!,0)*I5","v":0},{"$f":"IFERROR(#REF!,0)*I5","v":0},{"$f":"IFERROR(#REF!,0)*I5","v":0},{"$f":"IFERROR(#REF!,0)*M5","v":0},{"$f":"IFERROR(#REF!,0)*M5","v":0},{"$f":"IFERROR(#REF!,0)*M5","v":0},{"$f":"IFERROR(#REF!,0)*M5","v":0},{"$f":"IFERROR(#REF!,0)*Q5","v":0},{"$f":"IFERROR(#REF!,0)*Q5","v":0},{"$f":"IFERROR(#REF!,0)*Q5","v":0},{"$f":"IFERROR(#REF!,0)*Q5","v":0},{"$f":"IFERROR(#REF!,0)*U5","v":0},{"$f":"IFERROR(#REF!,0)*U5","v":0},{"$f":"IFERROR(#REF!,0)*U5","v":0},{"$f":"IFERROR(#REF!,0)*U5","v":0},{"$f":"IFERROR(#REF!,0)*Y5","v":0},{"$f":"IFERROR(#REF!,0)*Y5","v":0},{"$f":"IFERROR(#REF!,0)*Y5","v":0},{"$f":"IFERROR(#REF!,0)*Y5","v":0},{"$f":"IFERROR(#REF!,0)*AC5","v":0},{"$f":"IFERROR(#REF!,0)*AC5","v":0},{"$f":"IFERROR(#REF!,0)*AC5","v":0},{"$f":"IFERROR(#REF!,0)*AC5","v":0},{"$f":"IFERROR(#REF!,0)*AG5","v":0},{"$f":"IFERROR(#REF!,0)*AG5","v":0},{"$f":"IFERROR(#REF!,0)*AG5","v":0},{"$f":"IFERROR(#REF!,0)*AG5","v":0},{"$f":"IFERROR(#REF!,0)*AK5","v":0},{"$f":"IFERROR(#REF!,0)*AK5","v":0},{"$f":"IFERROR(#REF!,0)*AK5","v":0},{"$f":"IFERROR(#REF!,0)*AK5","v":0},{"$f":"IFERROR(#REF!,0)*AO5","v":0},{"$f":"IFERROR(#REF!,0)*AO5","v":0},{"$f":"IFERROR(#REF!,0)*AO5","v":0},{"$f":"IFERROR(#REF!,0)*AO5","v":0},{"$f":"IFERROR(#REF!,0)*AS5","v":0},{"$f":"IFERROR(#REF!,0)*AS5","v":0},{"$f":"IFERROR(#REF!,0)*AS5","v":0},{"$f":"IFERROR(#REF!,0)*AS5","v":0},{"$f":"IFERROR(#REF!,0)*AW5","v":0},{"$f":"IFERROR(#REF!,0)*AW5","v":0},{"$f":"IFERROR(#REF!,0)*AW5","v":0},{"$f":"IFERROR(#REF!,0)*AW5","v":0},{"$f":"IFERROR(#REF!,0)*BA5","v":0},{"$f":"IFERROR(#REF!,0)*BA5","v":0},{"$f":"IFERROR(#REF!,0)*BA5","v":0},{"$f":"IFERROR(#REF!,0)*BA5","v":0},{"$f":"IFERROR(#REF!,0)*BE5","v":0},{"$f":"IFERROR(#REF!,0)*BE5","v":0},{"$f":"IFERROR(#REF!,0)*BE5","v":0},{"$f":"IFERROR(#REF!,0)*BE5","v":0},{"$f":"IFERROR(#REF!,0)*BI5","v":0},{"$f":"IFERROR(#REF!,0)*BI5","v":0},{"$f":"IFERROR(#REF!,0)*BI5","v":0},{"$f":"IFERROR(#REF!,0)*BI5","v":0},{"$f":"IFERROR(#REF!,0)*BM5","v":0},{"$f":"IFERROR(#REF!,0)*BM5","v":0},{"$f":"IFERROR(#REF!,0)*BM5","v":0},{"$f":"IFERROR(#REF!,0)*BM5","v":0},{"$f":"IFERROR(#REF!,0)*BQ5","v":0},{"$f":"IFERROR(#REF!,0)*BQ5","v":0},{"$f":"IFERROR(#REF!,0)*BQ5","v":0},{"$f":"IFERROR(#REF!,0)*BQ5","v":0},{"$f":"IFERROR(#REF!,0)*BU5","v":0},{"$f":"IFERROR(#REF!,0)*BU5","v":0},{"$f":"IFERROR(#REF!,0)*BU5","v":0},{"$f":"IFERROR(#REF!,0)*BU5","v":0},{"$f":"IFERROR(#REF!,0)*BY5","v":0},{"$f":"IFERROR(#REF!,0)*BY5","v":0},{"$f":"IFERROR(#REF!,0)*BY5","v":0},{"$f":"IFERROR(#REF!,0)*BY5","v":0},{"$f":"IFERROR(#REF!,0)*CC5","v":0},{"$f":"IFERROR(#REF!,0)*CC5","v":0},{"$f":"IFERROR(#REF!,0)*CC5","v":0},{"$f":"IFERROR(#REF!,0)*CC5","v":0},{"$f":"IFERROR(#REF!,0)*CG5","v":0},{"$f":"IFERROR(#REF!,0)*CG5","v":0},{"$f":"IFERROR(#REF!,0)*CG5","v":0},{"$f":"IFERROR(#REF!,0)*CG5","v":0},{"$f":"IFERROR(#REF!,0)*CK5","v":0},{"$f":"IFERROR(#REF!,0)*CK5","v":0},{"$f":"IFERROR(#REF!,0)*CK5","v":0},{"$f":"IFERROR(#REF!,0)*CK5","v":0},{"$f":"IFERROR(#REF!,0)*CO5","v":0},{"$f":"IFERROR(#REF!,0)*CO5","v":0},{"$f":"IFERROR(#REF!,0)*CO5","v":0},{"$f":"IFERROR(#REF!,0)*CO5","v":0},{"$f":"IFERROR(#REF!,0)*CS5","v":0},{"$f":"IFERROR(#REF!,0)*CS5","v":0},{"$f":"IFERROR(#REF!,0)*CS5","v":0},{"$f":"IFERROR(#REF!,0)*CS5","v":0},{"$f":"IFERROR(#REF!,0)*CW5","v":0},{"$f":"IFERROR(#REF!,0)*CW5","v":0},{"$f":"IFERROR(#REF!,0)*CW5","v":0},{"$f":"IFERROR(#REF!,0)*CW5","v":0},{"$f":"IFERROR(#REF!,0)*DA5","v":0},{"$f":"IFERROR(#REF!,0)*DA5","v":0},{"$f":"IFERROR(#REF!,0)*DA5","v":0},{"$f":"IFERROR(#REF!,0)*DA5","v":0},{"$f":"IFERROR(#REF!,0)*DE5","v":0},{"$f":"IFERROR(#REF!,0)*DE5","v":0},{"$f":"IFERROR(#REF!,0)*DE5","v":0},{"$f":"IFERROR(#REF!,0)*DE5","v":0},{"$f":"IFERROR(#REF!,0)*DI5","v":0},{"$f":"IFERROR(#REF!,0)*DI5","v":0},{"$f":"IFERROR(#REF!,0)*DI5","v":0},{"$f":"IFERROR(#REF!,0)*DI5","v":0},{"$f":"IFERROR(#REF!,0)*DM5","v":0},{"$f":"IFERROR(#REF!,0)*DM5","v":0},{"$f":"IFERROR(#REF!,0)*DM5","v":0},{"$f":"IFERROR(#REF!,0)*DM5","v":0},{"$f":"IFERROR(#REF!,0)*DQ5","v":0},{"$f":"IFERROR(#REF!,0)*DQ5","v":0},{"$f":"IFERROR(#REF!,0)*DQ5","v":0},{"$f":"IFERROR(#REF!,0)*DQ5","v":0},{"$f":"IFERROR(#REF!,0)*DU5","v":0},{"$f":"IFERROR(#REF!,0)*DU5","v":0},{"$f":"IFERROR(#REF!,0)*DU5","v":0},{"$f":"IFERROR(#REF!,0)*DU5","v":0},{"$f":"IFERROR(#REF!,0)*DY5","v":0},{"$f":"IFERROR(#REF!,0)*DY5","v":0},{"$f":"IFERROR(#REF!,0)*DY5","v":0},{"$f":"IFERROR(#REF!,0)*DY5","v":0},{"$f":"IFERROR(#REF!,0)*EC5","v":0},{"$f":"IFERROR(#REF!,0)*EC5","v":0},{"$f":"IFERROR(#REF!,0)*EC5","v":0},{"$f":"IFERROR(#REF!,0)*EC5","v":0},{"$f":"IFERROR(#REF!,0)*EG5","v":0},{"$f":"IFERROR(#REF!,0)*EG5","v":0},{"$f":"IFERROR(#REF!,0)*EG5","v":0},{"$f":"IFERROR(#REF!,0)*EG5","v":0},{"$f":"IFERROR(#REF!,0)*EK5","v":0},{"$f":"IFERROR(#REF!,0)*EK5","v":0},{"$f":"IFERROR(#REF!,0)*EK5","v":0},{"$f":"IFERROR(#REF!,0)*EK5","v":0},{"$f":"IFERROR(#REF!,0)*EO5","v":0},{"$f":"IFERROR(#REF!,0)*EO5","v":0},{"$f":"IFERROR(#REF!,0)*EO5","v":0},{"$f":"IFERROR(#REF!,0)*EO5","v":0},{"$f":"IFERROR(#REF!,0)*ES5","v":0},{"$f":"IFERROR(#REF!,0)*ES5","v":0},{"$f":"IFERROR(#REF!,0)*ES5","v":0},{"$f":"IFERROR(#REF!,0)*ES5","v":0},{"$f":"IFERROR(#REF!,0)*EW5","v":0},{"$f":"IFERROR(#REF!,0)*EW5","v":0},{"$f":"IFERROR(#REF!,0)*EW5","v":0},{"$f":"IFERROR(#REF!,0)*EW5","v":0},{"$f":"IFERROR(#REF!,0)*FA5","v":0},{"$f":"IFERROR(#REF!,0)*FA5","v":0},{"$f":"IFERROR(#REF!,0)*FA5","v":0},{"$f":"IFERROR(#REF!,0)*FA5","v":0},{"$f":"IFERROR(#REF!,0)*FE5","v":0},{"$f":"IFERROR(#REF!,0)*FE5","v":0},{"$f":"IFERROR(#REF!,0)*FE5","v":0},{"$f":"IFERROR(#REF!,0)*FE5","v":0},{"$f":"IFERROR(#REF!,0)*FI5","v":0},{"$f":"IFERROR(#REF!,0)*FI5","v":0},{"$f":"IFERROR(#REF!,0)*FI5","v":0},{"$f":"IFERROR(#REF!,0)*FI5","v":0},{"$f":"IFERROR(#REF!,0)*FM5","v":0},{"$f":"IFERROR(#REF!,0)*FM5","v":0},{"$f":"IFERROR(#REF!,0)*FM5","v":0},{"$f":"IFERROR(#REF!,0)*FM5","v":0},{"$f":"IFERROR(#REF!,0)*FQ5","v":0},{"$f":"IFERROR(#REF!,0)*FQ5","v":0},{"$f":"IFERROR(#REF!,0)*FQ5","v":0},{"$f":"IFERROR(#REF!,0)*FQ5","v":0},{"$f":"IFERROR(#REF!,0)*FU5","v":0},{"$f":"IFERROR(#REF!,0)*FU5","v":0},{"$f":"IFERROR(#REF!,0)*FU5","v":0},{"$f":"IFERROR(#REF!,0)*FU5","v":0},{"$f":"IFERROR(#REF!,0)*FY5","v":0},{"$f":"IFERROR(#REF!,0)*FY5","v":0},{"$f":"IFERROR(#REF!,0)*FY5","v":0},{"$f":"IFERROR(#REF!,0)*FY5","v":0},{"$f":"IFERROR(#REF!,0)*GC5","v":0},{"$f":"IFERROR(#REF!,0)*GC5","v":0},{"$f":"IFERROR(#REF!,0)*GC5","v":0},{"$f":"IFERROR(#REF!,0)*GC5","v":0},{"$f":"IFERROR(#REF!,0)*GG5","v":0},{"$f":"IFERROR(#REF!,0)*GG5","v":0},{"$f":"IFERROR(#REF!,0)*GG5","v":0},{"$f":"IFERROR(#REF!,0)*GG5","v":0},{"$f":"IFERROR(#REF!,0)*GK5","v":0},{"$f":"IFERROR(#REF!,0)*GK5","v":0},{"$f":"IFERROR(#REF!,0)*GK5","v":0},{"$f":"IFERROR(#REF!,0)*GK5","v":0},{"$f":"IFERROR(#REF!,0)*GO5","v":0},{"$f":"IFERROR(#REF!,0)*GO5","v":0},{"$f":"IFERROR(#REF!,0)*GO5","v":0},{"$f":"IFERROR(#REF!,0)*GO5","v":0},{"$f":"IFERROR(#REF!,0)*GS5","v":0},{"$f":"IFERROR(#REF!,0)*GS5","v":0},{"$f":"IFERROR(#REF!,0)*GS5","v":0},{"$f":"IFERROR(#REF!,0)*GS5","v":0},{"v":0,"d":"0.00"},{"v":0,"d":"0.00"},{"v":0,"d":"0.00"},{"v":0,"d":"0.00"}]
[null,{"$f":"#REF!","v":{"$error":"#REF!"}},{"$f":"#REF!","v":{"$error":"#REF!"}},{"$f":"IFERROR(#REF!,0)*E5","v":0},{"$f":"IFERROR(#REF!,0)*E5","v":0},{"$f":"IFERROR(#REF!,0)*E5","v":0},{"$f":"IFERROR(#REF!,0)*E5","v":0},{"$f":"IFERROR(#REF!,0)*I5","v":0},{"$f":"IFERROR(#REF!,0)*I5","v":0},{"$f":"IFERROR(#REF!,0)*I5","v":0},{"$f":"IFERROR(#REF!,0)*I5","v":0},{"$f":"IFERROR(#REF!,0)*M5","v":0},{"$f":"IFERROR(#REF!,0)*M5","v":0},{"$f":"IFERROR(#REF!,0)*M5","v":0},{"$f":"IFERROR(#REF!,0)*M5","v":0},{"$f":"IFERROR(#REF!,0)*Q5","v":0},{"$f":"IFERROR(#REF!,0)*Q5","v":0},{"$f":"IFERROR(#REF!,0)*Q5","v":0},{"$f":"IFERROR(#REF!,0)*Q5","v":0},{"$f":"IFERROR(#REF!,0)*U5","v":0},{"$f":"IFERROR(#REF!,0)*U5","v":0},{"$f":"IFERROR(#REF!,0)*U5","v":0},{"$f":"IFERROR(#REF!,0)*U5","v":0},{"$f":"IFERROR(#REF!,0)*Y5","v":0},{"$f":"IFERROR(#REF!,0)*Y5","v":0},{"$f":"IFERROR(#REF!,0)*Y5","v":0},{"$f":"IFERROR(#REF!,0)*Y5","v":0},{"$f":"IFERROR(#REF!,0)*AC5","v":0},{"$f":"IFERROR(#REF!,0)*AC5","v":0},{"$f":"IFERROR(#REF!,0)*AC5","v":0},{"$f":"IFERROR(#REF!,0)*AC5","v":0},{"$f":"IFERROR(#REF!,0)*AG5","v":0},{"$f":"IFERROR(#REF!,0)*AG5","v":0},{"$f":"IFERROR(#REF!,0)*AG5","v":0},{"$f":"IFERROR(#REF!,0)*AG5","v":0},{"$f":"IFERROR(#REF!,0)*AK5","v":0},{"$f":"IFERROR(#REF!,0)*AK5","v":0},{"$f":"IFERROR(#REF!,0)*AK5","v":0},{"$f":"IFERROR(#REF!,0)*AK5","v":0},{"$f":"IFERROR(#REF!,0)*AO5","v":0},{"$f":"IFERROR(#REF!,0)*AO5","v":0},{"$f":"IFERROR(#REF!,0)*AO5","v":0},{"$f":"IFERROR(#REF!,0)*AO5","v":0},{"$f":"IFERROR(#REF!,0)*AS5","v":0},{"$f":"IFERROR(#REF!,0)*AS5","v":0},{"$f":"IFERROR(#REF!,0)*AS5","v":0},{"$f":"IFERROR(#REF!,0)*AS5","v":0},{"$f":"IFERROR(#REF!,0)*AW5","v":0},{"$f":"IFERROR(#REF!,0)*AW5","v":0},{"$f":"IFERROR(#REF!,0)*AW5","v":0},{"$f":"IFERROR(#REF!,0)*AW5","v":0},{"$f":"IFERROR(#REF!,0)*BA5","v":0},{"$f":"IFERROR(#REF!,0)*BA5","v":0},{"$f":"IFERROR(#REF!,0)*BA5","v":0},{"$f":"IFERROR(#REF!,0)*BA5","v":0},{"$f":"IFERROR(#REF!,0)*BE5","v":0},{"$f":"IFERROR(#REF!,0)*BE5","v":0},{"$f":"IFERROR(#REF!,0)*BE5","v":0},{"$f":"IFERROR(#REF!,0)*BE5","v":0},{"$f":"IFERROR(#REF!,0)*BI5","v":0},{"$f":"IFERROR(#REF!,0)*BI5","v":0},{"$f":"IFERROR(#REF!,0)*BI5","v":0},{"$f":"IFERROR(#REF!,0)*BI5","v":0},{"$f":"IFERROR(#REF!,0)*BM5","v":0},{"$f":"IFERROR(#REF!,0)*BM5","v":0},{"$f":"IFERROR(#REF!,0)*BM5","v":0},{"$f":"IFERROR(#REF!,0)*BM5","v":0},{"$f":"IFERROR(#REF!,0)*BQ5","v":0},{"$f":"IFERROR(#REF!,0)*BQ5","v":0},{"$f":"IFERROR(#REF!,0)*BQ5","v":0},{"$f":"IFERROR(#REF!,0)*BQ5","v":0},{"$f":"IFERROR(#REF!,0)*BU5","v":0},{"$f":"IFERROR(#REF!,0)*BU5","v":0},{"$f":"IFERROR(#REF!,0)*BU5","v":0},{"$f":"IFERROR(#REF!,0)*BU5","v":0},{"$f":"IFERROR(#REF!,0)*BY5","v":0},{"$f":"IFERROR(#REF!,0)*BY5","v":0},{"$f":"IFERROR(#REF!,0)*BY5","v":0},{"$f":"IFERROR(#REF!,0)*BY5","v":0},{"$f":"IFERROR(#REF!,0)*CC5","v":0},{"$f":"IFERROR(#REF!,0)*CC5","v":0},{"$f":"IFERROR(#REF!,0)*CC5","v":0},{"$f":"IFERROR(#REF!,0)*CC5","v":0},{"$f":"IFERROR(#REF!,0)*CG5","v":0},{"$f":"IFERROR(#REF!,0)*CG5","v":0},{"$f":"IFERROR(#REF!,0)*CG5","v":0},{"$f":"IFERROR(#REF!,0)*CG5","v":0},{"$f":"IFERROR(#REF!,0)*CK5","v":0},{"$f":"IFERROR(#REF!,0)*CK5","v":0},{"$f":"IFERROR(#REF!,0)*CK5","v":0},{"$f":"IFERROR(#REF!,0)*CK5","v":0},{"$f":"IFERROR(#REF!,0)*CO5","v":0},{"$f":"IFERROR(#REF!,0)*CO5","v":0},{"$f":"IFERROR(#REF!,0)*CO5","v":0},{"$f":"IFERROR(#REF!,0)*CO5","v":0},{"$f":"IFERROR(#REF!,0)*CS5","v":0},{"$f":"IFERROR(#REF!,0)*CS5","v":0},{"$f":"IFERROR(#REF!,0)*CS5","v":0},{"$f":"IFERROR(#REF!,0)*CS5","v":0},{"$f":"IFERROR(#REF!,0)*CW5","v":0},{"$f":"IFERROR(#REF!,0)*CW5","v":0},{"$f":"IFERROR(#REF!,0)*CW5","v":0},{"$f":"IFERROR(#REF!,0)*CW5","v":0},{"$f":"IFERROR(#REF!,0)*DA5","v":0},{"$f":"IFERROR(#REF!,0)*DA5","v":0},{"$f":"IFERROR(#REF!,0)*DA5","v":0},{"$f":"IFERROR(#REF!,0)*DA5","v":0},{"$f":"IFERROR(#REF!,0)*DE5","v":0},{"$f":"IFERROR(#REF!,0)*DE5","v":0},{"$f":"IFERROR(#REF!,0)*DE5","v":0},{"$f":"IFERROR(#REF!,0)*DE5","v":0},{"$f":"IFERROR(#REF!,0)*DI5","v":0},{"$f":"IFERROR(#REF!,0)*DI5","v":0},{"$f":"IFERROR(#REF!,0)*DI5","v":0},{"$f":"IFERROR(#REF!,0)*DI5","v":0},{"$f":"IFERROR(#REF!,0)*DM5","v":0},{"$f":"IFERROR(#REF!,0)*DM5","v":0},{"$f":"IFERROR(#REF!,0)*DM5","v":0},{"$f":"IFERROR(#REF!,0)*DM5","v":0},{"$f":"IFERROR(#REF!,0)*DQ5","v":0},{"$f":"IFERROR(#REF!,0)*DQ5","v":0},{"$f":"IFERROR(#REF!,0)*DQ5","v":0},{"$f":"IFERROR(#REF!,0)*DQ5","v":0},{"$f":"IFERROR(#REF!,0)*DU5","v":0},{"$f":"IFERROR(#REF!,0)*DU5","v":0},{"$f":"IFERROR(#REF!,0)*DU5","v":0},{"$f":"IFERROR(#REF!,0)*DU5","v":0},{"$f":"IFERROR(#REF!,0)*DY5","v":0},{"$f":"IFERROR(#REF!,0)*DY5","v":0},{"$f":"IFERROR(#REF!,0)*DY5","v":0},{"$f":"IFERROR(#REF!,0)*DY5","v":0},{"$f":"IFERROR(#REF!,0)*EC5","v":0},{"$f":"IFERROR(#REF!,0)*EC5","v":0},{"$f":"IFERROR(#REF!,0)*EC5","v":0},{"$f":"IFERROR(#REF!,0)*EC5","v":0},{"$f":"IFERROR(#REF!,0)*EG5","v":0},{"$f":"IFERROR(#REF!,0)*EG5","v":0},{"$f":"IFERROR(#REF!,0)*EG5","v":0},{"$f":"IFERROR(#REF!,0)*EG5","v":0},{"$f":"IFERROR(#REF!,0)*EK5","v":0},{"$f":"IFERROR(#REF!,0)*EK5","v":0},{"$f":"IFERROR(#REF!,0)*EK5","v":0},{"$f":"IFERROR(#REF!,0)*EK5","v":0},{"$f":"IFERROR(#REF!,0)*EO5","v":0},{"$f":"IFERROR(#REF!,0)*EO5","v":0},{"$f":"IFERROR(#REF!,0)*EO5","v":0},{"$f":"IFERROR(#REF!,0)*EO5","v":0},{"$f":"IFERROR(#REF!,0)*ES5","v":0},{"$f":"IFERROR(#REF!,0)*ES5","v":0},{"$f":"IFERROR(#REF!,0)*ES5","v":0},{"$f":"IFERROR(#REF!,0)*ES5","v":0},{"$f":"IFERROR(#REF!,0)*EW5","v":0},{"$f":"IFERROR(#REF!,0)*EW5","v":0},{"$f":"IFERROR(#REF!,0)*EW5","v":0},{"$f":"IFERROR(#REF!,0)*EW5","v":0},{"$f":"IFERROR(#REF!,0)*FA5","v":0},{"$f":"IFERROR(#REF!,0)*FA5","v":0},{"$f":"IFERROR(#REF!,0)*FA5","v":0},{"$f":"IFERROR(#REF!,0)*FA5","v":0},{"$f":"IFERROR(#REF!,0)*FE5","v":0},{"$f":"IFERROR(#REF!,0)*FE5","v":0},{"$f":"IFERROR(#REF!,0)*FE5","v":0},{"$f":"IFERROR(#REF!,0)*FE5","v":0},{"$f":"IFERROR(#REF!,0)*FI5","v":0},{"$f":"IFERROR(#REF!,0)*FI5","v":0},{"$f":"IFERROR(#REF!,0)*FI5","v":0},{"$f":"IFERROR(#REF!,0)*FI5","v":0},{"$f":"IFERROR(#REF!,0)*FM5","v":0},{"$f":"IFERROR(#REF!,0)*FM5","v":0},{"$f":"IFERROR(#REF!,0)*FM5","v":0},{"$f":"IFERROR(#REF!,0)*FM5","v":0},{"$f":"IFERROR(#REF!,0)*FQ5","v":0},{"$f":"IFERROR(#REF!,0)*FQ5","v":0},{"$f":"IFERROR(#REF!,0)*FQ5","v":0},{"$f":"IFERROR(#REF!,0)*FQ5","v":0},{"$f":"IFERROR(#REF!,0)*FU5","v":0},{"$f":"IFERROR(#REF!,0)*FU5","v":0},{"$f":"IFERROR(#REF!,0)*FU5","v":0},{"$f":"IFERROR(#REF!,0)*FU5","v":0},{"$f":"IFERROR(#REF!,0)*FY5","v":0},{"$f":"IFERROR(#REF!,0)*FY5","v":0},{"$f":"IFERROR(#REF!,0)*FY5","v":0},{"$f":"IFERROR(#REF!,0)*FY5","v":0},{"$f":"IFERROR(#REF!,0)*GC5","v":0},{"$f":"IFERROR(#REF!,0)*GC5","v":0},{"$f":"IFERROR(#REF!,0)*GC5","v":0},{"$f":"IFERROR(#REF!,0)*GC5","v":0},{"$f":"IFERROR(#REF!,0)*GG5","v":0},{"$f":"IFERROR(#REF!,0)*GG5","v":0},{"$f":"IFERROR(#REF!,0)*GG5","v":0},{"$f":"IFERROR(#REF!,0)*GG5","v":0},{"$f":"IFERROR(#REF!,0)*GK5","v":0},{"$f":"IFERROR(#REF!,0)*GK5","v":0},{"$f":"IFERROR(#REF!,0)*GK5","v":0},{"$f":"IFERROR(#REF!,0)*GK5","v":0},{"$f":"IFERROR(#REF!,0)*GO5","v":0},{"$f":"IFERROR(#REF!,0)*GO5","v":0},{"$f":"IFERROR(#REF!,0)*GO5","v":0},{"$f":"IFERROR(#REF!,0)*GO5","v":0},{"$f":"IFERROR(#REF!,0)*GS5","v":0},{"$f":"IFERROR(#REF!,0)*GS5","v":0},{"$f":"IFERROR(#REF!,0)*GS5","v":0},{"$f":"IFERROR(#REF!,0)*GS5","v":0},{"v":0,"d":"0.00"},{"v":0,"d":"0.00"},{"v":0,"d":"0.00"},{"v":0,"d":"0.00"}]
[null,{"$f":"#REF!","v":{"$error":"#REF!"}},{"$f":"#REF!","v":{"$error":"#REF!"}},{"$f":"IFERROR(#REF!,0)*E5","v":0},{"$f":"IFERROR(#REF!,0)*E5","v":0},{"$f":"IFERROR(#REF!,0)*E5","v":0},{"$f":"IFERROR(#REF!,0)*E5","v":0},{"$f":"IFERROR(#REF!,0)*I5","v":0},{"$f":"IFERROR(#REF!,0)*I5","v":0},{"$f":"IFERROR(#REF!,0)*I5","v":0},{"$f":"IFERROR(#REF!,0)*I5","v":0},{"$f":"IFERROR(#REF!,0)*M5","v":0},{"$f":"IFERROR(#REF!,0)*M5","v":0},{"$f":"IFERROR(#REF!,0)*M5","v":0},{"$f":"IFERROR(#REF!,0)*M5","v":0},{"$f":"IFERROR(#REF!,0)*Q5","v":0},{"$f":"IFERROR(#REF!,0)*Q5","v":0},{"$f":"IFERROR(#REF!,0)*Q5","v":0},{"$f":"IFERROR(#REF!,0)*Q5","v":0},{"$f":"IFERROR(#REF!,0)*U5","v":0},{"$f":"IFERROR(#REF!,0)*U5","v":0},{"$f":"IFERROR(#REF!,0)*U5","v":0},{"$f":"IFERROR(#REF!,0)*U5","v":0},{"$f":"IFERROR(#REF!,0)*Y5","v":0},{"$f":"IFERROR(#REF!,0)*Y5","v":0},{"$f":"IFERROR(#REF!,0)*Y5","v":0},{"$f":"IFERROR(#REF!,0)*Y5","v":0},{"$f":"IFERROR(#REF!,0)*AC5","v":0},{"$f":"IFERROR(#REF!,0)*AC5","v":0},{"$f":"IFERROR(#REF!,0)*AC5","v":0},{"$f":"IFERROR(#REF!,0)*AC5","v":0},{"$f":"IFERROR(#REF!,0)*AG5","v":0},{"$f":"IFERROR(#REF!,0)*AG5","v":0},{"$f":"IFERROR(#REF!,0)*AG5","v":0},{"$f":"IFERROR(#REF!,0)*AG5","v":0},{"$f":"IFERROR(#REF!,0)*AK5","v":0},{"$f":"IFERROR(#REF!,0)*AK5","v":0},{"$f":"IFERROR(#REF!,0)*AK5","v":0},{"$f":"IFERROR(#REF!,0)*AK5","v":0},{"$f":"IFERROR(#REF!,0)*AO5","v":0},{"$f":"IFERROR(#REF!,0)*AO5","v":0},{"$f":"IFERROR(#REF!,0)*AO5","v":0},{"$f":"IFERROR(#REF!,0)*AO5","v":0},{"$f":"IFERROR(#REF!,0)*AS5","v":0},{"$f":"IFERROR(#REF!,0)*AS5","v":0},{"$f":"IFERROR(#REF!,0)*AS5","v":0},{"$f":"IFERROR(#REF!,0)*AS5","v":0},{"$f":"IFERROR(#REF!,0)*AW5","v":0},{"$f":"IFERROR(#REF!,0)*AW5","v":0},{"$f":"IFERROR(#REF!,0)*AW5","v":0},{"$f":"IFERROR(#REF!,0)*AW5","v":0},{"$f":"IFERROR(#REF!,0)*BA5","v":0},{"$f":"IFERROR(#REF!,0)*BA5","v":0},{"$f":"IFERROR(#REF!,0)*BA5","v":0},{"$f":"IFERROR(#REF!,0)*BA5","v":0},{"$f":"IFERROR(#REF!,0)*BE5","v":0},{"$f":"IFERROR(#REF!,0)*BE5","v":0},{"$f":"IFERROR(#REF!,0)*BE5","v":0},{"$f":"IFERROR(#REF!,0)*BE5","v":0},{"$f":"IFERROR(#REF!,0)*BI5","v":0},{"$f":"IFERROR(#REF!,0)*BI5","v":0},{"$f":"IFERROR(#REF!,0)*BI5","v":0},{"$f":"IFERROR(#REF!,0)*BI5","v":0},{"$f":"IFERROR(#REF!,0)*BM5","v":0},{"$f":"IFERROR(#REF!,0)*BM5","v":0},{"$f":"IFERROR(#REF!,0)*BM5","v":0},{"$f":"IFERROR(#REF!,0)*BM5","v":0},{"$f":"IFERROR(#REF!,0)*BQ5","v":0},{"$f":"IFERROR(#REF!,0)*BQ5","v":0},{"$f":"IFERROR(#REF!,0)*BQ5","v":0},{"$f":"IFERROR(#REF!,0)*BQ5","v":0},{"$f":"IFERROR(#REF!,0)*BU5","v":0},{"$f":"IFERROR(#REF!,0)*BU5","v":0},{"$f":"IFERROR(#REF!,0)*BU5","v":0},{"$f":"IFERROR(#REF!,0)*BU5","v":0},{"$f":"IFERROR(#REF!,0)*BY5","v":0},{"$f":"IFERROR(#REF!,0)*BY5","v":0},{"$f":"IFERROR(#REF!,0)*BY5","v":0},{"$f":"IFERROR(#REF!,0)*BY5","v":0},{"$f":"IFERROR(#REF!,0)*CC5","v":0},{"$f":"IFERROR(#REF!,0)*CC5","v":0},{"$f":"IFERROR(#REF!,0)*CC5","v":0},{"$f":"IFERROR(#REF!,0)*CC5","v":0},{"$f":"IFERROR(#REF!,0)*CG5","v":0},{"$f":"IFERROR(#REF!,0)*CG5","v":0},{"$f":"IFERROR(#REF!,0)*CG5","v":0},{"$f":"IFERROR(#REF!,0)*CG5","v":0},{"$f":"IFERROR(#REF!,0)*CK5","v":0},{"$f":"IFERROR(#REF!,0)*CK5","v":0},{"$f":"IFERROR(#REF!,0)*CK5","v":0},{"$f":"IFERROR(#REF!,0)*CK5","v":0},{"$f":"IFERROR(#REF!,0)*CO5","v":0},{"$f":"IFERROR(#REF!,0)*CO5","v":0},{"$f":"IFERROR(#REF!,0)*CO5","v":0},{"$f":"IFERROR(#REF!,0)*CO5","v":0},{"$f":"IFERROR(#REF!,0)*CS5","v":0},{"$f":"IFERROR(#REF!,0)*CS5","v":0},{"$f":"IFERROR(#REF!,0)*CS5","v":0},{"$f":"IFERROR(#REF!,0)*CS5","v":0},{"$f":"IFERROR(#REF!,0)*CW5","v":0},{"$f":"IFERROR(#REF!,0)*CW5","v":0},{"$f":"IFERROR(#REF!,0)*CW5","v":0},{"$f":"IFERROR(#REF!,0)*CW5","v":0},{"$f":"IFERROR(#REF!,0)*DA5","v":0},{"$f":"IFERROR(#REF!,0)*DA5","v":0},{"$f":"IFERROR(#REF!,0)*DA5","v":0},{"$f":"IFERROR(#REF!,0)*DA5","v":0},{"$f":"IFERROR(#REF!,0)*DE5","v":0},{"$f":"IFERROR(#REF!,0)*DE5","v":0},{"$f":"IFERROR(#REF!,0)*DE5","v":0},{"$f":"IFERROR(#REF!,0)*DE5","v":0},{"$f":"IFERROR(#REF!,0)*DI5","v":0},{"$f":"IFERROR(#REF!,0)*DI5","v":0},{"$f":"IFERROR(#REF!,0)*DI5","v":0},{"$f":"IFERROR(#REF!,0)*DI5","v":0},{"$f":"IFERROR(#REF!,0)*DM5","v":0},{"$f":"IFERROR(#REF!,0)*DM5","v":0},{"$f":"IFERROR(#REF!,0)*DM5","v":0},{"$f":"IFERROR(#REF!,0)*DM5","v":0},{"$f":"IFERROR(#REF!,0)*DQ5","v":0},{"$f":"IFERROR(#REF!,0)*DQ5","v":0},{"$f":"IFERROR(#REF!,0)*DQ5","v":0},{"$f":"IFERROR(#REF!,0)*DQ5","v":0},{"$f":"IFERROR(#REF!,0)*DU5","v":0},{"$f":"IFERROR(#REF!,0)*DU5","v":0},{"$f":"IFERROR(#REF!,0)*DU5","v":0},{"$f":"IFERROR(#REF!,0)*DU5","v":0},{"$f":"IFERROR(#REF!,0)*DY5","v":0},{"$f":"IFERROR(#REF!,0)*DY5","v":0},{"$f":"IFERROR(#REF!,0)*DY5","v":0},{"$f":"IFERROR(#REF!,0)*DY5","v":0},{"$f":"IFERROR(#REF!,0)*EC5","v":0},{"$f":"IFERROR(#REF!,0)*EC5","v":0},{"$f":"IFERROR(#REF!,0)*EC5","v":0},{"$f":"IFERROR(#REF!,0)*EC5","v":0},{"$f":"IFERROR(#REF!,0)*EG5","v":0},{"$f":"IFERROR(#REF!,0)*EG5","v":0},{"$f":"IFERROR(#REF!,0)*EG5","v":0},{"$f":"IFERROR(#REF!,0)*EG5","v":0},{"$f":"IFERROR(#REF!,0)*EK5","v":0},{"$f":"IFERROR(#REF!,0)*EK5","v":0},{"$f":"IFERROR(#REF!,0)*EK5","v":0},{"$f":"IFERROR(#REF!,0)*EK5","v":0},{"$f":"IFERROR(#REF!,0)*EO5","v":0},{"$f":"IFERROR(#REF!,0)*EO5","v":0},{"$f":"IFERROR(#REF!,0)*EO5","v":0},{"$f":"IFERROR(#REF!,0)*EO5","v":0},{"$f":"IFERROR(#REF!,0)*ES5","v":0},{"$f":"IFERROR(#REF!,0)*ES5","v":0},{"$f":"IFERROR(#REF!,0)*ES5","v":0},{"$f":"IFERROR(#REF!,0)*ES5","v":0},{"$f":"IFERROR(#REF!,0)*EW5","v":0},{"$f":"IFERROR(#REF!,0)*EW5","v":0},{"$f":"IFERROR(#REF!,0)*EW5","v":0},{"$f":"IFERROR(#REF!,0)*EW5","v":0},{"$f":"IFERROR(#REF!,0)*FA5","v":0},{"$f":"IFERROR(#REF!,0)*FA5","v":0},{"$f":"IFERROR(#REF!,0)*FA5","v":0},{"$f":"IFERROR(#REF!,0)*FA5","v":0},{"$f":"IFERROR(#REF!,0)*FE5","v":0},{"$f":"IFERROR(#REF!,0)*FE5","v":0},{"$f":"IFERROR(#REF!,0)*FE5","v":0},{"$f":"IFERROR(#REF!,0)*FE5","v":0},{"$f":"IFERROR(#REF!,0)*FI5","v":0},{"$f":"IFERROR(#REF!,0)*FI5","v":0},{"$f":"IFERROR(#REF!,0)*FI5","v":0},{"$f":"IFERROR(#REF!,0)*FI5","v":0},{"$f":"IFERROR(#REF!,0)*FM5","v":0},{"$f":"IFERROR(#REF!,0)*FM5","v":0},{"$f":"IFERROR(#REF!,0)*FM5","v":0},{"$f":"IFERROR(#REF!,0)*FM5","v":0},{"$f":"IFERROR(#REF!,0)*FQ5","v":0},{"$f":"IFERROR(#REF!,0)*FQ5","v":0},{"$f":"IFERROR(#REF!,0)*FQ5","v":0},{"$f":"IFERROR(#REF!,0)*FQ5","v":0},{"$f":"IFERROR(#REF!,0)*FU5","v":0},{"$f":"IFERROR(#REF!,0)*FU5","v":0},{"$f":"IFERROR(#REF!,0)*FU5","v":0},{"$f":"IFERROR(#REF!,0)*FU5","v":0},{"$f":"IFERROR(#REF!,0)*FY5","v":0},{"$f":"IFERROR(#REF!,0)*FY5","v":0},{"$f":"IFERROR(#REF!,0)*FY5","v":0},{"$f":"IFERROR(#REF!,0)*FY5","v":0},{"$f":"IFERROR(#REF!,0)*GC5","v":0},{"$f":"IFERROR(#REF!,0)*GC5","v":0},{"$f":"IFERROR(#REF!,0)*GC5","v":0},{"$f":"IFERROR(#REF!,0)*GC5","v":0},{"$f":"IFERROR(#REF!,0)*GG5","v":0},{"$f":"IFERROR(#REF!,0)*GG5","v":0},{"$f":"IFERROR(#REF!,0)*GG5","v":0},{"$f":"IFERROR(#REF!,0)*GG5","v":0},{"$f":"IFERROR(#REF!,0)*GK5","v":0},{"$f":"IFERROR(#REF!,0)*GK5","v":0},{"$f":"IFERROR(#REF!,0)*GK5","v":0},{"$f":"IFERROR(#REF!,0)*GK5","v":0},{"$f":"IFERROR(#REF!,0)*GO5","v":0},{"$f":"IFERROR(#REF!,0)*GO5","v":0},{"$f":"IFERROR(#REF!,0)*GO5","v":0},{"$f":"IFERROR(#REF!,0)*GO5","v":0},{"$f":"IFERROR(#REF!,0)*GS5","v":0},{"$f":"IFERROR(#REF!,0)*GS5","v":0},{"$f":"IFERROR(#REF!,0)*GS5","v":0},{"$f":"IFERROR(#REF!,0)*GS5","v":0},{"v":0,"d":"0.00"},{"v":0,"d":"0.00"},{"v":0,"d":"0.00"},{"v":0,"d":"0.00"}]
[null,{"$f":"#REF!","v":{"$error":"#REF!"}},{"$f":"#REF!","v":{"$error":"#REF!"}},{"$f":"IFERROR(#REF!,0)*E5","v":0},{"$f":"IFERROR(#REF!,0)*E5","v":0},{"$f":"IFERROR(#REF!,0)*E5","v":0},{"$f":"IFERROR(#REF!,0)*E5","v":0},{"$f":"IFERROR(#REF!,0)*I5","v":0},{"$f":"IFERROR(#REF!,0)*I5","v":0},{"$f":"IFERROR(#REF!,0)*I5","v":0},{"$f":"IFERROR(#REF!,0)*I5","v":0},{"$f":"IFERROR(#REF!,0)*M5","v":0},{"$f":"IFERROR(#REF!,0)*M5","v":0},{"$f":"IFERROR(#REF!,0)*M5","v":0},{"$f":"IFERROR(#REF!,0)*M5","v":0},{"$f":"IFERROR(#REF!,0)*Q5","v":0},{"$f":"IFERROR(#REF!,0)*Q5","v":0},{"$f":"IFERROR(#REF!,0)*Q5","v":0},{"$f":"IFERROR(#REF!,0)*Q5","v":0},{"$f":"IFERROR(#REF!,0)*U5","v":0},{"$f":"IFERROR(#REF!,0)*U5","v":0},{"$f":"IFERROR(#REF!,0)*U5","v":0},{"$f":"IFERROR(#REF!,0)*U5","v":0},{"$f":"IFERROR(#REF!,0)*Y5","v":0},{"$f":"IFERROR(#REF!,0)*Y5","v":0},{"$f":"IFERROR(#REF!,0)*Y5","v":0},{"$f":"IFERROR(#REF!,0)*Y5","v":0},{"$f":"IFERROR(#REF!,0)*AC5","v":0},{"$f":"IFERROR(#REF!,0)*AC5","v":0},{"$f":"IFERROR(#REF!,0)*AC5","v":0},{"$f":"IFERROR(#REF!,0)*AC5","v":0},{"$f":"IFERROR(#REF!,0)*AG5","v":0},{"$f":"IFERROR(#REF!,0)*AG5","v":0},{"$f":"IFERROR(#REF!,0)*AG5","v":0},{"$f":"IFERROR(#REF!,0)*AG5","v":0},{"$f":"IFERROR(#REF!,0)*AK5","v":0},{"$f":"IFERROR(#REF!,0)*AK5","v":0},{"$f":"IFERROR(#REF!,0)*AK5","v":0},{"$f":"IFERROR(#REF!,0)*AK5","v":0},{"$f":"IFERROR(#REF!,0)*AO5","v":0},{"$f":"IFERROR(#REF!,0)*AO5","v":0},{"$f":"IFERROR(#REF!,0)*AO5","v":0},{"$f":"IFERROR(#REF!,0)*AO5","v":0},{"$f":"IFERROR(#REF!,0)*AS5","v":0},{"$f":"IFERROR(#REF!,0)*AS5","v":0},{"$f":"IFERROR(#REF!,0)*AS5","v":0},{"$f":"IFERROR(#REF!,0)*AS5","v":0},{"$f":"IFERROR(#REF!,0)*AW5","v":0},{"$f":"IFERROR(#REF!,0)*AW5","v":0},{"$f":"IFERROR(#REF!,0)*AW5","v":0},{"$f":"IFERROR(#REF!,0)*AW5","v":0},{"$f":"IFERROR(#REF!,0)*BA5","v":0},{"$f":"IFERROR(#REF!,0)*BA5","v":0},{"$f":"IFERROR(#REF!,0)*BA5","v":0},{"$f":"IFERROR(#REF!,0)*BA5","v":0},{"$f":"IFERROR(#REF!,0)*BE5","v":0},{"$f":"IFERROR(#REF!,0)*BE5","v":0},{"$f":"IFERROR(#REF!,0)*BE5","v":0},{"$f":"IFERROR(#REF!,0)*BE5","v":0},{"$f":"IFERROR(#REF!,0)*BI5","v":0},{"$f":"IFERROR(#REF!,0)*BI5","v":0},{"$f":"IFERROR(#REF!,0)*BI5","v":0},{"$f":"IFERROR(#REF!,0)*BI5","v":0},{"$f":"IFERROR(#REF!,0)*BM5","v":0},{"$f":"IFERROR(#REF!,0)*BM5","v":0},{"$f":"IFERROR(#REF!,0)*BM5","v":0},{"$f":"IFERROR(#REF!,0)*BM5","v":0},{"$f":"IFERROR(#REF!,0)*BQ5","v":0},{"$f":"IFERROR(#REF!,0)*BQ5","v":0},{"$f":"IFERROR(#REF!,0)*BQ5","v":0},{"$f":"IFERROR(#REF!,0)*BQ5","v":0},{"$f":"IFERROR(#REF!,0)*BU5","v":0},{"$f":"IFERROR(#REF!,0)*BU5","v":0},{"$f":"IFERROR(#REF!,0)*BU5","v":0},{"$f":"IFERROR(#REF!,0)*BU5","v":0},{"$f":"IFERROR(#REF!,0)*BY5","v":0},{"$f":"IFERROR(#REF!,0)*BY5","v":0},{"$f":"IFERROR(#REF!,0)*BY5","v":0},{"$f":"IFERROR(#REF!,0)*BY5","v":0},{"$f":"IFERROR(#REF!,0)*CC5","v":0},{"$f":"IFERROR(#REF!,0)*CC5","v":0},{"$f":"IFERROR(#REF!,0)*CC5","v":0},{"$f":"IFERROR(#REF!,0)*CC5","v":0},{"$f":"IFERROR(#REF!,0)*CG5","v":0},{"$f":"IFERROR(#REF!,0)*CG5","v":0},{"$f":"IFERROR(#REF!,0)*CG5","v":0},{"$f":"IFERROR(#REF!,0)*CG5","v":0},{"$f":"IFERROR(#REF!,0)*CK5","v":0},{"$f":"IFERROR(#REF!,0)*CK5","v":0},{"$f":"IFERROR(#REF!,0)*CK5","v":0},{"$f":"IFERROR(#REF!,0)*CK5","v":0},{"$f":"IFERROR(#REF!,0)*CO5","v":0},{"$f":"IFERROR(#REF!,0)*CO5","v":0},{"$f":"IFERROR(#REF!,0)*CO5","v":0},{"$f":"IFERROR(#REF!,0)*CO5","v":0},{"$f":"IFERROR(#REF!,0)*CS5","v":0},{"$f":"IFERROR(#REF!,0)*CS5","v":0},{"$f":"IFERROR(#REF!,0)*CS5","v":0},{"$f":"IFERROR(#REF!,0)*CS5","v":0},{"$f":"IFERROR(#REF!,0)*CW5","v":0},{"$f":"IFERROR(#REF!,0)*CW5","v":0},{"$f":"IFERROR(#REF!,0)*CW5","v":0},{"$f":"IFERROR(#REF!,0)*CW5","v":0},{"$f":"IFERROR(#REF!,0)*DA5","v":0},{"$f":"IFERROR(#REF!,0)*DA5","v":0},{"$f":"IFERROR(#REF!,0)*DA5","v":0},{"$f":"IFERROR(#REF!,0)*DA5","v":0},{"$f":"IFERROR(#REF!,0)*DE5","v":0},{"$f":"IFERROR(#REF!,0)*DE5","v":0},{"$f":"IFERROR(#REF!,0)*DE5","v":0},{"$f":"IFERROR(#REF!,0)*DE5","v":0},{"$f":"IFERROR(#REF!,0)*DI5","v":0},{"$f":"IFERROR(#REF!,0)*DI5","v":0},{"$f":"IFERROR(#REF!,0)*DI5","v":0},{"$f":"IFERROR(#REF!,0)*DI5","v":0},{"$f":"IFERROR(#REF!,0)*DM5","v":0},{"$f":"IFERROR(#REF!,0)*DM5","v":0},{"$f":"IFERROR(#REF!,0)*DM5","v":0},{"$f":"IFERROR(#REF!,0)*DM5","v":0},{"$f":"IFERROR(#REF!,0)*DQ5","v":0},{"$f":"IFERROR(#REF!,0)*DQ5","v":0},{"$f":"IFERROR(#REF!,0)*DQ5","v":0},{"$f":"IFERROR(#REF!,0)*DQ5","v":0},{"$f":"IFERROR(#REF!,0)*DU5","v":0},{"$f":"IFERROR(#REF!,0)*DU5","v":0},{"$f":"IFERROR(#REF!,0)*DU5","v":0},{"$f":"IFERROR(#REF!,0)*DU5","v":0},{"$f":"IFERROR(#REF!,0)*DY5","v":0},{"$f":"IFERROR(#REF!,0)*DY5","v":0},{"$f":"IFERROR(#REF!,0)*DY5","v":0},{"$f":"IFERROR(#REF!,0)*DY5","v":0},{"$f":"IFERROR(#REF!,0)*EC5","v":0},{"$f":"IFERROR(#REF!,0)*EC5","v":0},{"$f":"IFERROR(#REF!,0)*EC5","v":0},{"$f":"IFERROR(#REF!,0)*EC5","v":0},{"$f":"IFERROR(#REF!,0)*EG5","v":0},{"$f":"IFERROR(#REF!,0)*EG5","v":0},{"$f":"IFERROR(#REF!,0)*EG5","v":0},{"$f":"IFERROR(#REF!,0)*EG5","v":0},{"$f":"IFERROR(#REF!,0)*EK5","v":0},{"$f":"IFERROR(#REF!,0)*EK5","v":0},{"$f":"IFERROR(#REF!,0)*EK5","v":0},{"$f":"IFERROR(#REF!,0)*EK5","v":0},{"$f":"IFERROR(#REF!,0)*EO5","v":0},{"$f":"IFERROR(#REF!,0)*EO5","v":0},{"$f":"IFERROR(#REF!,0)*EO5","v":0},{"$f":"IFERROR(#REF!,0)*EO5","v":0},{"$f":"IFERROR(#REF!,0)*ES5","v":0},{"$f":"IFERROR(#REF!,0)*ES5","v":0},{"$f":"IFERROR(#REF!,0)*ES5","v":0},{"$f":"IFERROR(#REF!,0)*ES5","v":0},{"$f":"IFERROR(#REF!,0)*EW5","v":0},{"$f":"IFERROR(#REF!,0)*EW5","v":0},{"$f":"IFERROR(#REF!,0)*EW5","v":0},{"$f":"IFERROR(#REF!,0)*EW5","v":0},{"$f":"IFERROR(#REF!,0)*FA5","v":0},{"$f":"IFERROR(#REF!,0)*FA5","v":0},{"$f":"IFERROR(#REF!,0)*FA5","v":0},{"$f":"IFERROR(#REF!,0)*FA5","v":0},{"$f":"IFERROR(#REF!,0)*FE5","v":0},{"$f":"IFERROR(#REF!,0)*FE5","v":0},{"$f":"IFERROR(#REF!,0)*FE5","v":0},{"$f":"IFERROR(#REF!,0)*FE5","v":0},{"$f":"IFERROR(#REF!,0)*FI5","v":0},{"$f":"IFERROR(#REF!,0)*FI5","v":0},{"$f":"IFERROR(#REF!,0)*FI5","v":0},{"$f":"IFERROR(#REF!,0)*FI5","v":0},{"$f":"IFERROR(#REF!,0)*FM5","v":0},{"$f":"IFERROR(#REF!,0)*FM5","v":0},{"$f":"IFERROR(#REF!,0)*FM5","v":0},{"$f":"IFERROR(#REF!,0)*FM5","v":0},{"$f":"IFERROR(#REF!,0)*FQ5","v":0},{"$f":"IFERROR(#REF!,0)*FQ5","v":0},{"$f":"IFERROR(#REF!,0)*FQ5","v":0},{"$f":"IFERROR(#REF!,0)*FQ5","v":0},{"$f":"IFERROR(#REF!,0)*FU5","v":0},{"$f":"IFERROR(#REF!,0)*FU5","v":0},{"$f":"IFERROR(#REF!,0)*FU5","v":0},{"$f":"IFERROR(#REF!,0)*FU5","v":0},{"$f":"IFERROR(#REF!,0)*FY5","v":0},{"$f":"IFERROR(#REF!,0)*FY5","v":0},{"$f":"IFERROR(#REF!,0)*FY5","v":0},{"$f":"IFERROR(#REF!,0)*FY5","v":0},{"$f":"IFERROR(#REF!,0)*GC5","v":0},{"$f":"IFERROR(#REF!,0)*GC5","v":0},{"$f":"IFERROR(#REF!,0)*GC5","v":0},{"$f":"IFERROR(#REF!,0)*GC5","v":0},{"$f":"IFERROR(#REF!,0)*GG5","v":0},{"$f":"IFERROR(#REF!,0)*GG5","v":0},{"$f":"IFERROR(#REF!,0)*GG5","v":0},{"$f":"IFERROR(#REF!,0)*GG5","v":0},{"$f":"IFERROR(#REF!,0)*GK5","v":0},{"$f":"IFERROR(#REF!,0)*GK5","v":0},{"$f":"IFERROR(#REF!,0)*GK5","v":0},{"$f":"IFERROR(#REF!,0)*GK5","v":0},{"$f":"IFERROR(#REF!,0)*GO5","v":0},{"$f":"IFERROR(#REF!,0)*GO5","v":0},{"$f":"IFERROR(#REF!,0)*GO5","v":0},{"$f":"IFERROR(#REF!,0)*GO5","v":0},{"$f":"IFERROR(#REF!,0)*GS5","v":0},{"$f":"IFERROR(#REF!,0)*GS5","v":0},{"$f":"IFERROR(#REF!,0)*GS5","v":0},{"$f":"IFERROR(#REF!,0)*GS5","v":0},{"v":0,"d":"0.00"},{"v":0,"d":"0.00"},{"v":0,"d":"0.00"},{"v":0,"d":"0.00"}]
[null,{"$f":"#REF!","v":{"$error":"#REF!"}},{"$f":"#REF!","v":{"$error":"#REF!"}},{"$f":"IFERROR(#REF!,0)*E5","v":0},{"$f":"IFERROR(#REF!,0)*E5","v":0},{"$f":"IFERROR(#REF!,0)*E5","v":0},{"$f":"IFERROR(#REF!,0)*E5","v":0},{"$f":"IFERROR(#REF!,0)*I5","v":0},{"$f":"IFERROR(#REF!,0)*I5","v":0},{"$f":"IFERROR(#REF!,0)*I5","v":0},{"$f":"IFERROR(#REF!,0)*I5","v":0},{"$f":"IFERROR(#REF!,0)*M5","v":0},{"$f":"IFERROR(#REF!,0)*M5","v":0},{"$f":"IFERROR(#REF!,0)*M5","v":0},{"$f":"IFERROR(#REF!,0)*M5","v":0},{"$f":"IFERROR(#REF!,0)*Q5","v":0},{"$f":"IFERROR(#REF!,0)*Q5","v":0},{"$f":"IFERROR(#REF!,0)*Q5","v":0},{"$f":"IFERROR(#REF!,0)*Q5","v":0},{"$f":"IFERROR(#REF!,0)*U5","v":0},{"$f":"IFERROR(#REF!,0)*U5","v":0},{"$f":"IFERROR(#REF!,0)*U5","v":0},{"$f":"IFERROR(#REF!,0)*U5","v":0},{"$f":"IFERROR(#REF!,0)*Y5","v":0},{"$f":"IFERROR(#REF!,0)*Y5","v":0},{"$f":"IFERROR(#REF!,0)*Y5","v":0},{"$f":"IFERROR(#REF!,0)*Y5","v":0},{"$f":"IFERROR(#REF!,0)*AC5","v":0},{"$f":"IFERROR(#REF!,0)*AC5","v":0},{"$f":"IFERROR(#REF!,0)*AC5","v":0},{"$f":"IFERROR(#REF!,0)*AC5","v":0},{"$f":"IFERROR(#REF!,0)*AG5","v":0},{"$f":"IFERROR(#REF!,0)*AG5","v":0},{"$f":"IFERROR(#REF!,0)*AG5","v":0},{"$f":"IFERROR(#REF!,0)*AG5","v":0},{"$f":"IFERROR(#REF!,0)*AK5","v":0},{"$f":"IFERROR(#REF!,0)*AK5","v":0},{"$f":"IFERROR(#REF!,0)*AK5","v":0},{"$f":"IFERROR(#REF!,0)*AK5","v":0},{"$f":"IFERROR(#REF!,0)*AO5","v":0},{"$f":"IFERROR(#REF!,0)*AO5","v":0},{"$f":"IFERROR(#REF!,0)*AO5","v":0},{"$f":"IFERROR(#REF!,0)*AO5","v":0},{"$f":"IFERROR(#REF!,0)*AS5","v":0},{"$f":"IFERROR(#REF!,0)*AS5","v":0},{"$f":"IFERROR(#REF!,0)*AS5","v":0},{"$f":"IFERROR(#REF!,0)*AS5","v":0},{"$f":"IFERROR(#REF!,0)*AW5","v":0},{"$f":"IFERROR(#REF!,0)*AW5","v":0},{"$f":"IFERROR(#REF!,0)*AW5","v":0},{"$f":"IFERROR(#REF!,0)*AW5","v":0},{"$f":"IFERROR(#REF!,0)*BA5","v":0},{"$f":"IFERROR(#REF!,0)*BA5","v":0},{"$f":"IFERROR(#REF!,0)*BA5","v":0},{"$f":"IFERROR(#REF!,0)*BA5","v":0},{"$f":"IFERROR(#REF!,0)*BE5","v":0},{"$f":"IFERROR(#REF!,0)*BE5","v":0},{"$f":"IFERROR(#REF!,0)*BE5","v":0},{"$f":"IFERROR(#REF!,0)*BE5","v":0},{"$f":"IFERROR(#REF!,0)*BI5","v":0},{"$f":"IFERROR(#REF!,0)*BI5","v":0},{"$f":"IFERROR(#REF!,0)*BI5","v":0},{"$f":"IFERROR(#REF!,0)*BI5","v":0},{"$f":"IFERROR(#REF!,0)*BM5","v":0},{"$f":"IFERROR(#REF!,0)*BM5","v":0},{"$f":"IFERROR(#REF!,0)*BM5","v":0},{"$f":"IFERROR(#REF!,0)*BM5","v":0},{"$f":"IFERROR(#REF!,0)*BQ5","v":0},{"$f":"IFERROR(#REF!,0)*BQ5","v":0},{"$f":"IFERROR(#REF!,0)*BQ5","v":0},{"$f":"IFERROR(#REF!,0)*BQ5","v":0},{"$f":"IFERROR(#REF!,0)*BU5","v":0},{"$f":"IFERROR(#REF!,0)*BU5","v":0},{"$f":"IFERROR(#REF!,0)*BU5","v":0},{"$f":"IFERROR(#REF!,0)*BU5","v":0},{"$f":"IFERROR(#REF!,0)*BY5","v":0},{"$f":"IFERROR(#REF!,0)*BY5","v":0},{"$f":"IFERROR(#REF!,0)*BY5","v":0},{"$f":"IFERROR(#REF!,0)*BY5","v":0},{"$f":"IFERROR(#REF!,0)*CC5","v":0},{"$f":"IFERROR(#REF!,0)*CC5","v":0},{"$f":"IFERROR(#REF!,0)*CC5","v":0},{"$f":"IFERROR(#REF!,0)*CC5","v":0},{"$f":"IFERROR(#REF!,0)*CG5","v":0},{"$f":"IFERROR(#REF!,0)*CG5","v":0},{"$f":"IFERROR(#REF!,0)*CG5","v":0},{"$f":"IFERROR(#REF!,0)*CG5","v":0},{"$f":"IFERROR(#REF!,0)*CK5","v":0},{"$f":"IFERROR(#REF!,0)*CK5","v":0},{"$f":"IFERROR(#REF!,0)*CK5","v":0},{"$f":"IFERROR(#REF!,0)*CK5","v":0},{"$f":"IFERROR(#REF!,0)*CO5","v":0},{"$f":"IFERROR(#REF!,0)*CO5","v":0},{"$f":"IFERROR(#REF!,0)*CO5","v":0},{"$f":"IFERROR(#REF!,0)*CO5","v":0},{"$f":"IFERROR(#REF!,0)*CS5","v":0},{"$f":"IFERROR(#REF!,0)*CS5","v":0},{"$f":"IFERROR(#REF!,0)*CS5","v":0},{"$f":"IFERROR(#REF!,0)*CS5","v":0},{"$f":"IFERROR(#REF!,0)*CW5","v":0},{"$f":"IFERROR(#REF!,0)*CW5","v":0},{"$f":"IFERROR(#REF!,0)*CW5","v":0},{"$f":"IFERROR(#REF!,0)*CW5","v":0},{"$f":"IFERROR(#REF!,0)*DA5","v":0},{"$f":"IFERROR(#REF!,0)*DA5","v":0},{"$f":"IFERROR(#REF!,0)*DA5","v":0},{"$f":"IFERROR(#REF!,0)*DA5","v":0},{"$f":"IFERROR(#REF!,0)*DE5","v":0},{"$f":"IFERROR(#REF!,0)*DE5","v":0},{"$f":"IFERROR(#REF!,0)*DE5","v":0},{"$f":"IFERROR(#REF!,0)*DE5","v":0},{"$f":"IFERROR(#REF!,0)*DI5","v":0},{"$f":"IFERROR(#REF!,0)*DI5","v":0},{"$f":"IFERROR(#REF!,0)*DI5","v":0},{"$f":"IFERROR(#REF!,0)*DI5","v":0},{"$f":"IFERROR(#REF!,0)*DM5","v":0},{"$f":"IFERROR(#REF!,0)*DM5","v":0},{"$f":"IFERROR(#REF!,0)*DM5","v":0},{"$f":"IFERROR(#REF!,0)*DM5","v":0},{"$f":"IFERROR(#REF!,0)*DQ5","v":0},{"$f":"IFERROR(#REF!,0)*DQ5","v":0},{"$f":"IFERROR(#REF!,0)*DQ5","v":0},{"$f":"IFERROR(#REF!,0)*DQ5","v":0},{"$f":"IFERROR(#REF!,0)*DU5","v":0},{"$f":"IFERROR(#REF!,0)*DU5","v":0},{"$f":"IFERROR(#REF!,0)*DU5","v":0},{"$f":"IFERROR(#REF!,0)*DU5","v":0},{"$f":"IFERROR(#REF!,0)*DY5","v":0},{"$f":"IFERROR(#REF!,0)*DY5","v":0},{"$f":"IFERROR(#REF!,0)*DY5","v":0},{"$f":"IFERROR(#REF!,0)*DY5","v":0},{"$f":"IFERROR(#REF!,0)*EC5","v":0},{"$f":"IFERROR(#REF!,0)*EC5","v":0},{"$f":"IFERROR(#REF!,0)*EC5","v":0},{"$f":"IFERROR(#REF!,0)*EC5","v":0},{"$f":"IFERROR(#REF!,0)*EG5","v":0},{"$f":"IFERROR(#REF!,0)*EG5","v":0},{"$f":"IFERROR(#REF!,0)*EG5","v":0},{"$f":"IFERROR(#REF!,0)*EG5","v":0},{"$f":"IFERROR(#REF!,0)*EK5","v":0},{"$f":"IFERROR(#REF!,0)*EK5","v":0},{"$f":"IFERROR(#REF!,0)*EK5","v":0},{"$f":"IFERROR(#REF!,0)*EK5","v":0},{"$f":"IFERROR(#REF!,0)*EO5","v":0},{"$f":"IFERROR(#REF!,0)*EO5","v":0},{"$f":"IFERROR(#REF!,0)*EO5","v":0},{"$f":"IFERROR(#REF!,0)*EO5","v":0},{"$f":"IFERROR(#REF!,0)*ES5","v":0},{"$f":"IFERROR(#REF!,0)*ES5","v":0},{"$f":"IFERROR(#REF!,0)*ES5","v":0},{"$f":"IFERROR(#REF!,0)*ES5","v":0},{"$f":"IFERROR(#REF!,0)*EW5","v":0},{"$f":"IFERROR(#REF!,0)*EW5","v":0},{"$f":"IFERROR(#REF!,0)*EW5","v":0},{"$f":"IFERROR(#REF!,0)*EW5","v":0},{"$f":"IFERROR(#REF!,0)*FA5","v":0},{"$f":"IFERROR(#REF!,0)*FA5","v":0},{"$f":"IFERROR(#REF!,0)*FA5","v":0},{"$f":"IFERROR(#REF!,0)*FA5","v":0},{"$f":"IFERROR(#REF!,0)*FE5","v":0},{"$f":"IFERROR(#REF!,0)*FE5","v":0},{"$f":"IFERROR(#REF!,0)*FE5","v":0},{"$f":"IFERROR(#REF!,0)*FE5","v":0},{"$f":"IFERROR(#REF!,0)*FI5","v":0},{"$f":"IFERROR(#REF!,0)*FI5","v":0},{"$f":"IFERROR(#REF!,0)*FI5","v":0},{"$f":"IFERROR(#REF!,0)*FI5","v":0},{"$f":"IFERROR(#REF!,0)*FM5","v":0},{"$f":"IFERROR(#REF!,0)*FM5","v":0},{"$f":"IFERROR(#REF!,0)*FM5","v":0},{"$f":"IFERROR(#REF!,0)*FM5","v":0},{"$f":"IFERROR(#REF!,0)*FQ5","v":0},{"$f":"IFERROR(#REF!,0)*FQ5","v":0},{"$f":"IFERROR(#REF!,0)*FQ5","v":0},{"$f":"IFERROR(#REF!,0)*FQ5","v":0},{"$f":"IFERROR(#REF!,0)*FU5","v":0},{"$f":"IFERROR(#REF!,0)*FU5","v":0},{"$f":"IFERROR(#REF!,0)*FU5","v":0},{"$f":"IFERROR(#REF!,0)*FU5","v":0},{"$f":"IFERROR(#REF!,0)*FY5","v":0},{"$f":"IFERROR(#REF!,0)*FY5","v":0},{"$f":"IFERROR(#REF!,0)*FY5","v":0},{"$f":"IFERROR(#REF!,0)*FY5","v":0},{"$f":"IFERROR(#REF!,0)*GC5","v":0},{"$f":"IFERROR(#REF!,0)*GC5","v":0},{"$f":"IFERROR(#REF!,0)*GC5","v":0},{"$f":"IFERROR(#REF!,0)*GC5","v":0},{"$f":"IFERROR(#REF!,0)*GG5","v":0},{"$f":"IFERROR(#REF!,0)*GG5","v":0},{"$f":"IFERROR(#REF!,0)*GG5","v":0},{"$f":"IFERROR(#REF!,0)*GG5","v":0},{"$f":"IFERROR(#REF!,0)*GK5","v":0},{"$f":"IFERROR(#REF!,0)*GK5","v":0},{"$f":"IFERROR(#REF!,0)*GK5","v":0},{"$f":"IFERROR(#REF!,0)*GK5","v":0},{"$f":"IFERROR(#REF!,0)*GO5","v":0},{"$f":"IFERROR(#REF!,0)*GO5","v":0},{"$f":"IFERROR(#REF!,0)*GO5","v":0},{"$f":"IFERROR(#REF!,0)*GO5","v":0},{"$f":"IFERROR(#REF!,0)*GS5","v":0},{"$f":"IFERROR(#REF!,0)*GS5","v":0},{"$f":"IFERROR(#REF!,0)*GS5","v":0},{"$f":"IFERROR(#REF!,0)*GS5","v":0},{"v":0,"d":"0.00"},{"v":0,"d":"0.00"},{"v":0,"d":"0.00"},{"v":0,"d":"0.00"}]
[null,{"$f":"#REF!","v":{"$error":"#REF!"}},{"$f":"#REF!","v":{"$error":"#REF!"}},{"$f":"IFERROR(#REF!,0)*E5","v":0},{"$f":"IFERROR(#REF!,0)*E5","v":0},{"$f":"IFERROR(#REF!,0)*E5","v":0},{"$f":"IFERROR(#REF!,0)*E5","v":0},{"$f":"IFERROR(#REF!,0)*I5","v":0},{"$f":"IFERROR(#REF!,0)*I5","v":0},{"$f":"IFERROR(#REF!,0)*I5","v":0},{"$f":"IFERROR(#REF!,0)*I5","v":0},{"$f":"IFERROR(#REF!,0)*M5","v":0},{"$f":"IFERROR(#REF!,0)*M5","v":0},{"$f":"IFERROR(#REF!,0)*M5","v":0},{"$f":"IFERROR(#REF!,0)*M5","v":0},{"$f":"IFERROR(#REF!,0)*Q5","v":0},{"$f":"IFERROR(#REF!,0)*Q5","v":0},{"$f":"IFERROR(#REF!,0)*Q5","v":0},{"$f":"IFERROR(#REF!,0)*Q5","v":0},{"$f":"IFERROR(#REF!,0)*U5","v":0},{"$f":"IFERROR(#REF!,0)*U5","v":0},{"$f":"IFERROR(#REF!,0)*U5","v":0},{"$f":"IFERROR(#REF!,0)*U5","v":0},{"$f":"IFERROR(#REF!,0)*Y5","v":0},{"$f":"IFERROR(#REF!,0)*Y5","v":0},{"$f":"IFERROR(#REF!,0)*Y5","v":0},{"$f":"IFERROR(#REF!,0)*Y5","v":0},{"$f":"IFERROR(#REF!,0)*AC5","v":0},{"$f":"IFERROR(#REF!,0)*AC5","v":0},{"$f":"IFERROR(#REF!,0)*AC5","v":0},{"$f":"IFERROR(#REF!,0)*AC5","v":0},{"$f":"IFERROR(#REF!,0)*AG5","v":0},{"$f":"IFERROR(#REF!,0)*AG5","v":0},{"$f":"IFERROR(#REF!,0)*AG5","v":0},{"$f":"IFERROR(#REF!,0)*AG5","v":0},{"$f":"IFERROR(#REF!,0)*AK5","v":0},{"$f":"IFERROR(#REF!,0)*AK5","v":0},{"$f":"IFERROR(#REF!,0)*AK5","v":0},{"$f":"IFERROR(#REF!,0)*AK5","v":0},{"$f":"IFERROR(#REF!,0)*AO5","v":0},{"$f":"IFERROR(#REF!,0)*AO5","v":0},{"$f":"IFERROR(#REF!,0)*AO5","v":0},{"$f":"IFERROR(#REF!,0)*AO5","v":0},{"$f":"IFERROR(#REF!,0)*AS5","v":0},{"$f":"IFERROR(#REF!,0)*AS5","v":0},{"$f":"IFERROR(#REF!,0)*AS5","v":0},{"$f":"IFERROR(#REF!,0)*AS5","v":0},{"$f":"IFERROR(#REF!,0)*AW5","v":0},{"$f":"IFERROR(#REF!,0)*AW5","v":0},{"$f":"IFERROR(#REF!,0)*AW5","v":0},{"$f":"IFERROR(#REF!,0)*AW5","v":0},{"$f":"IFERROR(#REF!,0)*BA5","v":0},{"$f":"IFERROR(#REF!,0)*BA5","v":0},{"$f":"IFERROR(#REF!,0)*BA5","v":0},{"$f":"IFERROR(#REF!,0)*BA5","v":0},{"$f":"IFERROR(#REF!,0)*BE5","v":0},{"$f":"IFERROR(#REF!,0)*BE5","v":0},{"$f":"IFERROR(#REF!,0)*BE5","v":0},{"$f":"IFERROR(#REF!,0)*BE5","v":0},{"$f":"IFERROR(#REF!,0)*BI5","v":0},{"$f":"IFERROR(#REF!,0)*BI5","v":0},{"$f":"IFERROR(#REF!,0)*BI5","v":0},{"$f":"IFERROR(#REF!,0)*BI5","v":0},{"$f":"IFERROR(#REF!,0)*BM5","v":0},{"$f":"IFERROR(#REF!,0)*BM5","v":0},{"$f":"IFERROR(#REF!,0)*BM5","v":0},{"$f":"IFERROR(#REF!,0)*BM5","v":0},{"$f":"IFERROR(#REF!,0)*BQ5","v":0},{"$f":"IFERROR(#REF!,0)*BQ5","v":0},{"$f":"IFERROR(#REF!,0)*BQ5","v":0},{"$f":"IFERROR(#REF!,0)*BQ5","v":0},{"$f":"IFERROR(#REF!,0)*BU5","v":0},{"$f":"IFERROR(#REF!,0)*BU5","v":0},{"$f":"IFERROR(#REF!,0)*BU5","v":0},{"$f":"IFERROR(#REF!,0)*BU5","v":0},{"$f":"IFERROR(#REF!,0)*BY5","v":0},{"$f":"IFERROR(#REF!,0)*BY5","v":0},{"$f":"IFERROR(#REF!,0)*BY5","v":0},{"$f":"IFERROR(#REF!,0)*BY5","v":0},{"$f":"IFERROR(#REF!,0)*CC5","v":0},{"$f":"IFERROR(#REF!,0)*CC5","v":0},{"$f":"IFERROR(#REF!,0)*CC5","v":0},{"$f":"IFERROR(#REF!,0)*CC5","v":0},{"$f":"IFERROR(#REF!,0)*CG5","v":0},{"$f":"IFERROR(#REF!,0)*CG5","v":0},{"$f":"IFERROR(#REF!,0)*CG5","v":0},{"$f":"IFERROR(#REF!,0)*CG5","v":0},{"$f":"IFERROR(#REF!,0)*CK5","v":0},{"$f":"IFERROR(#REF!,0)*CK5","v":0},{"$f":"IFERROR(#REF!,0)*CK5","v":0},{"$f":"IFERROR(#REF!,0)*CK5","v":0},{"$f":"IFERROR(#REF!,0)*CO5","v":0},{"$f":"IFERROR(#REF!,0)*CO5","v":0},{"$f":"IFERROR(#REF!,0)*CO5","v":0},{"$f":"IFERROR(#REF!,0)*CO5","v":0},{"$f":"IFERROR(#REF!,0)*CS5","v":0},{"$f":"IFERROR(#REF!,0)*CS5","v":0},{"$f":"IFERROR(#REF!,0)*CS5","v":0},{"$f":"IFERROR(#REF!,0)*CS5","v":0},{"$f":"IFERROR(#REF!,0)*CW5","v":0},{"$f":"IFERROR(#REF!,0)*CW5","v":0},{"$f":"IFERROR(#REF!,0)*CW5","v":0},{"$f":"IFERROR(#REF!,0)*CW5","v":0},{"$f":"IFERROR(#REF!,0)*DA5","v":0},{"$f":"IFERROR(#REF!,0)*DA5","v":0},{"$f":"IFERROR(#REF!,0)*DA5","v":0},{"$f":"IFERROR(#REF!,0)*DA5","v":0},{"$f":"IFERROR(#REF!,0)*DE5","v":0},{"$f":"IFERROR(#REF!,0)*DE5","v":0},{"$f":"IFERROR(#REF!,0)*DE5","v":0},{"$f":"IFERROR(#REF!,0)*DE5","v":0},{"$f":"IFERROR(#REF!,0)*DI5","v":0},{"$f":"IFERROR(#REF!,0)*DI5","v":0},{"$f":"IFERROR(#REF!,0)*DI5","v":0},{"$f":"IFERROR(#REF!,0)*DI5","v":0},{"$f":"IFERROR(#REF!,0)*DM5","v":0},{"$f":"IFERROR(#REF!,0)*DM5","v":0},{"$f":"IFERROR(#REF!,0)*DM5","v":0},{"$f":"IFERROR(#REF!,0)*DM5","v":0},{"$f":"IFERROR(#REF!,0)*DQ5","v":0},{"$f":"IFERROR(#REF!,0)*DQ5","v":0},{"$f":"IFERROR(#REF!,0)*DQ5","v":0},{"$f":"IFERROR(#REF!,0)*DQ5","v":0},{"$f":"IFERROR(#REF!,0)*DU5","v":0},{"$f":"IFERROR(#REF!,0)*DU5","v":0},{"$f":"IFERROR(#REF!,0)*DU5","v":0},{"$f":"IFERROR(#REF!,0)*DU5","v":0},{"$f":"IFERROR(#REF!,0)*DY5","v":0},{"$f":"IFERROR(#REF!,0)*DY5","v":0},{"$f":"IFERROR(#REF!,0)*DY5","v":0},{"$f":"IFERROR(#REF!,0)*DY5","v":0},{"$f":"IFERROR(#REF!,0)*EC5","v":0},{"$f":"IFERROR(#REF!,0)*EC5","v":0},{"$f":"IFERROR(#REF!,0)*EC5","v":0},{"$f":"IFERROR(#REF!,0)*EC5","v":0},{"$f":"IFERROR(#REF!,0)*EG5","v":0},{"$f":"IFERROR(#REF!,0)*EG5","v":0},{"$f":"IFERROR(#REF!,0)*EG5","v":0},{"$f":"IFERROR(#REF!,0)*EG5","v":0},{"$f":"IFERROR(#REF!,0)*EK5","v":0},{"$f":"IFERROR(#REF!,0)*EK5","v":0},{"$f":"IFERROR(#REF!,0)*EK5","v":0},{"$f":"IFERROR(#REF!,0)*EK5","v":0},{"$f":"IFERROR(#REF!,0)*EO5","v":0},{"$f":"IFERROR(#REF!,0)*EO5","v":0},{"$f":"IFERROR(#REF!,0)*EO5","v":0},{"$f":"IFERROR(#REF!,0)*EO5","v":0},{"$f":"IFERROR(#REF!,0)*ES5","v":0},{"$f":"IFERROR(#REF!,0)*ES5","v":0},{"$f":"IFERROR(#REF!,0)*ES5","v":0},{"$f":"IFERROR(#REF!,0)*ES5","v":0},{"$f":"IFERROR(#REF!,0)*EW5","v":0},{"$f":"IFERROR(#REF!,0)*EW5","v":0},{"$f":"IFERROR(#REF!,0)*EW5","v":0},{"$f":"IFERROR(#REF!,0)*EW5","v":0},{"$f":"IFERROR(#REF!,0)*FA5","v":0},{"$f":"IFERROR(#REF!,0)*FA5","v":0},{"$f":"IFERROR(#REF!,0)*FA5","v":0},{"$f":"IFERROR(#REF!,0)*FA5","v":0},{"$f":"IFERROR(#REF!,0)*FE5","v":0},{"$f":"IFERROR(#REF!,0)*FE5","v":0},{"$f":"IFERROR(#REF!,0)*FE5","v":0},{"$f":"IFERROR(#REF!,0)*FE5","v":0},{"$f":"IFERROR(#REF!,0)*FI5","v":0},{"$f":"IFERROR(#REF!,0)*FI5","v":0},{"$f":"IFERROR(#REF!,0)*FI5","v":0},{"$f":"IFERROR(#REF!,0)*FI5","v":0},{"$f":"IFERROR(#REF!,0)*FM5","v":0},{"$f":"IFERROR(#REF!,0)*FM5","v":0},{"$f":"IFERROR(#REF!,0)*FM5","v":0},{"$f":"IFERROR(#REF!,0)*FM5","v":0},{"$f":"IFERROR(#REF!,0)*FQ5","v":0},{"$f":"IFERROR(#REF!,0)*FQ5","v":0},{"$f":"IFERROR(#REF!,0)*FQ5","v":0},{"$f":"IFERROR(#REF!,0)*FQ5","v":0},{"$f":"IFERROR(#REF!,0)*FU5","v":0},{"$f":"IFERROR(#REF!,0)*FU5","v":0},{"$f":"IFERROR(#REF!,0)*FU5","v":0},{"$f":"IFERROR(#REF!,0)*FU5","v":0},{"$f":"IFERROR(#REF!,0)*FY5","v":0},{"$f":"IFERROR(#REF!,0)*FY5","v":0},{"$f":"IFERROR(#REF!,0)*FY5","v":0},{"$f":"IFERROR(#REF!,0)*FY5","v":0},{"$f":"IFERROR(#REF!,0)*GC5","v":0},{"$f":"IFERROR(#REF!,0)*GC5","v":0},{"$f":"IFERROR(#REF!,0)*GC5","v":0},{"$f":"IFERROR(#REF!,0)*GC5","v":0},{"$f":"IFERROR(#REF!,0)*GG5","v":0},{"$f":"IFERROR(#REF!,0)*GG5","v":0},{"$f":"IFERROR(#REF!,0)*GG5","v":0},{"$f":"IFERROR(#REF!,0)*GG5","v":0},{"$f":"IFERROR(#REF!,0)*GK5","v":0},{"$f":"IFERROR(#REF!,0)*GK5","v":0},{"$f":"IFERROR(#REF!,0)*GK5","v":0},{"$f":"IFERROR(#REF!,0)*GK5","v":0},{"$f":"IFERROR(#REF!,0)*GO5","v":0},{"$f":"IFERROR(#REF!,0)*GO5","v":0},{"$f":"IFERROR(#REF!,0)*GO5","v":0},{"$f":"IFERROR(#REF!,0)*GO5","v":0},{"$f":"IFERROR(#REF!,0)*GS5","v":0},{"$f":"IFERROR(#REF!,0)*GS5","v":0},{"$f":"IFERROR(#REF!,0)*GS5","v":0},{"$f":"IFERROR(#REF!,0)*GS5","v":0},{"v":0,"d":"0.00"},{"v":0,"d":"0.00"},{"v":0,"d":"0.00"},{"v":0,"d":"0.00"}]
[null,{"$f":"#REF!","v":{"$error":"#REF!"}},{"$f":"#REF!","v":{"$error":"#REF!"}},{"$f":"IFERROR(#REF!,0)*E5","v":0},{"$f":"IFERROR(#REF!,0)*E5","v":0},{"$f":"IFERROR(#REF!,0)*E5","v":0},{"$f":"IFERROR(#REF!,0)*E5","v":0},{"$f":"IFERROR(#REF!,0)*I5","v":0},{"$f":"IFERROR(#REF!,0)*I5","v":0},{"$f":"IFERROR(#REF!,0)*I5","v":0},{"$f":"IFERROR(#REF!,0)*I5","v":0},{"$f":"IFERROR(#REF!,0)*M5","v":0},{"$f":"IFERROR(#REF!,0)*M5","v":0},{"$f":"IFERROR(#REF!,0)*M5","v":0},{"$f":"IFERROR(#REF!,0)*M5","v":0},{"$f":"IFERROR(#REF!,0)*Q5","v":0},{"$f":"IFERROR(#REF!,0)*Q5","v":0},{"$f":"IFERROR(#REF!,0)*Q5","v":0},{"$f":"IFERROR(#REF!,0)*Q5","v":0},{"$f":"IFERROR(#REF!,0)*U5","v":0},{"$f":"IFERROR(#REF!,0)*U5","v":0},{"$f":"IFERROR(#REF!,0)*U5","v":0},{"$f":"IFERROR(#REF!,0)*U5","v":0},{"$f":"IFERROR(#REF!,0)*Y5","v":0},{"$f":"IFERROR(#REF!,0)*Y5","v":0},{"$f":"IFERROR(#REF!,0)*Y5","v":0},{"$f":"IFERROR(#REF!,0)*Y5","v":0},{"$f":"IFERROR(#REF!,0)*AC5","v":0},{"$f":"IFERROR(#REF!,0)*AC5","v":0},{"$f":"IFERROR(#REF!,0)*AC5","v":0},{"$f":"IFERROR(#REF!,0)*AC5","v":0},{"$f":"IFERROR(#REF!,0)*AG5","v":0},{"$f":"IFERROR(#REF!,0)*AG5","v":0},{"$f":"IFERROR(#REF!,0)*AG5","v":0},{"$f":"IFERROR(#REF!,0)*AG5","v":0},{"$f":"IFERROR(#REF!,0)*AK5","v":0},{"$f":"IFERROR(#REF!,0)*AK5","v":0},{"$f":"IFERROR(#REF!,0)*AK5","v":0},{"$f":"IFERROR(#REF!,0)*AK5","v":0},{"$f":"IFERROR(#REF!,0)*AO5","v":0},{"$f":"IFERROR(#REF!,0)*AO5","v":0},{"$f":"IFERROR(#REF!,0)*AO5","v":0},{"$f":"IFERROR(#REF!,0)*AO5","v":0},{"$f":"IFERROR(#REF!,0)*AS5","v":0},{"$f":"IFERROR(#REF!,0)*AS5","v":0},{"$f":"IFERROR(#REF!,0)*AS5","v":0},{"$f":"IFERROR(#REF!,0)*AS5","v":0},{"$f":"IFERROR(#REF!,0)*AW5","v":0},{"$f":"IFERROR(#REF!,0)*AW5","v":0},{"$f":"IFERROR(#REF!,0)*AW5","v":0},{"$f":"IFERROR(#REF!,0)*AW5","v":0},{"$f":"IFERROR(#REF!,0)*BA5","v":0},{"$f":"IFERROR(#REF!,0)*BA5","v":0},{"$f":"IFERROR(#REF!,0)*BA5","v":0},{"$f":"IFERROR(#REF!,0)*BA5","v":0},{"$f":"IFERROR(#REF!,0)*BE5","v":0},{"$f":"IFERROR(#REF!,0)*BE5","v":0},{"$f":"IFERROR(#REF!,0)*BE5","v":0},{"$f":"IFERROR(#REF!,0)*BE5","v":0},{"$f":"IFERROR(#REF!,0)*BI5","v":0},{"$f":"IFERROR(#REF!,0)*BI5","v":0},{"$f":"IFERROR(#REF!,0)*BI5","v":0},{"$f":"IFERROR(#REF!,0)*BI5","v":0},{"$f":"IFERROR(#REF!,0)*BM5","v":0},{"$f":"IFERROR(#REF!,0)*BM5","v":0},{"$f":"IFERROR(#REF!,0)*BM5","v":0},{"$f":"IFERROR(#REF!,0)*BM5","v":0},{"$f":"IFERROR(#REF!,0)*BQ5","v":0},{"$f":"IFERROR(#REF!,0)*BQ5","v":0},{"$f":"IFERROR(#REF!,0)*BQ5","v":0},{"$f":"IFERROR(#REF!,0)*BQ5","v":0},{"$f":"IFERROR(#REF!,0)*BU5","v":0},{"$f":"IFERROR(#REF!,0)*BU5","v":0},{"$f":"IFERROR(#REF!,0)*BU5","v":0},{"$f":"IFERROR(#REF!,0)*BU5","v":0},{"$f":"IFERROR(#REF!,0)*BY5","v":0},{"$f":"IFERROR(#REF!,0)*BY5","v":0},{"$f":"IFERROR(#REF!,0)*BY5","v":0},{"$f":"IFERROR(#REF!,0)*BY5","v":0},{"$f":"IFERROR(#REF!,0)*CC5","v":0},{"$f":"IFERROR(#REF!,0)*CC5","v":0},{"$f":"IFERROR(#REF!,0)*CC5","v":0},{"$f":"IFERROR(#REF!,0)*CC5","v":0},{"$f":"IFERROR(#REF!,0)*CG5","v":0},{"$f":"IFERROR(#REF!,0)*CG5","v":0},{"$f":"IFERROR(#REF!,0)*CG5","v":0},{"$f":"IFERROR(#REF!,0)*CG5","v":0},{"$f":"IFERROR(#REF!,0)*CK5","v":0},{"$f":"IFERROR(#REF!,0)*CK5","v":0},{"$f":"IFERROR(#REF!,0)*CK5","v":0},{"$f":"IFERROR(#REF!,0)*CK5","v":0},{"$f":"IFERROR(#REF!,0)*CO5","v":0},{"$f":"IFERROR(#REF!,0)*CO5","v":0},{"$f":"IFERROR(#REF!,0)*CO5","v":0},{"$f":"IFERROR(#REF!,0)*CO5","v":0},{"$f":"IFERROR(#REF!,0)*CS5","v":0},{"$f":"IFERROR(#REF!,0)*CS5","v":0},{"$f":"IFERROR(#REF!,0)*CS5","v":0},{"$f":"IFERROR(#REF!,0)*CS5","v":0},{"$f":"IFERROR(#REF!,0)*CW5","v":0},{"$f":"IFERROR(#REF!,0)*CW5","v":0},{"$f":"IFERROR(#REF!,0)*CW5","v":0},{"$f":"IFERROR(#REF!,0)*CW5","v":0},{"$f":"IFERROR(#REF!,0)*DA5","v":0},{"$f":"IFERROR(#REF!,0)*DA5","v":0},{"$f":"IFERROR(#REF!,0)*DA5","v":0},{"$f":"IFERROR(#REF!,0)*DA5","v":0},{"$f":"IFERROR(#REF!,0)*DE5","v":0},{"$f":"IFERROR(#REF!,0)*DE5","v":0},{"$f":"IFERROR(#REF!,0)*DE5","v":0},{"$f":"IFERROR(#REF!,0)*DE5","v":0},{"$f":"IFERROR(#REF!,0)*DI5","v":0},{"$f":"IFERROR(#REF!,0)*DI5","v":0},{"$f":"IFERROR(#REF!,0)*DI5","v":0},{"$f":"IFERROR(#REF!,0)*DI5","v":0},{"$f":"IFERROR(#REF!,0)*DM5","v":0},{"$f":"IFERROR(#REF!,0)*DM5","v":0},{"$f":"IFERROR(#REF!,0)*DM5","v":0},{"$f":"IFERROR(#REF!,0)*DM5","v":0},{"$f":"IFERROR(#REF!,0)*DQ5","v":0},{"$f":"IFERROR(#REF!,0)*DQ5","v":0},{"$f":"IFERROR(#REF!,0)*DQ5","v":0},{"$f":"IFERROR(#REF!,0)*DQ5","v":0},{"$f":"IFERROR(#REF!,0)*DU5","v":0},{"$f":"IFERROR(#REF!,0)*DU5","v":0},{"$f":"IFERROR(#REF!,0)*DU5","v":0},{"$f":"IFERROR(#REF!,0)*DU5","v":0},{"$f":"IFERROR(#REF!,0)*DY5","v":0},{"$f":"IFERROR(#REF!,0)*DY5","v":0},{"$f":"IFERROR(#REF!,0)*DY5","v":0},{"$f":"IFERROR(#REF!,0)*DY5","v":0},{"$f":"IFERROR(#REF!,0)*EC5","v":0},{"$f":"IFERROR(#REF!,0)*EC5","v":0},{"$f":"IFERROR(#REF!,0)*EC5","v":0},{"$f":"IFERROR(#REF!,0)*EC5","v":0},{"$f":"IFERROR(#REF!,0)*EG5","v":0},{"$f":"IFERROR(#REF!,0)*EG5","v":0},{"$f":"IFERROR(#REF!,0)*EG5","v":0},{"$f":"IFERROR(#REF!,0)*EG5","v":0},{"$f":"IFERROR(#REF!,0)*EK5","v":0},{"$f":"IFERROR(#REF!,0)*EK5","v":0},{"$f":"IFERROR(#REF!,0)*EK5","v":0},{"$f":"IFERROR(#REF!,0)*EK5","v":0},{"$f":"IFERROR(#REF!,0)*EO5","v":0},{"$f":"IFERROR(#REF!,0)*EO5","v":0},{"$f":"IFERROR(#REF!,0)*EO5","v":0},{"$f":"IFERROR(#REF!,0)*EO5","v":0},{"$f":"IFERROR(#REF!,0)*ES5","v":0},{"$f":"IFERROR(#REF!,0)*ES5","v":0},{"$f":"IFERROR(#REF!,0)*ES5","v":0},{"$f":"IFERROR(#REF!,0)*ES5","v":0},{"$f":"IFERROR(#REF!,0)*EW5","v":0},{"$f":"IFERROR(#REF!,0)*EW5","v":0},{"$f":"IFERROR(#REF!,0)*EW5","v":0},{"$f":"IFERROR(#REF!,0)*EW5","v":0},{"$f":"IFERROR(#REF!,0)*FA5","v":0},{"$f":"IFERROR(#REF!,0)*FA5","v":0},{"$f":"IFERROR(#REF!,0)*FA5","v":0},{"$f":"IFERROR(#REF!,0)*FA5","v":0},{"$f":"IFERROR(#REF!,0)*FE5","v":0},{"$f":"IFERROR(#REF!,0)*FE5","v":0},{"$f":"IFERROR(#REF!,0)*FE5","v":0},{"$f":"IFERROR(#REF!,0)*FE5","v":0},{"$f":"IFERROR(#REF!,0)*FI5","v":0},{"$f":"IFERROR(#REF!,0)*FI5","v":0},{"$f":"IFERROR(#REF!,0)*FI5","v":0},{"$f":"IFERROR(#REF!,0)*FI5","v":0},{"$f":"IFERROR(#REF!,0)*FM5","v":0},{"$f":"IFERROR(#REF!,0)*FM5","v":0},{"$f":"IFERROR(#REF!,0)*FM5","v":0},{"$f":"IFERROR(#REF!,0)*FM5","v":0},{"$f":"IFERROR(#REF!,0)*FQ5","v":0},{"$f":"IFERROR(#REF!,0)*FQ5","v":0},{"$f":"IFERROR(#REF!,0)*FQ5","v":0},{"$f":"IFERROR(#REF!,0)*FQ5","v":0},{"$f":"IFERROR(#REF!,0)*FU5","v":0},{"$f":"IFERROR(#REF!,0)*FU5","v":0},{"$f":"IFERROR(#REF!,0)*FU5","v":0},{"$f":"IFERROR(#REF!,0)*FU5","v":0},{"$f":"IFERROR(#REF!,0)*FY5","v":0},{"$f":"IFERROR(#REF!,0)*FY5","v":0},{"$f":"IFERROR(#REF!,0)*FY5","v":0},{"$f":"IFERROR(#REF!,0)*FY5","v":0},{"$f":"IFERROR(#REF!,0)*GC5","v":0},{"$f":"IFERROR(#REF!,0)*GC5","v":0},{"$f":"IFERROR(#REF!,0)*GC5","v":0},{"$f":"IFERROR(#REF!,0)*GC5","v":0},{"$f":"IFERROR(#REF!,0)*GG5","v":0},{"$f":"IFERROR(#REF!,0)*GG5","v":0},{"$f":"IFERROR(#REF!,0)*GG5","v":0},{"$f":"IFERROR(#REF!,0)*GG5","v":0},{"$f":"IFERROR(#REF!,0)*GK5","v":0},{"$f":"IFERROR(#REF!,0)*GK5","v":0},{"$f":"IFERROR(#REF!,0)*GK5","v":0},{"$f":"IFERROR(#REF!,0)*GK5","v":0},{"$f":"IFERROR(#REF!,0)*GO5","v":0},{"$f":"IFERROR(#REF!,0)*GO5","v":0},{"$f":"IFERROR(#REF!,0)*GO5","v":0},{"$f":"IFERROR(#REF!,0)*GO5","v":0},{"$f":"IFERROR(#REF!,0)*GS5","v":0},{"$f":"IFERROR(#REF!,0)*GS5","v":0},{"$f":"IFERROR(#REF!,0)*GS5","v":0},{"$f":"IFERROR(#REF!,0)*GS5","v":0},{"v":0,"d":"0.00"},{"v":0,"d":"0.00"},{"v":0,"d":"0.00"},{"v":0,"d":"0.00"}]
[null,{"$f":"#REF!","v":{"$error":"#REF!"}},{"$f":"#REF!","v":{"$error":"#REF!"}},{"$f":"IFERROR(#REF!,0)*E5","v":0},{"$f":"IFERROR(#REF!,0)*E5","v":0},{"$f":"IFERROR(#REF!,0)*E5","v":0},{"$f":"IFERROR(#REF!,0)*E5","v":0},{"$f":"IFERROR(#REF!,0)*I5","v":0},{"$f":"IFERROR(#REF!,0)*I5","v":0},{"$f":"IFERROR(#REF!,0)*I5","v":0},{"$f":"IFERROR(#REF!,0)*I5","v":0},{"$f":"IFERROR(#REF!,0)*M5","v":0},{"$f":"IFERROR(#REF!,0)*M5","v":0},{"$f":"IFERROR(#REF!,0)*M5","v":0},{"$f":"IFERROR(#REF!,0)*M5","v":0},{"$f":"IFERROR(#REF!,0)*Q5","v":0},{"$f":"IFERROR(#REF!,0)*Q5","v":0},{"$f":"IFERROR(#REF!,0)*Q5","v":0},{"$f":"IFERROR(#REF!,0)*Q5","v":0},{"$f":"IFERROR(#REF!,0)*U5","v":0},{"$f":"IFERROR(#REF!,0)*U5","v":0},{"$f":"IFERROR(#REF!,0)*U5","v":0},{"$f":"IFERROR(#REF!,0)*U5","v":0},{"$f":"IFERROR(#REF!,0)*Y5","v":0},{"$f":"IFERROR(#REF!,0)*Y5","v":0},{"$f":"IFERROR(#REF!,0)*Y5","v":0},{"$f":"IFERROR(#REF!,0)*Y5","v":0},{"$f":"IFERROR(#REF!,0)*AC5","v":0},{"$f":"IFERROR(#REF!,0)*AC5","v":0},{"$f":"IFERROR(#REF!,0)*AC5","v":0},{"$f":"IFERROR(#REF!,0)*AC5","v":0},{"$f":"IFERROR(#REF!,0)*AG5","v":0},{"$f":"IFERROR(#REF!,0)*AG5","v":0},{"$f":"IFERROR(#REF!,0)*AG5","v":0},{"$f":"IFERROR(#REF!,0)*AG5","v":0},{"$f":"IFERROR(#REF!,0)*AK5","v":0},{"$f":"IFERROR(#REF!,0)*AK5","v":0},{"$f":"IFERROR(#REF!,0)*AK5","v":0},{"$f":"IFERROR(#REF!,0)*AK5","v":0},{"$f":"IFERROR(#REF!,0)*AO5","v":0},{"$f":"IFERROR(#REF!,0)*AO5","v":0},{"$f":"IFERROR(#REF!,0)*AO5","v":0},{"$f":"IFERROR(#REF!,0)*AO5","v":0},{"$f":"IFERROR(#REF!,0)*AS5","v":0},{"$f":"IFERROR(#REF!,0)*AS5","v":0},{"$f":"IFERROR(#REF!,0)*AS5","v":0},{"$f":"IFERROR(#REF!,0)*AS5","v":0},{"$f":"IFERROR(#REF!,0)*AW5","v":0},{"$f":"IFERROR(#REF!,0)*AW5","v":0},{"$f":"IFERROR(#REF!,0)*AW5","v":0},{"$f":"IFERROR(#REF!,0)*AW5","v":0},{"$f":"IFERROR(#REF!,0)*BA5","v":0},{"$f":"IFERROR(#REF!,0)*BA5","v":0},{"$f":"IFERROR(#REF!,0)*BA5","v":0},{"$f":"IFERROR(#REF!,0)*BA5","v":0},{"$f":"IFERROR(#REF!,0)*BE5","v":0},{"$f":"IFERROR(#REF!,0)*BE5","v":0},{"$f":"IFERROR(#REF!,0)*BE5","v":0},{"$f":"IFERROR(#REF!,0)*BE5","v":0},{"$f":"IFERROR(#REF!,0)*BI5","v":0},{"$f":"IFERROR(#REF!,0)*BI5","v":0},{"$f":"IFERROR(#REF!,0)*BI5","v":0},{"$f":"IFERROR(#REF!,0)*BI5","v":0},{"$f":"IFERROR(#REF!,0)*BM5","v":0},{"$f":"IFERROR(#REF!,0)*BM5","v":0},{"$f":"IFERROR(#REF!,0)*BM5","v":0},{"$f":"IFERROR(#REF!,0)*BM5","v":0},{"$f":"IFERROR(#REF!,0)*BQ5","v":0},{"$f":"IFERROR(#REF!,0)*BQ5","v":0},{"$f":"IFERROR(#REF!,0)*BQ5","v":0},{"$f":"IFERROR(#REF!,0)*BQ5","v":0},{"$f":"IFERROR(#REF!,0)*BU5","v":0},{"$f":"IFERROR(#REF!,0)*BU5","v":0},{"$f":"IFERROR(#REF!,0)*BU5","v":0},{"$f":"IFERROR(#REF!,0)*BU5","v":0},{"$f":"IFERROR(#REF!,0)*BY5","v":0},{"$f":"IFERROR(#REF!,0)*BY5","v":0},{"$f":"IFERROR(#REF!,0)*BY5","v":0},{"$f":"IFERROR(#REF!,0)*BY5","v":0},{"$f":"IFERROR(#REF!,0)*CC5","v":0},{"$f":"IFERROR(#REF!,0)*CC5","v":0},{"$f":"IFERROR(#REF!,0)*CC5","v":0},{"$f":"IFERROR(#REF!,0)*CC5","v":0},{"$f":"IFERROR(#REF!,0)*CG5","v":0},{"$f":"IFERROR(#REF!,0)*CG5","v":0},{"$f":"IFERROR(#REF!,0)*CG5","v":0},{"$f":"IFERROR(#REF!,0)*CG5","v":0},{"$f":"IFERROR(#REF!,0)*CK5","v":0},{"$f":"IFERROR(#REF!,0)*CK5","v":0},{"$f":"IFERROR(#REF!,0)*CK5","v":0},{"$f":"IFERROR(#REF!,0)*CK5","v":0},{"$f":"IFERROR(#REF!,0)*CO5","v":0},{"$f":"IFERROR(#REF!,0)*CO5","v":0},{"$f":"IFERROR(#REF!,0)*CO5","v":0},{"$f":"IFERROR(#REF!,0)*CO5","v":0},{"$f":"IFERROR(#REF!,0)*CS5","v":0},{"$f":"IFERROR(#REF!,0)*CS5","v":0},{"$f":"IFERROR(#REF!,0)*CS5","v":0},{"$f":"IFERROR(#REF!,0)*CS5","v":0},{"$f":"IFERROR(#REF!,0)*CW5","v":0},{"$f":"IFERROR(#REF!,0)*CW5","v":0},{"$f":"IFERROR(#REF!,0)*CW5","v":0},{"$f":"IFERROR(#REF!,0)*CW5","v":0},{"$f":"IFERROR(#REF!,0)*DA5","v":0},{"$f":"IFERROR(#REF!,0)*DA5","v":0},{"$f":"IFERROR(#REF!,0)*DA5","v":0},{"$f":"IFERROR(#REF!,0)*DA5","v":0},{"$f":"IFERROR(#REF!,0)*DE5","v":0},{"$f":"IFERROR(#REF!,0)*DE5","v":0},{"$f":"IFERROR(#REF!,0)*DE5","v":0},{"$f":"IFERROR(#REF!,0)*DE5","v":0},{"$f":"IFERROR(#REF!,0)*DI5","v":0},{"$f":"IFERROR(#REF!,0)*DI5","v":0},{"$f":"IFERROR(#REF!,0)*DI5","v":0},{"$f":"IFERROR(#REF!,0)*DI5","v":0},{"$f":"IFERROR(#REF!,0)*DM5","v":0},{"$f":"IFERROR(#REF!,0)*DM5","v":0},{"$f":"IFERROR(#REF!,0)*DM5","v":0},{"$f":"IFERROR(#REF!,0)*DM5","v":0},{"$f":"IFERROR(#REF!,0)*DQ5","v":0},{"$f":"IFERROR(#REF!,0)*DQ5","v":0},{"$f":"IFERROR(#REF!,0)*DQ5","v":0},{"$f":"IFERROR(#REF!,0)*DQ5","v":0},{"$f":"IFERROR(#REF!,0)*DU5","v":0},{"$f":"IFERROR(#REF!,0)*DU5","v":0},{"$f":"IFERROR(#REF!,0)*DU5","v":0},{"$f":"IFERROR(#REF!,0)*DU5","v":0},{"$f":"IFERROR(#REF!,0)*DY5","v":0},{"$f":"IFERROR(#REF!,0)*DY5","v":0},{"$f":"IFERROR(#REF!,0)*DY5","v":0},{"$f":"IFERROR(#REF!,0)*DY5","v":0},{"$f":"IFERROR(#REF!,0)*EC5","v":0},{"$f":"IFERROR(#REF!,0)*EC5","v":0},{"$f":"IFERROR(#REF!,0)*EC5","v":0},{"$f":"IFERROR(#REF!,0)*EC5","v":0},{"$f":"IFERROR(#REF!,0)*EG5","v":0},{"$f":"IFERROR(#REF!,0)*EG5","v":0},{"$f":"IFERROR(#REF!,0)*EG5","v":0},{"$f":"IFERROR(#REF!,0)*EG5","v":0},{"$f":"IFERROR(#REF!,0)*EK5","v":0},{"$f":"IFERROR(#REF!,0)*EK5","v":0},{"$f":"IFERROR(#REF!,0)*EK5","v":0},{"$f":"IFERROR(#REF!,0)*EK5","v":0},{"$f":"IFERROR(#REF!,0)*EO5","v":0},{"$f":"IFERROR(#REF!,0)*EO5","v":0},{"$f":"IFERROR(#REF!,0)*EO5","v":0},{"$f":"IFERROR(#REF!,0)*EO5","v":0},{"$f":"IFERROR(#REF!,0)*ES5","v":0},{"$f":"IFERROR(#REF!,0)*ES5","v":0},{"$f":"IFERROR(#REF!,0)*ES5","v":0},{"$f":"IFERROR(#REF!,0)*ES5","v":0},{"$f":"IFERROR(#REF!,0)*EW5","v":0},{"$f":"IFERROR(#REF!,0)*EW5","v":0},{"$f":"IFERROR(#REF!,0)*EW5","v":0},{"$f":"IFERROR(#REF!,0)*EW5","v":0},{"$f":"IFERROR(#REF!,0)*FA5","v":0},{"$f":"IFERROR(#REF!,0)*FA5","v":0},{"$f":"IFERROR(#REF!,0)*FA5","v":0},{"$f":"IFERROR(#REF!,0)*FA5","v":0},{"$f":"IFERROR(#REF!,0)*FE5","v":0},{"$f":"IFERROR(#REF!,0)*FE5","v":0},{"$f":"IFERROR(#REF!,0)*FE5","v":0},{"$f":"IFERROR(#REF!,0)*FE5","v":0},{"$f":"IFERROR(#REF!,0)*FI5","v":0},{"$f":"IFERROR(#REF!,0)*FI5","v":0},{"$f":"IFERROR(#REF!,0)*FI5","v":0},{"$f":"IFERROR(#REF!,0)*FI5","v":0},{"$f":"IFERROR(#REF!,0)*FM5","v":0},{"$f":"IFERROR(#REF!,0)*FM5","v":0},{"$f":"IFERROR(#REF!,0)*FM5","v":0},{"$f":"IFERROR(#REF!,0)*FM5","v":0},{"$f":"IFERROR(#REF!,0)*FQ5","v":0},{"$f":"IFERROR(#REF!,0)*FQ5","v":0},{"$f":"IFERROR(#REF!,0)*FQ5","v":0},{"$f":"IFERROR(#REF!,0)*FQ5","v":0},{"$f":"IFERROR(#REF!,0)*FU5","v":0},{"$f":"IFERROR(#REF!,0)*FU5","v":0},{"$f":"IFERROR(#REF!,0)*FU5","v":0},{"$f":"IFERROR(#REF!,0)*FU5","v":0},{"$f":"IFERROR(#REF!,0)*FY5","v":0},{"$f":"IFERROR(#REF!,0)*FY5","v":0},{"$f":"IFERROR(#REF!,0)*FY5","v":0},{"$f":"IFERROR(#REF!,0)*FY5","v":0},{"$f":"IFERROR(#REF!,0)*GC5","v":0},{"$f":"IFERROR(#REF!,0)*GC5","v":0},{"$f":"IFERROR(#REF!,0)*GC5","v":0},{"$f":"IFERROR(#REF!,0)*GC5","v":0},{"$f":"IFERROR(#REF!,0)*GG5","v":0},{"$f":"IFERROR(#REF!,0)*GG5","v":0},{"$f":"IFERROR(#REF!,0)*GG5","v":0},{"$f":"IFERROR(#REF!,0)*GG5","v":0},{"$f":"IFERROR(#REF!,0)*GK5","v":0},{"$f":"IFERROR(#REF!,0)*GK5","v":0},{"$f":"IFERROR(#REF!,0)*GK5","v":0},{"$f":"IFERROR(#REF!,0)*GK5","v":0},{"$f":"IFERROR(#REF!,0)*GO5","v":0},{"$f":"IFERROR(#REF!,0)*GO5","v":0},{"$f":"IFERROR(#REF!,0)*GO5","v":0},{"$f":"IFERROR(#REF!,0)*GO5","v":0},{"$f":"IFERROR(#REF!,0)*GS5","v":0},{"$f":"IFERROR(#REF!,0)*GS5","v":0},{"$f":"IFERROR(#REF!,0)*GS5","v":0},{"$f":"IFERROR(#REF!,0)*GS5","v":0},{"v":0,"d":"0.00"},{"v":0,"d":"0.00"},{"v":0,"d":"0.00"},{"v":0,"d":"0.00"}]
[null,{"$f":"#REF!","v":{"$error":"#REF!"}},{"$f":"#REF!","v":{"$error":"#REF!"}},{"$f":"IFERROR(#REF!,0)*E5","v":0},{"$f":"IFERROR(#REF!,0)*E5","v":0},{"$f":"IFERROR(#REF!,0)*E5","v":0},{"$f":"IFERROR(#REF!,0)*E5","v":0},{"$f":"IFERROR(#REF!,0)*I5","v":0},{"$f":"IFERROR(#REF!,0)*I5","v":0},{"$f":"IFERROR(#REF!,0)*I5","v":0},{"$f":"IFERROR(#REF!,0)*I5","v":0},{"$f":"IFERROR(#REF!,0)*M5","v":0},{"$f":"IFERROR(#REF!,0)*M5","v":0},{"$f":"IFERROR(#REF!,0)*M5","v":0},{"$f":"IFERROR(#REF!,0)*M5","v":0},{"$f":"IFERROR(#REF!,0)*Q5","v":0},{"$f":"IFERROR(#REF!,0)*Q5","v":0},{"$f":"IFERROR(#REF!,0)*Q5","v":0},{"$f":"IFERROR(#REF!,0)*Q5","v":0},{"$f":"IFERROR(#REF!,0)*U5","v":0},{"$f":"IFERROR(#REF!,0)*U5","v":0},{"$f":"IFERROR(#REF!,0)*U5","v":0},{"$f":"IFERROR(#REF!,0)*U5","v":0},{"$f":"IFERROR(#REF!,0)*Y5","v":0},{"$f":"IFERROR(#REF!,0)*Y5","v":0},{"$f":"IFERROR(#REF!,0)*Y5","v":0},{"$f":"IFERROR(#REF!,0)*Y5","v":0},{"$f":"IFERROR(#REF!,0)*AC5","v":0},{"$f":"IFERROR(#REF!,0)*AC5","v":0},{"$f":"IFERROR(#REF!,0)*AC5","v":0},{"$f":"IFERROR(#REF!,0)*AC5","v":0},{"$f":"IFERROR(#REF!,0)*AG5","v":0},{"$f":"IFERROR(#REF!,0)*AG5","v":0},{"$f":"IFERROR(#REF!,0)*AG5","v":0},{"$f":"IFERROR(#REF!,0)*AG5","v":0},{"$f":"IFERROR(#REF!,0)*AK5","v":0},{"$f":"IFERROR(#REF!,0)*AK5","v":0},{"$f":"IFERROR(#REF!,0)*AK5","v":0},{"$f":"IFERROR(#REF!,0)*AK5","v":0},{"$f":"IFERROR(#REF!,0)*AO5","v":0},{"$f":"IFERROR(#REF!,0)*AO5","v":0},{"$f":"IFERROR(#REF!,0)*AO5","v":0},{"$f":"IFERROR(#REF!,0)*AO5","v":0},{"$f":"IFERROR(#REF!,0)*AS5","v":0},{"$f":"IFERROR(#REF!,0)*AS5","v":0},{"$f":"IFERROR(#REF!,0)*AS5","v":0},{"$f":"IFERROR(#REF!,0)*AS5","v":0},{"$f":"IFERROR(#REF!,0)*AW5","v":0},{"$f":"IFERROR(#REF!,0)*AW5","v":0},{"$f":"IFERROR(#REF!,0)*AW5","v":0},{"$f":"IFERROR(#REF!,0)*AW5","v":0},{"$f":"IFERROR(#REF!,0)*BA5","v":0},{"$f":"IFERROR(#REF!,0)*BA5","v":0},{"$f":"IFERROR(#REF!,0)*BA5","v":0},{"$f":"IFERROR(#REF!,0)*BA5","v":0},{"$f":"IFERROR(#REF!,0)*BE5","v":0},{"$f":"IFERROR(#REF!,0)*BE5","v":0},{"$f":"IFERROR(#REF!,0)*BE5","v":0},{"$f":"IFERROR(#REF!,0)*BE5","v":0},{"$f":"IFERROR(#REF!,0)*BI5","v":0},{"$f":"IFERROR(#REF!,0)*BI5","v":0},{"$f":"IFERROR(#REF!,0)*BI5","v":0},{"$f":"IFERROR(#REF!,0)*BI5","v":0},{"$f":"IFERROR(#REF!,0)*BM5","v":0},{"$f":"IFERROR(#REF!,0)*BM5","v":0},{"$f":"IFERROR(#REF!,0)*BM5","v":0},{"$f":"IFERROR(#REF!,0)*BM5","v":0},{"$f":"IFERROR(#REF!,0)*BQ5","v":0},{"$f":"IFERROR(#REF!,0)*BQ5","v":0},{"$f":"IFERROR(#REF!,0)*BQ5","v":0},{"$f":"IFERROR(#REF!,0)*BQ5","v":0},{"$f":"IFERROR(#REF!,0)*BU5","v":0},{"$f":"IFERROR(#REF!,0)*BU5","v":0},{"$f":"IFERROR(#REF!,0)*BU5","v":0},{"$f":"IFERROR(#REF!,0)*BU5","v":0},{"$f":"IFERROR(#REF!,0)*BY5","v":0},{"$f":"IFERROR(#REF!,0)*BY5","v":0},{"$f":"IFERROR(#REF!,0)*BY5","v":0},{"$f":"IFERROR(#REF!,0)*BY5","v":0},{"$f":"IFERROR(#REF!,0)*CC5","v":0},{"$f":"IFERROR(#REF!,0)*CC5","v":0},{"$f":"IFERROR(#REF!,0)*CC5","v":0},{"$f":"IFERROR(#REF!,0)*CC5","v":0},{"$f":"IFERROR(#REF!,0)*CG5","v":0},{"$f":"IFERROR(#REF!,0)*CG5","v":0},{"$f":"IFERROR(#REF!,0)*CG5","v":0},{"$f":"IFERROR(#REF!,0)*CG5","v":0},{"$f":"IFERROR(#REF!,0)*CK5","v":0},{"$f":"IFERROR(#REF!,0)*CK5","v":0},{"$f":"IFERROR(#REF!,0)*CK5","v":0},{"$f":"IFERROR(#REF!,0)*CK5","v":0},{"$f":"IFERROR(#REF!,0)*CO5","v":0},{"$f":"IFERROR(#REF!,0)*CO5","v":0},{"$f":"IFERROR(#REF!,0)*CO5","v":0},{"$f":"IFERROR(#REF!,0)*CO5","v":0},{"$f":"IFERROR(#REF!,0)*CS5","v":0},{"$f":"IFERROR(#REF!,0)*CS5","v":0},{"$f":"IFERROR(#REF!,0)*CS5","v":0},{"$f":"IFERROR(#REF!,0)*CS5","v":0},{"$f":"IFERROR(#REF!,0)*CW5","v":0},{"$f":"IFERROR(#REF!,0)*CW5","v":0},{"$f":"IFERROR(#REF!,0)*CW5","v":0},{"$f":"IFERROR(#REF!,0)*CW5","v":0},{"$f":"IFERROR(#REF!,0)*DA5","v":0},{"$f":"IFERROR(#REF!,0)*DA5","v":0},{"$f":"IFERROR(#REF!,0)*DA5","v":0},{"$f":"IFERROR(#REF!,0)*DA5","v":0},{"$f":"IFERROR(#REF!,0)*DE5","v":0},{"$f":"IFERROR(#REF!,0)*DE5","v":0},{"$f":"IFERROR(#REF!,0)*DE5","v":0},{"$f":"IFERROR(#REF!,0)*DE5","v":0},{"$f":"IFERROR(#REF!,0)*DI5","v":0},{"$f":"IFERROR(#REF!,0)*DI5","v":0},{"$f":"IFERROR(#REF!,0)*DI5","v":0},{"$f":"IFERROR(#REF!,0)*DI5","v":0},{"$f":"IFERROR(#REF!,0)*DM5","v":0},{"$f":"IFERROR(#REF!,0)*DM5","v":0},{"$f":"IFERROR(#REF!,0)*DM5","v":0},{"$f":"IFERROR(#REF!,0)*DM5","v":0},{"$f":"IFERROR(#REF!,0)*DQ5","v":0},{"$f":"IFERROR(#REF!,0)*DQ5","v":0},{"$f":"IFERROR(#REF!,0)*DQ5","v":0},{"$f":"IFERROR(#REF!,0)*DQ5","v":0},{"$f":"IFERROR(#REF!,0)*DU5","v":0},{"$f":"IFERROR(#REF!,0)*DU5","v":0},{"$f":"IFERROR(#REF!,0)*DU5","v":0},{"$f":"IFERROR(#REF!,0)*DU5","v":0},{"$f":"IFERROR(#REF!,0)*DY5","v":0},{"$f":"IFERROR(#REF!,0)*DY5","v":0},{"$f":"IFERROR(#REF!,0)*DY5","v":0},{"$f":"IFERROR(#REF!,0)*DY5","v":0},{"$f":"IFERROR(#REF!,0)*EC5","v":0},{"$f":"IFERROR(#REF!,0)*EC5","v":0},{"$f":"IFERROR(#REF!,0)*EC5","v":0},{"$f":"IFERROR(#REF!,0)*EC5","v":0},{"$f":"IFERROR(#REF!,0)*EG5","v":0},{"$f":"IFERROR(#REF!,0)*EG5","v":0},{"$f":"IFERROR(#REF!,0)*EG5","v":0},{"$f":"IFERROR(#REF!,0)*EG5","v":0},{"$f":"IFERROR(#REF!,0)*EK5","v":0},{"$f":"IFERROR(#REF!,0)*EK5","v":0},{"$f":"IFERROR(#REF!,0)*EK5","v":0},{"$f":"IFERROR(#REF!,0)*EK5","v":0},{"$f":"IFERROR(#REF!,0)*EO5","v":0},{"$f":"IFERROR(#REF!,0)*EO5","v":0},{"$f":"IFERROR(#REF!,0)*EO5","v":0},{"$f":"IFERROR(#REF!,0)*EO5","v":0},{"$f":"IFERROR(#REF!,0)*ES5","v":0},{"$f":"IFERROR(#REF!,0)*ES5","v":0},{"$f":"IFERROR(#REF!,0)*ES5","v":0},{"$f":"IFERROR(#REF!,0)*ES5","v":0},{"$f":"IFERROR(#REF!,0)*EW5","v":0},{"$f":"IFERROR(#REF!,0)*EW5","v":0},{"$f":"IFERROR(#REF!,0)*EW5","v":0},{"$f":"IFERROR(#REF!,0)*EW5","v":0},{"$f":"IFERROR(#REF!,0)*FA5","v":0},{"$f":"IFERROR(#REF!,0)*FA5","v":0},{"$f":"IFERROR(#REF!,0)*FA5","v":0},{"$f":"IFERROR(#REF!,0)*FA5","v":0},{"$f":"IFERROR(#REF!,0)*FE5","v":0},{"$f":"IFERROR(#REF!,0)*FE5","v":0},{"$f":"IFERROR(#REF!,0)*FE5","v":0},{"$f":"IFERROR(#REF!,0)*FE5","v":0},{"$f":"IFERROR(#REF!,0)*FI5","v":0},{"$f":"IFERROR(#REF!,0)*FI5","v":0},{"$f":"IFERROR(#REF!,0)*FI5","v":0},{"$f":"IFERROR(#REF!,0)*FI5","v":0},{"$f":"IFERROR(#REF!,0)*FM5","v":0},{"$f":"IFERROR(#REF!,0)*FM5","v":0},{"$f":"IFERROR(#REF!,0)*FM5","v":0},{"$f":"IFERROR(#REF!,0)*FM5","v":0},{"$f":"IFERROR(#REF!,0)*FQ5","v":0},{"$f":"IFERROR(#REF!,0)*FQ5","v":0},{"$f":"IFERROR(#REF!,0)*FQ5","v":0},{"$f":"IFERROR(#REF!,0)*FQ5","v":0},{"$f":"IFERROR(#REF!,0)*FU5","v":0},{"$f":"IFERROR(#REF!,0)*FU5","v":0},{"$f":"IFERROR(#REF!,0)*FU5","v":0},{"$f":"IFERROR(#REF!,0)*FU5","v":0},{"$f":"IFERROR(#REF!,0)*FY5","v":0},{"$f":"IFERROR(#REF!,0)*FY5","v":0},{"$f":"IFERROR(#REF!,0)*FY5","v":0},{"$f":"IFERROR(#REF!,0)*FY5","v":0},{"$f":"IFERROR(#REF!,0)*GC5","v":0},{"$f":"IFERROR(#REF!,0)*GC5","v":0},{"$f":"IFERROR(#REF!,0)*GC5","v":0},{"$f":"IFERROR(#REF!,0)*GC5","v":0},{"$f":"IFERROR(#REF!,0)*GG5","v":0},{"$f":"IFERROR(#REF!,0)*GG5","v":0},{"$f":"IFERROR(#REF!,0)*GG5","v":0},{"$f":"IFERROR(#REF!,0)*GG5","v":0},{"$f":"IFERROR(#REF!,0)*GK5","v":0},{"$f":"IFERROR(#REF!,0)*GK5","v":0},{"$f":"IFERROR(#REF!,0)*GK5","v":0},{"$f":"IFERROR(#REF!,0)*GK5","v":0},{"$f":"IFERROR(#REF!,0)*GO5","v":0},{"$f":"IFERROR(#REF!,0)*GO5","v":0},{"$f":"IFERROR(#REF!,0)*GO5","v":0},{"$f":"IFERROR(#REF!,0)*GO5","v":0},{"$f":"IFERROR(#REF!,0)*GS5","v":0},{"$f":"IFERROR(#REF!,0)*GS5","v":0},{"$f":"IFERROR(#REF!,0)*GS5","v":0},{"$f":"IFERROR(#REF!,0)*GS5","v":0},{"v":0,"d":"0.00"},{"v":0,"d":"0.00"},{"v":0,"d":"0.00"},{"v":0,"d":"0.00"}]
[null,{"$f":"#REF!","v":{"$error":"#REF!"}},{"$f":"#REF!","v":{"$error":"#REF!"}},{"$f":"IFERROR(#REF!,0)*E5","v":0},{"$f":"IFERROR(#REF!,0)*E5","v":0},{"$f":"IFERROR(#REF!,0)*E5","v":0},{"$f":"IFERROR(#REF!,0)*E5","v":0},{"$f":"IFERROR(#REF!,0)*I5","v":0},{"$f":"IFERROR(#REF!,0)*I5","v":0},{"$f":"IFERROR(#REF!,0)*I5","v":0},{"$f":"IFERROR(#REF!,0)*I5","v":0},{"$f":"IFERROR(#REF!,0)*M5","v":0},{"$f":"IFERROR(#REF!,0)*M5","v":0},{"$f":"IFERROR(#REF!,0)*M5","v":0},{"$f":"IFERROR(#REF!,0)*M5","v":0},{"$f":"IFERROR(#REF!,0)*Q5","v":0},{"$f":"IFERROR(#REF!,0)*Q5","v":0},{"$f":"IFERROR(#REF!,0)*Q5","v":0},{"$f":"IFERROR(#REF!,0)*Q5","v":0},{"$f":"IFERROR(#REF!,0)*U5","v":0},{"$f":"IFERROR(#REF!,0)*U5","v":0},{"$f":"IFERROR(#REF!,0)*U5","v":0},{"$f":"IFERROR(#REF!,0)*U5","v":0},{"$f":"IFERROR(#REF!,0)*Y5","v":0},{"$f":"IFERROR(#REF!,0)*Y5","v":0},{"$f":"IFERROR(#REF!,0)*Y5","v":0},{"$f":"IFERROR(#REF!,0)*Y5","v":0},{"$f":"IFERROR(#REF!,0)*AC5","v":0},{"$f":"IFERROR(#REF!,0)*AC5","v":0},{"$f":"IFERROR(#REF!,0)*AC5","v":0},{"$f":"IFERROR(#REF!,0)*AC5","v":0},{"$f":"IFERROR(#REF!,0)*AG5","v":0},{"$f":"IFERROR(#REF!,0)*AG5","v":0},{"$f":"IFERROR(#REF!,0)*AG5","v":0},{"$f":"IFERROR(#REF!,0)*AG5","v":0},{"$f":"IFERROR(#REF!,0)*AK5","v":0},{"$f":"IFERROR(#REF!,0)*AK5","v":0},{"$f":"IFERROR(#REF!,0)*AK5","v":0},{"$f":"IFERROR(#REF!,0)*AK5","v":0},{"$f":"IFERROR(#REF!,0)*AO5","v":0},{"$f":"IFERROR(#REF!,0)*AO5","v":0},{"$f":"IFERROR(#REF!,0)*AO5","v":0},{"$f":"IFERROR(#REF!,0)*AO5","v":0},{"$f":"IFERROR(#REF!,0)*AS5","v":0},{"$f":"IFERROR(#REF!,0)*AS5","v":0},{"$f":"IFERROR(#REF!,0)*AS5","v":0},{"$f":"IFERROR(#REF!,0)*AS5","v":0},{"$f":"IFERROR(#REF!,0)*AW5","v":0},{"$f":"IFERROR(#REF!,0)*AW5","v":0},{"$f":"IFERROR(#REF!,0)*AW5","v":0},{"$f":"IFERROR(#REF!,0)*AW5","v":0},{"$f":"IFERROR(#REF!,0)*BA5","v":0},{"$f":"IFERROR(#REF!,0)*BA5","v":0},{"$f":"IFERROR(#REF!,0)*BA5","v":0},{"$f":"IFERROR(#REF!,0)*BA5","v":0},{"$f":"IFERROR(#REF!,0)*BE5","v":0},{"$f":"IFERROR(#REF!,0)*BE5","v":0},{"$f":"IFERROR(#REF!,0)*BE5","v":0},{"$f":"IFERROR(#REF!,0)*BE5","v":0},{"$f":"IFERROR(#REF!,0)*BI5","v":0},{"$f":"IFERROR(#REF!,0)*BI5","v":0},{"$f":"IFERROR(#REF!,0)*BI5","v":0},{"$f":"IFERROR(#REF!,0)*BI5","v":0},{"$f":"IFERROR(#REF!,0)*BM5","v":0},{"$f":"IFERROR(#REF!,0)*BM5","v":0},{"$f":"IFERROR(#REF!,0)*BM5","v":0},{"$f":"IFERROR(#REF!,0)*BM5","v":0},{"$f":"IFERROR(#REF!,0)*BQ5","v":0},{"$f":"IFERROR(#REF!,0)*BQ5","v":0},{"$f":"IFERROR(#REF!,0)*BQ5","v":0},{"$f":"IFERROR(#REF!,0)*BQ5","v":0},{"$f":"IFERROR(#REF!,0)*BU5","v":0},{"$f":"IFERROR(#REF!,0)*BU5","v":0},{"$f":"IFERROR(#REF!,0)*BU5","v":0},{"$f":"IFERROR(#REF!,0)*BU5","v":0},{"$f":"IFERROR(#REF!,0)*BY5","v":0},{"$f":"IFERROR(#REF!,0)*BY5","v":0},{"$f":"IFERROR(#REF!,0)*BY5","v":0},{"$f":"IFERROR(#REF!,0)*BY5","v":0},{"$f":"IFERROR(#REF!,0)*CC5","v":0},{"$f":"IFERROR(#REF!,0)*CC5","v":0},{"$f":"IFERROR(#REF!,0)*CC5","v":0},{"$f":"IFERROR(#REF!,0)*CC5","v":0},{"$f":"IFERROR(#REF!,0)*CG5","v":0},{"$f":"IFERROR(#REF!,0)*CG5","v":0},{"$f":"IFERROR(#REF!,0)*CG5","v":0},{"$f":"IFERROR(#REF!,0)*CG5","v":0},{"$f":"IFERROR(#REF!,0)*CK5","v":0},{"$f":"IFERROR(#REF!,0)*CK5","v":0},{"$f":"IFERROR(#REF!,0)*CK5","v":0},{"$f":"IFERROR(#REF!,0)*CK5","v":0},{"$f":"IFERROR(#REF!,0)*CO5","v":0},{"$f":"IFERROR(#REF!,0)*CO5","v":0},{"$f":"IFERROR(#REF!,0)*CO5","v":0},{"$f":"IFERROR(#REF!,0)*CO5","v":0},{"$f":"IFERROR(#REF!,0)*CS5","v":0},{"$f":"IFERROR(#REF!,0)*CS5","v":0},{"$f":"IFERROR(#REF!,0)*CS5","v":0},{"$f":"IFERROR(#REF!,0)*CS5","v":0},{"$f":"IFERROR(#REF!,0)*CW5","v":0},{"$f":"IFERROR(#REF!,0)*CW5","v":0},{"$f":"IFERROR(#REF!,0)*CW5","v":0},{"$f":"IFERROR(#REF!,0)*CW5","v":0},{"$f":"IFERROR(#REF!,0)*DA5","v":0},{"$f":"IFERROR(#REF!,0)*DA5","v":0},{"$f":"IFERROR(#REF!,0)*DA5","v":0},{"$f":"IFERROR(#REF!,0)*DA5","v":0},{"$f":"IFERROR(#REF!,0)*DE5","v":0},{"$f":"IFERROR(#REF!,0)*DE5","v":0},{"$f":"IFERROR(#REF!,0)*DE5","v":0},{"$f":"IFERROR(#REF!,0)*DE5","v":0},{"$f":"IFERROR(#REF!,0)*DI5","v":0},{"$f":"IFERROR(#REF!,0)*DI5","v":0},{"$f":"IFERROR(#REF!,0)*DI5","v":0},{"$f":"IFERROR(#REF!,0)*DI5","v":0},{"$f":"IFERROR(#REF!,0)*DM5","v":0},{"$f":"IFERROR(#REF!,0)*DM5","v":0},{"$f":"IFERROR(#REF!,0)*DM5","v":0},{"$f":"IFERROR(#REF!,0)*DM5","v":0},{"$f":"IFERROR(#REF!,0)*DQ5","v":0},{"$f":"IFERROR(#REF!,0)*DQ5","v":0},{"$f":"IFERROR(#REF!,0)*DQ5","v":0},{"$f":"IFERROR(#REF!,0)*DQ5","v":0},{"$f":"IFERROR(#REF!,0)*DU5","v":0},{"$f":"IFERROR(#REF!,0)*DU5","v":0},{"$f":"IFERROR(#REF!,0)*DU5","v":0},{"$f":"IFERROR(#REF!,0)*DU5","v":0},{"$f":"IFERROR(#REF!,0)*DY5","v":0},{"$f":"IFERROR(#REF!,0)*DY5","v":0},{"$f":"IFERROR(#REF!,0)*DY5","v":0},{"$f":"IFERROR(#REF!,0)*DY5","v":0},{"$f":"IFERROR(#REF!,0)*EC5","v":0},{"$f":"IFERROR(#REF!,0)*EC5","v":0},{"$f":"IFERROR(#REF!,0)*EC5","v":0},{"$f":"IFERROR(#REF!,0)*EC5","v":0},{"$f":"IFERROR(#REF!,0)*EG5","v":0},{"$f":"IFERROR(#REF!,0)*EG5","v":0},{"$f":"IFERROR(#REF!,0)*EG5","v":0},{"$f":"IFERROR(#REF!,0)*EG5","v":0},{"$f":"IFERROR(#REF!,0)*EK5","v":0},{"$f":"IFERROR(#REF!,0)*EK5","v":0},{"$f":"IFERROR(#REF!,0)*EK5","v":0},{"$f":"IFERROR(#REF!,0)*EK5","v":0},{"$f":"IFERROR(#REF!,0)*EO5","v":0},{"$f":"IFERROR(#REF!,0)*EO5","v":0},{"$f":"IFERROR(#REF!,0)*EO5","v":0},{"$f":"IFERROR(#REF!,0)*EO5","v":0},{"$f":"IFERROR(#REF!,0)*ES5","v":0},{"$f":"IFERROR(#REF!,0)*ES5","v":0},{"$f":"IFERROR(#REF!,0)*ES5","v":0},{"$f":"IFERROR(#REF!,0)*ES5","v":0},{"$f":"IFERROR(#REF!,0)*EW5","v":0},{"$f":"IFERROR(#REF!,0)*EW5","v":0},{"$f":"IFERROR(#REF!,0)*EW5","v":0},{"$f":"IFERROR(#REF!,0)*EW5","v":0},{"$f":"IFERROR(#REF!,0)*FA5","v":0},{"$f":"IFERROR(#REF!,0)*FA5","v":0},{"$f":"IFERROR(#REF!,0)*FA5","v":0},{"$f":"IFERROR(#REF!,0)*FA5","v":0},{"$f":"IFERROR(#REF!,0)*FE5","v":0},{"$f":"IFERROR(#REF!,0)*FE5","v":0},{"$f":"IFERROR(#REF!,0)*FE5","v":0},{"$f":"IFERROR(#REF!,0)*FE5","v":0},{"$f":"IFERROR(#REF!,0)*FI5","v":0},{"$f":"IFERROR(#REF!,0)*FI5","v":0},{"$f":"IFERROR(#REF!,0)*FI5","v":0},{"$f":"IFERROR(#REF!,0)*FI5","v":0},{"$f":"IFERROR(#REF!,0)*FM5","v":0},{"$f":"IFERROR(#REF!,0)*FM5","v":0},{"$f":"IFERROR(#REF!,0)*FM5","v":0},{"$f":"IFERROR(#REF!,0)*FM5","v":0},{"$f":"IFERROR(#REF!,0)*FQ5","v":0},{"$f":"IFERROR(#REF!,0)*FQ5","v":0},{"$f":"IFERROR(#REF!,0)*FQ5","v":0},{"$f":"IFERROR(#REF!,0)*FQ5","v":0},{"$f":"IFERROR(#REF!,0)*FU5","v":0},{"$f":"IFERROR(#REF!,0)*FU5","v":0},{"$f":"IFERROR(#REF!,0)*FU5","v":0},{"$f":"IFERROR(#REF!,0)*FU5","v":0},{"$f":"IFERROR(#REF!,0)*FY5","v":0},{"$f":"IFERROR(#REF!,0)*FY5","v":0},{"$f":"IFERROR(#REF!,0)*FY5","v":0},{"$f":"IFERROR(#REF!,0)*FY5","v":0},{"$f":"IFERROR(#REF!,0)*GC5","v":0},{"$f":"IFERROR(#REF!,0)*GC5","v":0},{"$f":"IFERROR(#REF!,0)*GC5","v":0},{"$f":"IFERROR(#REF!,0)*GC5","v":0},{"$f":"IFERROR(#REF!,0)*GG5","v":0},{"$f":"IFERROR(#REF!,0)*GG5","v":0},{"$f":"IFERROR(#REF!,0)*GG5","v":0},{"$f":"IFERROR(#REF!,0)*GG5","v":0},{"$f":"IFERROR(#REF!,0)*GK5","v":0},{"$f":"IFERROR(#REF!,0)*GK5","v":0},{"$f":"IFERROR(#REF!,0)*GK5","v":0},{"$f":"IFERROR(#REF!,0)*GK5","v":0},{"$f":"IFERROR(#REF!,0)*GO5","v":0},{"$f":"IFERROR(#REF!,0)*GO5","v":0},{"$f":"IFERROR(#REF!,0)*GO5","v":0},{"$f":"IFERROR(#REF!,0)*GO5","v":0},{"$f":"IFERROR(#REF!,0)*GS5","v":0},{"$f":"IFERROR(#REF!,0)*GS5","v":0},{"$f":"IFERROR(#REF!,0)*GS5","v":0},{"$f":"IFERROR(#REF!,0)*GS5","v":0},{"v":0,"d":"0.00"},{"v":0,"d":"0.00"},{"v":0,"d":"0.00"},{"v":0,"d":"0.00"}]
[null,{"$f":"#REF!","v":{"$error":"#REF!"}},{"$f":"#REF!","v":{"$error":"#REF!"}},{"$f":"IFERROR(#REF!,0)*E5","v":0},{"$f":"IFERROR(#REF!,0)*E5","v":0},{"$f":"IFERROR(#REF!,0)*E5","v":0},{"$f":"IFERROR(#REF!,0)*E5","v":0},{"$f":"IFERROR(#REF!,0)*I5","v":0},{"$f":"IFERROR(#REF!,0)*I5","v":0},{"$f":"IFERROR(#REF!,0)*I5","v":0},{"$f":"IFERROR(#REF!,0)*I5","v":0},{"$f":"IFERROR(#REF!,0)*M5","v":0},{"$f":"IFERROR(#REF!,0)*M5","v":0},{"$f":"IFERROR(#REF!,0)*M5","v":0},{"$f":"IFERROR(#REF!,0)*M5","v":0},{"$f":"IFERROR(#REF!,0)*Q5","v":0},{"$f":"IFERROR(#REF!,0)*Q5","v":0},{"$f":"IFERROR(#REF!,0)*Q5","v":0},{"$f":"IFERROR(#REF!,0)*Q5","v":0},{"$f":"IFERROR(#REF!,0)*U5","v":0},{"$f":"IFERROR(#REF!,0)*U5","v":0},{"$f":"IFERROR(#REF!,0)*U5","v":0},{"$f":"IFERROR(#REF!,0)*U5","v":0},{"$f":"IFERROR(#REF!,0)*Y5","v":0},{"$f":"IFERROR(#REF!,0)*Y5","v":0},{"$f":"IFERROR(#REF!,0)*Y5","v":0},{"$f":"IFERROR(#REF!,0)*Y5","v":0},{"$f":"IFERROR(#REF!,0)*AC5","v":0},{"$f":"IFERROR(#REF!,0)*AC5","v":0},{"$f":"IFERROR(#REF!,0)*AC5","v":0},{"$f":"IFERROR(#REF!,0)*AC5","v":0},{"$f":"IFERROR(#REF!,0)*AG5","v":0},{"$f":"IFERROR(#REF!,0)*AG5","v":0},{"$f":"IFERROR(#REF!,0)*AG5","v":0},{"$f":"IFERROR(#REF!,0)*AG5","v":0},{"$f":"IFERROR(#REF!,0)*AK5","v":0},{"$f":"IFERROR(#REF!,0)*AK5","v":0},{"$f":"IFERROR(#REF!,0)*AK5","v":0},{"$f":"IFERROR(#REF!,0)*AK5","v":0},{"$f":"IFERROR(#REF!,0)*AO5","v":0},{"$f":"IFERROR(#REF!,0)*AO5","v":0},{"$f":"IFERROR(#REF!,0)*AO5","v":0},{"$f":"IFERROR(#REF!,0)*AO5","v":0},{"$f":"IFERROR(#REF!,0)*AS5","v":0},{"$f":"IFERROR(#REF!,0)*AS5","v":0},{"$f":"IFERROR(#REF!,0)*AS5","v":0},{"$f":"IFERROR(#REF!,0)*AS5","v":0},{"$f":"IFERROR(#REF!,0)*AW5","v":0},{"$f":"IFERROR(#REF!,0)*AW5","v":0},{"$f":"IFERROR(#REF!,0)*AW5","v":0},{"$f":"IFERROR(#REF!,0)*AW5","v":0},{"$f":"IFERROR(#REF!,0)*BA5","v":0},{"$f":"IFERROR(#REF!,0)*BA5","v":0},{"$f":"IFERROR(#REF!,0)*BA5","v":0},{"$f":"IFERROR(#REF!,0)*BA5","v":0},{"$f":"IFERROR(#REF!,0)*BE5","v":0},{"$f":"IFERROR(#REF!,0)*BE5","v":0},{"$f":"IFERROR(#REF!,0)*BE5","v":0},{"$f":"IFERROR(#REF!,0)*BE5","v":0},{"$f":"IFERROR(#REF!,0)*BI5","v":0},{"$f":"IFERROR(#REF!,0)*BI5","v":0},{"$f":"IFERROR(#REF!,0)*BI5","v":0},{"$f":"IFERROR(#REF!,0)*BI5","v":0},{"$f":"IFERROR(#REF!,0)*BM5","v":0},{"$f":"IFERROR(#REF!,0)*BM5","v":0},{"$f":"IFERROR(#REF!,0)*BM5","v":0},{"$f":"IFERROR(#REF!,0)*BM5","v":0},{"$f":"IFERROR(#REF!,0)*BQ5","v":0},{"$f":"IFERROR(#REF!,0)*BQ5","v":0},{"$f":"IFERROR(#REF!,0)*BQ5","v":0},{"$f":"IFERROR(#REF!,0)*BQ5","v":0},{"$f":"IFERROR(#REF!,0)*BU5","v":0},{"$f":"IFERROR(#REF!,0)*BU5","v":0},{"$f":"IFERROR(#REF!,0)*BU5","v":0},{"$f":"IFERROR(#REF!,0)*BU5","v":0},{"$f":"IFERROR(#REF!,0)*BY5","v":0},{"$f":"IFERROR(#REF!,0)*BY5","v":0},{"$f":"IFERROR(#REF!,0)*BY5","v":0},{"$f":"IFERROR(#REF!,0)*BY5","v":0},{"$f":"IFERROR(#REF!,0)*CC5","v":0},{"$f":"IFERROR(#REF!,0)*CC5","v":0},{"$f":"IFERROR(#REF!,0)*CC5","v":0},{"$f":"IFERROR(#REF!,0)*CC5","v":0},{"$f":"IFERROR(#REF!,0)*CG5","v":0},{"$f":"IFERROR(#REF!,0)*CG5","v":0},{"$f":"IFERROR(#REF!,0)*CG5","v":0},{"$f":"IFERROR(#REF!,0)*CG5","v":0},{"$f":"IFERROR(#REF!,0)*CK5","v":0},{"$f":"IFERROR(#REF!,0)*CK5","v":0},{"$f":"IFERROR(#REF!,0)*CK5","v":0},{"$f":"IFERROR(#REF!,0)*CK5","v":0},{"$f":"IFERROR(#REF!,0)*CO5","v":0},{"$f":"IFERROR(#REF!,0)*CO5","v":0},{"$f":"IFERROR(#REF!,0)*CO5","v":0},{"$f":"IFERROR(#REF!,0)*CO5","v":0},{"$f":"IFERROR(#REF!,0)*CS5","v":0},{"$f":"IFERROR(#REF!,0)*CS5","v":0},{"$f":"IFERROR(#REF!,0)*CS5","v":0},{"$f":"IFERROR(#REF!,0)*CS5","v":0},{"$f":"IFERROR(#REF!,0)*CW5","v":0},{"$f":"IFERROR(#REF!,0)*CW5","v":0},{"$f":"IFERROR(#REF!,0)*CW5","v":0},{"$f":"IFERROR(#REF!,0)*CW5","v":0},{"$f":"IFERROR(#REF!,0)*DA5","v":0},{"$f":"IFERROR(#REF!,0)*DA5","v":0},{"$f":"IFERROR(#REF!,0)*DA5","v":0},{"$f":"IFERROR(#REF!,0)*DA5","v":0},{"$f":"IFERROR(#REF!,0)*DE5","v":0},{"$f":"IFERROR(#REF!,0)*DE5","v":0},{"$f":"IFERROR(#REF!,0)*DE5","v":0},{"$f":"IFERROR(#REF!,0)*DE5","v":0},{"$f":"IFERROR(#REF!,0)*DI5","v":0},{"$f":"IFERROR(#REF!,0)*DI5","v":0},{"$f":"IFERROR(#REF!,0)*DI5","v":0},{"$f":"IFERROR(#REF!,0)*DI5","v":0},{"$f":"IFERROR(#REF!,0)*DM5","v":0},{"$f":"IFERROR(#REF!,0)*DM5","v":0},{"$f":"IFERROR(#REF!,0)*DM5","v":0},{"$f":"IFERROR(#REF!,0)*DM5","v":0},{"$f":"IFERROR(#REF!,0)*DQ5","v":0},{"$f":"IFERROR(#REF!,0)*DQ5","v":0},{"$f":"IFERROR(#REF!,0)*DQ5","v":0},{"$f":"IFERROR(#REF!,0)*DQ5","v":0},{"$f":"IFERROR(#REF!,0)*DU5","v":0},{"$f":"IFERROR(#REF!,0)*DU5","v":0},{"$f":"IFERROR(#REF!,0)*DU5","v":0},{"$f":"IFERROR(#REF!,0)*DU5","v":0},{"$f":"IFERROR(#REF!,0)*DY5","v":0},{"$f":"IFERROR(#REF!,0)*DY5","v":0},{"$f":"IFERROR(#REF!,0)*DY5","v":0},{"$f":"IFERROR(#REF!,0)*DY5","v":0},{"$f":"IFERROR(#REF!,0)*EC5","v":0},{"$f":"IFERROR(#REF!,0)*EC5","v":0},{"$f":"IFERROR(#REF!,0)*EC5","v":0},{"$f":"IFERROR(#REF!,0)*EC5","v":0},{"$f":"IFERROR(#REF!,0)*EG5","v":0},{"$f":"IFERROR(#REF!,0)*EG5","v":0},{"$f":"IFERROR(#REF!,0)*EG5","v":0},{"$f":"IFERROR(#REF!,0)*EG5","v":0},{"$f":"IFERROR(#REF!,0)*EK5","v":0},{"$f":"IFERROR(#REF!,0)*EK5","v":0},{"$f":"IFERROR(#REF!,0)*EK5","v":0},{"$f":"IFERROR(#REF!,0)*EK5","v":0},{"$f":"IFERROR(#REF!,0)*EO5","v":0},{"$f":"IFERROR(#REF!,0)*EO5","v":0},{"$f":"IFERROR(#REF!,0)*EO5","v":0},{"$f":"IFERROR(#REF!,0)*EO5","v":0},{"$f":"IFERROR(#REF!,0)*ES5","v":0},{"$f":"IFERROR(#REF!,0)*ES5","v":0},{"$f":"IFERROR(#REF!,0)*ES5","v":0},{"$f":"IFERROR(#REF!,0)*ES5","v":0},{"$f":"IFERROR(#REF!,0)*EW5","v":0},{"$f":"IFERROR(#REF!,0)*EW5","v":0},{"$f":"IFERROR(#REF!,0)*EW5","v":0},{"$f":"IFERROR(#REF!,0)*EW5","v":0},{"$f":"IFERROR(#REF!,0)*FA5","v":0},{"$f":"IFERROR(#REF!,0)*FA5","v":0},{"$f":"IFERROR(#REF!,0)*FA5","v":0},{"$f":"IFERROR(#REF!,0)*FA5","v":0},{"$f":"IFERROR(#REF!,0)*FE5","v":0},{"$f":"IFERROR(#REF!,0)*FE5","v":0},{"$f":"IFERROR(#REF!,0)*FE5","v":0},{"$f":"IFERROR(#REF!,0)*FE5","v":0},{"$f":"IFERROR(#REF!,0)*FI5","v":0},{"$f":"IFERROR(#REF!,0)*FI5","v":0},{"$f":"IFERROR(#REF!,0)*FI5","v":0},{"$f":"IFERROR(#REF!,0)*FI5","v":0},{"$f":"IFERROR(#REF!,0)*FM5","v":0},{"$f":"IFERROR(#REF!,0)*FM5","v":0},{"$f":"IFERROR(#REF!,0)*FM5","v":0},{"$f":"IFERROR(#REF!,0)*FM5","v":0},{"$f":"IFERROR(#REF!,0)*FQ5","v":0},{"$f":"IFERROR(#REF!,0)*FQ5","v":0},{"$f":"IFERROR(#REF!,0)*FQ5","v":0},{"$f":"IFERROR(#REF!,0)*FQ5","v":0},{"$f":"IFERROR(#REF!,0)*FU5","v":0},{"$f":"IFERROR(#REF!,0)*FU5","v":0},{"$f":"IFERROR(#REF!,0)*FU5","v":0},{"$f":"IFERROR(#REF!,0)*FU5","v":0},{"$f":"IFERROR(#REF!,0)*FY5","v":0},{"$f":"IFERROR(#REF!,0)*FY5","v":0},{"$f":"IFERROR(#REF!,0)*FY5","v":0},{"$f":"IFERROR(#REF!,0)*FY5","v":0},{"$f":"IFERROR(#REF!,0)*GC5","v":0},{"$f":"IFERROR(#REF!,0)*GC5","v":0},{"$f":"IFERROR(#REF!,0)*GC5","v":0},{"$f":"IFERROR(#REF!,0)*GC5","v":0},{"$f":"IFERROR(#REF!,0)*GG5","v":0},{"$f":"IFERROR(#REF!,0)*GG5","v":0},{"$f":"IFERROR(#REF!,0)*GG5","v":0},{"$f":"IFERROR(#REF!,0)*GG5","v":0},{"$f":"IFERROR(#REF!,0)*GK5","v":0},{"$f":"IFERROR(#REF!,0)*GK5","v":0},{"$f":"IFERROR(#REF!,0)*GK5","v":0},{"$f":"IFERROR(#REF!,0)*GK5","v":0},{"$f":"IFERROR(#REF!,0)*GO5","v":0},{"$f":"IFERROR(#REF!,0)*GO5","v":0},{"$f":"IFERROR(#REF!,0)*GO5","v":0},{"$f":"IFERROR(#REF!,0)*GO5","v":0},{"$f":"IFERROR(#REF!,0)*GS5","v":0},{"$f":"IFERROR(#REF!,0)*GS5","v":0},{"$f":"IFERROR(#REF!,0)*GS5","v":0},{"$f":"IFERROR(#REF!,0)*GS5","v":0},{"v":0,"d":"0.00"},{"v":0,"d":"0.00"},{"v":0,"d":"0.00"},{"v":0,"d":"0.00"}]
[null,{"$f":"#REF!","v":{"$error":"#REF!"}},{"$f":"#REF!","v":{"$error":"#REF!"}},{"$f":"IFERROR(#REF!,0)*E5","v":0},{"$f":"IFERROR(#REF!,0)*E5","v":0},{"$f":"IFERROR(#REF!,0)*E5","v":0},{"$f":"IFERROR(#REF!,0)*E5","v":0},{"$f":"IFERROR(#REF!,0)*I5","v":0},{"$f":"IFERROR(#REF!,0)*I5","v":0},{"$f":"IFERROR(#REF!,0)*I5","v":0},{"$f":"IFERROR(#REF!,0)*I5","v":0},{"$f":"IFERROR(#REF!,0)*M5","v":0},{"$f":"IFERROR(#REF!,0)*M5","v":0},{"$f":"IFERROR(#REF!,0)*M5","v":0},{"$f":"IFERROR(#REF!,0)*M5","v":0},{"$f":"IFERROR(#REF!,0)*Q5","v":0},{"$f":"IFERROR(#REF!,0)*Q5","v":0},{"$f":"IFERROR(#REF!,0)*Q5","v":0},{"$f":"IFERROR(#REF!,0)*Q5","v":0},{"$f":"IFERROR(#REF!,0)*U5","v":0},{"$f":"IFERROR(#REF!,0)*U5","v":0},{"$f":"IFERROR(#REF!,0)*U5","v":0},{"$f":"IFERROR(#REF!,0)*U5","v":0},{"$f":"IFERROR(#REF!,0)*Y5","v":0},{"$f":"IFERROR(#REF!,0)*Y5","v":0},{"$f":"IFERROR(#REF!,0)*Y5","v":0},{"$f":"IFERROR(#REF!,0)*Y5","v":0},{"$f":"IFERROR(#REF!,0)*AC5","v":0},{"$f":"IFERROR(#REF!,0)*AC5","v":0},{"$f":"IFERROR(#REF!,0)*AC5","v":0},{"$f":"IFERROR(#REF!,0)*AC5","v":0},{"$f":"IFERROR(#REF!,0)*AG5","v":0},{"$f":"IFERROR(#REF!,0)*AG5","v":0},{"$f":"IFERROR(#REF!,0)*AG5","v":0},{"$f":"IFERROR(#REF!,0)*AG5","v":0},{"$f":"IFERROR(#REF!,0)*AK5","v":0},{"$f":"IFERROR(#REF!,0)*AK5","v":0},{"$f":"IFERROR(#REF!,0)*AK5","v":0},{"$f":"IFERROR(#REF!,0)*AK5","v":0},{"$f":"IFERROR(#REF!,0)*AO5","v":0},{"$f":"IFERROR(#REF!,0)*AO5","v":0},{"$f":"IFERROR(#REF!,0)*AO5","v":0},{"$f":"IFERROR(#REF!,0)*AO5","v":0},{"$f":"IFERROR(#REF!,0)*AS5","v":0},{"$f":"IFERROR(#REF!,0)*AS5","v":0},{"$f":"IFERROR(#REF!,0)*AS5","v":0},{"$f":"IFERROR(#REF!,0)*AS5","v":0},{"$f":"IFERROR(#REF!,0)*AW5","v":0},{"$f":"IFERROR(#REF!,0)*AW5","v":0},{"$f":"IFERROR(#REF!,0)*AW5","v":0},{"$f":"IFERROR(#REF!,0)*AW5","v":0},{"$f":"IFERROR(#REF!,0)*BA5","v":0},{"$f":"IFERROR(#REF!,0)*BA5","v":0},{"$f":"IFERROR(#REF!,0)*BA5","v":0},{"$f":"IFERROR(#REF!,0)*BA5","v":0},{"$f":"IFERROR(#REF!,0)*BE5","v":0},{"$f":"IFERROR(#REF!,0)*BE5","v":0},{"$f":"IFERROR(#REF!,0)*BE5","v":0},{"$f":"IFERROR(#REF!,0)*BE5","v":0},{"$f":"IFERROR(#REF!,0)*BI5","v":0},{"$f":"IFERROR(#REF!,0)*BI5","v":0},{"$f":"IFERROR(#REF!,0)*BI5","v":0},{"$f":"IFERROR(#REF!,0)*BI5","v":0},{"$f":"IFERROR(#REF!,0)*BM5","v":0},{"$f":"IFERROR(#REF!,0)*BM5","v":0},{"$f":"IFERROR(#REF!,0)*BM5","v":0},{"$f":"IFERROR(#REF!,0)*BM5","v":0},{"$f":"IFERROR(#REF!,0)*BQ5","v":0},{"$f":"IFERROR(#REF!,0)*BQ5","v":0},{"$f":"IFERROR(#REF!,0)*BQ5","v":0},{"$f":"IFERROR(#REF!,0)*BQ5","v":0},{"$f":"IFERROR(#REF!,0)*BU5","v":0},{"$f":"IFERROR(#REF!,0)*BU5","v":0},{"$f":"IFERROR(#REF!,0)*BU5","v":0},{"$f":"IFERROR(#REF!,0)*BU5","v":0},{"$f":"IFERROR(#REF!,0)*BY5","v":0},{"$f":"IFERROR(#REF!,0)*BY5","v":0},{"$f":"IFERROR(#REF!,0)*BY5","v":0},{"$f":"IFERROR(#REF!,0)*BY5","v":0},{"$f":"IFERROR(#REF!,0)*CC5","v":0},{"$f":"IFERROR(#REF!,0)*CC5","v":0},{"$f":"IFERROR(#REF!,0)*CC5","v":0},{"$f":"IFERROR(#REF!,0)*CC5","v":0},{"$f":"IFERROR(#REF!,0)*CG5","v":0},{"$f":"IFERROR(#REF!,0)*CG5","v":0},{"$f":"IFERROR(#REF!,0)*CG5","v":0},{"$f":"IFERROR(#REF!,0)*CG5","v":0},{"$f":"IFERROR(#REF!,0)*CK5","v":0},{"$f":"IFERROR(#REF!,0)*CK5","v":0},{"$f":"IFERROR(#REF!,0)*CK5","v":0},{"$f":"IFERROR(#REF!,0)*CK5","v":0},{"$f":"IFERROR(#REF!,0)*CO5","v":0},{"$f":"IFERROR(#REF!,0)*CO5","v":0},{"$f":"IFERROR(#REF!,0)*CO5","v":0},{"$f":"IFERROR(#REF!,0)*CO5","v":0},{"$f":"IFERROR(#REF!,0)*CS5","v":0},{"$f":"IFERROR(#REF!,0)*CS5","v":0},{"$f":"IFERROR(#REF!,0)*CS5","v":0},{"$f":"IFERROR(#REF!,0)*CS5","v":0},{"$f":"IFERROR(#REF!,0)*CW5","v":0},{"$f":"IFERROR(#REF!,0)*CW5","v":0},{"$f":"IFERROR(#REF!,0)*CW5","v":0},{"$f":"IFERROR(#REF!,0)*CW5","v":0},{"$f":"IFERROR(#REF!,0)*DA5","v":0},{"$f":"IFERROR(#REF!,0)*DA5","v":0},{"$f":"IFERROR(#REF!,0)*DA5","v":0},{"$f":"IFERROR(#REF!,0)*DA5","v":0},{"$f":"IFERROR(#REF!,0)*DE5","v":0},{"$f":"IFERROR(#REF!,0)*DE5","v":0},{"$f":"IFERROR(#REF!,0)*DE5","v":0},{"$f":"IFERROR(#REF!,0)*DE5","v":0},{"$f":"IFERROR(#REF!,0)*DI5","v":0},{"$f":"IFERROR(#REF!,0)*DI5","v":0},{"$f":"IFERROR(#REF!,0)*DI5","v":0},{"$f":"IFERROR(#REF!,0)*DI5","v":0},{"$f":"IFERROR(#REF!,0)*DM5","v":0},{"$f":"IFERROR(#REF!,0)*DM5","v":0},{"$f":"IFERROR(#REF!,0)*DM5","v":0},{"$f":"IFERROR(#REF!,0)*DM5","v":0},{"$f":"IFERROR(#REF!,0)*DQ5","v":0},{"$f":"IFERROR(#REF!,0)*DQ5","v":0},{"$f":"IFERROR(#REF!,0)*DQ5","v":0},{"$f":"IFERROR(#REF!,0)*DQ5","v":0},{"$f":"IFERROR(#REF!,0)*DU5","v":0},{"$f":"IFERROR(#REF!,0)*DU5","v":0},{"$f":"IFERROR(#REF!,0)*DU5","v":0},{"$f":"IFERROR(#REF!,0)*DU5","v":0},{"$f":"IFERROR(#REF!,0)*DY5","v":0},{"$f":"IFERROR(#REF!,0)*DY5","v":0},{"$f":"IFERROR(#REF!,0)*DY5","v":0},{"$f":"IFERROR(#REF!,0)*DY5","v":0},{"$f":"IFERROR(#REF!,0)*EC5","v":0},{"$f":"IFERROR(#REF!,0)*EC5","v":0},{"$f":"IFERROR(#REF!,0)*EC5","v":0},{"$f":"IFERROR(#REF!,0)*EC5","v":0},{"$f":"IFERROR(#REF!,0)*EG5","v":0},{"$f":"IFERROR(#REF!,0)*EG5","v":0},{"$f":"IFERROR(#REF!,0)*EG5","v":0},{"$f":"IFERROR(#REF!,0)*EG5","v":0},{"$f":"IFERROR(#REF!,0)*EK5","v":0},{"$f":"IFERROR(#REF!,0)*EK5","v":0},{"$f":"IFERROR(#REF!,0)*EK5","v":0},{"$f":"IFERROR(#REF!,0)*EK5","v":0},{"$f":"IFERROR(#REF!,0)*EO5","v":0},{"$f":"IFERROR(#REF!,0)*EO5","v":0},{"$f":"IFERROR(#REF!,0)*EO5","v":0},{"$f":"IFERROR(#REF!,0)*EO5","v":0},{"$f":"IFERROR(#REF!,0)*ES5","v":0},{"$f":"IFERROR(#REF!,0)*ES5","v":0},{"$f":"IFERROR(#REF!,0)*ES5","v":0},{"$f":"IFERROR(#REF!,0)*ES5","v":0},{"$f":"IFERROR(#REF!,0)*EW5","v":0},{"$f":"IFERROR(#REF!,0)*EW5","v":0},{"$f":"IFERROR(#REF!,0)*EW5","v":0},{"$f":"IFERROR(#REF!,0)*EW5","v":0},{"$f":"IFERROR(#REF!,0)*FA5","v":0},{"$f":"IFERROR(#REF!,0)*FA5","v":0},{"$f":"IFERROR(#REF!,0)*FA5","v":0},{"$f":"IFERROR(#REF!,0)*FA5","v":0},{"$f":"IFERROR(#REF!,0)*FE5","v":0},{"$f":"IFERROR(#REF!,0)*FE5","v":0},{"$f":"IFERROR(#REF!,0)*FE5","v":0},{"$f":"IFERROR(#REF!,0)*FE5","v":0},{"$f":"IFERROR(#REF!,0)*FI5","v":0},{"$f":"IFERROR(#REF!,0)*FI5","v":0},{"$f":"IFERROR(#REF!,0)*FI5","v":0},{"$f":"IFERROR(#REF!,0)*FI5","v":0},{"$f":"IFERROR(#REF!,0)*FM5","v":0},{"$f":"IFERROR(#REF!,0)*FM5","v":0},{"$f":"IFERROR(#REF!,0)*FM5","v":0},{"$f":"IFERROR(#REF!,0)*FM5","v":0},{"$f":"IFERROR(#REF!,0)*FQ5","v":0},{"$f":"IFERROR(#REF!,0)*FQ5","v":0},{"$f":"IFERROR(#REF!,0)*FQ5","v":0},{"$f":"IFERROR(#REF!,0)*FQ5","v":0},{"$f":"IFERROR(#REF!,0)*FU5","v":0},{"$f":"IFERROR(#REF!,0)*FU5","v":0},{"$f":"IFERROR(#REF!,0)*FU5","v":0},{"$f":"IFERROR(#REF!,0)*FU5","v":0},{"$f":"IFERROR(#REF!,0)*FY5","v":0},{"$f":"IFERROR(#REF!,0)*FY5","v":0},{"$f":"IFERROR(#REF!,0)*FY5","v":0},{"$f":"IFERROR(#REF!,0)*FY5","v":0},{"$f":"IFERROR(#REF!,0)*GC5","v":0},{"$f":"IFERROR(#REF!,0)*GC5","v":0},{"$f":"IFERROR(#REF!,0)*GC5","v":0},{"$f":"IFERROR(#REF!,0)*GC5","v":0},{"$f":"IFERROR(#REF!,0)*GG5","v":0},{"$f":"IFERROR(#REF!,0)*GG5","v":0},{"$f":"IFERROR(#REF!,0)*GG5","v":0},{"$f":"IFERROR(#REF!,0)*GG5","v":0},{"$f":"IFERROR(#REF!,0)*GK5","v":0},{"$f":"IFERROR(#REF!,0)*GK5","v":0},{"$f":"IFERROR(#REF!,0)*GK5","v":0},{"$f":"IFERROR(#REF!,0)*GK5","v":0},{"$f":"IFERROR(#REF!,0)*GO5","v":0},{"$f":"IFERROR(#REF!,0)*GO5","v":0},{"$f":"IFERROR(#REF!,0)*GO5","v":0},{"$f":"IFERROR(#REF!,0)*GO5","v":0},{"$f":"IFERROR(#REF!,0)*GS5","v":0},{"$f":"IFERROR(#REF!,0)*GS5","v":0},{"$f":"IFERROR(#REF!,0)*GS5","v":0},{"$f":"IFERROR(#REF!,0)*GS5","v":0},{"v":0,"d":"0.00"},{"v":0,"d":"0.00"},{"v":0,"d":"0.00"},{"v":0,"d":"0.00"}]
[null,{"$f":"#REF!","v":{"$error":"#REF!"}},{"$f":"#REF!","v":{"$error":"#REF!"}},{"$f":"IFERROR(#REF!,0)*E5","v":0},{"$f":"IFERROR(#REF!,0)*E5","v":0},{"$f":"IFERROR(#REF!,0)*E5","v":0},{"$f":"IFERROR(#REF!,0)*E5","v":0},{"$f":"IFERROR(#REF!,0)*I5","v":0},{"$f":"IFERROR(#REF!,0)*I5","v":0},{"$f":"IFERROR(#REF!,0)*I5","v":0},{"$f":"IFERROR(#REF!,0)*I5","v":0},{"$f":"IFERROR(#REF!,0)*M5","v":0},{"$f":"IFERROR(#REF!,0)*M5","v":0},{"$f":"IFERROR(#REF!,0)*M5","v":0},{"$f":"IFERROR(#REF!,0)*M5","v":0},{"$f":"IFERROR(#REF!,0)*Q5","v":0},{"$f":"IFERROR(#REF!,0)*Q5","v":0},{"$f":"IFERROR(#REF!,0)*Q5","v":0},{"$f":"IFERROR(#REF!,0)*Q5","v":0},{"$f":"IFERROR(#REF!,0)*U5","v":0},{"$f":"IFERROR(#REF!,0)*U5","v":0},{"$f":"IFERROR(#REF!,0)*U5","v":0},{"$f":"IFERROR(#REF!,0)*U5","v":0},{"$f":"IFERROR(#REF!,0)*Y5","v":0},{"$f":"IFERROR(#REF!,0)*Y5","v":0},{"$f":"IFERROR(#REF!,0)*Y5","v":0},{"$f":"IFERROR(#REF!,0)*Y5","v":0},{"$f":"IFERROR(#REF!,0)*AC5","v":0},{"$f":"IFERROR(#REF!,0)*AC5","v":0},{"$f":"IFERROR(#REF!,0)*AC5","v":0},{"$f":"IFERROR(#REF!,0)*AC5","v":0},{"$f":"IFERROR(#REF!,0)*AG5","v":0},{"$f":"IFERROR(#REF!,0)*AG5","v":0},{"$f":"IFERROR(#REF!,0)*AG5","v":0},{"$f":"IFERROR(#REF!,0)*AG5","v":0},{"$f":"IFERROR(#REF!,0)*AK5","v":0},{"$f":"IFERROR(#REF!,0)*AK5","v":0},{"$f":"IFERROR(#REF!,0)*AK5","v":0},{"$f":"IFERROR(#REF!,0)*AK5","v":0},{"$f":"IFERROR(#REF!,0)*AO5","v":0},{"$f":"IFERROR(#REF!,0)*AO5","v":0},{"$f":"IFERROR(#REF!,0)*AO5","v":0},{"$f":"IFERROR(#REF!,0)*AO5","v":0},{"$f":"IFERROR(#REF!,0)*AS5","v":0},{"$f":"IFERROR(#REF!,0)*AS5","v":0},{"$f":"IFERROR(#REF!,0)*AS5","v":0},{"$f":"IFERROR(#REF!,0)*AS5","v":0},{"$f":"IFERROR(#REF!,0)*AW5","v":0},{"$f":"IFERROR(#REF!,0)*AW5","v":0},{"$f":"IFERROR(#REF!,0)*AW5","v":0},{"$f":"IFERROR(#REF!,0)*AW5","v":0},{"$f":"IFERROR(#REF!,0)*BA5","v":0},{"$f":"IFERROR(#REF!,0)*BA5","v":0},{"$f":"IFERROR(#REF!,0)*BA5","v":0},{"$f":"IFERROR(#REF!,0)*BA5","v":0},{"$f":"IFERROR(#REF!,0)*BE5","v":0},{"$f":"IFERROR(#REF!,0)*BE5","v":0},{"$f":"IFERROR(#REF!,0)*BE5","v":0},{"$f":"IFERROR(#REF!,0)*BE5","v":0},{"$f":"IFERROR(#REF!,0)*BI5","v":0},{"$f":"IFERROR(#REF!,0)*BI5","v":0},{"$f":"IFERROR(#REF!,0)*BI5","v":0},{"$f":"IFERROR(#REF!,0)*BI5","v":0},{"$f":"IFERROR(#REF!,0)*BM5","v":0},{"$f":"IFERROR(#REF!,0)*BM5","v":0},{"$f":"IFERROR(#REF!,0)*BM5","v":0},{"$f":"IFERROR(#REF!,0)*BM5","v":0},{"$f":"IFERROR(#REF!,0)*BQ5","v":0},{"$f":"IFERROR(#REF!,0)*BQ5","v":0},{"$f":"IFERROR(#REF!,0)*BQ5","v":0},{"$f":"IFERROR(#REF!,0)*BQ5","v":0},{"$f":"IFERROR(#REF!,0)*BU5","v":0},{"$f":"IFERROR(#REF!,0)*BU5","v":0},{"$f":"IFERROR(#REF!,0)*BU5","v":0},{"$f":"IFERROR(#REF!,0)*BU5","v":0},{"$f":"IFERROR(#REF!,0)*BY5","v":0},{"$f":"IFERROR(#REF!,0)*BY5","v":0},{"$f":"IFERROR(#REF!,0)*BY5","v":0},{"$f":"IFERROR(#REF!,0)*BY5","v":0},{"$f":"IFERROR(#REF!,0)*CC5","v":0},{"$f":"IFERROR(#REF!,0)*CC5","v":0},{"$f":"IFERROR(#REF!,0)*CC5","v":0},{"$f":"IFERROR(#REF!,0)*CC5","v":0},{"$f":"IFERROR(#REF!,0)*CG5","v":0},{"$f":"IFERROR(#REF!,0)*CG5","v":0},{"$f":"IFERROR(#REF!,0)*CG5","v":0},{"$f":"IFERROR(#REF!,0)*CG5","v":0},{"$f":"IFERROR(#REF!,0)*CK5","v":0},{"$f":"IFERROR(#REF!,0)*CK5","v":0},{"$f":"IFERROR(#REF!,0)*CK5","v":0},{"$f":"IFERROR(#REF!,0)*CK5","v":0},{"$f":"IFERROR(#REF!,0)*CO5","v":0},{"$f":"IFERROR(#REF!,0)*CO5","v":0},{"$f":"IFERROR(#REF!,0)*CO5","v":0},{"$f":"IFERROR(#REF!,0)*CO5","v":0},{"$f":"IFERROR(#REF!,0)*CS5","v":0},{"$f":"IFERROR(#REF!,0)*CS5","v":0},{"$f":"IFERROR(#REF!,0)*CS5","v":0},{"$f":"IFERROR(#REF!,0)*CS5","v":0},{"$f":"IFERROR(#REF!,0)*CW5","v":0},{"$f":"IFERROR(#REF!,0)*CW5","v":0},{"$f":"IFERROR(#REF!,0)*CW5","v":0},{"$f":"IFERROR(#REF!,0)*CW5","v":0},{"$f":"IFERROR(#REF!,0)*DA5","v":0},{"$f":"IFERROR(#REF!,0)*DA5","v":0},{"$f":"IFERROR(#REF!,0)*DA5","v":0},{"$f":"IFERROR(#REF!,0)*DA5","v":0},{"$f":"IFERROR(#REF!,0)*DE5","v":0},{"$f":"IFERROR(#REF!,0)*DE5","v":0},{"$f":"IFERROR(#REF!,0)*DE5","v":0},{"$f":"IFERROR(#REF!,0)*DE5","v":0},{"$f":"IFERROR(#REF!,0)*DI5","v":0},{"$f":"IFERROR(#REF!,0)*DI5","v":0},{"$f":"IFERROR(#REF!,0)*DI5","v":0},{"$f":"IFERROR(#REF!,0)*DI5","v":0},{"$f":"IFERROR(#REF!,0)*DM5","v":0},{"$f":"IFERROR(#REF!,0)*DM5","v":0},{"$f":"IFERROR(#REF!,0)*DM5","v":0},{"$f":"IFERROR(#REF!,0)*DM5","v":0},{"$f":"IFERROR(#REF!,0)*DQ5","v":0},{"$f":"IFERROR(#REF!,0)*DQ5","v":0},{"$f":"IFERROR(#REF!,0)*DQ5","v":0},{"$f":"IFERROR(#REF!,0)*DQ5","v":0},{"$f":"IFERROR(#REF!,0)*DU5","v":0},{"$f":"IFERROR(#REF!,0)*DU5","v":0},{"$f":"IFERROR(#REF!,0)*DU5","v":0},{"$f":"IFERROR(#REF!,0)*DU5","v":0},{"$f":"IFERROR(#REF!,0)*DY5","v":0},{"$f":"IFERROR(#REF!,0)*DY5","v":0},{"$f":"IFERROR(#REF!,0)*DY5","v":0},{"$f":"IFERROR(#REF!,0)*DY5","v":0},{"$f":"IFERROR(#REF!,0)*EC5","v":0},{"$f":"IFERROR(#REF!,0)*EC5","v":0},{"$f":"IFERROR(#REF!,0)*EC5","v":0},{"$f":"IFERROR(#REF!,0)*EC5","v":0},{"$f":"IFERROR(#REF!,0)*EG5","v":0},{"$f":"IFERROR(#REF!,0)*EG5","v":0},{"$f":"IFERROR(#REF!,0)*EG5","v":0},{"$f":"IFERROR(#REF!,0)*EG5","v":0},{"$f":"IFERROR(#REF!,0)*EK5","v":0},{"$f":"IFERROR(#REF!,0)*EK5","v":0},{"$f":"IFERROR(#REF!,0)*EK5","v":0},{"$f":"IFERROR(#REF!,0)*EK5","v":0},{"$f":"IFERROR(#REF!,0)*EO5","v":0},{"$f":"IFERROR(#REF!,0)*EO5","v":0},{"$f":"IFERROR(#REF!,0)*EO5","v":0},{"$f":"IFERROR(#REF!,0)*EO5","v":0},{"$f":"IFERROR(#REF!,0)*ES5","v":0},{"$f":"IFERROR(#REF!,0)*ES5","v":0},{"$f":"IFERROR(#REF!,0)*ES5","v":0},{"$f":"IFERROR(#REF!,0)*ES5","v":0},{"$f":"IFERROR(#REF!,0)*EW5","v":0},{"$f":"IFERROR(#REF!,0)*EW5","v":0},{"$f":"IFERROR(#REF!,0)*EW5","v":0},{"$f":"IFERROR(#REF!,0)*EW5","v":0},{"$f":"IFERROR(#REF!,0)*FA5","v":0},{"$f":"IFERROR(#REF!,0)*FA5","v":0},{"$f":"IFERROR(#REF!,0)*FA5","v":0},{"$f":"IFERROR(#REF!,0)*FA5","v":0},{"$f":"IFERROR(#REF!,0)*FE5","v":0},{"$f":"IFERROR(#REF!,0)*FE5","v":0},{"$f":"IFERROR(#REF!,0)*FE5","v":0},{"$f":"IFERROR(#REF!,0)*FE5","v":0},{"$f":"IFERROR(#REF!,0)*FI5","v":0},{"$f":"IFERROR(#REF!,0)*FI5","v":0},{"$f":"IFERROR(#REF!,0)*FI5","v":0},{"$f":"IFERROR(#REF!,0)*FI5","v":0},{"$f":"IFERROR(#REF!,0)*FM5","v":0},{"$f":"IFERROR(#REF!,0)*FM5","v":0},{"$f":"IFERROR(#REF!,0)*FM5","v":0},{"$f":"IFERROR(#REF!,0)*FM5","v":0},{"$f":"IFERROR(#REF!,0)*FQ5","v":0},{"$f":"IFERROR(#REF!,0)*FQ5","v":0},{"$f":"IFERROR(#REF!,0)*FQ5","v":0},{"$f":"IFERROR(#REF!,0)*FQ5","v":0},{"$f":"IFERROR(#REF!,0)*FU5","v":0},{"$f":"IFERROR(#REF!,0)*FU5","v":0},{"$f":"IFERROR(#REF!,0)*FU5","v":0},{"$f":"IFERROR(#REF!,0)*FU5","v":0},{"$f":"IFERROR(#REF!,0)*FY5","v":0},{"$f":"IFERROR(#REF!,0)*FY5","v":0},{"$f":"IFERROR(#REF!,0)*FY5","v":0},{"$f":"IFERROR(#REF!,0)*FY5","v":0},{"$f":"IFERROR(#REF!,0)*GC5","v":0},{"$f":"IFERROR(#REF!,0)*GC5","v":0},{"$f":"IFERROR(#REF!,0)*GC5","v":0},{"$f":"IFERROR(#REF!,0)*GC5","v":0},{"$f":"IFERROR(#REF!,0)*GG5","v":0},{"$f":"IFERROR(#REF!,0)*GG5","v":0},{"$f":"IFERROR(#REF!,0)*GG5","v":0},{"$f":"IFERROR(#REF!,0)*GG5","v":0},{"$f":"IFERROR(#REF!,0)*GK5","v":0},{"$f":"IFERROR(#REF!,0)*GK5","v":0},{"$f":"IFERROR(#REF!,0)*GK5","v":0},{"$f":"IFERROR(#REF!,0)*GK5","v":0},{"$f":"IFERROR(#REF!,0)*GO5","v":0},{"$f":"IFERROR(#REF!,0)*GO5","v":0},{"$f":"IFERROR(#REF!,0)*GO5","v":0},{"$f":"IFERROR(#REF!,0)*GO5","v":0},{"$f":"IFERROR(#REF!,0)*GS5","v":0},{"$f":"IFERROR(#REF!,0)*GS5","v":0},{"$f":"IFERROR(#REF!,0)*GS5","v":0},{"$f":"IFERROR(#REF!,0)*GS5","v":0},{"v":0,"d":"0.00"},{"v":0,"d":"0.00"},{"v":0,"d":"0.00"},{"v":0,"d":"0.00"}]
[null,{"$f":"#REF!","v":{"$error":"#REF!"}},{"$f":"#REF!","v":{"$error":"#REF!"}},{"$f":"IFERROR(#REF!,0)*E5","v":0},{"$f":"IFERROR(#REF!,0)*E5","v":0},{"$f":"IFERROR(#REF!,0)*E5","v":0},{"$f":"IFERROR(#REF!,0)*E5","v":0},{"$f":"IFERROR(#REF!,0)*I5","v":0},{"$f":"IFERROR(#REF!,0)*I5","v":0},{"$f":"IFERROR(#REF!,0)*I5","v":0},{"$f":"IFERROR(#REF!,0)*I5","v":0},{"$f":"IFERROR(#REF!,0)*M5","v":0},{"$f":"IFERROR(#REF!,0)*M5","v":0},{"$f":"IFERROR(#REF!,0)*M5","v":0},{"$f":"IFERROR(#REF!,0)*M5","v":0},{"$f":"IFERROR(#REF!,0)*Q5","v":0},{"$f":"IFERROR(#REF!,0)*Q5","v":0},{"$f":"IFERROR(#REF!,0)*Q5","v":0},{"$f":"IFERROR(#REF!,0)*Q5","v":0},{"$f":"IFERROR(#REF!,0)*U5","v":0},{"$f":"IFERROR(#REF!,0)*U5","v":0},{"$f":"IFERROR(#REF!,0)*U5","v":0},{"$f":"IFERROR(#REF!,0)*U5","v":0},{"$f":"IFERROR(#REF!,0)*Y5","v":0},{"$f":"IFERROR(#REF!,0)*Y5","v":0},{"$f":"IFERROR(#REF!,0)*Y5","v":0},{"$f":"IFERROR(#REF!,0)*Y5","v":0},{"$f":"IFERROR(#REF!,0)*AC5","v":0},{"$f":"IFERROR(#REF!,0)*AC5","v":0},{"$f":"IFERROR(#REF!,0)*AC5","v":0},{"$f":"IFERROR(#REF!,0)*AC5","v":0},{"$f":"IFERROR(#REF!,0)*AG5","v":0},{"$f":"IFERROR(#REF!,0)*AG5","v":0},{"$f":"IFERROR(#REF!,0)*AG5","v":0},{"$f":"IFERROR(#REF!,0)*AG5","v":0},{"$f":"IFERROR(#REF!,0)*AK5","v":0},{"$f":"IFERROR(#REF!,0)*AK5","v":0},{"$f":"IFERROR(#REF!,0)*AK5","v":0},{"$f":"IFERROR(#REF!,0)*AK5","v":0},{"$f":"IFERROR(#REF!,0)*AO5","v":0},{"$f":"IFERROR(#REF!,0)*AO5","v":0},{"$f":"IFERROR(#REF!,0)*AO5","v":0},{"$f":"IFERROR(#REF!,0)*AO5","v":0},{"$f":"IFERROR(#REF!,0)*AS5","v":0},{"$f":"IFERROR(#REF!,0)*AS5","v":0},{"$f":"IFERROR(#REF!,0)*AS5","v":0},{"$f":"IFERROR(#REF!,0)*AS5","v":0},{"$f":"IFERROR(#REF!,0)*AW5","v":0},{"$f":"IFERROR(#REF!,0)*AW5","v":0},{"$f":"IFERROR(#REF!,0)*AW5","v":0},{"$f":"IFERROR(#REF!,0)*AW5","v":0},{"$f":"IFERROR(#REF!,0)*BA5","v":0},{"$f":"IFERROR(#REF!,0)*BA5","v":0},{"$f":"IFERROR(#REF!,0)*BA5","v":0},{"$f":"IFERROR(#REF!,0)*BA5","v":0},{"$f":"IFERROR(#REF!,0)*BE5","v":0},{"$f":"IFERROR(#REF!,0)*BE5","v":0},{"$f":"IFERROR(#REF!,0)*BE5","v":0},{"$f":"IFERROR(#REF!,0)*BE5","v":0},{"$f":"IFERROR(#REF!,0)*BI5","v":0},{"$f":"IFERROR(#REF!,0)*BI5","v":0},{"$f":"IFERROR(#REF!,0)*BI5","v":0},{"$f":"IFERROR(#REF!,0)*BI5","v":0},{"$f":"IFERROR(#REF!,0)*BM5","v":0},{"$f":"IFERROR(#REF!,0)*BM5","v":0},{"$f":"IFERROR(#REF!,0)*BM5","v":0},{"$f":"IFERROR(#REF!,0)*BM5","v":0},{"$f":"IFERROR(#REF!,0)*BQ5","v":0},{"$f":"IFERROR(#REF!,0)*BQ5","v":0},{"$f":"IFERROR(#REF!,0)*BQ5","v":0},{"$f":"IFERROR(#REF!,0)*BQ5","v":0},{"$f":"IFERROR(#REF!,0)*BU5","v":0},{"$f":"IFERROR(#REF!,0)*BU5","v":0},{"$f":"IFERROR(#REF!,0)*BU5","v":0},{"$f":"IFERROR(#REF!,0)*BU5","v":0},{"$f":"IFERROR(#REF!,0)*BY5","v":0},{"$f":"IFERROR(#REF!,0)*BY5","v":0},{"$f":"IFERROR(#REF!,0)*BY5","v":0},{"$f":"IFERROR(#REF!,0)*BY5","v":0},{"$f":"IFERROR(#REF!,0)*CC5","v":0},{"$f":"IFERROR(#REF!,0)*CC5","v":0},{"$f":"IFERROR(#REF!,0)*CC5","v":0},{"$f":"IFERROR(#REF!,0)*CC5","v":0},{"$f":"IFERROR(#REF!,0)*CG5","v":0},{"$f":"IFERROR(#REF!,0)*CG5","v":0},{"$f":"IFERROR(#REF!,0)*CG5","v":0},{"$f":"IFERROR(#REF!,0)*CG5","v":0},{"$f":"IFERROR(#REF!,0)*CK5","v":0},{"$f":"IFERROR(#REF!,0)*CK5","v":0},{"$f":"IFERROR(#REF!,0)*CK5","v":0},{"$f":"IFERROR(#REF!,0)*CK5","v":0},{"$f":"IFERROR(#REF!,0)*CO5","v":0},{"$f":"IFERROR(#REF!,0)*CO5","v":0},{"$f":"IFERROR(#REF!,0)*CO5","v":0},{"$f":"IFERROR(#REF!,0)*CO5","v":0},{"$f":"IFERROR(#REF!,0)*CS5","v":0},{"$f":"IFERROR(#REF!,0)*CS5","v":0},{"$f":"IFERROR(#REF!,0)*CS5","v":0},{"$f":"IFERROR(#REF!,0)*CS5","v":0},{"$f":"IFERROR(#REF!,0)*CW5","v":0},{"$f":"IFERROR(#REF!,0)*CW5","v":0},{"$f":"IFERROR(#REF!,0)*CW5","v":0},{"$f":"IFERROR(#REF!,0)*CW5","v":0},{"$f":"IFERROR(#REF!,0)*DA5","v":0},{"$f":"IFERROR(#REF!,0)*DA5","v":0},{"$f":"IFERROR(#REF!,0)*DA5","v":0},{"$f":"IFERROR(#REF!,0)*DA5","v":0},{"$f":"IFERROR(#REF!,0)*DE5","v":0},{"$f":"IFERROR(#REF!,0)*DE5","v":0},{"$f":"IFERROR(#REF!,0)*DE5","v":0},{"$f":"IFERROR(#REF!,0)*DE5","v":0},{"$f":"IFERROR(#REF!,0)*DI5","v":0},{"$f":"IFERROR(#REF!,0)*DI5","v":0},{"$f":"IFERROR(#REF!,0)*DI5","v":0},{"$f":"IFERROR(#REF!,0)*DI5","v":0},{"$f":"IFERROR(#REF!,0)*DM5","v":0},{"$f":"IFERROR(#REF!,0)*DM5","v":0},{"$f":"IFERROR(#REF!,0)*DM5","v":0},{"$f":"IFERROR(#REF!,0)*DM5","v":0},{"$f":"IFERROR(#REF!,0)*DQ5","v":0},{"$f":"IFERROR(#REF!,0)*DQ5","v":0},{"$f":"IFERROR(#REF!,0)*DQ5","v":0},{"$f":"IFERROR(#REF!,0)*DQ5","v":0},{"$f":"IFERROR(#REF!,0)*DU5","v":0},{"$f":"IFERROR(#REF!,0)*DU5","v":0},{"$f":"IFERROR(#REF!,0)*DU5","v":0},{"$f":"IFERROR(#REF!,0)*DU5","v":0},{"$f":"IFERROR(#REF!,0)*DY5","v":0},{"$f":"IFERROR(#REF!,0)*DY5","v":0},{"$f":"IFERROR(#REF!,0)*DY5","v":0},{"$f":"IFERROR(#REF!,0)*DY5","v":0},{"$f":"IFERROR(#REF!,0)*EC5","v":0},{"$f":"IFERROR(#REF!,0)*EC5","v":0},{"$f":"IFERROR(#REF!,0)*EC5","v":0},{"$f":"IFERROR(#REF!,0)*EC5","v":0},{"$f":"IFERROR(#REF!,0)*EG5","v":0},{"$f":"IFERROR(#REF!,0)*EG5","v":0},{"$f":"IFERROR(#REF!,0)*EG5","v":0},{"$f":"IFERROR(#REF!,0)*EG5","v":0},{"$f":"IFERROR(#REF!,0)*EK5","v":0},{"$f":"IFERROR(#REF!,0)*EK5","v":0},{"$f":"IFERROR(#REF!,0)*EK5","v":0},{"$f":"IFERROR(#REF!,0)*EK5","v":0},{"$f":"IFERROR(#REF!,0)*EO5","v":0},{"$f":"IFERROR(#REF!,0)*EO5","v":0},{"$f":"IFERROR(#REF!,0)*EO5","v":0},{"$f":"IFERROR(#REF!,0)*EO5","v":0},{"$f":"IFERROR(#REF!,0)*ES5","v":0},{"$f":"IFERROR(#REF!,0)*ES5","v":0},{"$f":"IFERROR(#REF!,0)*ES5","v":0},{"$f":"IFERROR(#REF!,0)*ES5","v":0},{"$f":"IFERROR(#REF!,0)*EW5","v":0},{"$f":"IFERROR(#REF!,0)*EW5","v":0},{"$f":"IFERROR(#REF!,0)*EW5","v":0},{"$f":"IFERROR(#REF!,0)*EW5","v":0},{"$f":"IFERROR(#REF!,0)*FA5","v":0},{"$f":"IFERROR(#REF!,0)*FA5","v":0},{"$f":"IFERROR(#REF!,0)*FA5","v":0},{"$f":"IFERROR(#REF!,0)*FA5","v":0},{"$f":"IFERROR(#REF!,0)*FE5","v":0},{"$f":"IFERROR(#REF!,0)*FE5","v":0},{"$f":"IFERROR(#REF!,0)*FE5","v":0},{"$f":"IFERROR(#REF!,0)*FE5","v":0},{"$f":"IFERROR(#REF!,0)*FI5","v":0},{"$f":"IFERROR(#REF!,0)*FI5","v":0},{"$f":"IFERROR(#REF!,0)*FI5","v":0},{"$f":"IFERROR(#REF!,0)*FI5","v":0},{"$f":"IFERROR(#REF!,0)*FM5","v":0},{"$f":"IFERROR(#REF!,0)*FM5","v":0},{"$f":"IFERROR(#REF!,0)*FM5","v":0},{"$f":"IFERROR(#REF!,0)*FM5","v":0},{"$f":"IFERROR(#REF!,0)*FQ5","v":0},{"$f":"IFERROR(#REF!,0)*FQ5","v":0},{"$f":"IFERROR(#REF!,0)*FQ5","v":0},{"$f":"IFERROR(#REF!,0)*FQ5","v":0},{"$f":"IFERROR(#REF!,0)*FU5","v":0},{"$f":"IFERROR(#REF!,0)*FU5","v":0},{"$f":"IFERROR(#REF!,0)*FU5","v":0},{"$f":"IFERROR(#REF!,0)*FU5","v":0},{"$f":"IFERROR(#REF!,0)*FY5","v":0},{"$f":"IFERROR(#REF!,0)*FY5","v":0},{"$f":"IFERROR(#REF!,0)*FY5","v":0},{"$f":"IFERROR(#REF!,0)*FY5","v":0},{"$f":"IFERROR(#REF!,0)*GC5","v":0},{"$f":"IFERROR(#REF!,0)*GC5","v":0},{"$f":"IFERROR(#REF!,0)*GC5","v":0},{"$f":"IFERROR(#REF!,0)*GC5","v":0},{"$f":"IFERROR(#REF!,0)*GG5","v":0},{"$f":"IFERROR(#REF!,0)*GG5","v":0},{"$f":"IFERROR(#REF!,0)*GG5","v":0},{"$f":"IFERROR(#REF!,0)*GG5","v":0},{"$f":"IFERROR(#REF!,0)*GK5","v":0},{"$f":"IFERROR(#REF!,0)*GK5","v":0},{"$f":"IFERROR(#REF!,0)*GK5","v":0},{"$f":"IFERROR(#REF!,0)*GK5","v":0},{"$f":"IFERROR(#REF!,0)*GO5","v":0},{"$f":"IFERROR(#REF!,0)*GO5","v":0},{"$f":"IFERROR(#REF!,0)*GO5","v":0},{"$f":"IFERROR(#REF!,0)*GO5","v":0},{"$f":"IFERROR(#REF!,0)*GS5","v":0},{"$f":"IFERROR(#REF!,0)*GS5","v":0},{"$f":"IFERROR(#REF!,0)*GS5","v":0},{"$f":"IFERROR(#REF!,0)*GS5","v":0},{"v":0,"d":"0.00"},{"v":0,"d":"0.00"},{"v":0,"d":"0.00"},{"v":0,"d":"0.00"}]
[null,{"$f":"#REF!","v":{"$error":"#REF!"}},{"$f":"#REF!","v":{"$error":"#REF!"}},{"$f":"IFERROR(#REF!,0)*E5","v":0},{"$f":"IFERROR(#REF!,0)*E5","v":0},{"$f":"IFERROR(#REF!,0)*E5","v":0},{"$f":"IFERROR(#REF!,0)*E5","v":0},{"$f":"IFERROR(#REF!,0)*I5","v":0},{"$f":"IFERROR(#REF!,0)*I5","v":0},{"$f":"IFERROR(#REF!,0)*I5","v":0},{"$f":"IFERROR(#REF!,0)*I5","v":0},{"$f":"IFERROR(#REF!,0)*M5","v":0},{"$f":"IFERROR(#REF!,0)*M5","v":0},{"$f":"IFERROR(#REF!,0)*M5","v":0},{"$f":"IFERROR(#REF!,0)*M5","v":0},{"$f":"IFERROR(#REF!,0)*Q5","v":0},{"$f":"IFERROR(#REF!,0)*Q5","v":0},{"$f":"IFERROR(#REF!,0)*Q5","v":0},{"$f":"IFERROR(#REF!,0)*Q5","v":0},{"$f":"IFERROR(#REF!,0)*U5","v":0},{"$f":"IFERROR(#REF!,0)*U5","v":0},{"$f":"IFERROR(#REF!,0)*U5","v":0},{"$f":"IFERROR(#REF!,0)*U5","v":0},{"$f":"IFERROR(#REF!,0)*Y5","v":0},{"$f":"IFERROR(#REF!,0)*Y5","v":0},{"$f":"IFERROR(#REF!,0)*Y5","v":0},{"$f":"IFERROR(#REF!,0)*Y5","v":0},{"$f":"IFERROR(#REF!,0)*AC5","v":0},{"$f":"IFERROR(#REF!,0)*AC5","v":0},{"$f":"IFERROR(#REF!,0)*AC5","v":0},{"$f":"IFERROR(#REF!,0)*AC5","v":0},{"$f":"IFERROR(#REF!,0)*AG5","v":0},{"$f":"IFERROR(#REF!,0)*AG5","v":0},{"$f":"IFERROR(#REF!,0)*AG5","v":0},{"$f":"IFERROR(#REF!,0)*AG5","v":0},{"$f":"IFERROR(#REF!,0)*AK5","v":0},{"$f":"IFERROR(#REF!,0)*AK5","v":0},{"$f":"IFERROR(#REF!,0)*AK5","v":0},{"$f":"IFERROR(#REF!,0)*AK5","v":0},{"$f":"IFERROR(#REF!,0)*AO5","v":0},{"$f":"IFERROR(#REF!,0)*AO5","v":0},{"$f":"IFERROR(#REF!,0)*AO5","v":0},{"$f":"IFERROR(#REF!,0)*AO5","v":0},{"$f":"IFERROR(#REF!,0)*AS5","v":0},{"$f":"IFERROR(#REF!,0)*AS5","v":0},{"$f":"IFERROR(#REF!,0)*AS5","v":0},{"$f":"IFERROR(#REF!,0)*AS5","v":0},{"$f":"IFERROR(#REF!,0)*AW5","v":0},{"$f":"IFERROR(#REF!,0)*AW5","v":0},{"$f":"IFERROR(#REF!,0)*AW5","v":0},{"$f":"IFERROR(#REF!,0)*AW5","v":0},{"$f":"IFERROR(#REF!,0)*BA5","v":0},{"$f":"IFERROR(#REF!,0)*BA5","v":0},{"$f":"IFERROR(#REF!,0)*BA5","v":0},{"$f":"IFERROR(#REF!,0)*BA5","v":0},{"$f":"IFERROR(#REF!,0)*BE5","v":0},{"$f":"IFERROR(#REF!,0)*BE5","v":0},{"$f":"IFERROR(#REF!,0)*BE5","v":0},{"$f":"IFERROR(#REF!,0)*BE5","v":0},{"$f":"IFERROR(#REF!,0)*BI5","v":0},{"$f":"IFERROR(#REF!,0)*BI5","v":0},{"$f":"IFERROR(#REF!,0)*BI5","v":0},{"$f":"IFERROR(#REF!,0)*BI5","v":0},{"$f":"IFERROR(#REF!,0)*BM5","v":0},{"$f":"IFERROR(#REF!,0)*BM5","v":0},{"$f":"IFERROR(#REF!,0)*BM5","v":0},{"$f":"IFERROR(#REF!,0)*BM5","v":0},{"$f":"IFERROR(#REF!,0)*BQ5","v":0},{"$f":"IFERROR(#REF!,0)*BQ5","v":0},{"$f":"IFERROR(#REF!,0)*BQ5","v":0},{"$f":"IFERROR(#REF!,0)*BQ5","v":0},{"$f":"IFERROR(#REF!,0)*BU5","v":0},{"$f":"IFERROR(#REF!,0)*BU5","v":0},{"$f":"IFERROR(#REF!,0)*BU5","v":0},{"$f":"IFERROR(#REF!,0)*BU5","v":0},{"$f":"IFERROR(#REF!,0)*BY5","v":0},{"$f":"IFERROR(#REF!,0)*BY5","v":0},{"$f":"IFERROR(#REF!,0)*BY5","v":0},{"$f":"IFERROR(#REF!,0)*BY5","v":0},{"$f":"IFERROR(#REF!,0)*CC5","v":0},{"$f":"IFERROR(#REF!,0)*CC5","v":0},{"$f":"IFERROR(#REF!,0)*CC5","v":0},{"$f":"IFERROR(#REF!,0)*CC5","v":0},{"$f":"IFERROR(#REF!,0)*CG5","v":0},{"$f":"IFERROR(#REF!,0)*CG5","v":0},{"$f":"IFERROR(#REF!,0)*CG5","v":0},{"$f":"IFERROR(#REF!,0)*CG5","v":0},{"$f":"IFERROR(#REF!,0)*CK5","v":0},{"$f":"IFERROR(#REF!,0)*CK5","v":0},{"$f":"IFERROR(#REF!,0)*CK5","v":0},{"$f":"IFERROR(#REF!,0)*CK5","v":0},{"$f":"IFERROR(#REF!,0)*CO5","v":0},{"$f":"IFERROR(#REF!,0)*CO5","v":0},{"$f":"IFERROR(#REF!,0)*CO5","v":0},{"$f":"IFERROR(#REF!,0)*CO5","v":0},{"$f":"IFERROR(#REF!,0)*CS5","v":0},{"$f":"IFERROR(#REF!,0)*CS5","v":0},{"$f":"IFERROR(#REF!,0)*CS5","v":0},{"$f":"IFERROR(#REF!,0)*CS5","v":0},{"$f":"IFERROR(#REF!,0)*CW5","v":0},{"$f":"IFERROR(#REF!,0)*CW5","v":0},{"$f":"IFERROR(#REF!,0)*CW5","v":0},{"$f":"IFERROR(#REF!,0)*CW5","v":0},{"$f":"IFERROR(#REF!,0)*DA5","v":0},{"$f":"IFERROR(#REF!,0)*DA5","v":0},{"$f":"IFERROR(#REF!,0)*DA5","v":0},{"$f":"IFERROR(#REF!,0)*DA5","v":0},{"$f":"IFERROR(#REF!,0)*DE5","v":0},{"$f":"IFERROR(#REF!,0)*DE5","v":0},{"$f":"IFERROR(#REF!,0)*DE5","v":0},{"$f":"IFERROR(#REF!,0)*DE5","v":0},{"$f":"IFERROR(#REF!,0)*DI5","v":0},{"$f":"IFERROR(#REF!,0)*DI5","v":0},{"$f":"IFERROR(#REF!,0)*DI5","v":0},{"$f":"IFERROR(#REF!,0)*DI5","v":0},{"$f":"IFERROR(#REF!,0)*DM5","v":0},{"$f":"IFERROR(#REF!,0)*DM5","v":0},{"$f":"IFERROR(#REF!,0)*DM5","v":0},{"$f":"IFERROR(#REF!,0)*DM5","v":0},{"$f":"IFERROR(#REF!,0)*DQ5","v":0},{"$f":"IFERROR(#REF!,0)*DQ5","v":0},{"$f":"IFERROR(#REF!,0)*DQ5","v":0},{"$f":"IFERROR(#REF!,0)*DQ5","v":0},{"$f":"IFERROR(#REF!,0)*DU5","v":0},{"$f":"IFERROR(#REF!,0)*DU5","v":0},{"$f":"IFERROR(#REF!,0)*DU5","v":0},{"$f":"IFERROR(#REF!,0)*DU5","v":0},{"$f":"IFERROR(#REF!,0)*DY5","v":0},{"$f":"IFERROR(#REF!,0)*DY5","v":0},{"$f":"IFERROR(#REF!,0)*DY5","v":0},{"$f":"IFERROR(#REF!,0)*DY5","v":0},{"$f":"IFERROR(#REF!,0)*EC5","v":0},{"$f":"IFERROR(#REF!,0)*EC5","v":0},{"$f":"IFERROR(#REF!,0)*EC5","v":0},{"$f":"IFERROR(#REF!,0)*EC5","v":0},{"$f":"IFERROR(#REF!,0)*EG5","v":0},{"$f":"IFERROR(#REF!,0)*EG5","v":0},{"$f":"IFERROR(#REF!,0)*EG5","v":0},{"$f":"IFERROR(#REF!,0)*EG5","v":0},{"$f":"IFERROR(#REF!,0)*EK5","v":0},{"$f":"IFERROR(#REF!,0)*EK5","v":0},{"$f":"IFERROR(#REF!,0)*EK5","v":0},{"$f":"IFERROR(#REF!,0)*EK5","v":0},{"$f":"IFERROR(#REF!,0)*EO5","v":0},{"$f":"IFERROR(#REF!,0)*EO5","v":0},{"$f":"IFERROR(#REF!,0)*EO5","v":0},{"$f":"IFERROR(#REF!,0)*EO5","v":0},{"$f":"IFERROR(#REF!,0)*ES5","v":0},{"$f":"IFERROR(#REF!,0)*ES5","v":0},{"$f":"IFERROR(#REF!,0)*ES5","v":0},{"$f":"IFERROR(#REF!,0)*ES5","v":0},{"$f":"IFERROR(#REF!,0)*EW5","v":0},{"$f":"IFERROR(#REF!,0)*EW5","v":0},{"$f":"IFERROR(#REF!,0)*EW5","v":0},{"$f":"IFERROR(#REF!,0)*EW5","v":0},{"$f":"IFERROR(#REF!,0)*FA5","v":0},{"$f":"IFERROR(#REF!,0)*FA5","v":0},{"$f":"IFERROR(#REF!,0)*FA5","v":0},{"$f":"IFERROR(#REF!,0)*FA5","v":0},{"$f":"IFERROR(#REF!,0)*FE5","v":0},{"$f":"IFERROR(#REF!,0)*FE5","v":0},{"$f":"IFERROR(#REF!,0)*FE5","v":0},{"$f":"IFERROR(#REF!,0)*FE5","v":0},{"$f":"IFERROR(#REF!,0)*FI5","v":0},{"$f":"IFERROR(#REF!,0)*FI5","v":0},{"$f":"IFERROR(#REF!,0)*FI5","v":0},{"$f":"IFERROR(#REF!,0)*FI5","v":0},{"$f":"IFERROR(#REF!,0)*FM5","v":0},{"$f":"IFERROR(#REF!,0)*FM5","v":0},{"$f":"IFERROR(#REF!,0)*FM5","v":0},{"$f":"IFERROR(#REF!,0)*FM5","v":0},{"$f":"IFERROR(#REF!,0)*FQ5","v":0},{"$f":"IFERROR(#REF!,0)*FQ5","v":0},{"$f":"IFERROR(#REF!,0)*FQ5","v":0},{"$f":"IFERROR(#REF!,0)*FQ5","v":0},{"$f":"IFERROR(#REF!,0)*FU5","v":0},{"$f":"IFERROR(#REF!,0)*FU5","v":0},{"$f":"IFERROR(#REF!,0)*FU5","v":0},{"$f":"IFERROR(#REF!,0)*FU5","v":0},{"$f":"IFERROR(#REF!,0)*FY5","v":0},{"$f":"IFERROR(#REF!,0)*FY5","v":0},{"$f":"IFERROR(#REF!,0)*FY5","v":0},{"$f":"IFERROR(#REF!,0)*FY5","v":0},{"$f":"IFERROR(#REF!,0)*GC5","v":0},{"$f":"IFERROR(#REF!,0)*GC5","v":0},{"$f":"IFERROR(#REF!,0)*GC5","v":0},{"$f":"IFERROR(#REF!,0)*GC5","v":0},{"$f":"IFERROR(#REF!,0)*GG5","v":0},{"$f":"IFERROR(#REF!,0)*GG5","v":0},{"$f":"IFERROR(#REF!,0)*GG5","v":0},{"$f":"IFERROR(#REF!,0)*GG5","v":0},{"$f":"IFERROR(#REF!,0)*GK5","v":0},{"$f":"IFERROR(#REF!,0)*GK5","v":0},{"$f":"IFERROR(#REF!,0)*GK5","v":0},{"$f":"IFERROR(#REF!,0)*GK5","v":0},{"$f":"IFERROR(#REF!,0)*GO5","v":0},{"$f":"IFERROR(#REF!,0)*GO5","v":0},{"$f":"IFERROR(#REF!,0)*GO5","v":0},{"$f":"IFERROR(#REF!,0)*GO5","v":0},{"$f":"IFERROR(#REF!,0)*GS5","v":0},{"$f":"IFERROR(#REF!,0)*GS5","v":0},{"$f":"IFERROR(#REF!,0)*GS5","v":0},{"$f":"IFERROR(#REF!,0)*GS5","v":0},{"v":0,"d":"0.00"},{"v":0,"d":"0.00"},{"v":0,"d":"0.00"},{"v":0,"d":"0.00"}]
[null,{"$f":"#REF!","v":{"$error":"#REF!"}},{"$f":"#REF!","v":{"$error":"#REF!"}},{"$f":"IFERROR(#REF!,0)*E5","v":0},{"$f":"IFERROR(#REF!,0)*E5","v":0},{"$f":"IFERROR(#REF!,0)*E5","v":0},{"$f":"IFERROR(#REF!,0)*E5","v":0},{"$f":"IFERROR(#REF!,0)*I5","v":0},{"$f":"IFERROR(#REF!,0)*I5","v":0},{"$f":"IFERROR(#REF!,0)*I5","v":0},{"$f":"IFERROR(#REF!,0)*I5","v":0},{"$f":"IFERROR(#REF!,0)*M5","v":0},{"$f":"IFERROR(#REF!,0)*M5","v":0},{"$f":"IFERROR(#REF!,0)*M5","v":0},{"$f":"IFERROR(#REF!,0)*M5","v":0},{"$f":"IFERROR(#REF!,0)*Q5","v":0},{"$f":"IFERROR(#REF!,0)*Q5","v":0},{"$f":"IFERROR(#REF!,0)*Q5","v":0},{"$f":"IFERROR(#REF!,0)*Q5","v":0},{"$f":"IFERROR(#REF!,0)*U5","v":0},{"$f":"IFERROR(#REF!,0)*U5","v":0},{"$f":"IFERROR(#REF!,0)*U5","v":0},{"$f":"IFERROR(#REF!,0)*U5","v":0},{"$f":"IFERROR(#REF!,0)*Y5","v":0},{"$f":"IFERROR(#REF!,0)*Y5","v":0},{"$f":"IFERROR(#REF!,0)*Y5","v":0},{"$f":"IFERROR(#REF!,0)*Y5","v":0},{"$f":"IFERROR(#REF!,0)*AC5","v":0},{"$f":"IFERROR(#REF!,0)*AC5","v":0},{"$f":"IFERROR(#REF!,0)*AC5","v":0},{"$f":"IFERROR(#REF!,0)*AC5","v":0},{"$f":"IFERROR(#REF!,0)*AG5","v":0},{"$f":"IFERROR(#REF!,0)*AG5","v":0},{"$f":"IFERROR(#REF!,0)*AG5","v":0},{"$f":"IFERROR(#REF!,0)*AG5","v":0},{"$f":"IFERROR(#REF!,0)*AK5","v":0},{"$f":"IFERROR(#REF!,0)*AK5","v":0},{"$f":"IFERROR(#REF!,0)*AK5","v":0},{"$f":"IFERROR(#REF!,0)*AK5","v":0},{"$f":"IFERROR(#REF!,0)*AO5","v":0},{"$f":"IFERROR(#REF!,0)*AO5","v":0},{"$f":"IFERROR(#REF!,0)*AO5","v":0},{"$f":"IFERROR(#REF!,0)*AO5","v":0},{"$f":"IFERROR(#REF!,0)*AS5","v":0},{"$f":"IFERROR(#REF!,0)*AS5","v":0},{"$f":"IFERROR(#REF!,0)*AS5","v":0},{"$f":"IFERROR(#REF!,0)*AS5","v":0},{"$f":"IFERROR(#REF!,0)*AW5","v":0},{"$f":"IFERROR(#REF!,0)*AW5","v":0},{"$f":"IFERROR(#REF!,0)*AW5","v":0},{"$f":"IFERROR(#REF!,0)*AW5","v":0},{"$f":"IFERROR(#REF!,0)*BA5","v":0},{"$f":"IFERROR(#REF!,0)*BA5","v":0},{"$f":"IFERROR(#REF!,0)*BA5","v":0},{"$f":"IFERROR(#REF!,0)*BA5","v":0},{"$f":"IFERROR(#REF!,0)*BE5","v":0},{"$f":"IFERROR(#REF!,0)*BE5","v":0},{"$f":"IFERROR(#REF!,0)*BE5","v":0},{"$f":"IFERROR(#REF!,0)*BE5","v":0},{"$f":"IFERROR(#REF!,0)*BI5","v":0},{"$f":"IFERROR(#REF!,0)*BI5","v":0},{"$f":"IFERROR(#REF!,0)*BI5","v":0},{"$f":"IFERROR(#REF!,0)*BI5","v":0},{"$f":"IFERROR(#REF!,0)*BM5","v":0},{"$f":"IFERROR(#REF!,0)*BM5","v":0},{"$f":"IFERROR(#REF!,0)*BM5","v":0},{"$f":"IFERROR(#REF!,0)*BM5","v":0},{"$f":"IFERROR(#REF!,0)*BQ5","v":0},{"$f":"IFERROR(#REF!,0)*BQ5","v":0},{"$f":"IFERROR(#REF!,0)*BQ5","v":0},{"$f":"IFERROR(#REF!,0)*BQ5","v":0},{"$f":"IFERROR(#REF!,0)*BU5","v":0},{"$f":"IFERROR(#REF!,0)*BU5","v":0},{"$f":"IFERROR(#REF!,0)*BU5","v":0},{"$f":"IFERROR(#REF!,0)*BU5","v":0},{"$f":"IFERROR(#REF!,0)*BY5","v":0},{"$f":"IFERROR(#REF!,0)*BY5","v":0},{"$f":"IFERROR(#REF!,0)*BY5","v":0},{"$f":"IFERROR(#REF!,0)*BY5","v":0},{"$f":"IFERROR(#REF!,0)*CC5","v":0},{"$f":"IFERROR(#REF!,0)*CC5","v":0},{"$f":"IFERROR(#REF!,0)*CC5","v":0},{"$f":"IFERROR(#REF!,0)*CC5","v":0},{"$f":"IFERROR(#REF!,0)*CG5","v":0},{"$f":"IFERROR(#REF!,0)*CG5","v":0},{"$f":"IFERROR(#REF!,0)*CG5","v":0},{"$f":"IFERROR(#REF!,0)*CG5","v":0},{"$f":"IFERROR(#REF!,0)*CK5","v":0},{"$f":"IFERROR(#REF!,0)*CK5","v":0},{"$f":"IFERROR(#REF!,0)*CK5","v":0},{"$f":"IFERROR(#REF!,0)*CK5","v":0},{"$f":"IFERROR(#REF!,0)*CO5","v":0},{"$f":"IFERROR(#REF!,0)*CO5","v":0},{"$f":"IFERROR(#REF!,0)*CO5","v":0},{"$f":"IFERROR(#REF!,0)*CO5","v":0},{"$f":"IFERROR(#REF!,0)*CS5","v":0},{"$f":"IFERROR(#REF!,0)*CS5","v":0},{"$f":"IFERROR(#REF!,0)*CS5","v":0},{"$f":"IFERROR(#REF!,0)*CS5","v":0},{"$f":"IFERROR(#REF!,0)*CW5","v":0},{"$f":"IFERROR(#REF!,0)*CW5","v":0},{"$f":"IFERROR(#REF!,0)*CW5","v":0},{"$f":"IFERROR(#REF!,0)*CW5","v":0},{"$f":"IFERROR(#REF!,0)*DA5","v":0},{"$f":"IFERROR(#REF!,0)*DA5","v":0},{"$f":"IFERROR(#REF!,0)*DA5","v":0},{"$f":"IFERROR(#REF!,0)*DA5","v":0},{"$f":"IFERROR(#REF!,0)*DE5","v":0},{"$f":"IFERROR(#REF!,0)*DE5","v":0},{"$f":"IFERROR(#REF!,0)*DE5","v":0},{"$f":"IFERROR(#REF!,0)*DE5","v":0},{"$f":"IFERROR(#REF!,0)*DI5","v":0},{"$f":"IFERROR(#REF!,0)*DI5","v":0},{"$f":"IFERROR(#REF!,0)*DI5","v":0},{"$f":"IFERROR(#REF!,0)*DI5","v":0},{"$f":"IFERROR(#REF!,0)*DM5","v":0},{"$f":"IFERROR(#REF!,0)*DM5","v":0},{"$f":"IFERROR(#REF!,0)*DM5","v":0},{"$f":"IFERROR(#REF!,0)*DM5","v":0},{"$f":"IFERROR(#REF!,0)*DQ5","v":0},{"$f":"IFERROR(#REF!,0)*DQ5","v":0},{"$f":"IFERROR(#REF!,0)*DQ5","v":0},{"$f":"IFERROR(#REF!,0)*DQ5","v":0},{"$f":"IFERROR(#REF!,0)*DU5","v":0},{"$f":"IFERROR(#REF!,0)*DU5","v":0},{"$f":"IFERROR(#REF!,0)*DU5","v":0},{"$f":"IFERROR(#REF!,0)*DU5","v":0},{"$f":"IFERROR(#REF!,0)*DY5","v":0},{"$f":"IFERROR(#REF!,0)*DY5","v":0},{"$f":"IFERROR(#REF!,0)*DY5","v":0},{"$f":"IFERROR(#REF!,0)*DY5","v":0},{"$f":"IFERROR(#REF!,0)*EC5","v":0},{"$f":"IFERROR(#REF!,0)*EC5","v":0},{"$f":"IFERROR(#REF!,0)*EC5","v":0},{"$f":"IFERROR(#REF!,0)*EC5","v":0},{"$f":"IFERROR(#REF!,0)*EG5","v":0},{"$f":"IFERROR(#REF!,0)*EG5","v":0},{"$f":"IFERROR(#REF!,0)*EG5","v":0},{"$f":"IFERROR(#REF!,0)*EG5","v":0},{"$f":"IFERROR(#REF!,0)*EK5","v":0},{"$f":"IFERROR(#REF!,0)*EK5","v":0},{"$f":"IFERROR(#REF!,0)*EK5","v":0},{"$f":"IFERROR(#REF!,0)*EK5","v":0},{"$f":"IFERROR(#REF!,0)*EO5","v":0},{"$f":"IFERROR(#REF!,0)*EO5","v":0},{"$f":"IFERROR(#REF!,0)*EO5","v":0},{"$f":"IFERROR(#REF!,0)*EO5","v":0},{"$f":"IFERROR(#REF!,0)*ES5","v":0},{"$f":"IFERROR(#REF!,0)*ES5","v":0},{"$f":"IFERROR(#REF!,0)*ES5","v":0},{"$f":"IFERROR(#REF!,0)*ES5","v":0},{"$f":"IFERROR(#REF!,0)*EW5","v":0},{"$f":"IFERROR(#REF!,0)*EW5","v":0},{"$f":"IFERROR(#REF!,0)*EW5","v":0},{"$f":"IFERROR(#REF!,0)*EW5","v":0},{"$f":"IFERROR(#REF!,0)*FA5","v":0},{"$f":"IFERROR(#REF!,0)*FA5","v":0},{"$f":"IFERROR(#REF!,0)*FA5","v":0},{"$f":"IFERROR(#REF!,0)*FA5","v":0},{"$f":"IFERROR(#REF!,0)*FE5","v":0},{"$f":"IFERROR(#REF!,0)*FE5","v":0},{"$f":"IFERROR(#REF!,0)*FE5","v":0},{"$f":"IFERROR(#REF!,0)*FE5","v":0},{"$f":"IFERROR(#REF!,0)*FI5","v":0},{"$f":"IFERROR(#REF!,0)*FI5","v":0},{"$f":"IFERROR(#REF!,0)*FI5","v":0},{"$f":"IFERROR(#REF!,0)*FI5","v":0},{"$f":"IFERROR(#REF!,0)*FM5","v":0},{"$f":"IFERROR(#REF!,0)*FM5","v":0},{"$f":"IFERROR(#REF!,0)*FM5","v":0},{"$f":"IFERROR(#REF!,0)*FM5","v":0},{"$f":"IFERROR(#REF!,0)*FQ5","v":0},{"$f":"IFERROR(#REF!,0)*FQ5","v":0},{"$f":"IFERROR(#REF!,0)*FQ5","v":0},{"$f":"IFERROR(#REF!,0)*FQ5","v":0},{"$f":"IFERROR(#REF!,0)*FU5","v":0},{"$f":"IFERROR(#REF!,0)*FU5","v":0},{"$f":"IFERROR(#REF!,0)*FU5","v":0},{"$f":"IFERROR(#REF!,0)*FU5","v":0},{"$f":"IFERROR(#REF!,0)*FY5","v":0},{"$f":"IFERROR(#REF!,0)*FY5","v":0},{"$f":"IFERROR(#REF!,0)*FY5","v":0},{"$f":"IFERROR(#REF!,0)*FY5","v":0},{"$f":"IFERROR(#REF!,0)*GC5","v":0},{"$f":"IFERROR(#REF!,0)*GC5","v":0},{"$f":"IFERROR(#REF!,0)*GC5","v":0},{"$f":"IFERROR(#REF!,0)*GC5","v":0},{"$f":"IFERROR(#REF!,0)*GG5","v":0},{"$f":"IFERROR(#REF!,0)*GG5","v":0},{"$f":"IFERROR(#REF!,0)*GG5","v":0},{"$f":"IFERROR(#REF!,0)*GG5","v":0},{"$f":"IFERROR(#REF!,0)*GK5","v":0},{"$f":"IFERROR(#REF!,0)*GK5","v":0},{"$f":"IFERROR(#REF!,0)*GK5","v":0},{"$f":"IFERROR(#REF!,0)*GK5","v":0},{"$f":"IFERROR(#REF!,0)*GO5","v":0},{"$f":"IFERROR(#REF!,0)*GO5","v":0},{"$f":"IFERROR(#REF!,0)*GO5","v":0},{"$f":"IFERROR(#REF!,0)*GO5","v":0},{"$f":"IFERROR(#REF!,0)*GS5","v":0},{"$f":"IFERROR(#REF!,0)*GS5","v":0},{"$f":"IFERROR(#REF!,0)*GS5","v":0},{"$f":"IFERROR(#REF!,0)*GS5","v":0},{"v":0,"d":"0.00"},{"v":0,"d":"0.00"},{"v":0,"d":"0.00"},{"v":0,"d":"0.00"}]
[null,{"$f":"#REF!","v":{"$error":"#REF!"}},{"$f":"#REF!","v":{"$error":"#REF!"}},{"$f":"IFERROR(#REF!,0)*E5","v":0},{"$f":"IFERROR(#REF!,0)*E5","v":0},{"$f":"IFERROR(#REF!,0)*E5","v":0},{"$f":"IFERROR(#REF!,0)*E5","v":0},{"$f":"IFERROR(#REF!,0)*I5","v":0},{"$f":"IFERROR(#REF!,0)*I5","v":0},{"$f":"IFERROR(#REF!,0)*I5","v":0},{"$f":"IFERROR(#REF!,0)*I5","v":0},{"$f":"IFERROR(#REF!,0)*M5","v":0},{"$f":"IFERROR(#REF!,0)*M5","v":0},{"$f":"IFERROR(#REF!,0)*M5","v":0},{"$f":"IFERROR(#REF!,0)*M5","v":0},{"$f":"IFERROR(#REF!,0)*Q5","v":0},{"$f":"IFERROR(#REF!,0)*Q5","v":0},{"$f":"IFERROR(#REF!,0)*Q5","v":0},{"$f":"IFERROR(#REF!,0)*Q5","v":0},{"$f":"IFERROR(#REF!,0)*U5","v":0},{"$f":"IFERROR(#REF!,0)*U5","v":0},{"$f":"IFERROR(#REF!,0)*U5","v":0},{"$f":"IFERROR(#REF!,0)*U5","v":0},{"$f":"IFERROR(#REF!,0)*Y5","v":0},{"$f":"IFERROR(#REF!,0)*Y5","v":0},{"$f":"IFERROR(#REF!,0)*Y5","v":0},{"$f":"IFERROR(#REF!,0)*Y5","v":0},{"$f":"IFERROR(#REF!,0)*AC5","v":0},{"$f":"IFERROR(#REF!,0)*AC5","v":0},{"$f":"IFERROR(#REF!,0)*AC5","v":0},{"$f":"IFERROR(#REF!,0)*AC5","v":0},{"$f":"IFERROR(#REF!,0)*AG5","v":0},{"$f":"IFERROR(#REF!,0)*AG5","v":0},{"$f":"IFERROR(#REF!,0)*AG5","v":0},{"$f":"IFERROR(#REF!,0)*AG5","v":0},{"$f":"IFERROR(#REF!,0)*AK5","v":0},{"$f":"IFERROR(#REF!,0)*AK5","v":0},{"$f":"IFERROR(#REF!,0)*AK5","v":0},{"$f":"IFERROR(#REF!,0)*AK5","v":0},{"$f":"IFERROR(#REF!,0)*AO5","v":0},{"$f":"IFERROR(#REF!,0)*AO5","v":0},{"$f":"IFERROR(#REF!,0)*AO5","v":0},{"$f":"IFERROR(#REF!,0)*AO5","v":0},{"$f":"IFERROR(#REF!,0)*AS5","v":0},{"$f":"IFERROR(#REF!,0)*AS5","v":0},{"$f":"IFERROR(#REF!,0)*AS5","v":0},{"$f":"IFERROR(#REF!,0)*AS5","v":0},{"$f":"IFERROR(#REF!,0)*AW5","v":0},{"$f":"IFERROR(#REF!,0)*AW5","v":0},{"$f":"IFERROR(#REF!,0)*AW5","v":0},{"$f":"IFERROR(#REF!,0)*AW5","v":0},{"$f":"IFERROR(#REF!,0)*BA5","v":0},{"$f":"IFERROR(#REF!,0)*BA5","v":0},{"$f":"IFERROR(#REF!,0)*BA5","v":0},{"$f":"IFERROR(#REF!,0)*BA5","v":0},{"$f":"IFERROR(#REF!,0)*BE5","v":0},{"$f":"IFERROR(#REF!,0)*BE5","v":0},{"$f":"IFERROR(#REF!,0)*BE5","v":0},{"$f":"IFERROR(#REF!,0)*BE5","v":0},{"$f":"IFERROR(#REF!,0)*BI5","v":0},{"$f":"IFERROR(#REF!,0)*BI5","v":0},{"$f":"IFERROR(#REF!,0)*BI5","v":0},{"$f":"IFERROR(#REF!,0)*BI5","v":0},{"$f":"IFERROR(#REF!,0)*BM5","v":0},{"$f":"IFERROR(#REF!,0)*BM5","v":0},{"$f":"IFERROR(#REF!,0)*BM5","v":0},{"$f":"IFERROR(#REF!,0)*BM5","v":0},{"$f":"IFERROR(#REF!,0)*BQ5","v":0},{"$f":"IFERROR(#REF!,0)*BQ5","v":0},{"$f":"IFERROR(#REF!,0)*BQ5","v":0},{"$f":"IFERROR(#REF!,0)*BQ5","v":0},{"$f":"IFERROR(#REF!,0)*BU5","v":0},{"$f":"IFERROR(#REF!,0)*BU5","v":0},{"$f":"IFERROR(#REF!,0)*BU5","v":0},{"$f":"IFERROR(#REF!,0)*BU5","v":0},{"$f":"IFERROR(#REF!,0)*BY5","v":0},{"$f":"IFERROR(#REF!,0)*BY5","v":0},{"$f":"IFERROR(#REF!,0)*BY5","v":0},{"$f":"IFERROR(#REF!,0)*BY5","v":0},{"$f":"IFERROR(#REF!,0)*CC5","v":0},{"$f":"IFERROR(#REF!,0)*CC5","v":0},{"$f":"IFERROR(#REF!,0)*CC5","v":0},{"$f":"IFERROR(#REF!,0)*CC5","v":0},{"$f":"IFERROR(#REF!,0)*CG5","v":0},{"$f":"IFERROR(#REF!,0)*CG5","v":0},{"$f":"IFERROR(#REF!,0)*CG5","v":0},{"$f":"IFERROR(#REF!,0)*CG5","v":0},{"$f":"IFERROR(#REF!,0)*CK5","v":0},{"$f":"IFERROR(#REF!,0)*CK5","v":0},{"$f":"IFERROR(#REF!,0)*CK5","v":0},{"$f":"IFERROR(#REF!,0)*CK5","v":0},{"$f":"IFERROR(#REF!,0)*CO5","v":0},{"$f":"IFERROR(#REF!,0)*CO5","v":0},{"$f":"IFERROR(#REF!,0)*CO5","v":0},{"$f":"IFERROR(#REF!,0)*CO5","v":0},{"$f":"IFERROR(#REF!,0)*CS5","v":0},{"$f":"IFERROR(#REF!,0)*CS5","v":0},{"$f":"IFERROR(#REF!,0)*CS5","v":0},{"$f":"IFERROR(#REF!,0)*CS5","v":0},{"$f":"IFERROR(#REF!,0)*CW5","v":0},{"$f":"IFERROR(#REF!,0)*CW5","v":0},{"$f":"IFERROR(#REF!,0)*CW5","v":0},{"$f":"IFERROR(#REF!,0)*CW5","v":0},{"$f":"IFERROR(#REF!,0)*DA5","v":0},{"$f":"IFERROR(#REF!,0)*DA5","v":0},{"$f":"IFERROR(#REF!,0)*DA5","v":0},{"$f":"IFERROR(#REF!,0)*DA5","v":0},{"$f":"IFERROR(#REF!,0)*DE5","v":0},{"$f":"IFERROR(#REF!,0)*DE5","v":0},{"$f":"IFERROR(#REF!,0)*DE5","v":0},{"$f":"IFERROR(#REF!,0)*DE5","v":0},{"$f":"IFERROR(#REF!,0)*DI5","v":0},{"$f":"IFERROR(#REF!,0)*DI5","v":0},{"$f":"IFERROR(#REF!,0)*DI5","v":0},{"$f":"IFERROR(#REF!,0)*DI5","v":0},{"$f":"IFERROR(#REF!,0)*DM5","v":0},{"$f":"IFERROR(#REF!,0)*DM5","v":0},{"$f":"IFERROR(#REF!,0)*DM5","v":0},{"$f":"IFERROR(#REF!,0)*DM5","v":0},{"$f":"IFERROR(#REF!,0)*DQ5","v":0},{"$f":"IFERROR(#REF!,0)*DQ5","v":0},{"$f":"IFERROR(#REF!,0)*DQ5","v":0},{"$f":"IFERROR(#REF!,0)*DQ5","v":0},{"$f":"IFERROR(#REF!,0)*DU5","v":0},{"$f":"IFERROR(#REF!,0)*DU5","v":0},{"$f":"IFERROR(#REF!,0)*DU5","v":0},{"$f":"IFERROR(#REF!,0)*DU5","v":0},{"$f":"IFERROR(#REF!,0)*DY5","v":0},{"$f":"IFERROR(#REF!,0)*DY5","v":0},{"$f":"IFERROR(#REF!,0)*DY5","v":0},{"$f":"IFERROR(#REF!,0)*DY5","v":0},{"$f":"IFERROR(#REF!,0)*EC5","v":0},{"$f":"IFERROR(#REF!,0)*EC5","v":0},{"$f":"IFERROR(#REF!,0)*EC5","v":0},{"$f":"IFERROR(#REF!,0)*EC5","v":0},{"$f":"IFERROR(#REF!,0)*EG5","v":0},{"$f":"IFERROR(#REF!,0)*EG5","v":0},{"$f":"IFERROR(#REF!,0)*EG5","v":0},{"$f":"IFERROR(#REF!,0)*EG5","v":0},{"$f":"IFERROR(#REF!,0)*EK5","v":0},{"$f":"IFERROR(#REF!,0)*EK5","v":0},{"$f":"IFERROR(#REF!,0)*EK5","v":0},{"$f":"IFERROR(#REF!,0)*EK5","v":0},{"$f":"IFERROR(#REF!,0)*EO5","v":0},{"$f":"IFERROR(#REF!,0)*EO5","v":0},{"$f":"IFERROR(#REF!,0)*EO5","v":0},{"$f":"IFERROR(#REF!,0)*EO5","v":0},{"$f":"IFERROR(#REF!,0)*ES5","v":0},{"$f":"IFERROR(#REF!,0)*ES5","v":0},{"$f":"IFERROR(#REF!,0)*ES5","v":0},{"$f":"IFERROR(#REF!,0)*ES5","v":0},{"$f":"IFERROR(#REF!,0)*EW5","v":0},{"$f":"IFERROR(#REF!,0)*EW5","v":0},{"$f":"IFERROR(#REF!,0)*EW5","v":0},{"$f":"IFERROR(#REF!,0)*EW5","v":0},{"$f":"IFERROR(#REF!,0)*FA5","v":0},{"$f":"IFERROR(#REF!,0)*FA5","v":0},{"$f":"IFERROR(#REF!,0)*FA5","v":0},{"$f":"IFERROR(#REF!,0)*FA5","v":0},{"$f":"IFERROR(#REF!,0)*FE5","v":0},{"$f":"IFERROR(#REF!,0)*FE5","v":0},{"$f":"IFERROR(#REF!,0)*FE5","v":0},{"$f":"IFERROR(#REF!,0)*FE5","v":0},{"$f":"IFERROR(#REF!,0)*FI5","v":0},{"$f":"IFERROR(#REF!,0)*FI5","v":0},{"$f":"IFERROR(#REF!,0)*FI5","v":0},{"$f":"IFERROR(#REF!,0)*FI5","v":0},{"$f":"IFERROR(#REF!,0)*FM5","v":0},{"$f":"IFERROR(#REF!,0)*FM5","v":0},{"$f":"IFERROR(#REF!,0)*FM5","v":0},{"$f":"IFERROR(#REF!,0)*FM5","v":0},{"$f":"IFERROR(#REF!,0)*FQ5","v":0},{"$f":"IFERROR(#REF!,0)*FQ5","v":0},{"$f":"IFERROR(#REF!,0)*FQ5","v":0},{"$f":"IFERROR(#REF!,0)*FQ5","v":0},{"$f":"IFERROR(#REF!,0)*FU5","v":0},{"$f":"IFERROR(#REF!,0)*FU5","v":0},{"$f":"IFERROR(#REF!,0)*FU5","v":0},{"$f":"IFERROR(#REF!,0)*FU5","v":0},{"$f":"IFERROR(#REF!,0)*FY5","v":0},{"$f":"IFERROR(#REF!,0)*FY5","v":0},{"$f":"IFERROR(#REF!,0)*FY5","v":0},{"$f":"IFERROR(#REF!,0)*FY5","v":0},{"$f":"IFERROR(#REF!,0)*GC5","v":0},{"$f":"IFERROR(#REF!,0)*GC5","v":0},{"$f":"IFERROR(#REF!,0)*GC5","v":0},{"$f":"IFERROR(#REF!,0)*GC5","v":0},{"$f":"IFERROR(#REF!,0)*GG5","v":0},{"$f":"IFERROR(#REF!,0)*GG5","v":0},{"$f":"IFERROR(#REF!,0)*GG5","v":0},{"$f":"IFERROR(#REF!,0)*GG5","v":0},{"$f":"IFERROR(#REF!,0)*GK5","v":0},{"$f":"IFERROR(#REF!,0)*GK5","v":0},{"$f":"IFERROR(#REF!,0)*GK5","v":0},{"$f":"IFERROR(#REF!,0)*GK5","v":0},{"$f":"IFERROR(#REF!,0)*GO5","v":0},{"$f":"IFERROR(#REF!,0)*GO5","v":0},{"$f":"IFERROR(#REF!,0)*GO5","v":0},{"$f":"IFERROR(#REF!,0)*GO5","v":0},{"$f":"IFERROR(#REF!,0)*GS5","v":0},{"$f":"IFERROR(#REF!,0)*GS5","v":0},{"$f":"IFERROR(#REF!,0)*GS5","v":0},{"$f":"IFERROR(#REF!,0)*GS5","v":0},{"v":0,"d":"0.00"},{"v":0,"d":"0.00"},{"v":0,"d":"0.00"},{"v":0,"d":"0.00"}]
[null,{"$f":"#REF!","v":{"$error":"#REF!"}},{"$f":"#REF!","v":{"$error":"#REF!"}},{"$f":"IFERROR(#REF!,0)*E5","v":0},{"$f":"IFERROR(#REF!,0)*E5","v":0},{"$f":"IFERROR(#REF!,0)*E5","v":0},{"$f":"IFERROR(#REF!,0)*E5","v":0},{"$f":"IFERROR(#REF!,0)*I5","v":0},{"$f":"IFERROR(#REF!,0)*I5","v":0},{"$f":"IFERROR(#REF!,0)*I5","v":0},{"$f":"IFERROR(#REF!,0)*I5","v":0},{"$f":"IFERROR(#REF!,0)*M5","v":0},{"$f":"IFERROR(#REF!,0)*M5","v":0},{"$f":"IFERROR(#REF!,0)*M5","v":0},{"$f":"IFERROR(#REF!,0)*M5","v":0},{"$f":"IFERROR(#REF!,0)*Q5","v":0},{"$f":"IFERROR(#REF!,0)*Q5","v":0},{"$f":"IFERROR(#REF!,0)*Q5","v":0},{"$f":"IFERROR(#REF!,0)*Q5","v":0},{"$f":"IFERROR(#REF!,0)*U5","v":0},{"$f":"IFERROR(#REF!,0)*U5","v":0},{"$f":"IFERROR(#REF!,0)*U5","v":0},{"$f":"IFERROR(#REF!,0)*U5","v":0},{"$f":"IFERROR(#REF!,0)*Y5","v":0},{"$f":"IFERROR(#REF!,0)*Y5","v":0},{"$f":"IFERROR(#REF!,0)*Y5","v":0},{"$f":"IFERROR(#REF!,0)*Y5","v":0},{"$f":"IFERROR(#REF!,0)*AC5","v":0},{"$f":"IFERROR(#REF!,0)*AC5","v":0},{"$f":"IFERROR(#REF!,0)*AC5","v":0},{"$f":"IFERROR(#REF!,0)*AC5","v":0},{"$f":"IFERROR(#REF!,0)*AG5","v":0},{"$f":"IFERROR(#REF!,0)*AG5","v":0},{"$f":"IFERROR(#REF!,0)*AG5","v":0},{"$f":"IFERROR(#REF!,0)*AG5","v":0},{"$f":"IFERROR(#REF!,0)*AK5","v":0},{"$f":"IFERROR(#REF!,0)*AK5","v":0},{"$f":"IFERROR(#REF!,0)*AK5","v":0},{"$f":"IFERROR(#REF!,0)*AK5","v":0},{"$f":"IFERROR(#REF!,0)*AO5","v":0},{"$f":"IFERROR(#REF!,0)*AO5","v":0},{"$f":"IFERROR(#REF!,0)*AO5","v":0},{"$f":"IFERROR(#REF!,0)*AO5","v":0},{"$f":"IFERROR(#REF!,0)*AS5","v":0},{"$f":"IFERROR(#REF!,0)*AS5","v":0},{"$f":"IFERROR(#REF!,0)*AS5","v":0},{"$f":"IFERROR(#REF!,0)*AS5","v":0},{"$f":"IFERROR(#REF!,0)*AW5","v":0},{"$f":"IFERROR(#REF!,0)*AW5","v":0},{"$f":"IFERROR(#REF!,0)*AW5","v":0},{"$f":"IFERROR(#REF!,0)*AW5","v":0},{"$f":"IFERROR(#REF!,0)*BA5","v":0},{"$f":"IFERROR(#REF!,0)*BA5","v":0},{"$f":"IFERROR(#REF!,0)*BA5","v":0},{"$f":"IFERROR(#REF!,0)*BA5","v":0},{"$f":"IFERROR(#REF!,0)*BE5","v":0},{"$f":"IFERROR(#REF!,0)*BE5","v":0},{"$f":"IFERROR(#REF!,0)*BE5","v":0},{"$f":"IFERROR(#REF!,0)*BE5","v":0},{"$f":"IFERROR(#REF!,0)*BI5","v":0},{"$f":"IFERROR(#REF!,0)*BI5","v":0},{"$f":"IFERROR(#REF!,0)*BI5","v":0},{"$f":"IFERROR(#REF!,0)*BI5","v":0},{"$f":"IFERROR(#REF!,0)*BM5","v":0},{"$f":"IFERROR(#REF!,0)*BM5","v":0},{"$f":"IFERROR(#REF!,0)*BM5","v":0},{"$f":"IFERROR(#REF!,0)*BM5","v":0},{"$f":"IFERROR(#REF!,0)*BQ5","v":0},{"$f":"IFERROR(#REF!,0)*BQ5","v":0},{"$f":"IFERROR(#REF!,0)*BQ5","v":0},{"$f":"IFERROR(#REF!,0)*BQ5","v":0},{"$f":"IFERROR(#REF!,0)*BU5","v":0},{"$f":"IFERROR(#REF!,0)*BU5","v":0},{"$f":"IFERROR(#REF!,0)*BU5","v":0},{"$f":"IFERROR(#REF!,0)*BU5","v":0},{"$f":"IFERROR(#REF!,0)*BY5","v":0},{"$f":"IFERROR(#REF!,0)*BY5","v":0},{"$f":"IFERROR(#REF!,0)*BY5","v":0},{"$f":"IFERROR(#REF!,0)*BY5","v":0},{"$f":"IFERROR(#REF!,0)*CC5","v":0},{"$f":"IFERROR(#REF!,0)*CC5","v":0},{"$f":"IFERROR(#REF!,0)*CC5","v":0},{"$f":"IFERROR(#REF!,0)*CC5","v":0},{"$f":"IFERROR(#REF!,0)*CG5","v":0},{"$f":"IFERROR(#REF!,0)*CG5","v":0},{"$f":"IFERROR(#REF!,0)*CG5","v":0},{"$f":"IFERROR(#REF!,0)*CG5","v":0},{"$f":"IFERROR(#REF!,0)*CK5","v":0},{"$f":"IFERROR(#REF!,0)*CK5","v":0},{"$f":"IFERROR(#REF!,0)*CK5","v":0},{"$f":"IFERROR(#REF!,0)*CK5","v":0},{"$f":"IFERROR(#REF!,0)*CO5","v":0},{"$f":"IFERROR(#REF!,0)*CO5","v":0},{"$f":"IFERROR(#REF!,0)*CO5","v":0},{"$f":"IFERROR(#REF!,0)*CO5","v":0},{"$f":"IFERROR(#REF!,0)*CS5","v":0},{"$f":"IFERROR(#REF!,0)*CS5","v":0},{"$f":"IFERROR(#REF!,0)*CS5","v":0},{"$f":"IFERROR(#REF!,0)*CS5","v":0},{"$f":"IFERROR(#REF!,0)*CW5","v":0},{"$f":"IFERROR(#REF!,0)*CW5","v":0},{"$f":"IFERROR(#REF!,0)*CW5","v":0},{"$f":"IFERROR(#REF!,0)*CW5","v":0},{"$f":"IFERROR(#REF!,0)*DA5","v":0},{"$f":"IFERROR(#REF!,0)*DA5","v":0},{"$f":"IFERROR(#REF!,0)*DA5","v":0},{"$f":"IFERROR(#REF!,0)*DA5","v":0},{"$f":"IFERROR(#REF!,0)*DE5","v":0},{"$f":"IFERROR(#REF!,0)*DE5","v":0},{"$f":"IFERROR(#REF!,0)*DE5","v":0},{"$f":"IFERROR(#REF!,0)*DE5","v":0},{"$f":"IFERROR(#REF!,0)*DI5","v":0},{"$f":"IFERROR(#REF!,0)*DI5","v":0},{"$f":"IFERROR(#REF!,0)*DI5","v":0},{"$f":"IFERROR(#REF!,0)*DI5","v":0},{"$f":"IFERROR(#REF!,0)*DM5","v":0},{"$f":"IFERROR(#REF!,0)*DM5","v":0},{"$f":"IFERROR(#REF!,0)*DM5","v":0},{"$f":"IFERROR(#REF!,0)*DM5","v":0},{"$f":"IFERROR(#REF!,0)*DQ5","v":0},{"$f":"IFERROR(#REF!,0)*DQ5","v":0},{"$f":"IFERROR(#REF!,0)*DQ5","v":0},{"$f":"IFERROR(#REF!,0)*DQ5","v":0},{"$f":"IFERROR(#REF!,0)*DU5","v":0},{"$f":"IFERROR(#REF!,0)*DU5","v":0},{"$f":"IFERROR(#REF!,0)*DU5","v":0},{"$f":"IFERROR(#REF!,0)*DU5","v":0},{"$f":"IFERROR(#REF!,0)*DY5","v":0},{"$f":"IFERROR(#REF!,0)*DY5","v":0},{"$f":"IFERROR(#REF!,0)*DY5","v":0},{"$f":"IFERROR(#REF!,0)*DY5","v":0},{"$f":"IFERROR(#REF!,0)*EC5","v":0},{"$f":"IFERROR(#REF!,0)*EC5","v":0},{"$f":"IFERROR(#REF!,0)*EC5","v":0},{"$f":"IFERROR(#REF!,0)*EC5","v":0},{"$f":"IFERROR(#REF!,0)*EG5","v":0},{"$f":"IFERROR(#REF!,0)*EG5","v":0},{"$f":"IFERROR(#REF!,0)*EG5","v":0},{"$f":"IFERROR(#REF!,0)*EG5","v":0},{"$f":"IFERROR(#REF!,0)*EK5","v":0},{"$f":"IFERROR(#REF!,0)*EK5","v":0},{"$f":"IFERROR(#REF!,0)*EK5","v":0},{"$f":"IFERROR(#REF!,0)*EK5","v":0},{"$f":"IFERROR(#REF!,0)*EO5","v":0},{"$f":"IFERROR(#REF!,0)*EO5","v":0},{"$f":"IFERROR(#REF!,0)*EO5","v":0},{"$f":"IFERROR(#REF!,0)*EO5","v":0},{"$f":"IFERROR(#REF!,0)*ES5","v":0},{"$f":"IFERROR(#REF!,0)*ES5","v":0},{"$f":"IFERROR(#REF!,0)*ES5","v":0},{"$f":"IFERROR(#REF!,0)*ES5","v":0},{"$f":"IFERROR(#REF!,0)*EW5","v":0},{"$f":"IFERROR(#REF!,0)*EW5","v":0},{"$f":"IFERROR(#REF!,0)*EW5","v":0},{"$f":"IFERROR(#REF!,0)*EW5","v":0},{"$f":"IFERROR(#REF!,0)*FA5","v":0},{"$f":"IFERROR(#REF!,0)*FA5","v":0},{"$f":"IFERROR(#REF!,0)*FA5","v":0},{"$f":"IFERROR(#REF!,0)*FA5","v":0},{"$f":"IFERROR(#REF!,0)*FE5","v":0},{"$f":"IFERROR(#REF!,0)*FE5","v":0},{"$f":"IFERROR(#REF!,0)*FE5","v":0},{"$f":"IFERROR(#REF!,0)*FE5","v":0},{"$f":"IFERROR(#REF!,0)*FI5","v":0},{"$f":"IFERROR(#REF!,0)*FI5","v":0},{"$f":"IFERROR(#REF!,0)*FI5","v":0},{"$f":"IFERROR(#REF!,0)*FI5","v":0},{"$f":"IFERROR(#REF!,0)*FM5","v":0},{"$f":"IFERROR(#REF!,0)*FM5","v":0},{"$f":"IFERROR(#REF!,0)*FM5","v":0},{"$f":"IFERROR(#REF!,0)*FM5","v":0},{"$f":"IFERROR(#REF!,0)*FQ5","v":0},{"$f":"IFERROR(#REF!,0)*FQ5","v":0},{"$f":"IFERROR(#REF!,0)*FQ5","v":0},{"$f":"IFERROR(#REF!,0)*FQ5","v":0},{"$f":"IFERROR(#REF!,0)*FU5","v":0},{"$f":"IFERROR(#REF!,0)*FU5","v":0},{"$f":"IFERROR(#REF!,0)*FU5","v":0},{"$f":"IFERROR(#REF!,0)*FU5","v":0},{"$f":"IFERROR(#REF!,0)*FY5","v":0},{"$f":"IFERROR(#REF!,0)*FY5","v":0},{"$f":"IFERROR(#REF!,0)*FY5","v":0},{"$f":"IFERROR(#REF!,0)*FY5","v":0},{"$f":"IFERROR(#REF!,0)*GC5","v":0},{"$f":"IFERROR(#REF!,0)*GC5","v":0},{"$f":"IFERROR(#REF!,0)*GC5","v":0},{"$f":"IFERROR(#REF!,0)*GC5","v":0},{"$f":"IFERROR(#REF!,0)*GG5","v":0},{"$f":"IFERROR(#REF!,0)*GG5","v":0},{"$f":"IFERROR(#REF!,0)*GG5","v":0},{"$f":"IFERROR(#REF!,0)*GG5","v":0},{"$f":"IFERROR(#REF!,0)*GK5","v":0},{"$f":"IFERROR(#REF!,0)*GK5","v":0},{"$f":"IFERROR(#REF!,0)*GK5","v":0},{"$f":"IFERROR(#REF!,0)*GK5","v":0},{"$f":"IFERROR(#REF!,0)*GO5","v":0},{"$f":"IFERROR(#REF!,0)*GO5","v":0},{"$f":"IFERROR(#REF!,0)*GO5","v":0},{"$f":"IFERROR(#REF!,0)*GO5","v":0},{"$f":"IFERROR(#REF!,0)*GS5","v":0},{"$f":"IFERROR(#REF!,0)*GS5","v":0},{"$f":"IFERROR(#REF!,0)*GS5","v":0},{"$f":"IFERROR(#REF!,0)*GS5","v":0},{"v":0,"d":"0.00"},{"v":0,"d":"0.00"},{"v":0,"d":"0.00"},{"v":0,"d":"0.00"}]
[null,{"$f":"#REF!","v":{"$error":"#REF!"}},{"$f":"#REF!","v":{"$error":"#REF!"}},{"$f":"IFERROR(#REF!,0)*E5","v":0},{"$f":"IFERROR(#REF!,0)*E5","v":0},{"$f":"IFERROR(#REF!,0)*E5","v":0},{"$f":"IFERROR(#REF!,0)*E5","v":0},{"$f":"IFERROR(#REF!,0)*I5","v":0},{"$f":"IFERROR(#REF!,0)*I5","v":0},{"$f":"IFERROR(#REF!,0)*I5","v":0},{"$f":"IFERROR(#REF!,0)*I5","v":0},{"$f":"IFERROR(#REF!,0)*M5","v":0},{"$f":"IFERROR(#REF!,0)*M5","v":0},{"$f":"IFERROR(#REF!,0)*M5","v":0},{"$f":"IFERROR(#REF!,0)*M5","v":0},{"$f":"IFERROR(#REF!,0)*Q5","v":0},{"$f":"IFERROR(#REF!,0)*Q5","v":0},{"$f":"IFERROR(#REF!,0)*Q5","v":0},{"$f":"IFERROR(#REF!,0)*Q5","v":0},{"$f":"IFERROR(#REF!,0)*U5","v":0},{"$f":"IFERROR(#REF!,0)*U5","v":0},{"$f":"IFERROR(#REF!,0)*U5","v":0},{"$f":"IFERROR(#REF!,0)*U5","v":0},{"$f":"IFERROR(#REF!,0)*Y5","v":0},{"$f":"IFERROR(#REF!,0)*Y5","v":0},{"$f":"IFERROR(#REF!,0)*Y5","v":0},{"$f":"IFERROR(#REF!,0)*Y5","v":0},{"$f":"IFERROR(#REF!,0)*AC5","v":0},{"$f":"IFERROR(#REF!,0)*AC5","v":0},{"$f":"IFERROR(#REF!,0)*AC5","v":0},{"$f":"IFERROR(#REF!,0)*AC5","v":0},{"$f":"IFERROR(#REF!,0)*AG5","v":0},{"$f":"IFERROR(#REF!,0)*AG5","v":0},{"$f":"IFERROR(#REF!,0)*AG5","v":0},{"$f":"IFERROR(#REF!,0)*AG5","v":0},{"$f":"IFERROR(#REF!,0)*AK5","v":0},{"$f":"IFERROR(#REF!,0)*AK5","v":0},{"$f":"IFERROR(#REF!,0)*AK5","v":0},{"$f":"IFERROR(#REF!,0)*AK5","v":0},{"$f":"IFERROR(#REF!,0)*AO5","v":0},{"$f":"IFERROR(#REF!,0)*AO5","v":0},{"$f":"IFERROR(#REF!,0)*AO5","v":0},{"$f":"IFERROR(#REF!,0)*AO5","v":0},{"$f":"IFERROR(#REF!,0)*AS5","v":0},{"$f":"IFERROR(#REF!,0)*AS5","v":0},{"$f":"IFERROR(#REF!,0)*AS5","v":0},{"$f":"IFERROR(#REF!,0)*AS5","v":0},{"$f":"IFERROR(#REF!,0)*AW5","v":0},{"$f":"IFERROR(#REF!,0)*AW5","v":0},{"$f":"IFERROR(#REF!,0)*AW5","v":0},{"$f":"IFERROR(#REF!,0)*AW5","v":0},{"$f":"IFERROR(#REF!,0)*BA5","v":0},{"$f":"IFERROR(#REF!,0)*BA5","v":0},{"$f":"IFERROR(#REF!,0)*BA5","v":0},{"$f":"IFERROR(#REF!,0)*BA5","v":0},{"$f":"IFERROR(#REF!,0)*BE5","v":0},{"$f":"IFERROR(#REF!,0)*BE5","v":0},{"$f":"IFERROR(#REF!,0)*BE5","v":0},{"$f":"IFERROR(#REF!,0)*BE5","v":0},{"$f":"IFERROR(#REF!,0)*BI5","v":0},{"$f":"IFERROR(#REF!,0)*BI5","v":0},{"$f":"IFERROR(#REF!,0)*BI5","v":0},{"$f":"IFERROR(#REF!,0)*BI5","v":0},{"$f":"IFERROR(#REF!,0)*BM5","v":0},{"$f":"IFERROR(#REF!,0)*BM5","v":0},{"$f":"IFERROR(#REF!,0)*BM5","v":0},{"$f":"IFERROR(#REF!,0)*BM5","v":0},{"$f":"IFERROR(#REF!,0)*BQ5","v":0},{"$f":"IFERROR(#REF!,0)*BQ5","v":0},{"$f":"IFERROR(#REF!,0)*BQ5","v":0},{"$f":"IFERROR(#REF!,0)*BQ5","v":0},{"$f":"IFERROR(#REF!,0)*BU5","v":0},{"$f":"IFERROR(#REF!,0)*BU5","v":0},{"$f":"IFERROR(#REF!,0)*BU5","v":0},{"$f":"IFERROR(#REF!,0)*BU5","v":0},{"$f":"IFERROR(#REF!,0)*BY5","v":0},{"$f":"IFERROR(#REF!,0)*BY5","v":0},{"$f":"IFERROR(#REF!,0)*BY5","v":0},{"$f":"IFERROR(#REF!,0)*BY5","v":0},{"$f":"IFERROR(#REF!,0)*CC5","v":0},{"$f":"IFERROR(#REF!,0)*CC5","v":0},{"$f":"IFERROR(#REF!,0)*CC5","v":0},{"$f":"IFERROR(#REF!,0)*CC5","v":0},{"$f":"IFERROR(#REF!,0)*CG5","v":0},{"$f":"IFERROR(#REF!,0)*CG5","v":0},{"$f":"IFERROR(#REF!,0)*CG5","v":0},{"$f":"IFERROR(#REF!,0)*CG5","v":0},{"$f":"IFERROR(#REF!,0)*CK5","v":0},{"$f":"IFERROR(#REF!,0)*CK5","v":0},{"$f":"IFERROR(#REF!,0)*CK5","v":0},{"$f":"IFERROR(#REF!,0)*CK5","v":0},{"$f":"IFERROR(#REF!,0)*CO5","v":0},{"$f":"IFERROR(#REF!,0)*CO5","v":0},{"$f":"IFERROR(#REF!,0)*CO5","v":0},{"$f":"IFERROR(#REF!,0)*CO5","v":0},{"$f":"IFERROR(#REF!,0)*CS5","v":0},{"$f":"IFERROR(#REF!,0)*CS5","v":0},{"$f":"IFERROR(#REF!,0)*CS5","v":0},{"$f":"IFERROR(#REF!,0)*CS5","v":0},{"$f":"IFERROR(#REF!,0)*CW5","v":0},{"$f":"IFERROR(#REF!,0)*CW5","v":0},{"$f":"IFERROR(#REF!,0)*CW5","v":0},{"$f":"IFERROR(#REF!,0)*CW5","v":0},{"$f":"IFERROR(#REF!,0)*DA5","v":0},{"$f":"IFERROR(#REF!,0)*DA5","v":0},{"$f":"IFERROR(#REF!,0)*DA5","v":0},{"$f":"IFERROR(#REF!,0)*DA5","v":0},{"$f":"IFERROR(#REF!,0)*DE5","v":0},{"$f":"IFERROR(#REF!,0)*DE5","v":0},{"$f":"IFERROR(#REF!,0)*DE5","v":0},{"$f":"IFERROR(#REF!,0)*DE5","v":0},{"$f":"IFERROR(#REF!,0)*DI5","v":0},{"$f":"IFERROR(#REF!,0)*DI5","v":0},{"$f":"IFERROR(#REF!,0)*DI5","v":0},{"$f":"IFERROR(#REF!,0)*DI5","v":0},{"$f":"IFERROR(#REF!,0)*DM5","v":0},{"$f":"IFERROR(#REF!,0)*DM5","v":0},{"$f":"IFERROR(#REF!,0)*DM5","v":0},{"$f":"IFERROR(#REF!,0)*DM5","v":0},{"$f":"IFERROR(#REF!,0)*DQ5","v":0},{"$f":"IFERROR(#REF!,0)*DQ5","v":0},{"$f":"IFERROR(#REF!,0)*DQ5","v":0},{"$f":"IFERROR(#REF!,0)*DQ5","v":0},{"$f":"IFERROR(#REF!,0)*DU5","v":0},{"$f":"IFERROR(#REF!,0)*DU5","v":0},{"$f":"IFERROR(#REF!,0)*DU5","v":0},{"$f":"IFERROR(#REF!,0)*DU5","v":0},{"$f":"IFERROR(#REF!,0)*DY5","v":0},{"$f":"IFERROR(#REF!,0)*DY5","v":0},{"$f":"IFERROR(#REF!,0)*DY5","v":0},{"$f":"IFERROR(#REF!,0)*DY5","v":0},{"$f":"IFERROR(#REF!,0)*EC5","v":0},{"$f":"IFERROR(#REF!,0)*EC5","v":0},{"$f":"IFERROR(#REF!,0)*EC5","v":0},{"$f":"IFERROR(#REF!,0)*EC5","v":0},{"$f":"IFERROR(#REF!,0)*EG5","v":0},{"$f":"IFERROR(#REF!,0)*EG5","v":0},{"$f":"IFERROR(#REF!,0)*EG5","v":0},{"$f":"IFERROR(#REF!,0)*EG5","v":0},{"$f":"IFERROR(#REF!,0)*EK5","v":0},{"$f":"IFERROR(#REF!,0)*EK5","v":0},{"$f":"IFERROR(#REF!,0)*EK5","v":0},{"$f":"IFERROR(#REF!,0)*EK5","v":0},{"$f":"IFERROR(#REF!,0)*EO5","v":0},{"$f":"IFERROR(#REF!,0)*EO5","v":0},{"$f":"IFERROR(#REF!,0)*EO5","v":0},{"$f":"IFERROR(#REF!,0)*EO5","v":0},{"$f":"IFERROR(#REF!,0)*ES5","v":0},{"$f":"IFERROR(#REF!,0)*ES5","v":0},{"$f":"IFERROR(#REF!,0)*ES5","v":0},{"$f":"IFERROR(#REF!,0)*ES5","v":0},{"$f":"IFERROR(#REF!,0)*EW5","v":0},{"$f":"IFERROR(#REF!,0)*EW5","v":0},{"$f":"IFERROR(#REF!,0)*EW5","v":0},{"$f":"IFERROR(#REF!,0)*EW5","v":0},{"$f":"IFERROR(#REF!,0)*FA5","v":0},{"$f":"IFERROR(#REF!,0)*FA5","v":0},{"$f":"IFERROR(#REF!,0)*FA5","v":0},{"$f":"IFERROR(#REF!,0)*FA5","v":0},{"$f":"IFERROR(#REF!,0)*FE5","v":0},{"$f":"IFERROR(#REF!,0)*FE5","v":0},{"$f":"IFERROR(#REF!,0)*FE5","v":0},{"$f":"IFERROR(#REF!,0)*FE5","v":0},{"$f":"IFERROR(#REF!,0)*FI5","v":0},{"$f":"IFERROR(#REF!,0)*FI5","v":0},{"$f":"IFERROR(#REF!,0)*FI5","v":0},{"$f":"IFERROR(#REF!,0)*FI5","v":0},{"$f":"IFERROR(#REF!,0)*FM5","v":0},{"$f":"IFERROR(#REF!,0)*FM5","v":0},{"$f":"IFERROR(#REF!,0)*FM5","v":0},{"$f":"IFERROR(#REF!,0)*FM5","v":0},{"$f":"IFERROR(#REF!,0)*FQ5","v":0},{"$f":"IFERROR(#REF!,0)*FQ5","v":0},{"$f":"IFERROR(#REF!,0)*FQ5","v":0},{"$f":"IFERROR(#REF!,0)*FQ5","v":0},{"$f":"IFERROR(#REF!,0)*FU5","v":0},{"$f":"IFERROR(#REF!,0)*FU5","v":0},{"$f":"IFERROR(#REF!,0)*FU5","v":0},{"$f":"IFERROR(#REF!,0)*FU5","v":0},{"$f":"IFERROR(#REF!,0)*FY5","v":0},{"$f":"IFERROR(#REF!,0)*FY5","v":0},{"$f":"IFERROR(#REF!,0)*FY5","v":0},{"$f":"IFERROR(#REF!,0)*FY5","v":0},{"$f":"IFERROR(#REF!,0)*GC5","v":0},{"$f":"IFERROR(#REF!,0)*GC5","v":0},{"$f":"IFERROR(#REF!,0)*GC5","v":0},{"$f":"IFERROR(#REF!,0)*GC5","v":0},{"$f":"IFERROR(#REF!,0)*GG5","v":0},{"$f":"IFERROR(#REF!,0)*GG5","v":0},{"$f":"IFERROR(#REF!,0)*GG5","v":0},{"$f":"IFERROR(#REF!,0)*GG5","v":0},{"$f":"IFERROR(#REF!,0)*GK5","v":0},{"$f":"IFERROR(#REF!,0)*GK5","v":0},{"$f":"IFERROR(#REF!,0)*GK5","v":0},{"$f":"IFERROR(#REF!,0)*GK5","v":0},{"$f":"IFERROR(#REF!,0)*GO5","v":0},{"$f":"IFERROR(#REF!,0)*GO5","v":0},{"$f":"IFERROR(#REF!,0)*GO5","v":0},{"$f":"IFERROR(#REF!,0)*GO5","v":0},{"$f":"IFERROR(#REF!,0)*GS5","v":0},{"$f":"IFERROR(#REF!,0)*GS5","v":0},{"$f":"IFERROR(#REF!,0)*GS5","v":0},{"$f":"IFERROR(#REF!,0)*GS5","v":0},{"v":0,"d":"0.00"},{"v":0,"d":"0.00"},{"v":0,"d":"0.00"},{"v":0,"d":"0.00"}]
[null,{"$f":"#REF!","v":{"$error":"#REF!"}},{"$f":"#REF!","v":{"$error":"#REF!"}},{"$f":"IFERROR(#REF!,0)*E5","v":0},{"$f":"IFERROR(#REF!,0)*E5","v":0},{"$f":"IFERROR(#REF!,0)*E5","v":0},{"$f":"IFERROR(#REF!,0)*E5","v":0},{"$f":"IFERROR(#REF!,0)*I5","v":0},{"$f":"IFERROR(#REF!,0)*I5","v":0},{"$f":"IFERROR(#REF!,0)*I5","v":0},{"$f":"IFERROR(#REF!,0)*I5","v":0},{"$f":"IFERROR(#REF!,0)*M5","v":0},{"$f":"IFERROR(#REF!,0)*M5","v":0},{"$f":"IFERROR(#REF!,0)*M5","v":0},{"$f":"IFERROR(#REF!,0)*M5","v":0},{"$f":"IFERROR(#REF!,0)*Q5","v":0},{"$f":"IFERROR(#REF!,0)*Q5","v":0},{"$f":"IFERROR(#REF!,0)*Q5","v":0},{"$f":"IFERROR(#REF!,0)*Q5","v":0},{"$f":"IFERROR(#REF!,0)*U5","v":0},{"$f":"IFERROR(#REF!,0)*U5","v":0},{"$f":"IFERROR(#REF!,0)*U5","v":0},{"$f":"IFERROR(#REF!,0)*U5","v":0},{"$f":"IFERROR(#REF!,0)*Y5","v":0},{"$f":"IFERROR(#REF!,0)*Y5","v":0},{"$f":"IFERROR(#REF!,0)*Y5","v":0},{"$f":"IFERROR(#REF!,0)*Y5","v":0},{"$f":"IFERROR(#REF!,0)*AC5","v":0},{"$f":"IFERROR(#REF!,0)*AC5","v":0},{"$f":"IFERROR(#REF!,0)*AC5","v":0},{"$f":"IFERROR(#REF!,0)*AC5","v":0},{"$f":"IFERROR(#REF!,0)*AG5","v":0},{"$f":"IFERROR(#REF!,0)*AG5","v":0},{"$f":"IFERROR(#REF!,0)*AG5","v":0},{"$f":"IFERROR(#REF!,0)*AG5","v":0},{"$f":"IFERROR(#REF!,0)*AK5","v":0},{"$f":"IFERROR(#REF!,0)*AK5","v":0},{"$f":"IFERROR(#REF!,0)*AK5","v":0},{"$f":"IFERROR(#REF!,0)*AK5","v":0},{"$f":"IFERROR(#REF!,0)*AO5","v":0},{"$f":"IFERROR(#REF!,0)*AO5","v":0},{"$f":"IFERROR(#REF!,0)*AO5","v":0},{"$f":"IFERROR(#REF!,0)*AO5","v":0},{"$f":"IFERROR(#REF!,0)*AS5","v":0},{"$f":"IFERROR(#REF!,0)*AS5","v":0},{"$f":"IFERROR(#REF!,0)*AS5","v":0},{"$f":"IFERROR(#REF!,0)*AS5","v":0},{"$f":"IFERROR(#REF!,0)*AW5","v":0},{"$f":"IFERROR(#REF!,0)*AW5","v":0},{"$f":"IFERROR(#REF!,0)*AW5","v":0},{"$f":"IFERROR(#REF!,0)*AW5","v":0},{"$f":"IFERROR(#REF!,0)*BA5","v":0},{"$f":"IFERROR(#REF!,0)*BA5","v":0},{"$f":"IFERROR(#REF!,0)*BA5","v":0},{"$f":"IFERROR(#REF!,0)*BA5","v":0},{"$f":"IFERROR(#REF!,0)*BE5","v":0},{"$f":"IFERROR(#REF!,0)*BE5","v":0},{"$f":"IFERROR(#REF!,0)*BE5","v":0},{"$f":"IFERROR(#REF!,0)*BE5","v":0},{"$f":"IFERROR(#REF!,0)*BI5","v":0},{"$f":"IFERROR(#REF!,0)*BI5","v":0},{"$f":"IFERROR(#REF!,0)*BI5","v":0},{"$f":"IFERROR(#REF!,0)*BI5","v":0},{"$f":"IFERROR(#REF!,0)*BM5","v":0},{"$f":"IFERROR(#REF!,0)*BM5","v":0},{"$f":"IFERROR(#REF!,0)*BM5","v":0},{"$f":"IFERROR(#REF!,0)*BM5","v":0},{"$f":"IFERROR(#REF!,0)*BQ5","v":0},{"$f":"IFERROR(#REF!,0)*BQ5","v":0},{"$f":"IFERROR(#REF!,0)*BQ5","v":0},{"$f":"IFERROR(#REF!,0)*BQ5","v":0},{"$f":"IFERROR(#REF!,0)*BU5","v":0},{"$f":"IFERROR(#REF!,0)*BU5","v":0},{"$f":"IFERROR(#REF!,0)*BU5","v":0},{"$f":"IFERROR(#REF!,0)*BU5","v":0},{"$f":"IFERROR(#REF!,0)*BY5","v":0},{"$f":"IFERROR(#REF!,0)*BY5","v":0},{"$f":"IFERROR(#REF!,0)*BY5","v":0},{"$f":"IFERROR(#REF!,0)*BY5","v":0},{"$f":"IFERROR(#REF!,0)*CC5","v":0},{"$f":"IFERROR(#REF!,0)*CC5","v":0},{"$f":"IFERROR(#REF!,0)*CC5","v":0},{"$f":"IFERROR(#REF!,0)*CC5","v":0},{"$f":"IFERROR(#REF!,0)*CG5","v":0},{"$f":"IFERROR(#REF!,0)*CG5","v":0},{"$f":"IFERROR(#REF!,0)*CG5","v":0},{"$f":"IFERROR(#REF!,0)*CG5","v":0},{"$f":"IFERROR(#REF!,0)*CK5","v":0},{"$f":"IFERROR(#REF!,0)*CK5","v":0},{"$f":"IFERROR(#REF!,0)*CK5","v":0},{"$f":"IFERROR(#REF!,0)*CK5","v":0},{"$f":"IFERROR(#REF!,0)*CO5","v":0},{"$f":"IFERROR(#REF!,0)*CO5","v":0},{"$f":"IFERROR(#REF!,0)*CO5","v":0},{"$f":"IFERROR(#REF!,0)*CO5","v":0},{"$f":"IFERROR(#REF!,0)*CS5","v":0},{"$f":"IFERROR(#REF!,0)*CS5","v":0},{"$f":"IFERROR(#REF!,0)*CS5","v":0},{"$f":"IFERROR(#REF!,0)*CS5","v":0},{"$f":"IFERROR(#REF!,0)*CW5","v":0},{"$f":"IFERROR(#REF!,0)*CW5","v":0},{"$f":"IFERROR(#REF!,0)*CW5","v":0},{"$f":"IFERROR(#REF!,0)*CW5","v":0},{"$f":"IFERROR(#REF!,0)*DA5","v":0},{"$f":"IFERROR(#REF!,0)*DA5","v":0},{"$f":"IFERROR(#REF!,0)*DA5","v":0},{"$f":"IFERROR(#REF!,0)*DA5","v":0},{"$f":"IFERROR(#REF!,0)*DE5","v":0},{"$f":"IFERROR(#REF!,0)*DE5","v":0},{"$f":"IFERROR(#REF!,0)*DE5","v":0},{"$f":"IFERROR(#REF!,0)*DE5","v":0},{"$f":"IFERROR(#REF!,0)*DI5","v":0},{"$f":"IFERROR(#REF!,0)*DI5","v":0},{"$f":"IFERROR(#REF!,0)*DI5","v":0},{"$f":"IFERROR(#REF!,0)*DI5","v":0},{"$f":"IFERROR(#REF!,0)*DM5","v":0},{"$f":"IFERROR(#REF!,0)*DM5","v":0},{"$f":"IFERROR(#REF!,0)*DM5","v":0},{"$f":"IFERROR(#REF!,0)*DM5","v":0},{"$f":"IFERROR(#REF!,0)*DQ5","v":0},{"$f":"IFERROR(#REF!,0)*DQ5","v":0},{"$f":"IFERROR(#REF!,0)*DQ5","v":0},{"$f":"IFERROR(#REF!,0)*DQ5","v":0},{"$f":"IFERROR(#REF!,0)*DU5","v":0},{"$f":"IFERROR(#REF!,0)*DU5","v":0},{"$f":"IFERROR(#REF!,0)*DU5","v":0},{"$f":"IFERROR(#REF!,0)*DU5","v":0},{"$f":"IFERROR(#REF!,0)*DY5","v":0},{"$f":"IFERROR(#REF!,0)*DY5","v":0},{"$f":"IFERROR(#REF!,0)*DY5","v":0},{"$f":"IFERROR(#REF!,0)*DY5","v":0},{"$f":"IFERROR(#REF!,0)*EC5","v":0},{"$f":"IFERROR(#REF!,0)*EC5","v":0},{"$f":"IFERROR(#REF!,0)*EC5","v":0},{"$f":"IFERROR(#REF!,0)*EC5","v":0},{"$f":"IFERROR(#REF!,0)*EG5","v":0},{"$f":"IFERROR(#REF!,0)*EG5","v":0},{"$f":"IFERROR(#REF!,0)*EG5","v":0},{"$f":"IFERROR(#REF!,0)*EG5","v":0},{"$f":"IFERROR(#REF!,0)*EK5","v":0},{"$f":"IFERROR(#REF!,0)*EK5","v":0},{"$f":"IFERROR(#REF!,0)*EK5","v":0},{"$f":"IFERROR(#REF!,0)*EK5","v":0},{"$f":"IFERROR(#REF!,0)*EO5","v":0},{"$f":"IFERROR(#REF!,0)*EO5","v":0},{"$f":"IFERROR(#REF!,0)*EO5","v":0},{"$f":"IFERROR(#REF!,0)*EO5","v":0},{"$f":"IFERROR(#REF!,0)*ES5","v":0},{"$f":"IFERROR(#REF!,0)*ES5","v":0},{"$f":"IFERROR(#REF!,0)*ES5","v":0},{"$f":"IFERROR(#REF!,0)*ES5","v":0},{"$f":"IFERROR(#REF!,0)*EW5","v":0},{"$f":"IFERROR(#REF!,0)*EW5","v":0},{"$f":"IFERROR(#REF!,0)*EW5","v":0},{"$f":"IFERROR(#REF!,0)*EW5","v":0},{"$f":"IFERROR(#REF!,0)*FA5","v":0},{"$f":"IFERROR(#REF!,0)*FA5","v":0},{"$f":"IFERROR(#REF!,0)*FA5","v":0},{"$f":"IFERROR(#REF!,0)*FA5","v":0},{"$f":"IFERROR(#REF!,0)*FE5","v":0},{"$f":"IFERROR(#REF!,0)*FE5","v":0},{"$f":"IFERROR(#REF!,0)*FE5","v":0},{"$f":"IFERROR(#REF!,0)*FE5","v":0},{"$f":"IFERROR(#REF!,0)*FI5","v":0},{"$f":"IFERROR(#REF!,0)*FI5","v":0},{"$f":"IFERROR(#REF!,0)*FI5","v":0},{"$f":"IFERROR(#REF!,0)*FI5","v":0},{"$f":"IFERROR(#REF!,0)*FM5","v":0},{"$f":"IFERROR(#REF!,0)*FM5","v":0},{"$f":"IFERROR(#REF!,0)*FM5","v":0},{"$f":"IFERROR(#REF!,0)*FM5","v":0},{"$f":"IFERROR(#REF!,0)*FQ5","v":0},{"$f":"IFERROR(#REF!,0)*FQ5","v":0},{"$f":"IFERROR(#REF!,0)*FQ5","v":0},{"$f":"IFERROR(#REF!,0)*FQ5","v":0},{"$f":"IFERROR(#REF!,0)*FU5","v":0},{"$f":"IFERROR(#REF!,0)*FU5","v":0},{"$f":"IFERROR(#REF!,0)*FU5","v":0},{"$f":"IFERROR(#REF!,0)*FU5","v":0},{"$f":"IFERROR(#REF!,0)*FY5","v":0},{"$f":"IFERROR(#REF!,0)*FY5","v":0},{"$f":"IFERROR(#REF!,0)*FY5","v":0},{"$f":"IFERROR(#REF!,0)*FY5","v":0},{"$f":"IFERROR(#REF!,0)*GC5","v":0},{"$f":"IFERROR(#REF!,0)*GC5","v":0},{"$f":"IFERROR(#REF!,0)*GC5","v":0},{"$f":"IFERROR(#REF!,0)*GC5","v":0},{"$f":"IFERROR(#REF!,0)*GG5","v":0},{"$f":"IFERROR(#REF!,0)*GG5","v":0},{"$f":"IFERROR(#REF!,0)*GG5","v":0},{"$f":"IFERROR(#REF!,0)*GG5","v":0},{"$f":"IFERROR(#REF!,0)*GK5","v":0},{"$f":"IFERROR(#REF!,0)*GK5","v":0},{"$f":"IFERROR(#REF!,0)*GK5","v":0},{"$f":"IFERROR(#REF!,0)*GK5","v":0},{"$f":"IFERROR(#REF!,0)*GO5","v":0},{"$f":"IFERROR(#REF!,0)*GO5","v":0},{"$f":"IFERROR(#REF!,0)*GO5","v":0},{"$f":"IFERROR(#REF!,0)*GO5","v":0},{"$f":"IFERROR(#REF!,0)*GS5","v":0},{"$f":"IFERROR(#REF!,0)*GS5","v":0},{"$f":"IFERROR(#REF!,0)*GS5","v":0},{"$f":"IFERROR(#REF!,0)*GS5","v":0},{"v":0,"d":"0.00"},{"v":0,"d":"0.00"},{"v":0,"d":"0.00"},{"v":0,"d":"0.00"}]
[null,{"$f":"#REF!","v":{"$error":"#REF!"}},{"$f":"#REF!","v":{"$error":"#REF!"}},{"$f":"IFERROR(#REF!,0)*E5","v":0},{"$f":"IFERROR(#REF!,0)*E5","v":0},{"$f":"IFERROR(#REF!,0)*E5","v":0},{"$f":"IFERROR(#REF!,0)*E5","v":0},{"$f":"IFERROR(#REF!,0)*I5","v":0},{"$f":"IFERROR(#REF!,0)*I5","v":0},{"$f":"IFERROR(#REF!,0)*I5","v":0},{"$f":"IFERROR(#REF!,0)*I5","v":0},{"$f":"IFERROR(#REF!,0)*M5","v":0},{"$f":"IFERROR(#REF!,0)*M5","v":0},{"$f":"IFERROR(#REF!,0)*M5","v":0},{"$f":"IFERROR(#REF!,0)*M5","v":0},{"$f":"IFERROR(#REF!,0)*Q5","v":0},{"$f":"IFERROR(#REF!,0)*Q5","v":0},{"$f":"IFERROR(#REF!,0)*Q5","v":0},{"$f":"IFERROR(#REF!,0)*Q5","v":0},{"$f":"IFERROR(#REF!,0)*U5","v":0},{"$f":"IFERROR(#REF!,0)*U5","v":0},{"$f":"IFERROR(#REF!,0)*U5","v":0},{"$f":"IFERROR(#REF!,0)*U5","v":0},{"$f":"IFERROR(#REF!,0)*Y5","v":0},{"$f":"IFERROR(#REF!,0)*Y5","v":0},{"$f":"IFERROR(#REF!,0)*Y5","v":0},{"$f":"IFERROR(#REF!,0)*Y5","v":0},{"$f":"IFERROR(#REF!,0)*AC5","v":0},{"$f":"IFERROR(#REF!,0)*AC5","v":0},{"$f":"IFERROR(#REF!,0)*AC5","v":0},{"$f":"IFERROR(#REF!,0)*AC5","v":0},{"$f":"IFERROR(#REF!,0)*AG5","v":0},{"$f":"IFERROR(#REF!,0)*AG5","v":0},{"$f":"IFERROR(#REF!,0)*AG5","v":0},{"$f":"IFERROR(#REF!,0)*AG5","v":0},{"$f":"IFERROR(#REF!,0)*AK5","v":0},{"$f":"IFERROR(#REF!,0)*AK5","v":0},{"$f":"IFERROR(#REF!,0)*AK5","v":0},{"$f":"IFERROR(#REF!,0)*AK5","v":0},{"$f":"IFERROR(#REF!,0)*AO5","v":0},{"$f":"IFERROR(#REF!,0)*AO5","v":0},{"$f":"IFERROR(#REF!,0)*AO5","v":0},{"$f":"IFERROR(#REF!,0)*AO5","v":0},{"$f":"IFERROR(#REF!,0)*AS5","v":0},{"$f":"IFERROR(#REF!,0)*AS5","v":0},{"$f":"IFERROR(#REF!,0)*AS5","v":0},{"$f":"IFERROR(#REF!,0)*AS5","v":0},{"$f":"IFERROR(#REF!,0)*AW5","v":0},{"$f":"IFERROR(#REF!,0)*AW5","v":0},{"$f":"IFERROR(#REF!,0)*AW5","v":0},{"$f":"IFERROR(#REF!,0)*AW5","v":0},{"$f":"IFERROR(#REF!,0)*BA5","v":0},{"$f":"IFERROR(#REF!,0)*BA5","v":0},{"$f":"IFERROR(#REF!,0)*BA5","v":0},{"$f":"IFERROR(#REF!,0)*BA5","v":0},{"$f":"IFERROR(#REF!,0)*BE5","v":0},{"$f":"IFERROR(#REF!,0)*BE5","v":0},{"$f":"IFERROR(#REF!,0)*BE5","v":0},{"$f":"IFERROR(#REF!,0)*BE5","v":0},{"$f":"IFERROR(#REF!,0)*BI5","v":0},{"$f":"IFERROR(#REF!,0)*BI5","v":0},{"$f":"IFERROR(#REF!,0)*BI5","v":0},{"$f":"IFERROR(#REF!,0)*BI5","v":0},{"$f":"IFERROR(#REF!,0)*BM5","v":0},{"$f":"IFERROR(#REF!,0)*BM5","v":0},{"$f":"IFERROR(#REF!,0)*BM5","v":0},{"$f":"IFERROR(#REF!,0)*BM5","v":0},{"$f":"IFERROR(#REF!,0)*BQ5","v":0},{"$f":"IFERROR(#REF!,0)*BQ5","v":0},{"$f":"IFERROR(#REF!,0)*BQ5","v":0},{"$f":"IFERROR(#REF!,0)*BQ5","v":0},{"$f":"IFERROR(#REF!,0)*BU5","v":0},{"$f":"IFERROR(#REF!,0)*BU5","v":0},{"$f":"IFERROR(#REF!,0)*BU5","v":0},{"$f":"IFERROR(#REF!,0)*BU5","v":0},{"$f":"IFERROR(#REF!,0)*BY5","v":0},{"$f":"IFERROR(#REF!,0)*BY5","v":0},{"$f":"IFERROR(#REF!,0)*BY5","v":0},{"$f":"IFERROR(#REF!,0)*BY5","v":0},{"$f":"IFERROR(#REF!,0)*CC5","v":0},{"$f":"IFERROR(#REF!,0)*CC5","v":0},{"$f":"IFERROR(#REF!,0)*CC5","v":0},{"$f":"IFERROR(#REF!,0)*CC5","v":0},{"$f":"IFERROR(#REF!,0)*CG5","v":0},{"$f":"IFERROR(#REF!,0)*CG5","v":0},{"$f":"IFERROR(#REF!,0)*CG5","v":0},{"$f":"IFERROR(#REF!,0)*CG5","v":0},{"$f":"IFERROR(#REF!,0)*CK5","v":0},{"$f":"IFERROR(#REF!,0)*CK5","v":0},{"$f":"IFERROR(#REF!,0)*CK5","v":0},{"$f":"IFERROR(#REF!,0)*CK5","v":0},{"$f":"IFERROR(#REF!,0)*CO5","v":0},{"$f":"IFERROR(#REF!,0)*CO5","v":0},{"$f":"IFERROR(#REF!,0)*CO5","v":0},{"$f":"IFERROR(#REF!,0)*CO5","v":0},{"$f":"IFERROR(#REF!,0)*CS5","v":0},{"$f":"IFERROR(#REF!,0)*CS5","v":0},{"$f":"IFERROR(#REF!,0)*CS5","v":0},{"$f":"IFERROR(#REF!,0)*CS5","v":0},{"$f":"IFERROR(#REF!,0)*CW5","v":0},{"$f":"IFERROR(#REF!,0)*CW5","v":0},{"$f":"IFERROR(#REF!,0)*CW5","v":0},{"$f":"IFERROR(#REF!,0)*CW5","v":0},{"$f":"IFERROR(#REF!,0)*DA5","v":0},{"$f":"IFERROR(#REF!,0)*DA5","v":0},{"$f":"IFERROR(#REF!,0)*DA5","v":0},{"$f":"IFERROR(#REF!,0)*DA5","v":0},{"$f":"IFERROR(#REF!,0)*DE5","v":0},{"$f":"IFERROR(#REF!,0)*DE5","v":0},{"$f":"IFERROR(#REF!,0)*DE5","v":0},{"$f":"IFERROR(#REF!,0)*DE5","v":0},{"$f":"IFERROR(#REF!,0)*DI5","v":0},{"$f":"IFERROR(#REF!,0)*DI5","v":0},{"$f":"IFERROR(#REF!,0)*DI5","v":0},{"$f":"IFERROR(#REF!,0)*DI5","v":0},{"$f":"IFERROR(#REF!,0)*DM5","v":0},{"$f":"IFERROR(#REF!,0)*DM5","v":0},{"$f":"IFERROR(#REF!,0)*DM5","v":0},{"$f":"IFERROR(#REF!,0)*DM5","v":0},{"$f":"IFERROR(#REF!,0)*DQ5","v":0},{"$f":"IFERROR(#REF!,0)*DQ5","v":0},{"$f":"IFERROR(#REF!,0)*DQ5","v":0},{"$f":"IFERROR(#REF!,0)*DQ5","v":0},{"$f":"IFERROR(#REF!,0)*DU5","v":0},{"$f":"IFERROR(#REF!,0)*DU5","v":0},{"$f":"IFERROR(#REF!,0)*DU5","v":0},{"$f":"IFERROR(#REF!,0)*DU5","v":0},{"$f":"IFERROR(#REF!,0)*DY5","v":0},{"$f":"IFERROR(#REF!,0)*DY5","v":0},{"$f":"IFERROR(#REF!,0)*DY5","v":0},{"$f":"IFERROR(#REF!,0)*DY5","v":0},{"$f":"IFERROR(#REF!,0)*EC5","v":0},{"$f":"IFERROR(#REF!,0)*EC5","v":0},{"$f":"IFERROR(#REF!,0)*EC5","v":0},{"$f":"IFERROR(#REF!,0)*EC5","v":0},{"$f":"IFERROR(#REF!,0)*EG5","v":0},{"$f":"IFERROR(#REF!,0)*EG5","v":0},{"$f":"IFERROR(#REF!,0)*EG5","v":0},{"$f":"IFERROR(#REF!,0)*EG5","v":0},{"$f":"IFERROR(#REF!,0)*EK5","v":0},{"$f":"IFERROR(#REF!,0)*EK5","v":0},{"$f":"IFERROR(#REF!,0)*EK5","v":0},{"$f":"IFERROR(#REF!,0)*EK5","v":0},{"$f":"IFERROR(#REF!,0)*EO5","v":0},{"$f":"IFERROR(#REF!,0)*EO5","v":0},{"$f":"IFERROR(#REF!,0)*EO5","v":0},{"$f":"IFERROR(#REF!,0)*EO5","v":0},{"$f":"IFERROR(#REF!,0)*ES5","v":0},{"$f":"IFERROR(#REF!,0)*ES5","v":0},{"$f":"IFERROR(#REF!,0)*ES5","v":0},{"$f":"IFERROR(#REF!,0)*ES5","v":0},{"$f":"IFERROR(#REF!,0)*EW5","v":0},{"$f":"IFERROR(#REF!,0)*EW5","v":0},{"$f":"IFERROR(#REF!,0)*EW5","v":0},{"$f":"IFERROR(#REF!,0)*EW5","v":0},{"$f":"IFERROR(#REF!,0)*FA5","v":0},{"$f":"IFERROR(#REF!,0)*FA5","v":0},{"$f":"IFERROR(#REF!,0)*FA5","v":0},{"$f":"IFERROR(#REF!,0)*FA5","v":0},{"$f":"IFERROR(#REF!,0)*FE5","v":0},{"$f":"IFERROR(#REF!,0)*FE5","v":0},{"$f":"IFERROR(#REF!,0)*FE5","v":0},{"$f":"IFERROR(#REF!,0)*FE5","v":0},{"$f":"IFERROR(#REF!,0)*FI5","v":0},{"$f":"IFERROR(#REF!,0)*FI5","v":0},{"$f":"IFERROR(#REF!,0)*FI5","v":0},{"$f":"IFERROR(#REF!,0)*FI5","v":0},{"$f":"IFERROR(#REF!,0)*FM5","v":0},{"$f":"IFERROR(#REF!,0)*FM5","v":0},{"$f":"IFERROR(#REF!,0)*FM5","v":0},{"$f":"IFERROR(#REF!,0)*FM5","v":0},{"$f":"IFERROR(#REF!,0)*FQ5","v":0},{"$f":"IFERROR(#REF!,0)*FQ5","v":0},{"$f":"IFERROR(#REF!,0)*FQ5","v":0},{"$f":"IFERROR(#REF!,0)*FQ5","v":0},{"$f":"IFERROR(#REF!,0)*FU5","v":0},{"$f":"IFERROR(#REF!,0)*FU5","v":0},{"$f":"IFERROR(#REF!,0)*FU5","v":0},{"$f":"IFERROR(#REF!,0)*FU5","v":0},{"$f":"IFERROR(#REF!,0)*FY5","v":0},{"$f":"IFERROR(#REF!,0)*FY5","v":0},{"$f":"IFERROR(#REF!,0)*FY5","v":0},{"$f":"IFERROR(#REF!,0)*FY5","v":0},{"$f":"IFERROR(#REF!,0)*GC5","v":0},{"$f":"IFERROR(#REF!,0)*GC5","v":0},{"$f":"IFERROR(#REF!,0)*GC5","v":0},{"$f":"IFERROR(#REF!,0)*GC5","v":0},{"$f":"IFERROR(#REF!,0)*GG5","v":0},{"$f":"IFERROR(#REF!,0)*GG5","v":0},{"$f":"IFERROR(#REF!,0)*GG5","v":0},{"$f":"IFERROR(#REF!,0)*GG5","v":0},{"$f":"IFERROR(#REF!,0)*GK5","v":0},{"$f":"IFERROR(#REF!,0)*GK5","v":0},{"$f":"IFERROR(#REF!,0)*GK5","v":0},{"$f":"IFERROR(#REF!,0)*GK5","v":0},{"$f":"IFERROR(#REF!,0)*GO5","v":0},{"$f":"IFERROR(#REF!,0)*GO5","v":0},{"$f":"IFERROR(#REF!,0)*GO5","v":0},{"$f":"IFERROR(#REF!,0)*GO5","v":0},{"$f":"IFERROR(#REF!,0)*GS5","v":0},{"$f":"IFERROR(#REF!,0)*GS5","v":0},{"$f":"IFERROR(#REF!,0)*GS5","v":0},{"$f":"IFERROR(#REF!,0)*GS5","v":0},{"v":0,"d":"0.00"},{"v":0,"d":"0.00"},{"v":0,"d":"0.00"},{"v":0,"d":"0.00"}]
[null,{"$f":"#REF!","v":{"$error":"#REF!"}},{"$f":"#REF!","v":{"$error":"#REF!"}},{"$f":"IFERROR(#REF!,0)*E5","v":0},{"$f":"IFERROR(#REF!,0)*E5","v":0},{"$f":"IFERROR(#REF!,0)*E5","v":0},{"$f":"IFERROR(#REF!,0)*E5","v":0},{"$f":"IFERROR(#REF!,0)*I5","v":0},{"$f":"IFERROR(#REF!,0)*I5","v":0},{"$f":"IFERROR(#REF!,0)*I5","v":0},{"$f":"IFERROR(#REF!,0)*I5","v":0},{"$f":"IFERROR(#REF!,0)*M5","v":0},{"$f":"IFERROR(#REF!,0)*M5","v":0},{"$f":"IFERROR(#REF!,0)*M5","v":0},{"$f":"IFERROR(#REF!,0)*M5","v":0},{"$f":"IFERROR(#REF!,0)*Q5","v":0},{"$f":"IFERROR(#REF!,0)*Q5","v":0},{"$f":"IFERROR(#REF!,0)*Q5","v":0},{"$f":"IFERROR(#REF!,0)*Q5","v":0},{"$f":"IFERROR(#REF!,0)*U5","v":0},{"$f":"IFERROR(#REF!,0)*U5","v":0},{"$f":"IFERROR(#REF!,0)*U5","v":0},{"$f":"IFERROR(#REF!,0)*U5","v":0},{"$f":"IFERROR(#REF!,0)*Y5","v":0},{"$f":"IFERROR(#REF!,0)*Y5","v":0},{"$f":"IFERROR(#REF!,0)*Y5","v":0},{"$f":"IFERROR(#REF!,0)*Y5","v":0},{"$f":"IFERROR(#REF!,0)*AC5","v":0},{"$f":"IFERROR(#REF!,0)*AC5","v":0},{"$f":"IFERROR(#REF!,0)*AC5","v":0},{"$f":"IFERROR(#REF!,0)*AC5","v":0},{"$f":"IFERROR(#REF!,0)*AG5","v":0},{"$f":"IFERROR(#REF!,0)*AG5","v":0},{"$f":"IFERROR(#REF!,0)*AG5","v":0},{"$f":"IFERROR(#REF!,0)*AG5","v":0},{"$f":"IFERROR(#REF!,0)*AK5","v":0},{"$f":"IFERROR(#REF!,0)*AK5","v":0},{"$f":"IFERROR(#REF!,0)*AK5","v":0},{"$f":"IFERROR(#REF!,0)*AK5","v":0},{"$f":"IFERROR(#REF!,0)*AO5","v":0},{"$f":"IFERROR(#REF!,0)*AO5","v":0},{"$f":"IFERROR(#REF!,0)*AO5","v":0},{"$f":"IFERROR(#REF!,0)*AO5","v":0},{"$f":"IFERROR(#REF!,0)*AS5","v":0},{"$f":"IFERROR(#REF!,0)*AS5","v":0},{"$f":"IFERROR(#REF!,0)*AS5","v":0},{"$f":"IFERROR(#REF!,0)*AS5","v":0},{"$f":"IFERROR(#REF!,0)*AW5","v":0},{"$f":"IFERROR(#REF!,0)*AW5","v":0},{"$f":"IFERROR(#REF!,0)*AW5","v":0},{"$f":"IFERROR(#REF!,0)*AW5","v":0},{"$f":"IFERROR(#REF!,0)*BA5","v":0},{"$f":"IFERROR(#REF!,0)*BA5","v":0},{"$f":"IFERROR(#REF!,0)*BA5","v":0},{"$f":"IFERROR(#REF!,0)*BA5","v":0},{"$f":"IFERROR(#REF!,0)*BE5","v":0},{"$f":"IFERROR(#REF!,0)*BE5","v":0},{"$f":"IFERROR(#REF!,0)*BE5","v":0},{"$f":"IFERROR(#REF!,0)*BE5","v":0},{"$f":"IFERROR(#REF!,0)*BI5","v":0},{"$f":"IFERROR(#REF!,0)*BI5","v":0},{"$f":"IFERROR(#REF!,0)*BI5","v":0},{"$f":"IFERROR(#REF!,0)*BI5","v":0},{"$f":"IFERROR(#REF!,0)*BM5","v":0},{"$f":"IFERROR(#REF!,0)*BM5","v":0},{"$f":"IFERROR(#REF!,0)*BM5","v":0},{"$f":"IFERROR(#REF!,0)*BM5","v":0},{"$f":"IFERROR(#REF!,0)*BQ5","v":0},{"$f":"IFERROR(#REF!,0)*BQ5","v":0},{"$f":"IFERROR(#REF!,0)*BQ5","v":0},{"$f":"IFERROR(#REF!,0)*BQ5","v":0},{"$f":"IFERROR(#REF!,0)*BU5","v":0},{"$f":"IFERROR(#REF!,0)*BU5","v":0},{"$f":"IFERROR(#REF!,0)*BU5","v":0},{"$f":"IFERROR(#REF!,0)*BU5","v":0},{"$f":"IFERROR(#REF!,0)*BY5","v":0},{"$f":"IFERROR(#REF!,0)*BY5","v":0},{"$f":"IFERROR(#REF!,0)*BY5","v":0},{"$f":"IFERROR(#REF!,0)*BY5","v":0},{"$f":"IFERROR(#REF!,0)*CC5","v":0},{"$f":"IFERROR(#REF!,0)*CC5","v":0},{"$f":"IFERROR(#REF!,0)*CC5","v":0},{"$f":"IFERROR(#REF!,0)*CC5","v":0},{"$f":"IFERROR(#REF!,0)*CG5","v":0},{"$f":"IFERROR(#REF!,0)*CG5","v":0},{"$f":"IFERROR(#REF!,0)*CG5","v":0},{"$f":"IFERROR(#REF!,0)*CG5","v":0},{"$f":"IFERROR(#REF!,0)*CK5","v":0},{"$f":"IFERROR(#REF!,0)*CK5","v":0},{"$f":"IFERROR(#REF!,0)*CK5","v":0},{"$f":"IFERROR(#REF!,0)*CK5","v":0},{"$f":"IFERROR(#REF!,0)*CO5","v":0},{"$f":"IFERROR(#REF!,0)*CO5","v":0},{"$f":"IFERROR(#REF!,0)*CO5","v":0},{"$f":"IFERROR(#REF!,0)*CO5","v":0},{"$f":"IFERROR(#REF!,0)*CS5","v":0},{"$f":"IFERROR(#REF!,0)*CS5","v":0},{"$f":"IFERROR(#REF!,0)*CS5","v":0},{"$f":"IFERROR(#REF!,0)*CS5","v":0},{"$f":"IFERROR(#REF!,0)*CW5","v":0},{"$f":"IFERROR(#REF!,0)*CW5","v":0},{"$f":"IFERROR(#REF!,0)*CW5","v":0},{"$f":"IFERROR(#REF!,0)*CW5","v":0},{"$f":"IFERROR(#REF!,0)*DA5","v":0},{"$f":"IFERROR(#REF!,0)*DA5","v":0},{"$f":"IFERROR(#REF!,0)*DA5","v":0},{"$f":"IFERROR(#REF!,0)*DA5","v":0},{"$f":"IFERROR(#REF!,0)*DE5","v":0},{"$f":"IFERROR(#REF!,0)*DE5","v":0},{"$f":"IFERROR(#REF!,0)*DE5","v":0},{"$f":"IFERROR(#REF!,0)*DE5","v":0},{"$f":"IFERROR(#REF!,0)*DI5","v":0},{"$f":"IFERROR(#REF!,0)*DI5","v":0},{"$f":"IFERROR(#REF!,0)*DI5","v":0},{"$f":"IFERROR(#REF!,0)*DI5","v":0},{"$f":"IFERROR(#REF!,0)*DM5","v":0},{"$f":"IFERROR(#REF!,0)*DM5","v":0},{"$f":"IFERROR(#REF!,0)*DM5","v":0},{"$f":"IFERROR(#REF!,0)*DM5","v":0},{"$f":"IFERROR(#REF!,0)*DQ5","v":0},{"$f":"IFERROR(#REF!,0)*DQ5","v":0},{"$f":"IFERROR(#REF!,0)*DQ5","v":0},{"$f":"IFERROR(#REF!,0)*DQ5","v":0},{"$f":"IFERROR(#REF!,0)*DU5","v":0},{"$f":"IFERROR(#REF!,0)*DU5","v":0},{"$f":"IFERROR(#REF!,0)*DU5","v":0},{"$f":"IFERROR(#REF!,0)*DU5","v":0},{"$f":"IFERROR(#REF!,0)*DY5","v":0},{"$f":"IFERROR(#REF!,0)*DY5","v":0},{"$f":"IFERROR(#REF!,0)*DY5","v":0},{"$f":"IFERROR(#REF!,0)*DY5","v":0},{"$f":"IFERROR(#REF!,0)*EC5","v":0},{"$f":"IFERROR(#REF!,0)*EC5","v":0},{"$f":"IFERROR(#REF!,0)*EC5","v":0},{"$f":"IFERROR(#REF!,0)*EC5","v":0},{"$f":"IFERROR(#REF!,0)*EG5","v":0},{"$f":"IFERROR(#REF!,0)*EG5","v":0},{"$f":"IFERROR(#REF!,0)*EG5","v":0},{"$f":"IFERROR(#REF!,0)*EG5","v":0},{"$f":"IFERROR(#REF!,0)*EK5","v":0},{"$f":"IFERROR(#REF!,0)*EK5","v":0},{"$f":"IFERROR(#REF!,0)*EK5","v":0},{"$f":"IFERROR(#REF!,0)*EK5","v":0},{"$f":"IFERROR(#REF!,0)*EO5","v":0},{"$f":"IFERROR(#REF!,0)*EO5","v":0},{"$f":"IFERROR(#REF!,0)*EO5","v":0},{"$f":"IFERROR(#REF!,0)*EO5","v":0},{"$f":"IFERROR(#REF!,0)*ES5","v":0},{"$f":"IFERROR(#REF!,0)*ES5","v":0},{"$f":"IFERROR(#REF!,0)*ES5","v":0},{"$f":"IFERROR(#REF!,0)*ES5","v":0},{"$f":"IFERROR(#REF!,0)*EW5","v":0},{"$f":"IFERROR(#REF!,0)*EW5","v":0},{"$f":"IFERROR(#REF!,0)*EW5","v":0},{"$f":"IFERROR(#REF!,0)*EW5","v":0},{"$f":"IFERROR(#REF!,0)*FA5","v":0},{"$f":"IFERROR(#REF!,0)*FA5","v":0},{"$f":"IFERROR(#REF!,0)*FA5","v":0},{"$f":"IFERROR(#REF!,0)*FA5","v":0},{"$f":"IFERROR(#REF!,0)*FE5","v":0},{"$f":"IFERROR(#REF!,0)*FE5","v":0},{"$f":"IFERROR(#REF!,0)*FE5","v":0},{"$f":"IFERROR(#REF!,0)*FE5","v":0},{"$f":"IFERROR(#REF!,0)*FI5","v":0},{"$f":"IFERROR(#REF!,0)*FI5","v":0},{"$f":"IFERROR(#REF!,0)*FI5","v":0},{"$f":"IFERROR(#REF!,0)*FI5","v":0},{"$f":"IFERROR(#REF!,0)*FM5","v":0},{"$f":"IFERROR(#REF!,0)*FM5","v":0},{"$f":"IFERROR(#REF!,0)*FM5","v":0},{"$f":"IFERROR(#REF!,0)*FM5","v":0},{"$f":"IFERROR(#REF!,0)*FQ5","v":0},{"$f":"IFERROR(#REF!,0)*FQ5","v":0},{"$f":"IFERROR(#REF!,0)*FQ5","v":0},{"$f":"IFERROR(#REF!,0)*FQ5","v":0},{"$f":"IFERROR(#REF!,0)*FU5","v":0},{"$f":"IFERROR(#REF!,0)*FU5","v":0},{"$f":"IFERROR(#REF!,0)*FU5","v":0},{"$f":"IFERROR(#REF!,0)*FU5","v":0},{"$f":"IFERROR(#REF!,0)*FY5","v":0},{"$f":"IFERROR(#REF!,0)*FY5","v":0},{"$f":"IFERROR(#REF!,0)*FY5","v":0},{"$f":"IFERROR(#REF!,0)*FY5","v":0},{"$f":"IFERROR(#REF!,0)*GC5","v":0},{"$f":"IFERROR(#REF!,0)*GC5","v":0},{"$f":"IFERROR(#REF!,0)*GC5","v":0},{"$f":"IFERROR(#REF!,0)*GC5","v":0},{"$f":"IFERROR(#REF!,0)*GG5","v":0},{"$f":"IFERROR(#REF!,0)*GG5","v":0},{"$f":"IFERROR(#REF!,0)*GG5","v":0},{"$f":"IFERROR(#REF!,0)*GG5","v":0},{"$f":"IFERROR(#REF!,0)*GK5","v":0},{"$f":"IFERROR(#REF!,0)*GK5","v":0},{"$f":"IFERROR(#REF!,0)*GK5","v":0},{"$f":"IFERROR(#REF!,0)*GK5","v":0},{"$f":"IFERROR(#REF!,0)*GO5","v":0},{"$f":"IFERROR(#REF!,0)*GO5","v":0},{"$f":"IFERROR(#REF!,0)*GO5","v":0},{"$f":"IFERROR(#REF!,0)*GO5","v":0},{"$f":"IFERROR(#REF!,0)*GS5","v":0},{"$f":"IFERROR(#REF!,0)*GS5","v":0},{"$f":"IFERROR(#REF!,0)*GS5","v":0},{"$f":"IFERROR(#REF!,0)*GS5","v":0},{"v":0,"d":"0.00"},{"v":0,"d":"0.00"},{"v":0,"d":"0.00"},{"v":0,"d":"0.00"}]
[null,{"$f":"#REF!","v":{"$error":"#REF!"}},{"$f":"#REF!","v":{"$error":"#REF!"}},{"$f":"IFERROR(#REF!,0)*E5","v":0},{"$f":"IFERROR(#REF!,0)*E5","v":0},{"$f":"IFERROR(#REF!,0)*E5","v":0},{"$f":"IFERROR(#REF!,0)*E5","v":0},{"$f":"IFERROR(#REF!,0)*I5","v":0},{"$f":"IFERROR(#REF!,0)*I5","v":0},{"$f":"IFERROR(#REF!,0)*I5","v":0},{"$f":"IFERROR(#REF!,0)*I5","v":0},{"$f":"IFERROR(#REF!,0)*M5","v":0},{"$f":"IFERROR(#REF!,0)*M5","v":0},{"$f":"IFERROR(#REF!,0)*M5","v":0},{"$f":"IFERROR(#REF!,0)*M5","v":0},{"$f":"IFERROR(#REF!,0)*Q5","v":0},{"$f":"IFERROR(#REF!,0)*Q5","v":0},{"$f":"IFERROR(#REF!,0)*Q5","v":0},{"$f":"IFERROR(#REF!,0)*Q5","v":0},{"$f":"IFERROR(#REF!,0)*U5","v":0},{"$f":"IFERROR(#REF!,0)*U5","v":0},{"$f":"IFERROR(#REF!,0)*U5","v":0},{"$f":"IFERROR(#REF!,0)*U5","v":0},{"$f":"IFERROR(#REF!,0)*Y5","v":0},{"$f":"IFERROR(#REF!,0)*Y5","v":0},{"$f":"IFERROR(#REF!,0)*Y5","v":0},{"$f":"IFERROR(#REF!,0)*Y5","v":0},{"$f":"IFERROR(#REF!,0)*AC5","v":0},{"$f":"IFERROR(#REF!,0)*AC5","v":0},{"$f":"IFERROR(#REF!,0)*AC5","v":0},{"$f":"IFERROR(#REF!,0)*AC5","v":0},{"$f":"IFERROR(#REF!,0)*AG5","v":0},{"$f":"IFERROR(#REF!,0)*AG5","v":0},{"$f":"IFERROR(#REF!,0)*AG5","v":0},{"$f":"IFERROR(#REF!,0)*AG5","v":0},{"$f":"IFERROR(#REF!,0)*AK5","v":0},{"$f":"IFERROR(#REF!,0)*AK5","v":0},{"$f":"IFERROR(#REF!,0)*AK5","v":0},{"$f":"IFERROR(#REF!,0)*AK5","v":0},{"$f":"IFERROR(#REF!,0)*AO5","v":0},{"$f":"IFERROR(#REF!,0)*AO5","v":0},{"$f":"IFERROR(#REF!,0)*AO5","v":0},{"$f":"IFERROR(#REF!,0)*AO5","v":0},{"$f":"IFERROR(#REF!,0)*AS5","v":0},{"$f":"IFERROR(#REF!,0)*AS5","v":0},{"$f":"IFERROR(#REF!,0)*AS5","v":0},{"$f":"IFERROR(#REF!,0)*AS5","v":0},{"$f":"IFERROR(#REF!,0)*AW5","v":0},{"$f":"IFERROR(#REF!,0)*AW5","v":0},{"$f":"IFERROR(#REF!,0)*AW5","v":0},{"$f":"IFERROR(#REF!,0)*AW5","v":0},{"$f":"IFERROR(#REF!,0)*BA5","v":0},{"$f":"IFERROR(#REF!,0)*BA5","v":0},{"$f":"IFERROR(#REF!,0)*BA5","v":0},{"$f":"IFERROR(#REF!,0)*BA5","v":0},{"$f":"IFERROR(#REF!,0)*BE5","v":0},{"$f":"IFERROR(#REF!,0)*BE5","v":0},{"$f":"IFERROR(#REF!,0)*BE5","v":0},{"$f":"IFERROR(#REF!,0)*BE5","v":0},{"$f":"IFERROR(#REF!,0)*BI5","v":0},{"$f":"IFERROR(#REF!,0)*BI5","v":0},{"$f":"IFERROR(#REF!,0)*BI5","v":0},{"$f":"IFERROR(#REF!,0)*BI5","v":0},{"$f":"IFERROR(#REF!,0)*BM5","v":0},{"$f":"IFERROR(#REF!,0)*BM5","v":0},{"$f":"IFERROR(#REF!,0)*BM5","v":0},{"$f":"IFERROR(#REF!,0)*BM5","v":0},{"$f":"IFERROR(#REF!,0)*BQ5","v":0},{"$f":"IFERROR(#REF!,0)*BQ5","v":0},{"$f":"IFERROR(#REF!,0)*BQ5","v":0},{"$f":"IFERROR(#REF!,0)*BQ5","v":0},{"$f":"IFERROR(#REF!,0)*BU5","v":0},{"$f":"IFERROR(#REF!,0)*BU5","v":0},{"$f":"IFERROR(#REF!,0)*BU5","v":0},{"$f":"IFERROR(#REF!,0)*BU5","v":0},{"$f":"IFERROR(#REF!,0)*BY5","v":0},{"$f":"IFERROR(#REF!,0)*BY5","v":0},{"$f":"IFERROR(#REF!,0)*BY5","v":0},{"$f":"IFERROR(#REF!,0)*BY5","v":0},{"$f":"IFERROR(#REF!,0)*CC5","v":0},{"$f":"IFERROR(#REF!,0)*CC5","v":0},{"$f":"IFERROR(#REF!,0)*CC5","v":0},{"$f":"IFERROR(#REF!,0)*CC5","v":0},{"$f":"IFERROR(#REF!,0)*CG5","v":0},{"$f":"IFERROR(#REF!,0)*CG5","v":0},{"$f":"IFERROR(#REF!,0)*CG5","v":0},{"$f":"IFERROR(#REF!,0)*CG5","v":0},{"$f":"IFERROR(#REF!,0)*CK5","v":0},{"$f":"IFERROR(#REF!,0)*CK5","v":0},{"$f":"IFERROR(#REF!,0)*CK5","v":0},{"$f":"IFERROR(#REF!,0)*CK5","v":0},{"$f":"IFERROR(#REF!,0)*CO5","v":0},{"$f":"IFERROR(#REF!,0)*CO5","v":0},{"$f":"IFERROR(#REF!,0)*CO5","v":0},{"$f":"IFERROR(#REF!,0)*CO5","v":0},{"$f":"IFERROR(#REF!,0)*CS5","v":0},{"$f":"IFERROR(#REF!,0)*CS5","v":0},{"$f":"IFERROR(#REF!,0)*CS5","v":0},{"$f":"IFERROR(#REF!,0)*CS5","v":0},{"$f":"IFERROR(#REF!,0)*CW5","v":0},{"$f":"IFERROR(#REF!,0)*CW5","v":0},{"$f":"IFERROR(#REF!,0)*CW5","v":0},{"$f":"IFERROR(#REF!,0)*CW5","v":0},{"$f":"IFERROR(#REF!,0)*DA5","v":0},{"$f":"IFERROR(#REF!,0)*DA5","v":0},{"$f":"IFERROR(#REF!,0)*DA5","v":0},{"$f":"IFERROR(#REF!,0)*DA5","v":0},{"$f":"IFERROR(#REF!,0)*DE5","v":0},{"$f":"IFERROR(#REF!,0)*DE5","v":0},{"$f":"IFERROR(#REF!,0)*DE5","v":0},{"$f":"IFERROR(#REF!,0)*DE5","v":0},{"$f":"IFERROR(#REF!,0)*DI5","v":0},{"$f":"IFERROR(#REF!,0)*DI5","v":0},{"$f":"IFERROR(#REF!,0)*DI5","v":0},{"$f":"IFERROR(#REF!,0)*DI5","v":0},{"$f":"IFERROR(#REF!,0)*DM5","v":0},{"$f":"IFERROR(#REF!,0)*DM5","v":0},{"$f":"IFERROR(#REF!,0)*DM5","v":0},{"$f":"IFERROR(#REF!,0)*DM5","v":0},{"$f":"IFERROR(#REF!,0)*DQ5","v":0},{"$f":"IFERROR(#REF!,0)*DQ5","v":0},{"$f":"IFERROR(#REF!,0)*DQ5","v":0},{"$f":"IFERROR(#REF!,0)*DQ5","v":0},{"$f":"IFERROR(#REF!,0)*DU5","v":0},{"$f":"IFERROR(#REF!,0)*DU5","v":0},{"$f":"IFERROR(#REF!,0)*DU5","v":0},{"$f":"IFERROR(#REF!,0)*DU5","v":0},{"$f":"IFERROR(#REF!,0)*DY5","v":0},{"$f":"IFERROR(#REF!,0)*DY5","v":0},{"$f":"IFERROR(#REF!,0)*DY5","v":0},{"$f":"IFERROR(#REF!,0)*DY5","v":0},{"$f":"IFERROR(#REF!,0)*EC5","v":0},{"$f":"IFERROR(#REF!,0)*EC5","v":0},{"$f":"IFERROR(#REF!,0)*EC5","v":0},{"$f":"IFERROR(#REF!,0)*EC5","v":0},{"$f":"IFERROR(#REF!,0)*EG5","v":0},{"$f":"IFERROR(#REF!,0)*EG5","v":0},{"$f":"IFERROR(#REF!,0)*EG5","v":0},{"$f":"IFERROR(#REF!,0)*EG5","v":0},{"$f":"IFERROR(#REF!,0)*EK5","v":0},{"$f":"IFERROR(#REF!,0)*EK5","v":0},{"$f":"IFERROR(#REF!,0)*EK5","v":0},{"$f":"IFERROR(#REF!,0)*EK5","v":0},{"$f":"IFERROR(#REF!,0)*EO5","v":0},{"$f":"IFERROR(#REF!,0)*EO5","v":0},{"$f":"IFERROR(#REF!,0)*EO5","v":0},{"$f":"IFERROR(#REF!,0)*EO5","v":0},{"$f":"IFERROR(#REF!,0)*ES5","v":0},{"$f":"IFERROR(#REF!,0)*ES5","v":0},{"$f":"IFERROR(#REF!,0)*ES5","v":0},{"$f":"IFERROR(#REF!,0)*ES5","v":0},{"$f":"IFERROR(#REF!,0)*EW5","v":0},{"$f":"IFERROR(#REF!,0)*EW5","v":0},{"$f":"IFERROR(#REF!,0)*EW5","v":0},{"$f":"IFERROR(#REF!,0)*EW5","v":0},{"$f":"IFERROR(#REF!,0)*FA5","v":0},{"$f":"IFERROR(#REF!,0)*FA5","v":0},{"$f":"IFERROR(#REF!,0)*FA5","v":0},{"$f":"IFERROR(#REF!,0)*FA5","v":0},{"$f":"IFERROR(#REF!,0)*FE5","v":0},{"$f":"IFERROR(#REF!,0)*FE5","v":0},{"$f":"IFERROR(#REF!,0)*FE5","v":0},{"$f":"IFERROR(#REF!,0)*FE5","v":0},{"$f":"IFERROR(#REF!,0)*FI5","v":0},{"$f":"IFERROR(#REF!,0)*FI5","v":0},{"$f":"IFERROR(#REF!,0)*FI5","v":0},{"$f":"IFERROR(#REF!,0)*FI5","v":0},{"$f":"IFERROR(#REF!,0)*FM5","v":0},{"$f":"IFERROR(#REF!,0)*FM5","v":0},{"$f":"IFERROR(#REF!,0)*FM5","v":0},{"$f":"IFERROR(#REF!,0)*FM5","v":0},{"$f":"IFERROR(#REF!,0)*FQ5","v":0},{"$f":"IFERROR(#REF!,0)*FQ5","v":0},{"$f":"IFERROR(#REF!,0)*FQ5","v":0},{"$f":"IFERROR(#REF!,0)*FQ5","v":0},{"$f":"IFERROR(#REF!,0)*FU5","v":0},{"$f":"IFERROR(#REF!,0)*FU5","v":0},{"$f":"IFERROR(#REF!,0)*FU5","v":0},{"$f":"IFERROR(#REF!,0)*FU5","v":0},{"$f":"IFERROR(#REF!,0)*FY5","v":0},{"$f":"IFERROR(#REF!,0)*FY5","v":0},{"$f":"IFERROR(#REF!,0)*FY5","v":0},{"$f":"IFERROR(#REF!,0)*FY5","v":0},{"$f":"IFERROR(#REF!,0)*GC5","v":0},{"$f":"IFERROR(#REF!,0)*GC5","v":0},{"$f":"IFERROR(#REF!,0)*GC5","v":0},{"$f":"IFERROR(#REF!,0)*GC5","v":0},{"$f":"IFERROR(#REF!,0)*GG5","v":0},{"$f":"IFERROR(#REF!,0)*GG5","v":0},{"$f":"IFERROR(#REF!,0)*GG5","v":0},{"$f":"IFERROR(#REF!,0)*GG5","v":0},{"$f":"IFERROR(#REF!,0)*GK5","v":0},{"$f":"IFERROR(#REF!,0)*GK5","v":0},{"$f":"IFERROR(#REF!,0)*GK5","v":0},{"$f":"IFERROR(#REF!,0)*GK5","v":0},{"$f":"IFERROR(#REF!,0)*GO5","v":0},{"$f":"IFERROR(#REF!,0)*GO5","v":0},{"$f":"IFERROR(#REF!,0)*GO5","v":0},{"$f":"IFERROR(#REF!,0)*GO5","v":0},{"$f":"IFERROR(#REF!,0)*GS5","v":0},{"$f":"IFERROR(#REF!,0)*GS5","v":0},{"$f":"IFERROR(#REF!,0)*GS5","v":0},{"$f":"IFERROR(#REF!,0)*GS5","v":0},{"v":0,"d":"0.00"},{"v":0,"d":"0.00"},{"v":0,"d":"0.00"},{"v":0,"d":"0.00"}]
[null,{"$f":"#REF!","v":{"$error":"#REF!"}},{"$f":"#REF!","v":{"$error":"#REF!"}},{"$f":"IFERROR(#REF!,0)*E5","v":0},{"$f":"IFERROR(#REF!,0)*E5","v":0},{"$f":"IFERROR(#REF!,0)*E5","v":0},{"$f":"IFERROR(#REF!,0)*E5","v":0},{"$f":"IFERROR(#REF!,0)*I5","v":0},{"$f":"IFERROR(#REF!,0)*I5","v":0},{"$f":"IFERROR(#REF!,0)*I5","v":0},{"$f":"IFERROR(#REF!,0)*I5","v":0},{"$f":"IFERROR(#REF!,0)*M5","v":0},{"$f":"IFERROR(#REF!,0)*M5","v":0},{"$f":"IFERROR(#REF!,0)*M5","v":0},{"$f":"IFERROR(#REF!,0)*M5","v":0},{"$f":"IFERROR(#REF!,0)*Q5","v":0},{"$f":"IFERROR(#REF!,0)*Q5","v":0},{"$f":"IFERROR(#REF!,0)*Q5","v":0},{"$f":"IFERROR(#REF!,0)*Q5","v":0},{"$f":"IFERROR(#REF!,0)*U5","v":0},{"$f":"IFERROR(#REF!,0)*U5","v":0},{"$f":"IFERROR(#REF!,0)*U5","v":0},{"$f":"IFERROR(#REF!,0)*U5","v":0},{"$f":"IFERROR(#REF!,0)*Y5","v":0},{"$f":"IFERROR(#REF!,0)*Y5","v":0},{"$f":"IFERROR(#REF!,0)*Y5","v":0},{"$f":"IFERROR(#REF!,0)*Y5","v":0},{"$f":"IFERROR(#REF!,0)*AC5","v":0},{"$f":"IFERROR(#REF!,0)*AC5","v":0},{"$f":"IFERROR(#REF!,0)*AC5","v":0},{"$f":"IFERROR(#REF!,0)*AC5","v":0},{"$f":"IFERROR(#REF!,0)*AG5","v":0},{"$f":"IFERROR(#REF!,0)*AG5","v":0},{"$f":"IFERROR(#REF!,0)*AG5","v":0},{"$f":"IFERROR(#REF!,0)*AG5","v":0},{"$f":"IFERROR(#REF!,0)*AK5","v":0},{"$f":"IFERROR(#REF!,0)*AK5","v":0},{"$f":"IFERROR(#REF!,0)*AK5","v":0},{"$f":"IFERROR(#REF!,0)*AK5","v":0},{"$f":"IFERROR(#REF!,0)*AO5","v":0},{"$f":"IFERROR(#REF!,0)*AO5","v":0},{"$f":"IFERROR(#REF!,0)*AO5","v":0},{"$f":"IFERROR(#REF!,0)*AO5","v":0},{"$f":"IFERROR(#REF!,0)*AS5","v":0},{"$f":"IFERROR(#REF!,0)*AS5","v":0},{"$f":"IFERROR(#REF!,0)*AS5","v":0},{"$f":"IFERROR(#REF!,0)*AS5","v":0},{"$f":"IFERROR(#REF!,0)*AW5","v":0},{"$f":"IFERROR(#REF!,0)*AW5","v":0},{"$f":"IFERROR(#REF!,0)*AW5","v":0},{"$f":"IFERROR(#REF!,0)*AW5","v":0},{"$f":"IFERROR(#REF!,0)*BA5","v":0},{"$f":"IFERROR(#REF!,0)*BA5","v":0},{"$f":"IFERROR(#REF!,0)*BA5","v":0},{"$f":"IFERROR(#REF!,0)*BA5","v":0},{"$f":"IFERROR(#REF!,0)*BE5","v":0},{"$f":"IFERROR(#REF!,0)*BE5","v":0},{"$f":"IFERROR(#REF!,0)*BE5","v":0},{"$f":"IFERROR(#REF!,0)*BE5","v":0},{"$f":"IFERROR(#REF!,0)*BI5","v":0},{"$f":"IFERROR(#REF!,0)*BI5","v":0},{"$f":"IFERROR(#REF!,0)*BI5","v":0},{"$f":"IFERROR(#REF!,0)*BI5","v":0},{"$f":"IFERROR(#REF!,0)*BM5","v":0},{"$f":"IFERROR(#REF!,0)*BM5","v":0},{"$f":"IFERROR(#REF!,0)*BM5","v":0},{"$f":"IFERROR(#REF!,0)*BM5","v":0},{"$f":"IFERROR(#REF!,0)*BQ5","v":0},{"$f":"IFERROR(#REF!,0)*BQ5","v":0},{"$f":"IFERROR(#REF!,0)*BQ5","v":0},{"$f":"IFERROR(#REF!,0)*BQ5","v":0},{"$f":"IFERROR(#REF!,0)*BU5","v":0},{"$f":"IFERROR(#REF!,0)*BU5","v":0},{"$f":"IFERROR(#REF!,0)*BU5","v":0},{"$f":"IFERROR(#REF!,0)*BU5","v":0},{"$f":"IFERROR(#REF!,0)*BY5","v":0},{"$f":"IFERROR(#REF!,0)*BY5","v":0},{"$f":"IFERROR(#REF!,0)*BY5","v":0},{"$f":"IFERROR(#REF!,0)*BY5","v":0},{"$f":"IFERROR(#REF!,0)*CC5","v":0},{"$f":"IFERROR(#REF!,0)*CC5","v":0},{"$f":"IFERROR(#REF!,0)*CC5","v":0},{"$f":"IFERROR(#REF!,0)*CC5","v":0},{"$f":"IFERROR(#REF!,0)*CG5","v":0},{"$f":"IFERROR(#REF!,0)*CG5","v":0},{"$f":"IFERROR(#REF!,0)*CG5","v":0},{"$f":"IFERROR(#REF!,0)*CG5","v":0},{"$f":"IFERROR(#REF!,0)*CK5","v":0},{"$f":"IFERROR(#REF!,0)*CK5","v":0},{"$f":"IFERROR(#REF!,0)*CK5","v":0},{"$f":"IFERROR(#REF!,0)*CK5","v":0},{"$f":"IFERROR(#REF!,0)*CO5","v":0},{"$f":"IFERROR(#REF!,0)*CO5","v":0},{"$f":"IFERROR(#REF!,0)*CO5","v":0},{"$f":"IFERROR(#REF!,0)*CO5","v":0},{"$f":"IFERROR(#REF!,0)*CS5","v":0},{"$f":"IFERROR(#REF!,0)*CS5","v":0},{"$f":"IFERROR(#REF!,0)*CS5","v":0},{"$f":"IFERROR(#REF!,0)*CS5","v":0},{"$f":"IFERROR(#REF!,0)*CW5","v":0},{"$f":"IFERROR(#REF!,0)*CW5","v":0},{"$f":"IFERROR(#REF!,0)*CW5","v":0},{"$f":"IFERROR(#REF!,0)*CW5","v":0},{"$f":"IFERROR(#REF!,0)*DA5","v":0},{"$f":"IFERROR(#REF!,0)*DA5","v":0},{"$f":"IFERROR(#REF!,0)*DA5","v":0},{"$f":"IFERROR(#REF!,0)*DA5","v":0},{"$f":"IFERROR(#REF!,0)*DE5","v":0},{"$f":"IFERROR(#REF!,0)*DE5","v":0},{"$f":"IFERROR(#REF!,0)*DE5","v":0},{"$f":"IFERROR(#REF!,0)*DE5","v":0},{"$f":"IFERROR(#REF!,0)*DI5","v":0},{"$f":"IFERROR(#REF!,0)*DI5","v":0},{"$f":"IFERROR(#REF!,0)*DI5","v":0},{"$f":"IFERROR(#REF!,0)*DI5","v":0},{"$f":"IFERROR(#REF!,0)*DM5","v":0},{"$f":"IFERROR(#REF!,0)*DM5","v":0},{"$f":"IFERROR(#REF!,0)*DM5","v":0},{"$f":"IFERROR(#REF!,0)*DM5","v":0},{"$f":"IFERROR(#REF!,0)*DQ5","v":0},{"$f":"IFERROR(#REF!,0)*DQ5","v":0},{"$f":"IFERROR(#REF!,0)*DQ5","v":0},{"$f":"IFERROR(#REF!,0)*DQ5","v":0},{"$f":"IFERROR(#REF!,0)*DU5","v":0},{"$f":"IFERROR(#REF!,0)*DU5","v":0},{"$f":"IFERROR(#REF!,0)*DU5","v":0},{"$f":"IFERROR(#REF!,0)*DU5","v":0},{"$f":"IFERROR(#REF!,0)*DY5","v":0},{"$f":"IFERROR(#REF!,0)*DY5","v":0},{"$f":"IFERROR(#REF!,0)*DY5","v":0},{"$f":"IFERROR(#REF!,0)*DY5","v":0},{"$f":"IFERROR(#REF!,0)*EC5","v":0},{"$f":"IFERROR(#REF!,0)*EC5","v":0},{"$f":"IFERROR(#REF!,0)*EC5","v":0},{"$f":"IFERROR(#REF!,0)*EC5","v":0},{"$f":"IFERROR(#REF!,0)*EG5","v":0},{"$f":"IFERROR(#REF!,0)*EG5","v":0},{"$f":"IFERROR(#REF!,0)*EG5","v":0},{"$f":"IFERROR(#REF!,0)*EG5","v":0},{"$f":"IFERROR(#REF!,0)*EK5","v":0},{"$f":"IFERROR(#REF!,0)*EK5","v":0},{"$f":"IFERROR(#REF!,0)*EK5","v":0},{"$f":"IFERROR(#REF!,0)*EK5","v":0},{"$f":"IFERROR(#REF!,0)*EO5","v":0},{"$f":"IFERROR(#REF!,0)*EO5","v":0},{"$f":"IFERROR(#REF!,0)*EO5","v":0},{"$f":"IFERROR(#REF!,0)*EO5","v":0},{"$f":"IFERROR(#REF!,0)*ES5","v":0},{"$f":"IFERROR(#REF!,0)*ES5","v":0},{"$f":"IFERROR(#REF!,0)*ES5","v":0},{"$f":"IFERROR(#REF!,0)*ES5","v":0},{"$f":"IFERROR(#REF!,0)*EW5","v":0},{"$f":"IFERROR(#REF!,0)*EW5","v":0},{"$f":"IFERROR(#REF!,0)*EW5","v":0},{"$f":"IFERROR(#REF!,0)*EW5","v":0},{"$f":"IFERROR(#REF!,0)*FA5","v":0},{"$f":"IFERROR(#REF!,0)*FA5","v":0},{"$f":"IFERROR(#REF!,0)*FA5","v":0},{"$f":"IFERROR(#REF!,0)*FA5","v":0},{"$f":"IFERROR(#REF!,0)*FE5","v":0},{"$f":"IFERROR(#REF!,0)*FE5","v":0},{"$f":"IFERROR(#REF!,0)*FE5","v":0},{"$f":"IFERROR(#REF!,0)*FE5","v":0},{"$f":"IFERROR(#REF!,0)*FI5","v":0},{"$f":"IFERROR(#REF!,0)*FI5","v":0},{"$f":"IFERROR(#REF!,0)*FI5","v":0},{"$f":"IFERROR(#REF!,0)*FI5","v":0},{"$f":"IFERROR(#REF!,0)*FM5","v":0},{"$f":"IFERROR(#REF!,0)*FM5","v":0},{"$f":"IFERROR(#REF!,0)*FM5","v":0},{"$f":"IFERROR(#REF!,0)*FM5","v":0},{"$f":"IFERROR(#REF!,0)*FQ5","v":0},{"$f":"IFERROR(#REF!,0)*FQ5","v":0},{"$f":"IFERROR(#REF!,0)*FQ5","v":0},{"$f":"IFERROR(#REF!,0)*FQ5","v":0},{"$f":"IFERROR(#REF!,0)*FU5","v":0},{"$f":"IFERROR(#REF!,0)*FU5","v":0},{"$f":"IFERROR(#REF!,0)*FU5","v":0},{"$f":"IFERROR(#REF!,0)*FU5","v":0},{"$f":"IFERROR(#REF!,0)*FY5","v":0},{"$f":"IFERROR(#REF!,0)*FY5","v":0},{"$f":"IFERROR(#REF!,0)*FY5","v":0},{"$f":"IFERROR(#REF!,0)*FY5","v":0},{"$f":"IFERROR(#REF!,0)*GC5","v":0},{"$f":"IFERROR(#REF!,0)*GC5","v":0},{"$f":"IFERROR(#REF!,0)*GC5","v":0},{"$f":"IFERROR(#REF!,0)*GC5","v":0},{"$f":"IFERROR(#REF!,0)*GG5","v":0},{"$f":"IFERROR(#REF!,0)*GG5","v":0},{"$f":"IFERROR(#REF!,0)*GG5","v":0},{"$f":"IFERROR(#REF!,0)*GG5","v":0},{"$f":"IFERROR(#REF!,0)*GK5","v":0},{"$f":"IFERROR(#REF!,0)*GK5","v":0},{"$f":"IFERROR(#REF!,0)*GK5","v":0},{"$f":"IFERROR(#REF!,0)*GK5","v":0},{"$f":"IFERROR(#REF!,0)*GO5","v":0},{"$f":"IFERROR(#REF!,0)*GO5","v":0},{"$f":"IFERROR(#REF!,0)*GO5","v":0},{"$f":"IFERROR(#REF!,0)*GO5","v":0},{"$f":"IFERROR(#REF!,0)*GS5","v":0},{"$f":"IFERROR(#REF!,0)*GS5","v":0},{"$f":"IFERROR(#REF!,0)*GS5","v":0},{"$f":"IFERROR(#REF!,0)*GS5","v":0},{"v":0,"d":"0.00"},{"v":0,"d":"0.00"},{"v":0,"d":"0.00"},{"v":0,"d":"0.00"}]
[null,{"$f":"#REF!","v":{"$error":"#REF!"}},{"$f":"#REF!","v":{"$error":"#REF!"}},{"$f":"IFERROR(#REF!,0)*E5","v":0},{"$f":"IFERROR(#REF!,0)*E5","v":0},{"$f":"IFERROR(#REF!,0)*E5","v":0},{"$f":"IFERROR(#REF!,0)*E5","v":0},{"$f":"IFERROR(#REF!,0)*I5","v":0},{"$f":"IFERROR(#REF!,0)*I5","v":0},{"$f":"IFERROR(#REF!,0)*I5","v":0},{"$f":"IFERROR(#REF!,0)*I5","v":0},{"$f":"IFERROR(#REF!,0)*M5","v":0},{"$f":"IFERROR(#REF!,0)*M5","v":0},{"$f":"IFERROR(#REF!,0)*M5","v":0},{"$f":"IFERROR(#REF!,0)*M5","v":0},{"$f":"IFERROR(#REF!,0)*Q5","v":0},{"$f":"IFERROR(#REF!,0)*Q5","v":0},{"$f":"IFERROR(#REF!,0)*Q5","v":0},{"$f":"IFERROR(#REF!,0)*Q5","v":0},{"$f":"IFERROR(#REF!,0)*U5","v":0},{"$f":"IFERROR(#REF!,0)*U5","v":0},{"$f":"IFERROR(#REF!,0)*U5","v":0},{"$f":"IFERROR(#REF!,0)*U5","v":0},{"$f":"IFERROR(#REF!,0)*Y5","v":0},{"$f":"IFERROR(#REF!,0)*Y5","v":0},{"$f":"IFERROR(#REF!,0)*Y5","v":0},{"$f":"IFERROR(#REF!,0)*Y5","v":0},{"$f":"IFERROR(#REF!,0)*AC5","v":0},{"$f":"IFERROR(#REF!,0)*AC5","v":0},{"$f":"IFERROR(#REF!,0)*AC5","v":0},{"$f":"IFERROR(#REF!,0)*AC5","v":0},{"$f":"IFERROR(#REF!,0)*AG5","v":0},{"$f":"IFERROR(#REF!,0)*AG5","v":0},{"$f":"IFERROR(#REF!,0)*AG5","v":0},{"$f":"IFERROR(#REF!,0)*AG5","v":0},{"$f":"IFERROR(#REF!,0)*AK5","v":0},{"$f":"IFERROR(#REF!,0)*AK5","v":0},{"$f":"IFERROR(#REF!,0)*AK5","v":0},{"$f":"IFERROR(#REF!,0)*AK5","v":0},{"$f":"IFERROR(#REF!,0)*AO5","v":0},{"$f":"IFERROR(#REF!,0)*AO5","v":0},{"$f":"IFERROR(#REF!,0)*AO5","v":0},{"$f":"IFERROR(#REF!,0)*AO5","v":0},{"$f":"IFERROR(#REF!,0)*AS5","v":0},{"$f":"IFERROR(#REF!,0)*AS5","v":0},{"$f":"IFERROR(#REF!,0)*AS5","v":0},{"$f":"IFERROR(#REF!,0)*AS5","v":0},{"$f":"IFERROR(#REF!,0)*AW5","v":0},{"$f":"IFERROR(#REF!,0)*AW5","v":0},{"$f":"IFERROR(#REF!,0)*AW5","v":0},{"$f":"IFERROR(#REF!,0)*AW5","v":0},{"$f":"IFERROR(#REF!,0)*BA5","v":0},{"$f":"IFERROR(#REF!,0)*BA5","v":0},{"$f":"IFERROR(#REF!,0)*BA5","v":0},{"$f":"IFERROR(#REF!,0)*BA5","v":0},{"$f":"IFERROR(#REF!,0)*BE5","v":0},{"$f":"IFERROR(#REF!,0)*BE5","v":0},{"$f":"IFERROR(#REF!,0)*BE5","v":0},{"$f":"IFERROR(#REF!,0)*BE5","v":0},{"$f":"IFERROR(#REF!,0)*BI5","v":0},{"$f":"IFERROR(#REF!,0)*BI5","v":0},{"$f":"IFERROR(#REF!,0)*BI5","v":0},{"$f":"IFERROR(#REF!,0)*BI5","v":0},{"$f":"IFERROR(#REF!,0)*BM5","v":0},{"$f":"IFERROR(#REF!,0)*BM5","v":0},{"$f":"IFERROR(#REF!,0)*BM5","v":0},{"$f":"IFERROR(#REF!,0)*BM5","v":0},{"$f":"IFERROR(#REF!,0)*BQ5","v":0},{"$f":"IFERROR(#REF!,0)*BQ5","v":0},{"$f":"IFERROR(#REF!,0)*BQ5","v":0},{"$f":"IFERROR(#REF!,0)*BQ5","v":0},{"$f":"IFERROR(#REF!,0)*BU5","v":0},{"$f":"IFERROR(#REF!,0)*BU5","v":0},{"$f":"IFERROR(#REF!,0)*BU5","v":0},{"$f":"IFERROR(#REF!,0)*BU5","v":0},{"$f":"IFERROR(#REF!,0)*BY5","v":0},{"$f":"IFERROR(#REF!,0)*BY5","v":0},{"$f":"IFERROR(#REF!,0)*BY5","v":0},{"$f":"IFERROR(#REF!,0)*BY5","v":0},{"$f":"IFERROR(#REF!,0)*CC5","v":0},{"$f":"IFERROR(#REF!,0)*CC5","v":0},{"$f":"IFERROR(#REF!,0)*CC5","v":0},{"$f":"IFERROR(#REF!,0)*CC5","v":0},{"$f":"IFERROR(#REF!,0)*CG5","v":0},{"$f":"IFERROR(#REF!,0)*CG5","v":0},{"$f":"IFERROR(#REF!,0)*CG5","v":0},{"$f":"IFERROR(#REF!,0)*CG5","v":0},{"$f":"IFERROR(#REF!,0)*CK5","v":0},{"$f":"IFERROR(#REF!,0)*CK5","v":0},{"$f":"IFERROR(#REF!,0)*CK5","v":0},{"$f":"IFERROR(#REF!,0)*CK5","v":0},{"$f":"IFERROR(#REF!,0)*CO5","v":0},{"$f":"IFERROR(#REF!,0)*CO5","v":0},{"$f":"IFERROR(#REF!,0)*CO5","v":0},{"$f":"IFERROR(#REF!,0)*CO5","v":0},{"$f":"IFERROR(#REF!,0)*CS5","v":0},{"$f":"IFERROR(#REF!,0)*CS5","v":0},{"$f":"IFERROR(#REF!,0)*CS5","v":0},{"$f":"IFERROR(#REF!,0)*CS5","v":0},{"$f":"IFERROR(#REF!,0)*CW5","v":0},{"$f":"IFERROR(#REF!,0)*CW5","v":0},{"$f":"IFERROR(#REF!,0)*CW5","v":0},{"$f":"IFERROR(#REF!,0)*CW5","v":0},{"$f":"IFERROR(#REF!,0)*DA5","v":0},{"$f":"IFERROR(#REF!,0)*DA5","v":0},{"$f":"IFERROR(#REF!,0)*DA5","v":0},{"$f":"IFERROR(#REF!,0)*DA5","v":0},{"$f":"IFERROR(#REF!,0)*DE5","v":0},{"$f":"IFERROR(#REF!,0)*DE5","v":0},{"$f":"IFERROR(#REF!,0)*DE5","v":0},{"$f":"IFERROR(#REF!,0)*DE5","v":0},{"$f":"IFERROR(#REF!,0)*DI5","v":0},{"$f":"IFERROR(#REF!,0)*DI5","v":0},{"$f":"IFERROR(#REF!,0)*DI5","v":0},{"$f":"IFERROR(#REF!,0)*DI5","v":0},{"$f":"IFERROR(#REF!,0)*DM5","v":0},{"$f":"IFERROR(#REF!,0)*DM5","v":0},{"$f":"IFERROR(#REF!,0)*DM5","v":0},{"$f":"IFERROR(#REF!,0)*DM5","v":0},{"$f":"IFERROR(#REF!,0)*DQ5","v":0},{"$f":"IFERROR(#REF!,0)*DQ5","v":0},{"$f":"IFERROR(#REF!,0)*DQ5","v":0},{"$f":"IFERROR(#REF!,0)*DQ5","v":0},{"$f":"IFERROR(#REF!,0)*DU5","v":0},{"$f":"IFERROR(#REF!,0)*DU5","v":0},{"$f":"IFERROR(#REF!,0)*DU5","v":0},{"$f":"IFERROR(#REF!,0)*DU5","v":0},{"$f":"IFERROR(#REF!,0)*DY5","v":0},{"$f":"IFERROR(#REF!,0)*DY5","v":0},{"$f":"IFERROR(#REF!,0)*DY5","v":0},{"$f":"IFERROR(#REF!,0)*DY5","v":0},{"$f":"IFERROR(#REF!,0)*EC5","v":0},{"$f":"IFERROR(#REF!,0)*EC5","v":0},{"$f":"IFERROR(#REF!,0)*EC5","v":0},{"$f":"IFERROR(#REF!,0)*EC5","v":0},{"$f":"IFERROR(#REF!,0)*EG5","v":0},{"$f":"IFERROR(#REF!,0)*EG5","v":0},{"$f":"IFERROR(#REF!,0)*EG5","v":0},{"$f":"IFERROR(#REF!,0)*EG5","v":0},{"$f":"IFERROR(#REF!,0)*EK5","v":0},{"$f":"IFERROR(#REF!,0)*EK5","v":0},{"$f":"IFERROR(#REF!,0)*EK5","v":0},{"$f":"IFERROR(#REF!,0)*EK5","v":0},{"$f":"IFERROR(#REF!,0)*EO5","v":0},{"$f":"IFERROR(#REF!,0)*EO5","v":0},{"$f":"IFERROR(#REF!,0)*EO5","v":0},{"$f":"IFERROR(#REF!,0)*EO5","v":0},{"$f":"IFERROR(#REF!,0)*ES5","v":0},{"$f":"IFERROR(#REF!,0)*ES5","v":0},{"$f":"IFERROR(#REF!,0)*ES5","v":0},{"$f":"IFERROR(#REF!,0)*ES5","v":0},{"$f":"IFERROR(#REF!,0)*EW5","v":0},{"$f":"IFERROR(#REF!,0)*EW5","v":0},{"$f":"IFERROR(#REF!,0)*EW5","v":0},{"$f":"IFERROR(#REF!,0)*EW5","v":0},{"$f":"IFERROR(#REF!,0)*FA5","v":0},{"$f":"IFERROR(#REF!,0)*FA5","v":0},{"$f":"IFERROR(#REF!,0)*FA5","v":0},{"$f":"IFERROR(#REF!,0)*FA5","v":0},{"$f":"IFERROR(#REF!,0)*FE5","v":0},{"$f":"IFERROR(#REF!,0)*FE5","v":0},{"$f":"IFERROR(#REF!,0)*FE5","v":0},{"$f":"IFERROR(#REF!,0)*FE5","v":0},{"$f":"IFERROR(#REF!,0)*FI5","v":0},{"$f":"IFERROR(#REF!,0)*FI5","v":0},{"$f":"IFERROR(#REF!,0)*FI5","v":0},{"$f":"IFERROR(#REF!,0)*FI5","v":0},{"$f":"IFERROR(#REF!,0)*FM5","v":0},{"$f":"IFERROR(#REF!,0)*FM5","v":0},{"$f":"IFERROR(#REF!,0)*FM5","v":0},{"$f":"IFERROR(#REF!,0)*FM5","v":0},{"$f":"IFERROR(#REF!,0)*FQ5","v":0},{"$f":"IFERROR(#REF!,0)*FQ5","v":0},{"$f":"IFERROR(#REF!,0)*FQ5","v":0},{"$f":"IFERROR(#REF!,0)*FQ5","v":0},{"$f":"IFERROR(#REF!,0)*FU5","v":0},{"$f":"IFERROR(#REF!,0)*FU5","v":0},{"$f":"IFERROR(#REF!,0)*FU5","v":0},{"$f":"IFERROR(#REF!,0)*FU5","v":0},{"$f":"IFERROR(#REF!,0)*FY5","v":0},{"$f":"IFERROR(#REF!,0)*FY5","v":0},{"$f":"IFERROR(#REF!,0)*FY5","v":0},{"$f":"IFERROR(#REF!,0)*FY5","v":0},{"$f":"IFERROR(#REF!,0)*GC5","v":0},{"$f":"IFERROR(#REF!,0)*GC5","v":0},{"$f":"IFERROR(#REF!,0)*GC5","v":0},{"$f":"IFERROR(#REF!,0)*GC5","v":0},{"$f":"IFERROR(#REF!,0)*GG5","v":0},{"$f":"IFERROR(#REF!,0)*GG5","v":0},{"$f":"IFERROR(#REF!,0)*GG5","v":0},{"$f":"IFERROR(#REF!,0)*GG5","v":0},{"$f":"IFERROR(#REF!,0)*GK5","v":0},{"$f":"IFERROR(#REF!,0)*GK5","v":0},{"$f":"IFERROR(#REF!,0)*GK5","v":0},{"$f":"IFERROR(#REF!,0)*GK5","v":0},{"$f":"IFERROR(#REF!,0)*GO5","v":0},{"$f":"IFERROR(#REF!,0)*GO5","v":0},{"$f":"IFERROR(#REF!,0)*GO5","v":0},{"$f":"IFERROR(#REF!,0)*GO5","v":0},{"$f":"IFERROR(#REF!,0)*GS5","v":0},{"$f":"IFERROR(#REF!,0)*GS5","v":0},{"$f":"IFERROR(#REF!,0)*GS5","v":0},{"$f":"IFERROR(#REF!,0)*GS5","v":0},{"v":0,"d":"0.00"},{"v":0,"d":"0.00"},{"v":0,"d":"0.00"},{"v":0,"d":"0.00"}]
[null,{"$f":"#REF!","v":{"$error":"#REF!"}},{"$f":"#REF!","v":{"$error":"#REF!"}},{"$f":"IFERROR(#REF!,0)*E5","v":0},{"$f":"IFERROR(#REF!,0)*E5","v":0},{"$f":"IFERROR(#REF!,0)*E5","v":0},{"$f":"IFERROR(#REF!,0)*E5","v":0},{"$f":"IFERROR(#REF!,0)*I5","v":0},{"$f":"IFERROR(#REF!,0)*I5","v":0},{"$f":"IFERROR(#REF!,0)*I5","v":0},{"$f":"IFERROR(#REF!,0)*I5","v":0},{"$f":"IFERROR(#REF!,0)*M5","v":0},{"$f":"IFERROR(#REF!,0)*M5","v":0},{"$f":"IFERROR(#REF!,0)*M5","v":0},{"$f":"IFERROR(#REF!,0)*M5","v":0},{"$f":"IFERROR(#REF!,0)*Q5","v":0},{"$f":"IFERROR(#REF!,0)*Q5","v":0},{"$f":"IFERROR(#REF!,0)*Q5","v":0},{"$f":"IFERROR(#REF!,0)*Q5","v":0},{"$f":"IFERROR(#REF!,0)*U5","v":0},{"$f":"IFERROR(#REF!,0)*U5","v":0},{"$f":"IFERROR(#REF!,0)*U5","v":0},{"$f":"IFERROR(#REF!,0)*U5","v":0},{"$f":"IFERROR(#REF!,0)*Y5","v":0},{"$f":"IFERROR(#REF!,0)*Y5","v":0},{"$f":"IFERROR(#REF!,0)*Y5","v":0},{"$f":"IFERROR(#REF!,0)*Y5","v":0},{"$f":"IFERROR(#REF!,0)*AC5","v":0},{"$f":"IFERROR(#REF!,0)*AC5","v":0},{"$f":"IFERROR(#REF!,0)*AC5","v":0},{"$f":"IFERROR(#REF!,0)*AC5","v":0},{"$f":"IFERROR(#REF!,0)*AG5","v":0},{"$f":"IFERROR(#REF!,0)*AG5","v":0},{"$f":"IFERROR(#REF!,0)*AG5","v":0},{"$f":"IFERROR(#REF!,0)*AG5","v":0},{"$f":"IFERROR(#REF!,0)*AK5","v":0},{"$f":"IFERROR(#REF!,0)*AK5","v":0},{"$f":"IFERROR(#REF!,0)*AK5","v":0},{"$f":"IFERROR(#REF!,0)*AK5","v":0},{"$f":"IFERROR(#REF!,0)*AO5","v":0},{"$f":"IFERROR(#REF!,0)*AO5","v":0},{"$f":"IFERROR(#REF!,0)*AO5","v":0},{"$f":"IFERROR(#REF!,0)*AO5","v":0},{"$f":"IFERROR(#REF!,0)*AS5","v":0},{"$f":"IFERROR(#REF!,0)*AS5","v":0},{"$f":"IFERROR(#REF!,0)*AS5","v":0},{"$f":"IFERROR(#REF!,0)*AS5","v":0},{"$f":"IFERROR(#REF!,0)*AW5","v":0},{"$f":"IFERROR(#REF!,0)*AW5","v":0},{"$f":"IFERROR(#REF!,0)*AW5","v":0},{"$f":"IFERROR(#REF!,0)*AW5","v":0},{"$f":"IFERROR(#REF!,0)*BA5","v":0},{"$f":"IFERROR(#REF!,0)*BA5","v":0},{"$f":"IFERROR(#REF!,0)*BA5","v":0},{"$f":"IFERROR(#REF!,0)*BA5","v":0},{"$f":"IFERROR(#REF!,0)*BE5","v":0},{"$f":"IFERROR(#REF!,0)*BE5","v":0},{"$f":"IFERROR(#REF!,0)*BE5","v":0},{"$f":"IFERROR(#REF!,0)*BE5","v":0},{"$f":"IFERROR(#REF!,0)*BI5","v":0},{"$f":"IFERROR(#REF!,0)*BI5","v":0},{"$f":"IFERROR(#REF!,0)*BI5","v":0},{"$f":"IFERROR(#REF!,0)*BI5","v":0},{"$f":"IFERROR(#REF!,0)*BM5","v":0},{"$f":"IFERROR(#REF!,0)*BM5","v":0},{"$f":"IFERROR(#REF!,0)*BM5","v":0},{"$f":"IFERROR(#REF!,0)*BM5","v":0},{"$f":"IFERROR(#REF!,0)*BQ5","v":0},{"$f":"IFERROR(#REF!,0)*BQ5","v":0},{"$f":"IFERROR(#REF!,0)*BQ5","v":0},{"$f":"IFERROR(#REF!,0)*BQ5","v":0},{"$f":"IFERROR(#REF!,0)*BU5","v":0},{"$f":"IFERROR(#REF!,0)*BU5","v":0},{"$f":"IFERROR(#REF!,0)*BU5","v":0},{"$f":"IFERROR(#REF!,0)*BU5","v":0},{"$f":"IFERROR(#REF!,0)*BY5","v":0},{"$f":"IFERROR(#REF!,0)*BY5","v":0},{"$f":"IFERROR(#REF!,0)*BY5","v":0},{"$f":"IFERROR(#REF!,0)*BY5","v":0},{"$f":"IFERROR(#REF!,0)*CC5","v":0},{"$f":"IFERROR(#REF!,0)*CC5","v":0},{"$f":"IFERROR(#REF!,0)*CC5","v":0},{"$f":"IFERROR(#REF!,0)*CC5","v":0},{"$f":"IFERROR(#REF!,0)*CG5","v":0},{"$f":"IFERROR(#REF!,0)*CG5","v":0},{"$f":"IFERROR(#REF!,0)*CG5","v":0},{"$f":"IFERROR(#REF!,0)*CG5","v":0},{"$f":"IFERROR(#REF!,0)*CK5","v":0},{"$f":"IFERROR(#REF!,0)*CK5","v":0},{"$f":"IFERROR(#REF!,0)*CK5","v":0},{"$f":"IFERROR(#REF!,0)*CK5","v":0},{"$f":"IFERROR(#REF!,0)*CO5","v":0},{"$f":"IFERROR(#REF!,0)*CO5","v":0},{"$f":"IFERROR(#REF!,0)*CO5","v":0},{"$f":"IFERROR(#REF!,0)*CO5","v":0},{"$f":"IFERROR(#REF!,0)*CS5","v":0},{"$f":"IFERROR(#REF!,0)*CS5","v":0},{"$f":"IFERROR(#REF!,0)*CS5","v":0},{"$f":"IFERROR(#REF!,0)*CS5","v":0},{"$f":"IFERROR(#REF!,0)*CW5","v":0},{"$f":"IFERROR(#REF!,0)*CW5","v":0},{"$f":"IFERROR(#REF!,0)*CW5","v":0},{"$f":"IFERROR(#REF!,0)*CW5","v":0},{"$f":"IFERROR(#REF!,0)*DA5","v":0},{"$f":"IFERROR(#REF!,0)*DA5","v":0},{"$f":"IFERROR(#REF!,0)*DA5","v":0},{"$f":"IFERROR(#REF!,0)*DA5","v":0},{"$f":"IFERROR(#REF!,0)*DE5","v":0},{"$f":"IFERROR(#REF!,0)*DE5","v":0},{"$f":"IFERROR(#REF!,0)*DE5","v":0},{"$f":"IFERROR(#REF!,0)*DE5","v":0},{"$f":"IFERROR(#REF!,0)*DI5","v":0},{"$f":"IFERROR(#REF!,0)*DI5","v":0},{"$f":"IFERROR(#REF!,0)*DI5","v":0},{"$f":"IFERROR(#REF!,0)*DI5","v":0},{"$f":"IFERROR(#REF!,0)*DM5","v":0},{"$f":"IFERROR(#REF!,0)*DM5","v":0},{"$f":"IFERROR(#REF!,0)*DM5","v":0},{"$f":"IFERROR(#REF!,0)*DM5","v":0},{"$f":"IFERROR(#REF!,0)*DQ5","v":0},{"$f":"IFERROR(#REF!,0)*DQ5","v":0},{"$f":"IFERROR(#REF!,0)*DQ5","v":0},{"$f":"IFERROR(#REF!,0)*DQ5","v":0},{"$f":"IFERROR(#REF!,0)*DU5","v":0},{"$f":"IFERROR(#REF!,0)*DU5","v":0},{"$f":"IFERROR(#REF!,0)*DU5","v":0},{"$f":"IFERROR(#REF!,0)*DU5","v":0},{"$f":"IFERROR(#REF!,0)*DY5","v":0},{"$f":"IFERROR(#REF!,0)*DY5","v":0},{"$f":"IFERROR(#REF!,0)*DY5","v":0},{"$f":"IFERROR(#REF!,0)*DY5","v":0},{"$f":"IFERROR(#REF!,0)*EC5","v":0},{"$f":"IFERROR(#REF!,0)*EC5","v":0},{"$f":"IFERROR(#REF!,0)*EC5","v":0},{"$f":"IFERROR(#REF!,0)*EC5","v":0},{"$f":"IFERROR(#REF!,0)*EG5","v":0},{"$f":"IFERROR(#REF!,0)*EG5","v":0},{"$f":"IFERROR(#REF!,0)*EG5","v":0},{"$f":"IFERROR(#REF!,0)*EG5","v":0},{"$f":"IFERROR(#REF!,0)*EK5","v":0},{"$f":"IFERROR(#REF!,0)*EK5","v":0},{"$f":"IFERROR(#REF!,0)*EK5","v":0},{"$f":"IFERROR(#REF!,0)*EK5","v":0},{"$f":"IFERROR(#REF!,0)*EO5","v":0},{"$f":"IFERROR(#REF!,0)*EO5","v":0},{"$f":"IFERROR(#REF!,0)*EO5","v":0},{"$f":"IFERROR(#REF!,0)*EO5","v":0},{"$f":"IFERROR(#REF!,0)*ES5","v":0},{"$f":"IFERROR(#REF!,0)*ES5","v":0},{"$f":"IFERROR(#REF!,0)*ES5","v":0},{"$f":"IFERROR(#REF!,0)*ES5","v":0},{"$f":"IFERROR(#REF!,0)*EW5","v":0},{"$f":"IFERROR(#REF!,0)*EW5","v":0},{"$f":"IFERROR(#REF!,0)*EW5","v":0},{"$f":"IFERROR(#REF!,0)*EW5","v":0},{"$f":"IFERROR(#REF!,0)*FA5","v":0},{"$f":"IFERROR(#REF!,0)*FA5","v":0},{"$f":"IFERROR(#REF!,0)*FA5","v":0},{"$f":"IFERROR(#REF!,0)*FA5","v":0},{"$f":"IFERROR(#REF!,0)*FE5","v":0},{"$f":"IFERROR(#REF!,0)*FE5","v":0},{"$f":"IFERROR(#REF!,0)*FE5","v":0},{"$f":"IFERROR(#REF!,0)*FE5","v":0},{"$f":"IFERROR(#REF!,0)*FI5","v":0},{"$f":"IFERROR(#REF!,0)*FI5","v":0},{"$f":"IFERROR(#REF!,0)*FI5","v":0},{"$f":"IFERROR(#REF!,0)*FI5","v":0},{"$f":"IFERROR(#REF!,0)*FM5","v":0},{"$f":"IFERROR(#REF!,0)*FM5","v":0},{"$f":"IFERROR(#REF!,0)*FM5","v":0},{"$f":"IFERROR(#REF!,0)*FM5","v":0},{"$f":"IFERROR(#REF!,0)*FQ5","v":0},{"$f":"IFERROR(#REF!,0)*FQ5","v":0},{"$f":"IFERROR(#REF!,0)*FQ5","v":0},{"$f":"IFERROR(#REF!,0)*FQ5","v":0},{"$f":"IFERROR(#REF!,0)*FU5","v":0},{"$f":"IFERROR(#REF!,0)*FU5","v":0},{"$f":"IFERROR(#REF!,0)*FU5","v":0},{"$f":"IFERROR(#REF!,0)*FU5","v":0},{"$f":"IFERROR(#REF!,0)*FY5","v":0},{"$f":"IFERROR(#REF!,0)*FY5","v":0},{"$f":"IFERROR(#REF!,0)*FY5","v":0},{"$f":"IFERROR(#REF!,0)*FY5","v":0},{"$f":"IFERROR(#REF!,0)*GC5","v":0},{"$f":"IFERROR(#REF!,0)*GC5","v":0},{"$f":"IFERROR(#REF!,0)*GC5","v":0},{"$f":"IFERROR(#REF!,0)*GC5","v":0},{"$f":"IFERROR(#REF!,0)*GG5","v":0},{"$f":"IFERROR(#REF!,0)*GG5","v":0},{"$f":"IFERROR(#REF!,0)*GG5","v":0},{"$f":"IFERROR(#REF!,0)*GG5","v":0},{"$f":"IFERROR(#REF!,0)*GK5","v":0},{"$f":"IFERROR(#REF!,0)*GK5","v":0},{"$f":"IFERROR(#REF!,0)*GK5","v":0},{"$f":"IFERROR(#REF!,0)*GK5","v":0},{"$f":"IFERROR(#REF!,0)*GO5","v":0},{"$f":"IFERROR(#REF!,0)*GO5","v":0},{"$f":"IFERROR(#REF!,0)*GO5","v":0},{"$f":"IFERROR(#REF!,0)*GO5","v":0},{"$f":"IFERROR(#REF!,0)*GS5","v":0},{"$f":"IFERROR(#REF!,0)*GS5","v":0},{"$f":"IFERROR(#REF!,0)*GS5","v":0},{"$f":"IFERROR(#REF!,0)*GS5","v":0},{"v":0,"d":"0.00"},{"v":0,"d":"0.00"},{"v":0,"d":"0.00"},{"v":0,"d":"0.00"}]
[null,{"$f":"#REF!","v":{"$error":"#REF!"}},{"$f":"#REF!","v":{"$error":"#REF!"}},{"$f":"IFERROR(#REF!,0)*E5","v":0},{"$f":"IFERROR(#REF!,0)*E5","v":0},{"$f":"IFERROR(#REF!,0)*E5","v":0},{"$f":"IFERROR(#REF!,0)*E5","v":0},{"$f":"IFERROR(#REF!,0)*I5","v":0},{"$f":"IFERROR(#REF!,0)*I5","v":0},{"$f":"IFERROR(#REF!,0)*I5","v":0},{"$f":"IFERROR(#REF!,0)*I5","v":0},{"$f":"IFERROR(#REF!,0)*M5","v":0},{"$f":"IFERROR(#REF!,0)*M5","v":0},{"$f":"IFERROR(#REF!,0)*M5","v":0},{"$f":"IFERROR(#REF!,0)*M5","v":0},{"$f":"IFERROR(#REF!,0)*Q5","v":0},{"$f":"IFERROR(#REF!,0)*Q5","v":0},{"$f":"IFERROR(#REF!,0)*Q5","v":0},{"$f":"IFERROR(#REF!,0)*Q5","v":0},{"$f":"IFERROR(#REF!,0)*U5","v":0},{"$f":"IFERROR(#REF!,0)*U5","v":0},{"$f":"IFERROR(#REF!,0)*U5","v":0},{"$f":"IFERROR(#REF!,0)*U5","v":0},{"$f":"IFERROR(#REF!,0)*Y5","v":0},{"$f":"IFERROR(#REF!,0)*Y5","v":0},{"$f":"IFERROR(#REF!,0)*Y5","v":0},{"$f":"IFERROR(#REF!,0)*Y5","v":0},{"$f":"IFERROR(#REF!,0)*AC5","v":0},{"$f":"IFERROR(#REF!,0)*AC5","v":0},{"$f":"IFERROR(#REF!,0)*AC5","v":0},{"$f":"IFERROR(#REF!,0)*AC5","v":0},{"$f":"IFERROR(#REF!,0)*AG5","v":0},{"$f":"IFERROR(#REF!,0)*AG5","v":0},{"$f":"IFERROR(#REF!,0)*AG5","v":0},{"$f":"IFERROR(#REF!,0)*AG5","v":0},{"$f":"IFERROR(#REF!,0)*AK5","v":0},{"$f":"IFERROR(#REF!,0)*AK5","v":0},{"$f":"IFERROR(#REF!,0)*AK5","v":0},{"$f":"IFERROR(#REF!,0)*AK5","v":0},{"$f":"IFERROR(#REF!,0)*AO5","v":0},{"$f":"IFERROR(#REF!,0)*AO5","v":0},{"$f":"IFERROR(#REF!,0)*AO5","v":0},{"$f":"IFERROR(#REF!,0)*AO5","v":0},{"$f":"IFERROR(#REF!,0)*AS5","v":0},{"$f":"IFERROR(#REF!,0)*AS5","v":0},{"$f":"IFERROR(#REF!,0)*AS5","v":0},{"$f":"IFERROR(#REF!,0)*AS5","v":0},{"$f":"IFERROR(#REF!,0)*AW5","v":0},{"$f":"IFERROR(#REF!,0)*AW5","v":0},{"$f":"IFERROR(#REF!,0)*AW5","v":0},{"$f":"IFERROR(#REF!,0)*AW5","v":0},{"$f":"IFERROR(#REF!,0)*BA5","v":0},{"$f":"IFERROR(#REF!,0)*BA5","v":0},{"$f":"IFERROR(#REF!,0)*BA5","v":0},{"$f":"IFERROR(#REF!,0)*BA5","v":0},{"$f":"IFERROR(#REF!,0)*BE5","v":0},{"$f":"IFERROR(#REF!,0)*BE5","v":0},{"$f":"IFERROR(#REF!,0)*BE5","v":0},{"$f":"IFERROR(#REF!,0)*BE5","v":0},{"$f":"IFERROR(#REF!,0)*BI5","v":0},{"$f":"IFERROR(#REF!,0)*BI5","v":0},{"$f":"IFERROR(#REF!,0)*BI5","v":0},{"$f":"IFERROR(#REF!,0)*BI5","v":0},{"$f":"IFERROR(#REF!,0)*BM5","v":0},{"$f":"IFERROR(#REF!,0)*BM5","v":0},{"$f":"IFERROR(#REF!,0)*BM5","v":0},{"$f":"IFERROR(#REF!,0)*BM5","v":0},{"$f":"IFERROR(#REF!,0)*BQ5","v":0},{"$f":"IFERROR(#REF!,0)*BQ5","v":0},{"$f":"IFERROR(#REF!,0)*BQ5","v":0},{"$f":"IFERROR(#REF!,0)*BQ5","v":0},{"$f":"IFERROR(#REF!,0)*BU5","v":0},{"$f":"IFERROR(#REF!,0)*BU5","v":0},{"$f":"IFERROR(#REF!,0)*BU5","v":0},{"$f":"IFERROR(#REF!,0)*BU5","v":0},{"$f":"IFERROR(#REF!,0)*BY5","v":0},{"$f":"IFERROR(#REF!,0)*BY5","v":0},{"$f":"IFERROR(#REF!,0)*BY5","v":0},{"$f":"IFERROR(#REF!,0)*BY5","v":0},{"$f":"IFERROR(#REF!,0)*CC5","v":0},{"$f":"IFERROR(#REF!,0)*CC5","v":0},{"$f":"IFERROR(#REF!,0)*CC5","v":0},{"$f":"IFERROR(#REF!,0)*CC5","v":0},{"$f":"IFERROR(#REF!,0)*CG5","v":0},{"$f":"IFERROR(#REF!,0)*CG5","v":0},{"$f":"IFERROR(#REF!,0)*CG5","v":0},{"$f":"IFERROR(#REF!,0)*CG5","v":0},{"$f":"IFERROR(#REF!,0)*CK5","v":0},{"$f":"IFERROR(#REF!,0)*CK5","v":0},{"$f":"IFERROR(#REF!,0)*CK5","v":0},{"$f":"IFERROR(#REF!,0)*CK5","v":0},{"$f":"IFERROR(#REF!,0)*CO5","v":0},{"$f":"IFERROR(#REF!,0)*CO5","v":0},{"$f":"IFERROR(#REF!,0)*CO5","v":0},{"$f":"IFERROR(#REF!,0)*CO5","v":0},{"$f":"IFERROR(#REF!,0)*CS5","v":0},{"$f":"IFERROR(#REF!,0)*CS5","v":0},{"$f":"IFERROR(#REF!,0)*CS5","v":0},{"$f":"IFERROR(#REF!,0)*CS5","v":0},{"$f":"IFERROR(#REF!,0)*CW5","v":0},{"$f":"IFERROR(#REF!,0)*CW5","v":0},{"$f":"IFERROR(#REF!,0)*CW5","v":0},{"$f":"IFERROR(#REF!,0)*CW5","v":0},{"$f":"IFERROR(#REF!,0)*DA5","v":0},{"$f":"IFERROR(#REF!,0)*DA5","v":0},{"$f":"IFERROR(#REF!,0)*DA5","v":0},{"$f":"IFERROR(#REF!,0)*DA5","v":0},{"$f":"IFERROR(#REF!,0)*DE5","v":0},{"$f":"IFERROR(#REF!,0)*DE5","v":0},{"$f":"IFERROR(#REF!,0)*DE5","v":0},{"$f":"IFERROR(#REF!,0)*DE5","v":0},{"$f":"IFERROR(#REF!,0)*DI5","v":0},{"$f":"IFERROR(#REF!,0)*DI5","v":0},{"$f":"IFERROR(#REF!,0)*DI5","v":0},{"$f":"IFERROR(#REF!,0)*DI5","v":0},{"$f":"IFERROR(#REF!,0)*DM5","v":0},{"$f":"IFERROR(#REF!,0)*DM5","v":0},{"$f":"IFERROR(#REF!,0)*DM5","v":0},{"$f":"IFERROR(#REF!,0)*DM5","v":0},{"$f":"IFERROR(#REF!,0)*DQ5","v":0},{"$f":"IFERROR(#REF!,0)*DQ5","v":0},{"$f":"IFERROR(#REF!,0)*DQ5","v":0},{"$f":"IFERROR(#REF!,0)*DQ5","v":0},{"$f":"IFERROR(#REF!,0)*DU5","v":0},{"$f":"IFERROR(#REF!,0)*DU5","v":0},{"$f":"IFERROR(#REF!,0)*DU5","v":0},{"$f":"IFERROR(#REF!,0)*DU5","v":0},{"$f":"IFERROR(#REF!,0)*DY5","v":0},{"$f":"IFERROR(#REF!,0)*DY5","v":0},{"$f":"IFERROR(#REF!,0)*DY5","v":0},{"$f":"IFERROR(#REF!,0)*DY5","v":0},{"$f":"IFERROR(#REF!,0)*EC5","v":0},{"$f":"IFERROR(#REF!,0)*EC5","v":0},{"$f":"IFERROR(#REF!,0)*EC5","v":0},{"$f":"IFERROR(#REF!,0)*EC5","v":0},{"$f":"IFERROR(#REF!,0)*EG5","v":0},{"$f":"IFERROR(#REF!,0)*EG5","v":0},{"$f":"IFERROR(#REF!,0)*EG5","v":0},{"$f":"IFERROR(#REF!,0)*EG5","v":0},{"$f":"IFERROR(#REF!,0)*EK5","v":0},{"$f":"IFERROR(#REF!,0)*EK5","v":0},{"$f":"IFERROR(#REF!,0)*EK5","v":0},{"$f":"IFERROR(#REF!,0)*EK5","v":0},{"$f":"IFERROR(#REF!,0)*EO5","v":0},{"$f":"IFERROR(#REF!,0)*EO5","v":0},{"$f":"IFERROR(#REF!,0)*EO5","v":0},{"$f":"IFERROR(#REF!,0)*EO5","v":0},{"$f":"IFERROR(#REF!,0)*ES5","v":0},{"$f":"IFERROR(#REF!,0)*ES5","v":0},{"$f":"IFERROR(#REF!,0)*ES5","v":0},{"$f":"IFERROR(#REF!,0)*ES5","v":0},{"$f":"IFERROR(#REF!,0)*EW5","v":0},{"$f":"IFERROR(#REF!,0)*EW5","v":0},{"$f":"IFERROR(#REF!,0)*EW5","v":0},{"$f":"IFERROR(#REF!,0)*EW5","v":0},{"$f":"IFERROR(#REF!,0)*FA5","v":0},{"$f":"IFERROR(#REF!,0)*FA5","v":0},{"$f":"IFERROR(#REF!,0)*FA5","v":0},{"$f":"IFERROR(#REF!,0)*FA5","v":0},{"$f":"IFERROR(#REF!,0)*FE5","v":0},{"$f":"IFERROR(#REF!,0)*FE5","v":0},{"$f":"IFERROR(#REF!,0)*FE5","v":0},{"$f":"IFERROR(#REF!,0)*FE5","v":0},{"$f":"IFERROR(#REF!,0)*FI5","v":0},{"$f":"IFERROR(#REF!,0)*FI5","v":0},{"$f":"IFERROR(#REF!,0)*FI5","v":0},{"$f":"IFERROR(#REF!,0)*FI5","v":0},{"$f":"IFERROR(#REF!,0)*FM5","v":0},{"$f":"IFERROR(#REF!,0)*FM5","v":0},{"$f":"IFERROR(#REF!,0)*FM5","v":0},{"$f":"IFERROR(#REF!,0)*FM5","v":0},{"$f":"IFERROR(#REF!,0)*FQ5","v":0},{"$f":"IFERROR(#REF!,0)*FQ5","v":0},{"$f":"IFERROR(#REF!,0)*FQ5","v":0},{"$f":"IFERROR(#REF!,0)*FQ5","v":0},{"$f":"IFERROR(#REF!,0)*FU5","v":0},{"$f":"IFERROR(#REF!,0)*FU5","v":0},{"$f":"IFERROR(#REF!,0)*FU5","v":0},{"$f":"IFERROR(#REF!,0)*FU5","v":0},{"$f":"IFERROR(#REF!,0)*FY5","v":0},{"$f":"IFERROR(#REF!,0)*FY5","v":0},{"$f":"IFERROR(#REF!,0)*FY5","v":0},{"$f":"IFERROR(#REF!,0)*FY5","v":0},{"$f":"IFERROR(#REF!,0)*GC5","v":0},{"$f":"IFERROR(#REF!,0)*GC5","v":0},{"$f":"IFERROR(#REF!,0)*GC5","v":0},{"$f":"IFERROR(#REF!,0)*GC5","v":0},{"$f":"IFERROR(#REF!,0)*GG5","v":0},{"$f":"IFERROR(#REF!,0)*GG5","v":0},{"$f":"IFERROR(#REF!,0)*GG5","v":0},{"$f":"IFERROR(#REF!,0)*GG5","v":0},{"$f":"IFERROR(#REF!,0)*GK5","v":0},{"$f":"IFERROR(#REF!,0)*GK5","v":0},{"$f":"IFERROR(#REF!,0)*GK5","v":0},{"$f":"IFERROR(#REF!,0)*GK5","v":0},{"$f":"IFERROR(#REF!,0)*GO5","v":0},{"$f":"IFERROR(#REF!,0)*GO5","v":0},{"$f":"IFERROR(#REF!,0)*GO5","v":0},{"$f":"IFERROR(#REF!,0)*GO5","v":0},{"$f":"IFERROR(#REF!,0)*GS5","v":0},{"$f":"IFERROR(#REF!,0)*GS5","v":0},{"$f":"IFERROR(#REF!,0)*GS5","v":0},{"$f":"IFERROR(#REF!,0)*GS5","v":0},{"v":0,"d":"0.00"},{"v":0,"d":"0.00"},{"v":0,"d":"0.00"},{"v":0,"d":"0.00"}]
[null,{"$f":"#REF!","v":{"$error":"#REF!"}},{"$f":"#REF!","v":{"$error":"#REF!"}},{"$f":"IFERROR(#REF!,0)*E5","v":0},{"$f":"IFERROR(#REF!,0)*E5","v":0},{"$f":"IFERROR(#REF!,0)*E5","v":0},{"$f":"IFERROR(#REF!,0)*E5","v":0},{"$f":"IFERROR(#REF!,0)*I5","v":0},{"$f":"IFERROR(#REF!,0)*I5","v":0},{"$f":"IFERROR(#REF!,0)*I5","v":0},{"$f":"IFERROR(#REF!,0)*I5","v":0},{"$f":"IFERROR(#REF!,0)*M5","v":0},{"$f":"IFERROR(#REF!,0)*M5","v":0},{"$f":"IFERROR(#REF!,0)*M5","v":0},{"$f":"IFERROR(#REF!,0)*M5","v":0},{"$f":"IFERROR(#REF!,0)*Q5","v":0},{"$f":"IFERROR(#REF!,0)*Q5","v":0},{"$f":"IFERROR(#REF!,0)*Q5","v":0},{"$f":"IFERROR(#REF!,0)*Q5","v":0},{"$f":"IFERROR(#REF!,0)*U5","v":0},{"$f":"IFERROR(#REF!,0)*U5","v":0},{"$f":"IFERROR(#REF!,0)*U5","v":0},{"$f":"IFERROR(#REF!,0)*U5","v":0},{"$f":"IFERROR(#REF!,0)*Y5","v":0},{"$f":"IFERROR(#REF!,0)*Y5","v":0},{"$f":"IFERROR(#REF!,0)*Y5","v":0},{"$f":"IFERROR(#REF!,0)*Y5","v":0},{"$f":"IFERROR(#REF!,0)*AC5","v":0},{"$f":"IFERROR(#REF!,0)*AC5","v":0},{"$f":"IFERROR(#REF!,0)*AC5","v":0},{"$f":"IFERROR(#REF!,0)*AC5","v":0},{"$f":"IFERROR(#REF!,0)*AG5","v":0},{"$f":"IFERROR(#REF!,0)*AG5","v":0},{"$f":"IFERROR(#REF!,0)*AG5","v":0},{"$f":"IFERROR(#REF!,0)*AG5","v":0},{"$f":"IFERROR(#REF!,0)*AK5","v":0},{"$f":"IFERROR(#REF!,0)*AK5","v":0},{"$f":"IFERROR(#REF!,0)*AK5","v":0},{"$f":"IFERROR(#REF!,0)*AK5","v":0},{"$f":"IFERROR(#REF!,0)*AO5","v":0},{"$f":"IFERROR(#REF!,0)*AO5","v":0},{"$f":"IFERROR(#REF!,0)*AO5","v":0},{"$f":"IFERROR(#REF!,0)*AO5","v":0},{"$f":"IFERROR(#REF!,0)*AS5","v":0},{"$f":"IFERROR(#REF!,0)*AS5","v":0},{"$f":"IFERROR(#REF!,0)*AS5","v":0},{"$f":"IFERROR(#REF!,0)*AS5","v":0},{"$f":"IFERROR(#REF!,0)*AW5","v":0},{"$f":"IFERROR(#REF!,0)*AW5","v":0},{"$f":"IFERROR(#REF!,0)*AW5","v":0},{"$f":"IFERROR(#REF!,0)*AW5","v":0},{"$f":"IFERROR(#REF!,0)*BA5","v":0},{"$f":"IFERROR(#REF!,0)*BA5","v":0},{"$f":"IFERROR(#REF!,0)*BA5","v":0},{"$f":"IFERROR(#REF!,0)*BA5","v":0},{"$f":"IFERROR(#REF!,0)*BE5","v":0},{"$f":"IFERROR(#REF!,0)*BE5","v":0},{"$f":"IFERROR(#REF!,0)*BE5","v":0},{"$f":"IFERROR(#REF!,0)*BE5","v":0},{"$f":"IFERROR(#REF!,0)*BI5","v":0},{"$f":"IFERROR(#REF!,0)*BI5","v":0},{"$f":"IFERROR(#REF!,0)*BI5","v":0},{"$f":"IFERROR(#REF!,0)*BI5","v":0},{"$f":"IFERROR(#REF!,0)*BM5","v":0},{"$f":"IFERROR(#REF!,0)*BM5","v":0},{"$f":"IFERROR(#REF!,0)*BM5","v":0},{"$f":"IFERROR(#REF!,0)*BM5","v":0},{"$f":"IFERROR(#REF!,0)*BQ5","v":0},{"$f":"IFERROR(#REF!,0)*BQ5","v":0},{"$f":"IFERROR(#REF!,0)*BQ5","v":0},{"$f":"IFERROR(#REF!,0)*BQ5","v":0},{"$f":"IFERROR(#REF!,0)*BU5","v":0},{"$f":"IFERROR(#REF!,0)*BU5","v":0},{"$f":"IFERROR(#REF!,0)*BU5","v":0},{"$f":"IFERROR(#REF!,0)*BU5","v":0},{"$f":"IFERROR(#REF!,0)*BY5","v":0},{"$f":"IFERROR(#REF!,0)*BY5","v":0},{"$f":"IFERROR(#REF!,0)*BY5","v":0},{"$f":"IFERROR(#REF!,0)*BY5","v":0},{"$f":"IFERROR(#REF!,0)*CC5","v":0},{"$f":"IFERROR(#REF!,0)*CC5","v":0},{"$f":"IFERROR(#REF!,0)*CC5","v":0},{"$f":"IFERROR(#REF!,0)*CC5","v":0},{"$f":"IFERROR(#REF!,0)*CG5","v":0},{"$f":"IFERROR(#REF!,0)*CG5","v":0},{"$f":"IFERROR(#REF!,0)*CG5","v":0},{"$f":"IFERROR(#REF!,0)*CG5","v":0},{"$f":"IFERROR(#REF!,0)*CK5","v":0},{"$f":"IFERROR(#REF!,0)*CK5","v":0},{"$f":"IFERROR(#REF!,0)*CK5","v":0},{"$f":"IFERROR(#REF!,0)*CK5","v":0},{"$f":"IFERROR(#REF!,0)*CO5","v":0},{"$f":"IFERROR(#REF!,0)*CO5","v":0},{"$f":"IFERROR(#REF!,0)*CO5","v":0},{"$f":"IFERROR(#REF!,0)*CO5","v":0},{"$f":"IFERROR(#REF!,0)*CS5","v":0},{"$f":"IFERROR(#REF!,0)*CS5","v":0},{"$f":"IFERROR(#REF!,0)*CS5","v":0},{"$f":"IFERROR(#REF!,0)*CS5","v":0},{"$f":"IFERROR(#REF!,0)*CW5","v":0},{"$f":"IFERROR(#REF!,0)*CW5","v":0},{"$f":"IFERROR(#REF!,0)*CW5","v":0},{"$f":"IFERROR(#REF!,0)*CW5","v":0},{"$f":"IFERROR(#REF!,0)*DA5","v":0},{"$f":"IFERROR(#REF!,0)*DA5","v":0},{"$f":"IFERROR(#REF!,0)*DA5","v":0},{"$f":"IFERROR(#REF!,0)*DA5","v":0},{"$f":"IFERROR(#REF!,0)*DE5","v":0},{"$f":"IFERROR(#REF!,0)*DE5","v":0},{"$f":"IFERROR(#REF!,0)*DE5","v":0},{"$f":"IFERROR(#REF!,0)*DE5","v":0},{"$f":"IFERROR(#REF!,0)*DI5","v":0},{"$f":"IFERROR(#REF!,0)*DI5","v":0},{"$f":"IFERROR(#REF!,0)*DI5","v":0},{"$f":"IFERROR(#REF!,0)*DI5","v":0},{"$f":"IFERROR(#REF!,0)*DM5","v":0},{"$f":"IFERROR(#REF!,0)*DM5","v":0},{"$f":"IFERROR(#REF!,0)*DM5","v":0},{"$f":"IFERROR(#REF!,0)*DM5","v":0},{"$f":"IFERROR(#REF!,0)*DQ5","v":0},{"$f":"IFERROR(#REF!,0)*DQ5","v":0},{"$f":"IFERROR(#REF!,0)*DQ5","v":0},{"$f":"IFERROR(#REF!,0)*DQ5","v":0},{"$f":"IFERROR(#REF!,0)*DU5","v":0},{"$f":"IFERROR(#REF!,0)*DU5","v":0},{"$f":"IFERROR(#REF!,0)*DU5","v":0},{"$f":"IFERROR(#REF!,0)*DU5","v":0},{"$f":"IFERROR(#REF!,0)*DY5","v":0},{"$f":"IFERROR(#REF!,0)*DY5","v":0},{"$f":"IFERROR(#REF!,0)*DY5","v":0},{"$f":"IFERROR(#REF!,0)*DY5","v":0},{"$f":"IFERROR(#REF!,0)*EC5","v":0},{"$f":"IFERROR(#REF!,0)*EC5","v":0},{"$f":"IFERROR(#REF!,0)*EC5","v":0},{"$f":"IFERROR(#REF!,0)*EC5","v":0},{"$f":"IFERROR(#REF!,0)*EG5","v":0},{"$f":"IFERROR(#REF!,0)*EG5","v":0},{"$f":"IFERROR(#REF!,0)*EG5","v":0},{"$f":"IFERROR(#REF!,0)*EG5","v":0},{"$f":"IFERROR(#REF!,0)*EK5","v":0},{"$f":"IFERROR(#REF!,0)*EK5","v":0},{"$f":"IFERROR(#REF!,0)*EK5","v":0},{"$f":"IFERROR(#REF!,0)*EK5","v":0},{"$f":"IFERROR(#REF!,0)*EO5","v":0},{"$f":"IFERROR(#REF!,0)*EO5","v":0},{"$f":"IFERROR(#REF!,0)*EO5","v":0},{"$f":"IFERROR(#REF!,0)*EO5","v":0},{"$f":"IFERROR(#REF!,0)*ES5","v":0},{"$f":"IFERROR(#REF!,0)*ES5","v":0},{"$f":"IFERROR(#REF!,0)*ES5","v":0},{"$f":"IFERROR(#REF!,0)*ES5","v":0},{"$f":"IFERROR(#REF!,0)*EW5","v":0},{"$f":"IFERROR(#REF!,0)*EW5","v":0},{"$f":"IFERROR(#REF!,0)*EW5","v":0},{"$f":"IFERROR(#REF!,0)*EW5","v":0},{"$f":"IFERROR(#REF!,0)*FA5","v":0},{"$f":"IFERROR(#REF!,0)*FA5","v":0},{"$f":"IFERROR(#REF!,0)*FA5","v":0},{"$f":"IFERROR(#REF!,0)*FA5","v":0},{"$f":"IFERROR(#REF!,0)*FE5","v":0},{"$f":"IFERROR(#REF!,0)*FE5","v":0},{"$f":"IFERROR(#REF!,0)*FE5","v":0},{"$f":"IFERROR(#REF!,0)*FE5","v":0},{"$f":"IFERROR(#REF!,0)*FI5","v":0},{"$f":"IFERROR(#REF!,0)*FI5","v":0},{"$f":"IFERROR(#REF!,0)*FI5","v":0},{"$f":"IFERROR(#REF!,0)*FI5","v":0},{"$f":"IFERROR(#REF!,0)*FM5","v":0},{"$f":"IFERROR(#REF!,0)*FM5","v":0},{"$f":"IFERROR(#REF!,0)*FM5","v":0},{"$f":"IFERROR(#REF!,0)*FM5","v":0},{"$f":"IFERROR(#REF!,0)*FQ5","v":0},{"$f":"IFERROR(#REF!,0)*FQ5","v":0},{"$f":"IFERROR(#REF!,0)*FQ5","v":0},{"$f":"IFERROR(#REF!,0)*FQ5","v":0},{"$f":"IFERROR(#REF!,0)*FU5","v":0},{"$f":"IFERROR(#REF!,0)*FU5","v":0},{"$f":"IFERROR(#REF!,0)*FU5","v":0},{"$f":"IFERROR(#REF!,0)*FU5","v":0},{"$f":"IFERROR(#REF!,0)*FY5","v":0},{"$f":"IFERROR(#REF!,0)*FY5","v":0},{"$f":"IFERROR(#REF!,0)*FY5","v":0},{"$f":"IFERROR(#REF!,0)*FY5","v":0},{"$f":"IFERROR(#REF!,0)*GC5","v":0},{"$f":"IFERROR(#REF!,0)*GC5","v":0},{"$f":"IFERROR(#REF!,0)*GC5","v":0},{"$f":"IFERROR(#REF!,0)*GC5","v":0},{"$f":"IFERROR(#REF!,0)*GG5","v":0},{"$f":"IFERROR(#REF!,0)*GG5","v":0},{"$f":"IFERROR(#REF!,0)*GG5","v":0},{"$f":"IFERROR(#REF!,0)*GG5","v":0},{"$f":"IFERROR(#REF!,0)*GK5","v":0},{"$f":"IFERROR(#REF!,0)*GK5","v":0},{"$f":"IFERROR(#REF!,0)*GK5","v":0},{"$f":"IFERROR(#REF!,0)*GK5","v":0},{"$f":"IFERROR(#REF!,0)*GO5","v":0},{"$f":"IFERROR(#REF!,0)*GO5","v":0},{"$f":"IFERROR(#REF!,0)*GO5","v":0},{"$f":"IFERROR(#REF!,0)*GO5","v":0},{"$f":"IFERROR(#REF!,0)*GS5","v":0},{"$f":"IFERROR(#REF!,0)*GS5","v":0},{"$f":"IFERROR(#REF!,0)*GS5","v":0},{"$f":"IFERROR(#REF!,0)*GS5","v":0},{"v":0,"d":"0.00"},{"v":0,"d":"0.00"},{"v":0,"d":"0.00"},{"v":0,"d":"0.00"}]
[null,{"$f":"#REF!","v":{"$error":"#REF!"}},{"$f":"#REF!","v":{"$error":"#REF!"}},{"$f":"IFERROR(#REF!,0)*E5","v":0},{"$f":"IFERROR(#REF!,0)*E5","v":0},{"$f":"IFERROR(#REF!,0)*E5","v":0},{"$f":"IFERROR(#REF!,0)*E5","v":0},{"$f":"IFERROR(#REF!,0)*I5","v":0},{"$f":"IFERROR(#REF!,0)*I5","v":0},{"$f":"IFERROR(#REF!,0)*I5","v":0},{"$f":"IFERROR(#REF!,0)*I5","v":0},{"$f":"IFERROR(#REF!,0)*M5","v":0},{"$f":"IFERROR(#REF!,0)*M5","v":0},{"$f":"IFERROR(#REF!,0)*M5","v":0},{"$f":"IFERROR(#REF!,0)*M5","v":0},{"$f":"IFERROR(#REF!,0)*Q5","v":0},{"$f":"IFERROR(#REF!,0)*Q5","v":0},{"$f":"IFERROR(#REF!,0)*Q5","v":0},{"$f":"IFERROR(#REF!,0)*Q5","v":0},{"$f":"IFERROR(#REF!,0)*U5","v":0},{"$f":"IFERROR(#REF!,0)*U5","v":0},{"$f":"IFERROR(#REF!,0)*U5","v":0},{"$f":"IFERROR(#REF!,0)*U5","v":0},{"$f":"IFERROR(#REF!,0)*Y5","v":0},{"$f":"IFERROR(#REF!,0)*Y5","v":0},{"$f":"IFERROR(#REF!,0)*Y5","v":0},{"$f":"IFERROR(#REF!,0)*Y5","v":0},{"$f":"IFERROR(#REF!,0)*AC5","v":0},{"$f":"IFERROR(#REF!,0)*AC5","v":0},{"$f":"IFERROR(#REF!,0)*AC5","v":0},{"$f":"IFERROR(#REF!,0)*AC5","v":0},{"$f":"IFERROR(#REF!,0)*AG5","v":0},{"$f":"IFERROR(#REF!,0)*AG5","v":0},{"$f":"IFERROR(#REF!,0)*AG5","v":0},{"$f":"IFERROR(#REF!,0)*AG5","v":0},{"$f":"IFERROR(#REF!,0)*AK5","v":0},{"$f":"IFERROR(#REF!,0)*AK5","v":0},{"$f":"IFERROR(#REF!,0)*AK5","v":0},{"$f":"IFERROR(#REF!,0)*AK5","v":0},{"$f":"IFERROR(#REF!,0)*AO5","v":0},{"$f":"IFERROR(#REF!,0)*AO5","v":0},{"$f":"IFERROR(#REF!,0)*AO5","v":0},{"$f":"IFERROR(#REF!,0)*AO5","v":0},{"$f":"IFERROR(#REF!,0)*AS5","v":0},{"$f":"IFERROR(#REF!,0)*AS5","v":0},{"$f":"IFERROR(#REF!,0)*AS5","v":0},{"$f":"IFERROR(#REF!,0)*AS5","v":0},{"$f":"IFERROR(#REF!,0)*AW5","v":0},{"$f":"IFERROR(#REF!,0)*AW5","v":0},{"$f":"IFERROR(#REF!,0)*AW5","v":0},{"$f":"IFERROR(#REF!,0)*AW5","v":0},{"$f":"IFERROR(#REF!,0)*BA5","v":0},{"$f":"IFERROR(#REF!,0)*BA5","v":0},{"$f":"IFERROR(#REF!,0)*BA5","v":0},{"$f":"IFERROR(#REF!,0)*BA5","v":0},{"$f":"IFERROR(#REF!,0)*BE5","v":0},{"$f":"IFERROR(#REF!,0)*BE5","v":0},{"$f":"IFERROR(#REF!,0)*BE5","v":0},{"$f":"IFERROR(#REF!,0)*BE5","v":0},{"$f":"IFERROR(#REF!,0)*BI5","v":0},{"$f":"IFERROR(#REF!,0)*BI5","v":0},{"$f":"IFERROR(#REF!,0)*BI5","v":0},{"$f":"IFERROR(#REF!,0)*BI5","v":0},{"$f":"IFERROR(#REF!,0)*BM5","v":0},{"$f":"IFERROR(#REF!,0)*BM5","v":0},{"$f":"IFERROR(#REF!,0)*BM5","v":0},{"$f":"IFERROR(#REF!,0)*BM5","v":0},{"$f":"IFERROR(#REF!,0)*BQ5","v":0},{"$f":"IFERROR(#REF!,0)*BQ5","v":0},{"$f":"IFERROR(#REF!,0)*BQ5","v":0},{"$f":"IFERROR(#REF!,0)*BQ5","v":0},{"$f":"IFERROR(#REF!,0)*BU5","v":0},{"$f":"IFERROR(#REF!,0)*BU5","v":0},{"$f":"IFERROR(#REF!,0)*BU5","v":0},{"$f":"IFERROR(#REF!,0)*BU5","v":0},{"$f":"IFERROR(#REF!,0)*BY5","v":0},{"$f":"IFERROR(#REF!,0)*BY5","v":0},{"$f":"IFERROR(#REF!,0)*BY5","v":0},{"$f":"IFERROR(#REF!,0)*BY5","v":0},{"$f":"IFERROR(#REF!,0)*CC5","v":0},{"$f":"IFERROR(#REF!,0)*CC5","v":0},{"$f":"IFERROR(#REF!,0)*CC5","v":0},{"$f":"IFERROR(#REF!,0)*CC5","v":0},{"$f":"IFERROR(#REF!,0)*CG5","v":0},{"$f":"IFERROR(#REF!,0)*CG5","v":0},{"$f":"IFERROR(#REF!,0)*CG5","v":0},{"$f":"IFERROR(#REF!,0)*CG5","v":0},{"$f":"IFERROR(#REF!,0)*CK5","v":0},{"$f":"IFERROR(#REF!,0)*CK5","v":0},{"$f":"IFERROR(#REF!,0)*CK5","v":0},{"$f":"IFERROR(#REF!,0)*CK5","v":0},{"$f":"IFERROR(#REF!,0)*CO5","v":0},{"$f":"IFERROR(#REF!,0)*CO5","v":0},{"$f":"IFERROR(#REF!,0)*CO5","v":0},{"$f":"IFERROR(#REF!,0)*CO5","v":0},{"$f":"IFERROR(#REF!,0)*CS5","v":0},{"$f":"IFERROR(#REF!,0)*CS5","v":0},{"$f":"IFERROR(#REF!,0)*CS5","v":0},{"$f":"IFERROR(#REF!,0)*CS5","v":0},{"$f":"IFERROR(#REF!,0)*CW5","v":0},{"$f":"IFERROR(#REF!,0)*CW5","v":0},{"$f":"IFERROR(#REF!,0)*CW5","v":0},{"$f":"IFERROR(#REF!,0)*CW5","v":0},{"$f":"IFERROR(#REF!,0)*DA5","v":0},{"$f":"IFERROR(#REF!,0)*DA5","v":0},{"$f":"IFERROR(#REF!,0)*DA5","v":0},{"$f":"IFERROR(#REF!,0)*DA5","v":0},{"$f":"IFERROR(#REF!,0)*DE5","v":0},{"$f":"IFERROR(#REF!,0)*DE5","v":0},{"$f":"IFERROR(#REF!,0)*DE5","v":0},{"$f":"IFERROR(#REF!,0)*DE5","v":0},{"$f":"IFERROR(#REF!,0)*DI5","v":0},{"$f":"IFERROR(#REF!,0)*DI5","v":0},{"$f":"IFERROR(#REF!,0)*DI5","v":0},{"$f":"IFERROR(#REF!,0)*DI5","v":0},{"$f":"IFERROR(#REF!,0)*DM5","v":0},{"$f":"IFERROR(#REF!,0)*DM5","v":0},{"$f":"IFERROR(#REF!,0)*DM5","v":0},{"$f":"IFERROR(#REF!,0)*DM5","v":0},{"$f":"IFERROR(#REF!,0)*DQ5","v":0},{"$f":"IFERROR(#REF!,0)*DQ5","v":0},{"$f":"IFERROR(#REF!,0)*DQ5","v":0},{"$f":"IFERROR(#REF!,0)*DQ5","v":0},{"$f":"IFERROR(#REF!,0)*DU5","v":0},{"$f":"IFERROR(#REF!,0)*DU5","v":0},{"$f":"IFERROR(#REF!,0)*DU5","v":0},{"$f":"IFERROR(#REF!,0)*DU5","v":0},{"$f":"IFERROR(#REF!,0)*DY5","v":0},{"$f":"IFERROR(#REF!,0)*DY5","v":0},{"$f":"IFERROR(#REF!,0)*DY5","v":0},{"$f":"IFERROR(#REF!,0)*DY5","v":0},{"$f":"IFERROR(#REF!,0)*EC5","v":0},{"$f":"IFERROR(#REF!,0)*EC5","v":0},{"$f":"IFERROR(#REF!,0)*EC5","v":0},{"$f":"IFERROR(#REF!,0)*EC5","v":0},{"$f":"IFERROR(#REF!,0)*EG5","v":0},{"$f":"IFERROR(#REF!,0)*EG5","v":0},{"$f":"IFERROR(#REF!,0)*EG5","v":0},{"$f":"IFERROR(#REF!,0)*EG5","v":0},{"$f":"IFERROR(#REF!,0)*EK5","v":0},{"$f":"IFERROR(#REF!,0)*EK5","v":0},{"$f":"IFERROR(#REF!,0)*EK5","v":0},{"$f":"IFERROR(#REF!,0)*EK5","v":0},{"$f":"IFERROR(#REF!,0)*EO5","v":0},{"$f":"IFERROR(#REF!,0)*EO5","v":0},{"$f":"IFERROR(#REF!,0)*EO5","v":0},{"$f":"IFERROR(#REF!,0)*EO5","v":0},{"$f":"IFERROR(#REF!,0)*ES5","v":0},{"$f":"IFERROR(#REF!,0)*ES5","v":0},{"$f":"IFERROR(#REF!,0)*ES5","v":0},{"$f":"IFERROR(#REF!,0)*ES5","v":0},{"$f":"IFERROR(#REF!,0)*EW5","v":0},{"$f":"IFERROR(#REF!,0)*EW5","v":0},{"$f":"IFERROR(#REF!,0)*EW5","v":0},{"$f":"IFERROR(#REF!,0)*EW5","v":0},{"$f":"IFERROR(#REF!,0)*FA5","v":0},{"$f":"IFERROR(#REF!,0)*FA5","v":0},{"$f":"IFERROR(#REF!,0)*FA5","v":0},{"$f":"IFERROR(#REF!,0)*FA5","v":0},{"$f":"IFERROR(#REF!,0)*FE5","v":0},{"$f":"IFERROR(#REF!,0)*FE5","v":0},{"$f":"IFERROR(#REF!,0)*FE5","v":0},{"$f":"IFERROR(#REF!,0)*FE5","v":0},{"$f":"IFERROR(#REF!,0)*FI5","v":0},{"$f":"IFERROR(#REF!,0)*FI5","v":0},{"$f":"IFERROR(#REF!,0)*FI5","v":0},{"$f":"IFERROR(#REF!,0)*FI5","v":0},{"$f":"IFERROR(#REF!,0)*FM5","v":0},{"$f":"IFERROR(#REF!,0)*FM5","v":0},{"$f":"IFERROR(#REF!,0)*FM5","v":0},{"$f":"IFERROR(#REF!,0)*FM5","v":0},{"$f":"IFERROR(#REF!,0)*FQ5","v":0},{"$f":"IFERROR(#REF!,0)*FQ5","v":0},{"$f":"IFERROR(#REF!,0)*FQ5","v":0},{"$f":"IFERROR(#REF!,0)*FQ5","v":0},{"$f":"IFERROR(#REF!,0)*FU5","v":0},{"$f":"IFERROR(#REF!,0)*FU5","v":0},{"$f":"IFERROR(#REF!,0)*FU5","v":0},{"$f":"IFERROR(#REF!,0)*FU5","v":0},{"$f":"IFERROR(#REF!,0)*FY5","v":0},{"$f":"IFERROR(#REF!,0)*FY5","v":0},{"$f":"IFERROR(#REF!,0)*FY5","v":0},{"$f":"IFERROR(#REF!,0)*FY5","v":0},{"$f":"IFERROR(#REF!,0)*GC5","v":0},{"$f":"IFERROR(#REF!,0)*GC5","v":0},{"$f":"IFERROR(#REF!,0)*GC5","v":0},{"$f":"IFERROR(#REF!,0)*GC5","v":0},{"$f":"IFERROR(#REF!,0)*GG5","v":0},{"$f":"IFERROR(#REF!,0)*GG5","v":0},{"$f":"IFERROR(#REF!,0)*GG5","v":0},{"$f":"IFERROR(#REF!,0)*GG5","v":0},{"$f":"IFERROR(#REF!,0)*GK5","v":0},{"$f":"IFERROR(#REF!,0)*GK5","v":0},{"$f":"IFERROR(#REF!,0)*GK5","v":0},{"$f":"IFERROR(#REF!,0)*GK5","v":0},{"$f":"IFERROR(#REF!,0)*GO5","v":0},{"$f":"IFERROR(#REF!,0)*GO5","v":0},{"$f":"IFERROR(#REF!,0)*GO5","v":0},{"$f":"IFERROR(#REF!,0)*GO5","v":0},{"$f":"IFERROR(#REF!,0)*GS5","v":0},{"$f":"IFERROR(#REF!,0)*GS5","v":0},{"$f":"IFERROR(#REF!,0)*GS5","v":0},{"$f":"IFERROR(#REF!,0)*GS5","v":0},{"v":0,"d":"0.00"},{"v":0,"d":"0.00"},{"v":0,"d":"0.00"},{"v":0,"d":"0.00"}]
[null,{"$f":"#REF!","v":{"$error":"#REF!"}},{"$f":"#REF!","v":{"$error":"#REF!"}},{"$f":"IFERROR(#REF!,0)*E5","v":0},{"$f":"IFERROR(#REF!,0)*E5","v":0},{"$f":"IFERROR(#REF!,0)*E5","v":0},{"$f":"IFERROR(#REF!,0)*E5","v":0},{"$f":"IFERROR(#REF!,0)*I5","v":0},{"$f":"IFERROR(#REF!,0)*I5","v":0},{"$f":"IFERROR(#REF!,0)*I5","v":0},{"$f":"IFERROR(#REF!,0)*I5","v":0},{"$f":"IFERROR(#REF!,0)*M5","v":0},{"$f":"IFERROR(#REF!,0)*M5","v":0},{"$f":"IFERROR(#REF!,0)*M5","v":0},{"$f":"IFERROR(#REF!,0)*M5","v":0},{"$f":"IFERROR(#REF!,0)*Q5","v":0},{"$f":"IFERROR(#REF!,0)*Q5","v":0},{"$f":"IFERROR(#REF!,0)*Q5","v":0},{"$f":"IFERROR(#REF!,0)*Q5","v":0},{"$f":"IFERROR(#REF!,0)*U5","v":0},{"$f":"IFERROR(#REF!,0)*U5","v":0},{"$f":"IFERROR(#REF!,0)*U5","v":0},{"$f":"IFERROR(#REF!,0)*U5","v":0},{"$f":"IFERROR(#REF!,0)*Y5","v":0},{"$f":"IFERROR(#REF!,0)*Y5","v":0},{"$f":"IFERROR(#REF!,0)*Y5","v":0},{"$f":"IFERROR(#REF!,0)*Y5","v":0},{"$f":"IFERROR(#REF!,0)*AC5","v":0},{"$f":"IFERROR(#REF!,0)*AC5","v":0},{"$f":"IFERROR(#REF!,0)*AC5","v":0},{"$f":"IFERROR(#REF!,0)*AC5","v":0},{"$f":"IFERROR(#REF!,0)*AG5","v":0},{"$f":"IFERROR(#REF!,0)*AG5","v":0},{"$f":"IFERROR(#REF!,0)*AG5","v":0},{"$f":"IFERROR(#REF!,0)*AG5","v":0},{"$f":"IFERROR(#REF!,0)*AK5","v":0},{"$f":"IFERROR(#REF!,0)*AK5","v":0},{"$f":"IFERROR(#REF!,0)*AK5","v":0},{"$f":"IFERROR(#REF!,0)*AK5","v":0},{"$f":"IFERROR(#REF!,0)*AO5","v":0},{"$f":"IFERROR(#REF!,0)*AO5","v":0},{"$f":"IFERROR(#REF!,0)*AO5","v":0},{"$f":"IFERROR(#REF!,0)*AO5","v":0},{"$f":"IFERROR(#REF!,0)*AS5","v":0},{"$f":"IFERROR(#REF!,0)*AS5","v":0},{"$f":"IFERROR(#REF!,0)*AS5","v":0},{"$f":"IFERROR(#REF!,0)*AS5","v":0},{"$f":"IFERROR(#REF!,0)*AW5","v":0},{"$f":"IFERROR(#REF!,0)*AW5","v":0},{"$f":"IFERROR(#REF!,0)*AW5","v":0},{"$f":"IFERROR(#REF!,0)*AW5","v":0},{"$f":"IFERROR(#REF!,0)*BA5","v":0},{"$f":"IFERROR(#REF!,0)*BA5","v":0},{"$f":"IFERROR(#REF!,0)*BA5","v":0},{"$f":"IFERROR(#REF!,0)*BA5","v":0},{"$f":"IFERROR(#REF!,0)*BE5","v":0},{"$f":"IFERROR(#REF!,0)*BE5","v":0},{"$f":"IFERROR(#REF!,0)*BE5","v":0},{"$f":"IFERROR(#REF!,0)*BE5","v":0},{"$f":"IFERROR(#REF!,0)*BI5","v":0},{"$f":"IFERROR(#REF!,0)*BI5","v":0},{"$f":"IFERROR(#REF!,0)*BI5","v":0},{"$f":"IFERROR(#REF!,0)*BI5","v":0},{"$f":"IFERROR(#REF!,0)*BM5","v":0},{"$f":"IFERROR(#REF!,0)*BM5","v":0},{"$f":"IFERROR(#REF!,0)*BM5","v":0},{"$f":"IFERROR(#REF!,0)*BM5","v":0},{"$f":"IFERROR(#REF!,0)*BQ5","v":0},{"$f":"IFERROR(#REF!,0)*BQ5","v":0},{"$f":"IFERROR(#REF!,0)*BQ5","v":0},{"$f":"IFERROR(#REF!,0)*BQ5","v":0},{"$f":"IFERROR(#REF!,0)*BU5","v":0},{"$f":"IFERROR(#REF!,0)*BU5","v":0},{"$f":"IFERROR(#REF!,0)*BU5","v":0},{"$f":"IFERROR(#REF!,0)*BU5","v":0},{"$f":"IFERROR(#REF!,0)*BY5","v":0},{"$f":"IFERROR(#REF!,0)*BY5","v":0},{"$f":"IFERROR(#REF!,0)*BY5","v":0},{"$f":"IFERROR(#REF!,0)*BY5","v":0},{"$f":"IFERROR(#REF!,0)*CC5","v":0},{"$f":"IFERROR(#REF!,0)*CC5","v":0},{"$f":"IFERROR(#REF!,0)*CC5","v":0},{"$f":"IFERROR(#REF!,0)*CC5","v":0},{"$f":"IFERROR(#REF!,0)*CG5","v":0},{"$f":"IFERROR(#REF!,0)*CG5","v":0},{"$f":"IFERROR(#REF!,0)*CG5","v":0},{"$f":"IFERROR(#REF!,0)*CG5","v":0},{"$f":"IFERROR(#REF!,0)*CK5","v":0},{"$f":"IFERROR(#REF!,0)*CK5","v":0},{"$f":"IFERROR(#REF!,0)*CK5","v":0},{"$f":"IFERROR(#REF!,0)*CK5","v":0},{"$f":"IFERROR(#REF!,0)*CO5","v":0},{"$f":"IFERROR(#REF!,0)*CO5","v":0},{"$f":"IFERROR(#REF!,0)*CO5","v":0},{"$f":"IFERROR(#REF!,0)*CO5","v":0},{"$f":"IFERROR(#REF!,0)*CS5","v":0},{"$f":"IFERROR(#REF!,0)*CS5","v":0},{"$f":"IFERROR(#REF!,0)*CS5","v":0},{"$f":"IFERROR(#REF!,0)*CS5","v":0},{"$f":"IFERROR(#REF!,0)*CW5","v":0},{"$f":"IFERROR(#REF!,0)*CW5","v":0},{"$f":"IFERROR(#REF!,0)*CW5","v":0},{"$f":"IFERROR(#REF!,0)*CW5","v":0},{"$f":"IFERROR(#REF!,0)*DA5","v":0},{"$f":"IFERROR(#REF!,0)*DA5","v":0},{"$f":"IFERROR(#REF!,0)*DA5","v":0},{"$f":"IFERROR(#REF!,0)*DA5","v":0},{"$f":"IFERROR(#REF!,0)*DE5","v":0},{"$f":"IFERROR(#REF!,0)*DE5","v":0},{"$f":"IFERROR(#REF!,0)*DE5","v":0},{"$f":"IFERROR(#REF!,0)*DE5","v":0},{"$f":"IFERROR(#REF!,0)*DI5","v":0},{"$f":"IFERROR(#REF!,0)*DI5","v":0},{"$f":"IFERROR(#REF!,0)*DI5","v":0},{"$f":"IFERROR(#REF!,0)*DI5","v":0},{"$f":"IFERROR(#REF!,0)*DM5","v":0},{"$f":"IFERROR(#REF!,0)*DM5","v":0},{"$f":"IFERROR(#REF!,0)*DM5","v":0},{"$f":"IFERROR(#REF!,0)*DM5","v":0},{"$f":"IFERROR(#REF!,0)*DQ5","v":0},{"$f":"IFERROR(#REF!,0)*DQ5","v":0},{"$f":"IFERROR(#REF!,0)*DQ5","v":0},{"$f":"IFERROR(#REF!,0)*DQ5","v":0},{"$f":"IFERROR(#REF!,0)*DU5","v":0},{"$f":"IFERROR(#REF!,0)*DU5","v":0},{"$f":"IFERROR(#REF!,0)*DU5","v":0},{"$f":"IFERROR(#REF!,0)*DU5","v":0},{"$f":"IFERROR(#REF!,0)*DY5","v":0},{"$f":"IFERROR(#REF!,0)*DY5","v":0},{"$f":"IFERROR(#REF!,0)*DY5","v":0},{"$f":"IFERROR(#REF!,0)*DY5","v":0},{"$f":"IFERROR(#REF!,0)*EC5","v":0},{"$f":"IFERROR(#REF!,0)*EC5","v":0},{"$f":"IFERROR(#REF!,0)*EC5","v":0},{"$f":"IFERROR(#REF!,0)*EC5","v":0},{"$f":"IFERROR(#REF!,0)*EG5","v":0},{"$f":"IFERROR(#REF!,0)*EG5","v":0},{"$f":"IFERROR(#REF!,0)*EG5","v":0},{"$f":"IFERROR(#REF!,0)*EG5","v":0},{"$f":"IFERROR(#REF!,0)*EK5","v":0},{"$f":"IFERROR(#REF!,0)*EK5","v":0},{"$f":"IFERROR(#REF!,0)*EK5","v":0},{"$f":"IFERROR(#REF!,0)*EK5","v":0},{"$f":"IFERROR(#REF!,0)*EO5","v":0},{"$f":"IFERROR(#REF!,0)*EO5","v":0},{"$f":"IFERROR(#REF!,0)*EO5","v":0},{"$f":"IFERROR(#REF!,0)*EO5","v":0},{"$f":"IFERROR(#REF!,0)*ES5","v":0},{"$f":"IFERROR(#REF!,0)*ES5","v":0},{"$f":"IFERROR(#REF!,0)*ES5","v":0},{"$f":"IFERROR(#REF!,0)*ES5","v":0},{"$f":"IFERROR(#REF!,0)*EW5","v":0},{"$f":"IFERROR(#REF!,0)*EW5","v":0},{"$f":"IFERROR(#REF!,0)*EW5","v":0},{"$f":"IFERROR(#REF!,0)*EW5","v":0},{"$f":"IFERROR(#REF!,0)*FA5","v":0},{"$f":"IFERROR(#REF!,0)*FA5","v":0},{"$f":"IFERROR(#REF!,0)*FA5","v":0},{"$f":"IFERROR(#REF!,0)*FA5","v":0},{"$f":"IFERROR(#REF!,0)*FE5","v":0},{"$f":"IFERROR(#REF!,0)*FE5","v":0},{"$f":"IFERROR(#REF!,0)*FE5","v":0},{"$f":"IFERROR(#REF!,0)*FE5","v":0},{"$f":"IFERROR(#REF!,0)*FI5","v":0},{"$f":"IFERROR(#REF!,0)*FI5","v":0},{"$f":"IFERROR(#REF!,0)*FI5","v":0},{"$f":"IFERROR(#REF!,0)*FI5","v":0},{"$f":"IFERROR(#REF!,0)*FM5","v":0},{"$f":"IFERROR(#REF!,0)*FM5","v":0},{"$f":"IFERROR(#REF!,0)*FM5","v":0},{"$f":"IFERROR(#REF!,0)*FM5","v":0},{"$f":"IFERROR(#REF!,0)*FQ5","v":0},{"$f":"IFERROR(#REF!,0)*FQ5","v":0},{"$f":"IFERROR(#REF!,0)*FQ5","v":0},{"$f":"IFERROR(#REF!,0)*FQ5","v":0},{"$f":"IFERROR(#REF!,0)*FU5","v":0},{"$f":"IFERROR(#REF!,0)*FU5","v":0},{"$f":"IFERROR(#REF!,0)*FU5","v":0},{"$f":"IFERROR(#REF!,0)*FU5","v":0},{"$f":"IFERROR(#REF!,0)*FY5","v":0},{"$f":"IFERROR(#REF!,0)*FY5","v":0},{"$f":"IFERROR(#REF!,0)*FY5","v":0},{"$f":"IFERROR(#REF!,0)*FY5","v":0},{"$f":"IFERROR(#REF!,0)*GC5","v":0},{"$f":"IFERROR(#REF!,0)*GC5","v":0},{"$f":"IFERROR(#REF!,0)*GC5","v":0},{"$f":"IFERROR(#REF!,0)*GC5","v":0},{"$f":"IFERROR(#REF!,0)*GG5","v":0},{"$f":"IFERROR(#REF!,0)*GG5","v":0},{"$f":"IFERROR(#REF!,0)*GG5","v":0},{"$f":"IFERROR(#REF!,0)*GG5","v":0},{"$f":"IFERROR(#REF!,0)*GK5","v":0},{"$f":"IFERROR(#REF!,0)*GK5","v":0},{"$f":"IFERROR(#REF!,0)*GK5","v":0},{"$f":"IFERROR(#REF!,0)*GK5","v":0},{"$f":"IFERROR(#REF!,0)*GO5","v":0},{"$f":"IFERROR(#REF!,0)*GO5","v":0},{"$f":"IFERROR(#REF!,0)*GO5","v":0},{"$f":"IFERROR(#REF!,0)*GO5","v":0},{"$f":"IFERROR(#REF!,0)*GS5","v":0},{"$f":"IFERROR(#REF!,0)*GS5","v":0},{"$f":"IFERROR(#REF!,0)*GS5","v":0},{"$f":"IFERROR(#REF!,0)*GS5","v":0},{"v":0,"d":"0.00"},{"v":0,"d":"0.00"},{"v":0,"d":"0.00"},{"v":0,"d":"0.00"}]
[null,{"$f":"#REF!","v":{"$error":"#REF!"}},{"$f":"#REF!","v":{"$error":"#REF!"}},{"$f":"IFERROR(#REF!,0)*E5","v":0},{"$f":"IFERROR(#REF!,0)*E5","v":0},{"$f":"IFERROR(#REF!,0)*E5","v":0},{"$f":"IFERROR(#REF!,0)*E5","v":0},{"$f":"IFERROR(#REF!,0)*I5","v":0},{"$f":"IFERROR(#REF!,0)*I5","v":0},{"$f":"IFERROR(#REF!,0)*I5","v":0},{"$f":"IFERROR(#REF!,0)*I5","v":0},{"$f":"IFERROR(#REF!,0)*M5","v":0},{"$f":"IFERROR(#REF!,0)*M5","v":0},{"$f":"IFERROR(#REF!,0)*M5","v":0},{"$f":"IFERROR(#REF!,0)*M5","v":0},{"$f":"IFERROR(#REF!,0)*Q5","v":0},{"$f":"IFERROR(#REF!,0)*Q5","v":0},{"$f":"IFERROR(#REF!,0)*Q5","v":0},{"$f":"IFERROR(#REF!,0)*Q5","v":0},{"$f":"IFERROR(#REF!,0)*U5","v":0},{"$f":"IFERROR(#REF!,0)*U5","v":0},{"$f":"IFERROR(#REF!,0)*U5","v":0},{"$f":"IFERROR(#REF!,0)*U5","v":0},{"$f":"IFERROR(#REF!,0)*Y5","v":0},{"$f":"IFERROR(#REF!,0)*Y5","v":0},{"$f":"IFERROR(#REF!,0)*Y5","v":0},{"$f":"IFERROR(#REF!,0)*Y5","v":0},{"$f":"IFERROR(#REF!,0)*AC5","v":0},{"$f":"IFERROR(#REF!,0)*AC5","v":0},{"$f":"IFERROR(#REF!,0)*AC5","v":0},{"$f":"IFERROR(#REF!,0)*AC5","v":0},{"$f":"IFERROR(#REF!,0)*AG5","v":0},{"$f":"IFERROR(#REF!,0)*AG5","v":0},{"$f":"IFERROR(#REF!,0)*AG5","v":0},{"$f":"IFERROR(#REF!,0)*AG5","v":0},{"$f":"IFERROR(#REF!,0)*AK5","v":0},{"$f":"IFERROR(#REF!,0)*AK5","v":0},{"$f":"IFERROR(#REF!,0)*AK5","v":0},{"$f":"IFERROR(#REF!,0)*AK5","v":0},{"$f":"IFERROR(#REF!,0)*AO5","v":0},{"$f":"IFERROR(#REF!,0)*AO5","v":0},{"$f":"IFERROR(#REF!,0)*AO5","v":0},{"$f":"IFERROR(#REF!,0)*AO5","v":0},{"$f":"IFERROR(#REF!,0)*AS5","v":0},{"$f":"IFERROR(#REF!,0)*AS5","v":0},{"$f":"IFERROR(#REF!,0)*AS5","v":0},{"$f":"IFERROR(#REF!,0)*AS5","v":0},{"$f":"IFERROR(#REF!,0)*AW5","v":0},{"$f":"IFERROR(#REF!,0)*AW5","v":0},{"$f":"IFERROR(#REF!,0)*AW5","v":0},{"$f":"IFERROR(#REF!,0)*AW5","v":0},{"$f":"IFERROR(#REF!,0)*BA5","v":0},{"$f":"IFERROR(#REF!,0)*BA5","v":0},{"$f":"IFERROR(#REF!,0)*BA5","v":0},{"$f":"IFERROR(#REF!,0)*BA5","v":0},{"$f":"IFERROR(#REF!,0)*BE5","v":0},{"$f":"IFERROR(#REF!,0)*BE5","v":0},{"$f":"IFERROR(#REF!,0)*BE5","v":0},{"$f":"IFERROR(#REF!,0)*BE5","v":0},{"$f":"IFERROR(#REF!,0)*BI5","v":0},{"$f":"IFERROR(#REF!,0)*BI5","v":0},{"$f":"IFERROR(#REF!,0)*BI5","v":0},{"$f":"IFERROR(#REF!,0)*BI5","v":0},{"$f":"IFERROR(#REF!,0)*BM5","v":0},{"$f":"IFERROR(#REF!,0)*BM5","v":0},{"$f":"IFERROR(#REF!,0)*BM5","v":0},{"$f":"IFERROR(#REF!,0)*BM5","v":0},{"$f":"IFERROR(#REF!,0)*BQ5","v":0},{"$f":"IFERROR(#REF!,0)*BQ5","v":0},{"$f":"IFERROR(#REF!,0)*BQ5","v":0},{"$f":"IFERROR(#REF!,0)*BQ5","v":0},{"$f":"IFERROR(#REF!,0)*BU5","v":0},{"$f":"IFERROR(#REF!,0)*BU5","v":0},{"$f":"IFERROR(#REF!,0)*BU5","v":0},{"$f":"IFERROR(#REF!,0)*BU5","v":0},{"$f":"IFERROR(#REF!,0)*BY5","v":0},{"$f":"IFERROR(#REF!,0)*BY5","v":0},{"$f":"IFERROR(#REF!,0)*BY5","v":0},{"$f":"IFERROR(#REF!,0)*BY5","v":0},{"$f":"IFERROR(#REF!,0)*CC5","v":0},{"$f":"IFERROR(#REF!,0)*CC5","v":0},{"$f":"IFERROR(#REF!,0)*CC5","v":0},{"$f":"IFERROR(#REF!,0)*CC5","v":0},{"$f":"IFERROR(#REF!,0)*CG5","v":0},{"$f":"IFERROR(#REF!,0)*CG5","v":0},{"$f":"IFERROR(#REF!,0)*CG5","v":0},{"$f":"IFERROR(#REF!,0)*CG5","v":0},{"$f":"IFERROR(#REF!,0)*CK5","v":0},{"$f":"IFERROR(#REF!,0)*CK5","v":0},{"$f":"IFERROR(#REF!,0)*CK5","v":0},{"$f":"IFERROR(#REF!,0)*CK5","v":0},{"$f":"IFERROR(#REF!,0)*CO5","v":0},{"$f":"IFERROR(#REF!,0)*CO5","v":0},{"$f":"IFERROR(#REF!,0)*CO5","v":0},{"$f":"IFERROR(#REF!,0)*CO5","v":0},{"$f":"IFERROR(#REF!,0)*CS5","v":0},{"$f":"IFERROR(#REF!,0)*CS5","v":0},{"$f":"IFERROR(#REF!,0)*CS5","v":0},{"$f":"IFERROR(#REF!,0)*CS5","v":0},{"$f":"IFERROR(#REF!,0)*CW5","v":0},{"$f":"IFERROR(#REF!,0)*CW5","v":0},{"$f":"IFERROR(#REF!,0)*CW5","v":0},{"$f":"IFERROR(#REF!,0)*CW5","v":0},{"$f":"IFERROR(#REF!,0)*DA5","v":0},{"$f":"IFERROR(#REF!,0)*DA5","v":0},{"$f":"IFERROR(#REF!,0)*DA5","v":0},{"$f":"IFERROR(#REF!,0)*DA5","v":0},{"$f":"IFERROR(#REF!,0)*DE5","v":0},{"$f":"IFERROR(#REF!,0)*DE5","v":0},{"$f":"IFERROR(#REF!,0)*DE5","v":0},{"$f":"IFERROR(#REF!,0)*DE5","v":0},{"$f":"IFERROR(#REF!,0)*DI5","v":0},{"$f":"IFERROR(#REF!,0)*DI5","v":0},{"$f":"IFERROR(#REF!,0)*DI5","v":0},{"$f":"IFERROR(#REF!,0)*DI5","v":0},{"$f":"IFERROR(#REF!,0)*DM5","v":0},{"$f":"IFERROR(#REF!,0)*DM5","v":0},{"$f":"IFERROR(#REF!,0)*DM5","v":0},{"$f":"IFERROR(#REF!,0)*DM5","v":0},{"$f":"IFERROR(#REF!,0)*DQ5","v":0},{"$f":"IFERROR(#REF!,0)*DQ5","v":0},{"$f":"IFERROR(#REF!,0)*DQ5","v":0},{"$f":"IFERROR(#REF!,0)*DQ5","v":0},{"$f":"IFERROR(#REF!,0)*DU5","v":0},{"$f":"IFERROR(#REF!,0)*DU5","v":0},{"$f":"IFERROR(#REF!,0)*DU5","v":0},{"$f":"IFERROR(#REF!,0)*DU5","v":0},{"$f":"IFERROR(#REF!,0)*DY5","v":0},{"$f":"IFERROR(#REF!,0)*DY5","v":0},{"$f":"IFERROR(#REF!,0)*DY5","v":0},{"$f":"IFERROR(#REF!,0)*DY5","v":0},{"$f":"IFERROR(#REF!,0)*EC5","v":0},{"$f":"IFERROR(#REF!,0)*EC5","v":0},{"$f":"IFERROR(#REF!,0)*EC5","v":0},{"$f":"IFERROR(#REF!,0)*EC5","v":0},{"$f":"IFERROR(#REF!,0)*EG5","v":0},{"$f":"IFERROR(#REF!,0)*EG5","v":0},{"$f":"IFERROR(#REF!,0)*EG5","v":0},{"$f":"IFERROR(#REF!,0)*EG5","v":0},{"$f":"IFERROR(#REF!,0)*EK5","v":0},{"$f":"IFERROR(#REF!,0)*EK5","v":0},{"$f":"IFERROR(#REF!,0)*EK5","v":0},{"$f":"IFERROR(#REF!,0)*EK5","v":0},{"$f":"IFERROR(#REF!,0)*EO5","v":0},{"$f":"IFERROR(#REF!,0)*EO5","v":0},{"$f":"IFERROR(#REF!,0)*EO5","v":0},{"$f":"IFERROR(#REF!,0)*EO5","v":0},{"$f":"IFERROR(#REF!,0)*ES5","v":0},{"$f":"IFERROR(#REF!,0)*ES5","v":0},{"$f":"IFERROR(#REF!,0)*ES5","v":0},{"$f":"IFERROR(#REF!,0)*ES5","v":0},{"$f":"IFERROR(#REF!,0)*EW5","v":0},{"$f":"IFERROR(#REF!,0)*EW5","v":0},{"$f":"IFERROR(#REF!,0)*EW5","v":0},{"$f":"IFERROR(#REF!,0)*EW5","v":0},{"$f":"IFERROR(#REF!,0)*FA5","v":0},{"$f":"IFERROR(#REF!,0)*FA5","v":0},{"$f":"IFERROR(#REF!,0)*FA5","v":0},{"$f":"IFERROR(#REF!,0)*FA5","v":0},{"$f":"IFERROR(#REF!,0)*FE5","v":0},{"$f":"IFERROR(#REF!,0)*FE5","v":0},{"$f":"IFERROR(#REF!,0)*FE5","v":0},{"$f":"IFERROR(#REF!,0)*FE5","v":0},{"$f":"IFERROR(#REF!,0)*FI5","v":0},{"$f":"IFERROR(#REF!,0)*FI5","v":0},{"$f":"IFERROR(#REF!,0)*FI5","v":0},{"$f":"IFERROR(#REF!,0)*FI5","v":0},{"$f":"IFERROR(#REF!,0)*FM5","v":0},{"$f":"IFERROR(#REF!,0)*FM5","v":0},{"$f":"IFERROR(#REF!,0)*FM5","v":0},{"$f":"IFERROR(#REF!,0)*FM5","v":0},{"$f":"IFERROR(#REF!,0)*FQ5","v":0},{"$f":"IFERROR(#REF!,0)*FQ5","v":0},{"$f":"IFERROR(#REF!,0)*FQ5","v":0},{"$f":"IFERROR(#REF!,0)*FQ5","v":0},{"$f":"IFERROR(#REF!,0)*FU5","v":0},{"$f":"IFERROR(#REF!,0)*FU5","v":0},{"$f":"IFERROR(#REF!,0)*FU5","v":0},{"$f":"IFERROR(#REF!,0)*FU5","v":0},{"$f":"IFERROR(#REF!,0)*FY5","v":0},{"$f":"IFERROR(#REF!,0)*FY5","v":0},{"$f":"IFERROR(#REF!,0)*FY5","v":0},{"$f":"IFERROR(#REF!,0)*FY5","v":0},{"$f":"IFERROR(#REF!,0)*GC5","v":0},{"$f":"IFERROR(#REF!,0)*GC5","v":0},{"$f":"IFERROR(#REF!,0)*GC5","v":0},{"$f":"IFERROR(#REF!,0)*GC5","v":0},{"$f":"IFERROR(#REF!,0)*GG5","v":0},{"$f":"IFERROR(#REF!,0)*GG5","v":0},{"$f":"IFERROR(#REF!,0)*GG5","v":0},{"$f":"IFERROR(#REF!,0)*GG5","v":0},{"$f":"IFERROR(#REF!,0)*GK5","v":0},{"$f":"IFERROR(#REF!,0)*GK5","v":0},{"$f":"IFERROR(#REF!,0)*GK5","v":0},{"$f":"IFERROR(#REF!,0)*GK5","v":0},{"$f":"IFERROR(#REF!,0)*GO5","v":0},{"$f":"IFERROR(#REF!,0)*GO5","v":0},{"$f":"IFERROR(#REF!,0)*GO5","v":0},{"$f":"IFERROR(#REF!,0)*GO5","v":0},{"$f":"IFERROR(#REF!,0)*GS5","v":0},{"$f":"IFERROR(#REF!,0)*GS5","v":0},{"$f":"IFERROR(#REF!,0)*GS5","v":0},{"$f":"IFERROR(#REF!,0)*GS5","v":0},{"v":0,"d":"0.00"},{"v":0,"d":"0.00"},{"v":0,"d":"0.00"},{"v":0,"d":"0.00"}]
[null,{"$f":"#REF!","v":{"$error":"#REF!"}},{"$f":"#REF!","v":{"$error":"#REF!"}},{"$f":"IFERROR(#REF!,0)*E5","v":0},{"$f":"IFERROR(#REF!,0)*E5","v":0},{"$f":"IFERROR(#REF!,0)*E5","v":0},{"$f":"IFERROR(#REF!,0)*E5","v":0},{"$f":"IFERROR(#REF!,0)*I5","v":0},{"$f":"IFERROR(#REF!,0)*I5","v":0},{"$f":"IFERROR(#REF!,0)*I5","v":0},{"$f":"IFERROR(#REF!,0)*I5","v":0},{"$f":"IFERROR(#REF!,0)*M5","v":0},{"$f":"IFERROR(#REF!,0)*M5","v":0},{"$f":"IFERROR(#REF!,0)*M5","v":0},{"$f":"IFERROR(#REF!,0)*M5","v":0},{"$f":"IFERROR(#REF!,0)*Q5","v":0},{"$f":"IFERROR(#REF!,0)*Q5","v":0},{"$f":"IFERROR(#REF!,0)*Q5","v":0},{"$f":"IFERROR(#REF!,0)*Q5","v":0},{"$f":"IFERROR(#REF!,0)*U5","v":0},{"$f":"IFERROR(#REF!,0)*U5","v":0},{"$f":"IFERROR(#REF!,0)*U5","v":0},{"$f":"IFERROR(#REF!,0)*U5","v":0},{"$f":"IFERROR(#REF!,0)*Y5","v":0},{"$f":"IFERROR(#REF!,0)*Y5","v":0},{"$f":"IFERROR(#REF!,0)*Y5","v":0},{"$f":"IFERROR(#REF!,0)*Y5","v":0},{"$f":"IFERROR(#REF!,0)*AC5","v":0},{"$f":"IFERROR(#REF!,0)*AC5","v":0},{"$f":"IFERROR(#REF!,0)*AC5","v":0},{"$f":"IFERROR(#REF!,0)*AC5","v":0},{"$f":"IFERROR(#REF!,0)*AG5","v":0},{"$f":"IFERROR(#REF!,0)*AG5","v":0},{"$f":"IFERROR(#REF!,0)*AG5","v":0},{"$f":"IFERROR(#REF!,0)*AG5","v":0},{"$f":"IFERROR(#REF!,0)*AK5","v":0},{"$f":"IFERROR(#REF!,0)*AK5","v":0},{"$f":"IFERROR(#REF!,0)*AK5","v":0},{"$f":"IFERROR(#REF!,0)*AK5","v":0},{"$f":"IFERROR(#REF!,0)*AO5","v":0},{"$f":"IFERROR(#REF!,0)*AO5","v":0},{"$f":"IFERROR(#REF!,0)*AO5","v":0},{"$f":"IFERROR(#REF!,0)*AO5","v":0},{"$f":"IFERROR(#REF!,0)*AS5","v":0},{"$f":"IFERROR(#REF!,0)*AS5","v":0},{"$f":"IFERROR(#REF!,0)*AS5","v":0},{"$f":"IFERROR(#REF!,0)*AS5","v":0},{"$f":"IFERROR(#REF!,0)*AW5","v":0},{"$f":"IFERROR(#REF!,0)*AW5","v":0},{"$f":"IFERROR(#REF!,0)*AW5","v":0},{"$f":"IFERROR(#REF!,0)*AW5","v":0},{"$f":"IFERROR(#REF!,0)*BA5","v":0},{"$f":"IFERROR(#REF!,0)*BA5","v":0},{"$f":"IFERROR(#REF!,0)*BA5","v":0},{"$f":"IFERROR(#REF!,0)*BA5","v":0},{"$f":"IFERROR(#REF!,0)*BE5","v":0},{"$f":"IFERROR(#REF!,0)*BE5","v":0},{"$f":"IFERROR(#REF!,0)*BE5","v":0},{"$f":"IFERROR(#REF!,0)*BE5","v":0},{"$f":"IFERROR(#REF!,0)*BI5","v":0},{"$f":"IFERROR(#REF!,0)*BI5","v":0},{"$f":"IFERROR(#REF!,0)*BI5","v":0},{"$f":"IFERROR(#REF!,0)*BI5","v":0},{"$f":"IFERROR(#REF!,0)*BM5","v":0},{"$f":"IFERROR(#REF!,0)*BM5","v":0},{"$f":"IFERROR(#REF!,0)*BM5","v":0},{"$f":"IFERROR(#REF!,0)*BM5","v":0},{"$f":"IFERROR(#REF!,0)*BQ5","v":0},{"$f":"IFERROR(#REF!,0)*BQ5","v":0},{"$f":"IFERROR(#REF!,0)*BQ5","v":0},{"$f":"IFERROR(#REF!,0)*BQ5","v":0},{"$f":"IFERROR(#REF!,0)*BU5","v":0},{"$f":"IFERROR(#REF!,0)*BU5","v":0},{"$f":"IFERROR(#REF!,0)*BU5","v":0},{"$f":"IFERROR(#REF!,0)*BU5","v":0},{"$f":"IFERROR(#REF!,0)*BY5","v":0},{"$f":"IFERROR(#REF!,0)*BY5","v":0},{"$f":"IFERROR(#REF!,0)*BY5","v":0},{"$f":"IFERROR(#REF!,0)*BY5","v":0},{"$f":"IFERROR(#REF!,0)*CC5","v":0},{"$f":"IFERROR(#REF!,0)*CC5","v":0},{"$f":"IFERROR(#REF!,0)*CC5","v":0},{"$f":"IFERROR(#REF!,0)*CC5","v":0},{"$f":"IFERROR(#REF!,0)*CG5","v":0},{"$f":"IFERROR(#REF!,0)*CG5","v":0},{"$f":"IFERROR(#REF!,0)*CG5","v":0},{"$f":"IFERROR(#REF!,0)*CG5","v":0},{"$f":"IFERROR(#REF!,0)*CK5","v":0},{"$f":"IFERROR(#REF!,0)*CK5","v":0},{"$f":"IFERROR(#REF!,0)*CK5","v":0},{"$f":"IFERROR(#REF!,0)*CK5","v":0},{"$f":"IFERROR(#REF!,0)*CO5","v":0},{"$f":"IFERROR(#REF!,0)*CO5","v":0},{"$f":"IFERROR(#REF!,0)*CO5","v":0},{"$f":"IFERROR(#REF!,0)*CO5","v":0},{"$f":"IFERROR(#REF!,0)*CS5","v":0},{"$f":"IFERROR(#REF!,0)*CS5","v":0},{"$f":"IFERROR(#REF!,0)*CS5","v":0},{"$f":"IFERROR(#REF!,0)*CS5","v":0},{"$f":"IFERROR(#REF!,0)*CW5","v":0},{"$f":"IFERROR(#REF!,0)*CW5","v":0},{"$f":"IFERROR(#REF!,0)*CW5","v":0},{"$f":"IFERROR(#REF!,0)*CW5","v":0},{"$f":"IFERROR(#REF!,0)*DA5","v":0},{"$f":"IFERROR(#REF!,0)*DA5","v":0},{"$f":"IFERROR(#REF!,0)*DA5","v":0},{"$f":"IFERROR(#REF!,0)*DA5","v":0},{"$f":"IFERROR(#REF!,0)*DE5","v":0},{"$f":"IFERROR(#REF!,0)*DE5","v":0},{"$f":"IFERROR(#REF!,0)*DE5","v":0},{"$f":"IFERROR(#REF!,0)*DE5","v":0},{"$f":"IFERROR(#REF!,0)*DI5","v":0},{"$f":"IFERROR(#REF!,0)*DI5","v":0},{"$f":"IFERROR(#REF!,0)*DI5","v":0},{"$f":"IFERROR(#REF!,0)*DI5","v":0},{"$f":"IFERROR(#REF!,0)*DM5","v":0},{"$f":"IFERROR(#REF!,0)*DM5","v":0},{"$f":"IFERROR(#REF!,0)*DM5","v":0},{"$f":"IFERROR(#REF!,0)*DM5","v":0},{"$f":"IFERROR(#REF!,0)*DQ5","v":0},{"$f":"IFERROR(#REF!,0)*DQ5","v":0},{"$f":"IFERROR(#REF!,0)*DQ5","v":0},{"$f":"IFERROR(#REF!,0)*DQ5","v":0},{"$f":"IFERROR(#REF!,0)*DU5","v":0},{"$f":"IFERROR(#REF!,0)*DU5","v":0},{"$f":"IFERROR(#REF!,0)*DU5","v":0},{"$f":"IFERROR(#REF!,0)*DU5","v":0},{"$f":"IFERROR(#REF!,0)*DY5","v":0},{"$f":"IFERROR(#REF!,0)*DY5","v":0},{"$f":"IFERROR(#REF!,0)*DY5","v":0},{"$f":"IFERROR(#REF!,0)*DY5","v":0},{"$f":"IFERROR(#REF!,0)*EC5","v":0},{"$f":"IFERROR(#REF!,0)*EC5","v":0},{"$f":"IFERROR(#REF!,0)*EC5","v":0},{"$f":"IFERROR(#REF!,0)*EC5","v":0},{"$f":"IFERROR(#REF!,0)*EG5","v":0},{"$f":"IFERROR(#REF!,0)*EG5","v":0},{"$f":"IFERROR(#REF!,0)*EG5","v":0},{"$f":"IFERROR(#REF!,0)*EG5","v":0},{"$f":"IFERROR(#REF!,0)*EK5","v":0},{"$f":"IFERROR(#REF!,0)*EK5","v":0},{"$f":"IFERROR(#REF!,0)*EK5","v":0},{"$f":"IFERROR(#REF!,0)*EK5","v":0},{"$f":"IFERROR(#REF!,0)*EO5","v":0},{"$f":"IFERROR(#REF!,0)*EO5","v":0},{"$f":"IFERROR(#REF!,0)*EO5","v":0},{"$f":"IFERROR(#REF!,0)*EO5","v":0},{"$f":"IFERROR(#REF!,0)*ES5","v":0},{"$f":"IFERROR(#REF!,0)*ES5","v":0},{"$f":"IFERROR(#REF!,0)*ES5","v":0},{"$f":"IFERROR(#REF!,0)*ES5","v":0},{"$f":"IFERROR(#REF!,0)*EW5","v":0},{"$f":"IFERROR(#REF!,0)*EW5","v":0},{"$f":"IFERROR(#REF!,0)*EW5","v":0},{"$f":"IFERROR(#REF!,0)*EW5","v":0},{"$f":"IFERROR(#REF!,0)*FA5","v":0},{"$f":"IFERROR(#REF!,0)*FA5","v":0},{"$f":"IFERROR(#REF!,0)*FA5","v":0},{"$f":"IFERROR(#REF!,0)*FA5","v":0},{"$f":"IFERROR(#REF!,0)*FE5","v":0},{"$f":"IFERROR(#REF!,0)*FE5","v":0},{"$f":"IFERROR(#REF!,0)*FE5","v":0},{"$f":"IFERROR(#REF!,0)*FE5","v":0},{"$f":"IFERROR(#REF!,0)*FI5","v":0},{"$f":"IFERROR(#REF!,0)*FI5","v":0},{"$f":"IFERROR(#REF!,0)*FI5","v":0},{"$f":"IFERROR(#REF!,0)*FI5","v":0},{"$f":"IFERROR(#REF!,0)*FM5","v":0},{"$f":"IFERROR(#REF!,0)*FM5","v":0},{"$f":"IFERROR(#REF!,0)*FM5","v":0},{"$f":"IFERROR(#REF!,0)*FM5","v":0},{"$f":"IFERROR(#REF!,0)*FQ5","v":0},{"$f":"IFERROR(#REF!,0)*FQ5","v":0},{"$f":"IFERROR(#REF!,0)*FQ5","v":0},{"$f":"IFERROR(#REF!,0)*FQ5","v":0},{"$f":"IFERROR(#REF!,0)*FU5","v":0},{"$f":"IFERROR(#REF!,0)*FU5","v":0},{"$f":"IFERROR(#REF!,0)*FU5","v":0},{"$f":"IFERROR(#REF!,0)*FU5","v":0},{"$f":"IFERROR(#REF!,0)*FY5","v":0},{"$f":"IFERROR(#REF!,0)*FY5","v":0},{"$f":"IFERROR(#REF!,0)*FY5","v":0},{"$f":"IFERROR(#REF!,0)*FY5","v":0},{"$f":"IFERROR(#REF!,0)*GC5","v":0},{"$f":"IFERROR(#REF!,0)*GC5","v":0},{"$f":"IFERROR(#REF!,0)*GC5","v":0},{"$f":"IFERROR(#REF!,0)*GC5","v":0},{"$f":"IFERROR(#REF!,0)*GG5","v":0},{"$f":"IFERROR(#REF!,0)*GG5","v":0},{"$f":"IFERROR(#REF!,0)*GG5","v":0},{"$f":"IFERROR(#REF!,0)*GG5","v":0},{"$f":"IFERROR(#REF!,0)*GK5","v":0},{"$f":"IFERROR(#REF!,0)*GK5","v":0},{"$f":"IFERROR(#REF!,0)*GK5","v":0},{"$f":"IFERROR(#REF!,0)*GK5","v":0},{"$f":"IFERROR(#REF!,0)*GO5","v":0},{"$f":"IFERROR(#REF!,0)*GO5","v":0},{"$f":"IFERROR(#REF!,0)*GO5","v":0},{"$f":"IFERROR(#REF!,0)*GO5","v":0},{"$f":"IFERROR(#REF!,0)*GS5","v":0},{"$f":"IFERROR(#REF!,0)*GS5","v":0},{"$f":"IFERROR(#REF!,0)*GS5","v":0},{"$f":"IFERROR(#REF!,0)*GS5","v":0},{"v":0,"d":"0.00"},{"v":0,"d":"0.00"},{"v":0,"d":"0.00"},{"v":0,"d":"0.00"}]
[null,{"$f":"#REF!","v":{"$error":"#REF!"}},{"$f":"#REF!","v":{"$error":"#REF!"}},{"$f":"IFERROR(#REF!,0)*E5","v":0},{"$f":"IFERROR(#REF!,0)*E5","v":0},{"$f":"IFERROR(#REF!,0)*E5","v":0},{"$f":"IFERROR(#REF!,0)*E5","v":0},{"$f":"IFERROR(#REF!,0)*I5","v":0},{"$f":"IFERROR(#REF!,0)*I5","v":0},{"$f":"IFERROR(#REF!,0)*I5","v":0},{"$f":"IFERROR(#REF!,0)*I5","v":0},{"$f":"IFERROR(#REF!,0)*M5","v":0},{"$f":"IFERROR(#REF!,0)*M5","v":0},{"$f":"IFERROR(#REF!,0)*M5","v":0},{"$f":"IFERROR(#REF!,0)*M5","v":0},{"$f":"IFERROR(#REF!,0)*Q5","v":0},{"$f":"IFERROR(#REF!,0)*Q5","v":0},{"$f":"IFERROR(#REF!,0)*Q5","v":0},{"$f":"IFERROR(#REF!,0)*Q5","v":0},{"$f":"IFERROR(#REF!,0)*U5","v":0},{"$f":"IFERROR(#REF!,0)*U5","v":0},{"$f":"IFERROR(#REF!,0)*U5","v":0},{"$f":"IFERROR(#REF!,0)*U5","v":0},{"$f":"IFERROR(#REF!,0)*Y5","v":0},{"$f":"IFERROR(#REF!,0)*Y5","v":0},{"$f":"IFERROR(#REF!,0)*Y5","v":0},{"$f":"IFERROR(#REF!,0)*Y5","v":0},{"$f":"IFERROR(#REF!,0)*AC5","v":0},{"$f":"IFERROR(#REF!,0)*AC5","v":0},{"$f":"IFERROR(#REF!,0)*AC5","v":0},{"$f":"IFERROR(#REF!,0)*AC5","v":0},{"$f":"IFERROR(#REF!,0)*AG5","v":0},{"$f":"IFERROR(#REF!,0)*AG5","v":0},{"$f":"IFERROR(#REF!,0)*AG5","v":0},{"$f":"IFERROR(#REF!,0)*AG5","v":0},{"$f":"IFERROR(#REF!,0)*AK5","v":0},{"$f":"IFERROR(#REF!,0)*AK5","v":0},{"$f":"IFERROR(#REF!,0)*AK5","v":0},{"$f":"IFERROR(#REF!,0)*AK5","v":0},{"$f":"IFERROR(#REF!,0)*AO5","v":0},{"$f":"IFERROR(#REF!,0)*AO5","v":0},{"$f":"IFERROR(#REF!,0)*AO5","v":0},{"$f":"IFERROR(#REF!,0)*AO5","v":0},{"$f":"IFERROR(#REF!,0)*AS5","v":0},{"$f":"IFERROR(#REF!,0)*AS5","v":0},{"$f":"IFERROR(#REF!,0)*AS5","v":0},{"$f":"IFERROR(#REF!,0)*AS5","v":0},{"$f":"IFERROR(#REF!,0)*AW5","v":0},{"$f":"IFERROR(#REF!,0)*AW5","v":0},{"$f":"IFERROR(#REF!,0)*AW5","v":0},{"$f":"IFERROR(#REF!,0)*AW5","v":0},{"$f":"IFERROR(#REF!,0)*BA5","v":0},{"$f":"IFERROR(#REF!,0)*BA5","v":0},{"$f":"IFERROR(#REF!,0)*BA5","v":0},{"$f":"IFERROR(#REF!,0)*BA5","v":0},{"$f":"IFERROR(#REF!,0)*BE5","v":0},{"$f":"IFERROR(#REF!,0)*BE5","v":0},{"$f":"IFERROR(#REF!,0)*BE5","v":0},{"$f":"IFERROR(#REF!,0)*BE5","v":0},{"$f":"IFERROR(#REF!,0)*BI5","v":0},{"$f":"IFERROR(#REF!,0)*BI5","v":0},{"$f":"IFERROR(#REF!,0)*BI5","v":0},{"$f":"IFERROR(#REF!,0)*BI5","v":0},{"$f":"IFERROR(#REF!,0)*BM5","v":0},{"$f":"IFERROR(#REF!,0)*BM5","v":0},{"$f":"IFERROR(#REF!,0)*BM5","v":0},{"$f":"IFERROR(#REF!,0)*BM5","v":0},{"$f":"IFERROR(#REF!,0)*BQ5","v":0},{"$f":"IFERROR(#REF!,0)*BQ5","v":0},{"$f":"IFERROR(#REF!,0)*BQ5","v":0},{"$f":"IFERROR(#REF!,0)*BQ5","v":0},{"$f":"IFERROR(#REF!,0)*BU5","v":0},{"$f":"IFERROR(#REF!,0)*BU5","v":0},{"$f":"IFERROR(#REF!,0)*BU5","v":0},{"$f":"IFERROR(#REF!,0)*BU5","v":0},{"$f":"IFERROR(#REF!,0)*BY5","v":0},{"$f":"IFERROR(#REF!,0)*BY5","v":0},{"$f":"IFERROR(#REF!,0)*BY5","v":0},{"$f":"IFERROR(#REF!,0)*BY5","v":0},{"$f":"IFERROR(#REF!,0)*CC5","v":0},{"$f":"IFERROR(#REF!,0)*CC5","v":0},{"$f":"IFERROR(#REF!,0)*CC5","v":0},{"$f":"IFERROR(#REF!,0)*CC5","v":0},{"$f":"IFERROR(#REF!,0)*CG5","v":0},{"$f":"IFERROR(#REF!,0)*CG5","v":0},{"$f":"IFERROR(#REF!,0)*CG5","v":0},{"$f":"IFERROR(#REF!,0)*CG5","v":0},{"$f":"IFERROR(#REF!,0)*CK5","v":0},{"$f":"IFERROR(#REF!,0)*CK5","v":0},{"$f":"IFERROR(#REF!,0)*CK5","v":0},{"$f":"IFERROR(#REF!,0)*CK5","v":0},{"$f":"IFERROR(#REF!,0)*CO5","v":0},{"$f":"IFERROR(#REF!,0)*CO5","v":0},{"$f":"IFERROR(#REF!,0)*CO5","v":0},{"$f":"IFERROR(#REF!,0)*CO5","v":0},{"$f":"IFERROR(#REF!,0)*CS5","v":0},{"$f":"IFERROR(#REF!,0)*CS5","v":0},{"$f":"IFERROR(#REF!,0)*CS5","v":0},{"$f":"IFERROR(#REF!,0)*CS5","v":0},{"$f":"IFERROR(#REF!,0)*CW5","v":0},{"$f":"IFERROR(#REF!,0)*CW5","v":0},{"$f":"IFERROR(#REF!,0)*CW5","v":0},{"$f":"IFERROR(#REF!,0)*CW5","v":0},{"$f":"IFERROR(#REF!,0)*DA5","v":0},{"$f":"IFERROR(#REF!,0)*DA5","v":0},{"$f":"IFERROR(#REF!,0)*DA5","v":0},{"$f":"IFERROR(#REF!,0)*DA5","v":0},{"$f":"IFERROR(#REF!,0)*DE5","v":0},{"$f":"IFERROR(#REF!,0)*DE5","v":0},{"$f":"IFERROR(#REF!,0)*DE5","v":0},{"$f":"IFERROR(#REF!,0)*DE5","v":0},{"$f":"IFERROR(#REF!,0)*DI5","v":0},{"$f":"IFERROR(#REF!,0)*DI5","v":0},{"$f":"IFERROR(#REF!,0)*DI5","v":0},{"$f":"IFERROR(#REF!,0)*DI5","v":0},{"$f":"IFERROR(#REF!,0)*DM5","v":0},{"$f":"IFERROR(#REF!,0)*DM5","v":0},{"$f":"IFERROR(#REF!,0)*DM5","v":0},{"$f":"IFERROR(#REF!,0)*DM5","v":0},{"$f":"IFERROR(#REF!,0)*DQ5","v":0},{"$f":"IFERROR(#REF!,0)*DQ5","v":0},{"$f":"IFERROR(#REF!,0)*DQ5","v":0},{"$f":"IFERROR(#REF!,0)*DQ5","v":0},{"$f":"IFERROR(#REF!,0)*DU5","v":0},{"$f":"IFERROR(#REF!,0)*DU5","v":0},{"$f":"IFERROR(#REF!,0)*DU5","v":0},{"$f":"IFERROR(#REF!,0)*DU5","v":0},{"$f":"IFERROR(#REF!,0)*DY5","v":0},{"$f":"IFERROR(#REF!,0)*DY5","v":0},{"$f":"IFERROR(#REF!,0)*DY5","v":0},{"$f":"IFERROR(#REF!,0)*DY5","v":0},{"$f":"IFERROR(#REF!,0)*EC5","v":0},{"$f":"IFERROR(#REF!,0)*EC5","v":0},{"$f":"IFERROR(#REF!,0)*EC5","v":0},{"$f":"IFERROR(#REF!,0)*EC5","v":0},{"$f":"IFERROR(#REF!,0)*EG5","v":0},{"$f":"IFERROR(#REF!,0)*EG5","v":0},{"$f":"IFERROR(#REF!,0)*EG5","v":0},{"$f":"IFERROR(#REF!,0)*EG5","v":0},{"$f":"IFERROR(#REF!,0)*EK5","v":0},{"$f":"IFERROR(#REF!,0)*EK5","v":0},{"$f":"IFERROR(#REF!,0)*EK5","v":0},{"$f":"IFERROR(#REF!,0)*EK5","v":0},{"$f":"IFERROR(#REF!,0)*EO5","v":0},{"$f":"IFERROR(#REF!,0)*EO5","v":0},{"$f":"IFERROR(#REF!,0)*EO5","v":0},{"$f":"IFERROR(#REF!,0)*EO5","v":0},{"$f":"IFERROR(#REF!,0)*ES5","v":0},{"$f":"IFERROR(#REF!,0)*ES5","v":0},{"$f":"IFERROR(#REF!,0)*ES5","v":0},{"$f":"IFERROR(#REF!,0)*ES5","v":0},{"$f":"IFERROR(#REF!,0)*EW5","v":0},{"$f":"IFERROR(#REF!,0)*EW5","v":0},{"$f":"IFERROR(#REF!,0)*EW5","v":0},{"$f":"IFERROR(#REF!,0)*EW5","v":0},{"$f":"IFERROR(#REF!,0)*FA5","v":0},{"$f":"IFERROR(#REF!,0)*FA5","v":0},{"$f":"IFERROR(#REF!,0)*FA5","v":0},{"$f":"IFERROR(#REF!,0)*FA5","v":0},{"$f":"IFERROR(#REF!,0)*FE5","v":0},{"$f":"IFERROR(#REF!,0)*FE5","v":0},{"$f":"IFERROR(#REF!,0)*FE5","v":0},{"$f":"IFERROR(#REF!,0)*FE5","v":0},{"$f":"IFERROR(#REF!,0)*FI5","v":0},{"$f":"IFERROR(#REF!,0)*FI5","v":0},{"$f":"IFERROR(#REF!,0)*FI5","v":0},{"$f":"IFERROR(#REF!,0)*FI5","v":0},{"$f":"IFERROR(#REF!,0)*FM5","v":0},{"$f":"IFERROR(#REF!,0)*FM5","v":0},{"$f":"IFERROR(#REF!,0)*FM5","v":0},{"$f":"IFERROR(#REF!,0)*FM5","v":0},{"$f":"IFERROR(#REF!,0)*FQ5","v":0},{"$f":"IFERROR(#REF!,0)*FQ5","v":0},{"$f":"IFERROR(#REF!,0)*FQ5","v":0},{"$f":"IFERROR(#REF!,0)*FQ5","v":0},{"$f":"IFERROR(#REF!,0)*FU5","v":0},{"$f":"IFERROR(#REF!,0)*FU5","v":0},{"$f":"IFERROR(#REF!,0)*FU5","v":0},{"$f":"IFERROR(#REF!,0)*FU5","v":0},{"$f":"IFERROR(#REF!,0)*FY5","v":0},{"$f":"IFERROR(#REF!,0)*FY5","v":0},{"$f":"IFERROR(#REF!,0)*FY5","v":0},{"$f":"IFERROR(#REF!,0)*FY5","v":0},{"$f":"IFERROR(#REF!,0)*GC5","v":0},{"$f":"IFERROR(#REF!,0)*GC5","v":0},{"$f":"IFERROR(#REF!,0)*GC5","v":0},{"$f":"IFERROR(#REF!,0)*GC5","v":0},{"$f":"IFERROR(#REF!,0)*GG5","v":0},{"$f":"IFERROR(#REF!,0)*GG5","v":0},{"$f":"IFERROR(#REF!,0)*GG5","v":0},{"$f":"IFERROR(#REF!,0)*GG5","v":0},{"$f":"IFERROR(#REF!,0)*GK5","v":0},{"$f":"IFERROR(#REF!,0)*GK5","v":0},{"$f":"IFERROR(#REF!,0)*GK5","v":0},{"$f":"IFERROR(#REF!,0)*GK5","v":0},{"$f":"IFERROR(#REF!,0)*GO5","v":0},{"$f":"IFERROR(#REF!,0)*GO5","v":0},{"$f":"IFERROR(#REF!,0)*GO5","v":0},{"$f":"IFERROR(#REF!,0)*GO5","v":0},{"$f":"IFERROR(#REF!,0)*GS5","v":0},{"$f":"IFERROR(#REF!,0)*GS5","v":0},{"$f":"IFERROR(#REF!,0)*GS5","v":0},{"$f":"IFERROR(#REF!,0)*GS5","v":0},{"v":0,"d":"0.00"},{"v":0,"d":"0.00"},{"v":0,"d":"0.00"},{"v":0,"d":"0.00"}]
[null,{"$f":"#REF!","v":{"$error":"#REF!"}},{"$f":"#REF!","v":{"$error":"#REF!"}},{"$f":"IFERROR(#REF!,0)*E5","v":0},{"$f":"IFERROR(#REF!,0)*E5","v":0},{"$f":"IFERROR(#REF!,0)*E5","v":0},{"$f":"IFERROR(#REF!,0)*E5","v":0},{"$f":"IFERROR(#REF!,0)*I5","v":0},{"$f":"IFERROR(#REF!,0)*I5","v":0},{"$f":"IFERROR(#REF!,0)*I5","v":0},{"$f":"IFERROR(#REF!,0)*I5","v":0},{"$f":"IFERROR(#REF!,0)*M5","v":0},{"$f":"IFERROR(#REF!,0)*M5","v":0},{"$f":"IFERROR(#REF!,0)*M5","v":0},{"$f":"IFERROR(#REF!,0)*M5","v":0},{"$f":"IFERROR(#REF!,0)*Q5","v":0},{"$f":"IFERROR(#REF!,0)*Q5","v":0},{"$f":"IFERROR(#REF!,0)*Q5","v":0},{"$f":"IFERROR(#REF!,0)*Q5","v":0},{"$f":"IFERROR(#REF!,0)*U5","v":0},{"$f":"IFERROR(#REF!,0)*U5","v":0},{"$f":"IFERROR(#REF!,0)*U5","v":0},{"$f":"IFERROR(#REF!,0)*U5","v":0},{"$f":"IFERROR(#REF!,0)*Y5","v":0},{"$f":"IFERROR(#REF!,0)*Y5","v":0},{"$f":"IFERROR(#REF!,0)*Y5","v":0},{"$f":"IFERROR(#REF!,0)*Y5","v":0},{"$f":"IFERROR(#REF!,0)*AC5","v":0},{"$f":"IFERROR(#REF!,0)*AC5","v":0},{"$f":"IFERROR(#REF!,0)*AC5","v":0},{"$f":"IFERROR(#REF!,0)*AC5","v":0},{"$f":"IFERROR(#REF!,0)*AG5","v":0},{"$f":"IFERROR(#REF!,0)*AG5","v":0},{"$f":"IFERROR(#REF!,0)*AG5","v":0},{"$f":"IFERROR(#REF!,0)*AG5","v":0},{"$f":"IFERROR(#REF!,0)*AK5","v":0},{"$f":"IFERROR(#REF!,0)*AK5","v":0},{"$f":"IFERROR(#REF!,0)*AK5","v":0},{"$f":"IFERROR(#REF!,0)*AK5","v":0},{"$f":"IFERROR(#REF!,0)*AO5","v":0},{"$f":"IFERROR(#REF!,0)*AO5","v":0},{"$f":"IFERROR(#REF!,0)*AO5","v":0},{"$f":"IFERROR(#REF!,0)*AO5","v":0},{"$f":"IFERROR(#REF!,0)*AS5","v":0},{"$f":"IFERROR(#REF!,0)*AS5","v":0},{"$f":"IFERROR(#REF!,0)*AS5","v":0},{"$f":"IFERROR(#REF!,0)*AS5","v":0},{"$f":"IFERROR(#REF!,0)*AW5","v":0},{"$f":"IFERROR(#REF!,0)*AW5","v":0},{"$f":"IFERROR(#REF!,0)*AW5","v":0},{"$f":"IFERROR(#REF!,0)*AW5","v":0},{"$f":"IFERROR(#REF!,0)*BA5","v":0},{"$f":"IFERROR(#REF!,0)*BA5","v":0},{"$f":"IFERROR(#REF!,0)*BA5","v":0},{"$f":"IFERROR(#REF!,0)*BA5","v":0},{"$f":"IFERROR(#REF!,0)*BE5","v":0},{"$f":"IFERROR(#REF!,0)*BE5","v":0},{"$f":"IFERROR(#REF!,0)*BE5","v":0},{"$f":"IFERROR(#REF!,0)*BE5","v":0},{"$f":"IFERROR(#REF!,0)*BI5","v":0},{"$f":"IFERROR(#REF!,0)*BI5","v":0},{"$f":"IFERROR(#REF!,0)*BI5","v":0},{"$f":"IFERROR(#REF!,0)*BI5","v":0},{"$f":"IFERROR(#REF!,0)*BM5","v":0},{"$f":"IFERROR(#REF!,0)*BM5","v":0},{"$f":"IFERROR(#REF!,0)*BM5","v":0},{"$f":"IFERROR(#REF!,0)*BM5","v":0},{"$f":"IFERROR(#REF!,0)*BQ5","v":0},{"$f":"IFERROR(#REF!,0)*BQ5","v":0},{"$f":"IFERROR(#REF!,0)*BQ5","v":0},{"$f":"IFERROR(#REF!,0)*BQ5","v":0},{"$f":"IFERROR(#REF!,0)*BU5","v":0},{"$f":"IFERROR(#REF!,0)*BU5","v":0},{"$f":"IFERROR(#REF!,0)*BU5","v":0},{"$f":"IFERROR(#REF!,0)*BU5","v":0},{"$f":"IFERROR(#REF!,0)*BY5","v":0},{"$f":"IFERROR(#REF!,0)*BY5","v":0},{"$f":"IFERROR(#REF!,0)*BY5","v":0},{"$f":"IFERROR(#REF!,0)*BY5","v":0},{"$f":"IFERROR(#REF!,0)*CC5","v":0},{"$f":"IFERROR(#REF!,0)*CC5","v":0},{"$f":"IFERROR(#REF!,0)*CC5","v":0},{"$f":"IFERROR(#REF!,0)*CC5","v":0},{"$f":"IFERROR(#REF!,0)*CG5","v":0},{"$f":"IFERROR(#REF!,0)*CG5","v":0},{"$f":"IFERROR(#REF!,0)*CG5","v":0},{"$f":"IFERROR(#REF!,0)*CG5","v":0},{"$f":"IFERROR(#REF!,0)*CK5","v":0},{"$f":"IFERROR(#REF!,0)*CK5","v":0},{"$f":"IFERROR(#REF!,0)*CK5","v":0},{"$f":"IFERROR(#REF!,0)*CK5","v":0},{"$f":"IFERROR(#REF!,0)*CO5","v":0},{"$f":"IFERROR(#REF!,0)*CO5","v":0},{"$f":"IFERROR(#REF!,0)*CO5","v":0},{"$f":"IFERROR(#REF!,0)*CO5","v":0},{"$f":"IFERROR(#REF!,0)*CS5","v":0},{"$f":"IFERROR(#REF!,0)*CS5","v":0},{"$f":"IFERROR(#REF!,0)*CS5","v":0},{"$f":"IFERROR(#REF!,0)*CS5","v":0},{"$f":"IFERROR(#REF!,0)*CW5","v":0},{"$f":"IFERROR(#REF!,0)*CW5","v":0},{"$f":"IFERROR(#REF!,0)*CW5","v":0},{"$f":"IFERROR(#REF!,0)*CW5","v":0},{"$f":"IFERROR(#REF!,0)*DA5","v":0},{"$f":"IFERROR(#REF!,0)*DA5","v":0},{"$f":"IFERROR(#REF!,0)*DA5","v":0},{"$f":"IFERROR(#REF!,0)*DA5","v":0},{"$f":"IFERROR(#REF!,0)*DE5","v":0},{"$f":"IFERROR(#REF!,0)*DE5","v":0},{"$f":"IFERROR(#REF!,0)*DE5","v":0},{"$f":"IFERROR(#REF!,0)*DE5","v":0},{"$f":"IFERROR(#REF!,0)*DI5","v":0},{"$f":"IFERROR(#REF!,0)*DI5","v":0},{"$f":"IFERROR(#REF!,0)*DI5","v":0},{"$f":"IFERROR(#REF!,0)*DI5","v":0},{"$f":"IFERROR(#REF!,0)*DM5","v":0},{"$f":"IFERROR(#REF!,0)*DM5","v":0},{"$f":"IFERROR(#REF!,0)*DM5","v":0},{"$f":"IFERROR(#REF!,0)*DM5","v":0},{"$f":"IFERROR(#REF!,0)*DQ5","v":0},{"$f":"IFERROR(#REF!,0)*DQ5","v":0},{"$f":"IFERROR(#REF!,0)*DQ5","v":0},{"$f":"IFERROR(#REF!,0)*DQ5","v":0},{"$f":"IFERROR(#REF!,0)*DU5","v":0},{"$f":"IFERROR(#REF!,0)*DU5","v":0},{"$f":"IFERROR(#REF!,0)*DU5","v":0},{"$f":"IFERROR(#REF!,0)*DU5","v":0},{"$f":"IFERROR(#REF!,0)*DY5","v":0},{"$f":"IFERROR(#REF!,0)*DY5","v":0},{"$f":"IFERROR(#REF!,0)*DY5","v":0},{"$f":"IFERROR(#REF!,0)*DY5","v":0},{"$f":"IFERROR(#REF!,0)*EC5","v":0},{"$f":"IFERROR(#REF!,0)*EC5","v":0},{"$f":"IFERROR(#REF!,0)*EC5","v":0},{"$f":"IFERROR(#REF!,0)*EC5","v":0},{"$f":"IFERROR(#REF!,0)*EG5","v":0},{"$f":"IFERROR(#REF!,0)*EG5","v":0},{"$f":"IFERROR(#REF!,0)*EG5","v":0},{"$f":"IFERROR(#REF!,0)*EG5","v":0},{"$f":"IFERROR(#REF!,0)*EK5","v":0},{"$f":"IFERROR(#REF!,0)*EK5","v":0},{"$f":"IFERROR(#REF!,0)*EK5","v":0},{"$f":"IFERROR(#REF!,0)*EK5","v":0},{"$f":"IFERROR(#REF!,0)*EO5","v":0},{"$f":"IFERROR(#REF!,0)*EO5","v":0},{"$f":"IFERROR(#REF!,0)*EO5","v":0},{"$f":"IFERROR(#REF!,0)*EO5","v":0},{"$f":"IFERROR(#REF!,0)*ES5","v":0},{"$f":"IFERROR(#REF!,0)*ES5","v":0},{"$f":"IFERROR(#REF!,0)*ES5","v":0},{"$f":"IFERROR(#REF!,0)*ES5","v":0},{"$f":"IFERROR(#REF!,0)*EW5","v":0},{"$f":"IFERROR(#REF!,0)*EW5","v":0},{"$f":"IFERROR(#REF!,0)*EW5","v":0},{"$f":"IFERROR(#REF!,0)*EW5","v":0},{"$f":"IFERROR(#REF!,0)*FA5","v":0},{"$f":"IFERROR(#REF!,0)*FA5","v":0},{"$f":"IFERROR(#REF!,0)*FA5","v":0},{"$f":"IFERROR(#REF!,0)*FA5","v":0},{"$f":"IFERROR(#REF!,0)*FE5","v":0},{"$f":"IFERROR(#REF!,0)*FE5","v":0},{"$f":"IFERROR(#REF!,0)*FE5","v":0},{"$f":"IFERROR(#REF!,0)*FE5","v":0},{"$f":"IFERROR(#REF!,0)*FI5","v":0},{"$f":"IFERROR(#REF!,0)*FI5","v":0},{"$f":"IFERROR(#REF!,0)*FI5","v":0},{"$f":"IFERROR(#REF!,0)*FI5","v":0},{"$f":"IFERROR(#REF!,0)*FM5","v":0},{"$f":"IFERROR(#REF!,0)*FM5","v":0},{"$f":"IFERROR(#REF!,0)*FM5","v":0},{"$f":"IFERROR(#REF!,0)*FM5","v":0},{"$f":"IFERROR(#REF!,0)*FQ5","v":0},{"$f":"IFERROR(#REF!,0)*FQ5","v":0},{"$f":"IFERROR(#REF!,0)*FQ5","v":0},{"$f":"IFERROR(#REF!,0)*FQ5","v":0},{"$f":"IFERROR(#REF!,0)*FU5","v":0},{"$f":"IFERROR(#REF!,0)*FU5","v":0},{"$f":"IFERROR(#REF!,0)*FU5","v":0},{"$f":"IFERROR(#REF!,0)*FU5","v":0},{"$f":"IFERROR(#REF!,0)*FY5","v":0},{"$f":"IFERROR(#REF!,0)*FY5","v":0},{"$f":"IFERROR(#REF!,0)*FY5","v":0},{"$f":"IFERROR(#REF!,0)*FY5","v":0},{"$f":"IFERROR(#REF!,0)*GC5","v":0},{"$f":"IFERROR(#REF!,0)*GC5","v":0},{"$f":"IFERROR(#REF!,0)*GC5","v":0},{"$f":"IFERROR(#REF!,0)*GC5","v":0},{"$f":"IFERROR(#REF!,0)*GG5","v":0},{"$f":"IFERROR(#REF!,0)*GG5","v":0},{"$f":"IFERROR(#REF!,0)*GG5","v":0},{"$f":"IFERROR(#REF!,0)*GG5","v":0},{"$f":"IFERROR(#REF!,0)*GK5","v":0},{"$f":"IFERROR(#REF!,0)*GK5","v":0},{"$f":"IFERROR(#REF!,0)*GK5","v":0},{"$f":"IFERROR(#REF!,0)*GK5","v":0},{"$f":"IFERROR(#REF!,0)*GO5","v":0},{"$f":"IFERROR(#REF!,0)*GO5","v":0},{"$f":"IFERROR(#REF!,0)*GO5","v":0},{"$f":"IFERROR(#REF!,0)*GO5","v":0},{"$f":"IFERROR(#REF!,0)*GS5","v":0},{"$f":"IFERROR(#REF!,0)*GS5","v":0},{"$f":"IFERROR(#REF!,0)*GS5","v":0},{"$f":"IFERROR(#REF!,0)*GS5","v":0},{"v":0,"d":"0.00"},{"v":0,"d":"0.00"},{"v":0,"d":"0.00"},{"v":0,"d":"0.00"}]
[null,{"$f":"#REF!","v":{"$error":"#REF!"}},{"$f":"#REF!","v":{"$error":"#REF!"}},{"$f":"IFERROR(#REF!,0)*E5","v":0},{"$f":"IFERROR(#REF!,0)*E5","v":0},{"$f":"IFERROR(#REF!,0)*E5","v":0},{"$f":"IFERROR(#REF!,0)*E5","v":0},{"$f":"IFERROR(#REF!,0)*I5","v":0},{"$f":"IFERROR(#REF!,0)*I5","v":0},{"$f":"IFERROR(#REF!,0)*I5","v":0},{"$f":"IFERROR(#REF!,0)*I5","v":0},{"$f":"IFERROR(#REF!,0)*M5","v":0},{"$f":"IFERROR(#REF!,0)*M5","v":0},{"$f":"IFERROR(#REF!,0)*M5","v":0},{"$f":"IFERROR(#REF!,0)*M5","v":0},{"$f":"IFERROR(#REF!,0)*Q5","v":0},{"$f":"IFERROR(#REF!,0)*Q5","v":0},{"$f":"IFERROR(#REF!,0)*Q5","v":0},{"$f":"IFERROR(#REF!,0)*Q5","v":0},{"$f":"IFERROR(#REF!,0)*U5","v":0},{"$f":"IFERROR(#REF!,0)*U5","v":0},{"$f":"IFERROR(#REF!,0)*U5","v":0},{"$f":"IFERROR(#REF!,0)*U5","v":0},{"$f":"IFERROR(#REF!,0)*Y5","v":0},{"$f":"IFERROR(#REF!,0)*Y5","v":0},{"$f":"IFERROR(#REF!,0)*Y5","v":0},{"$f":"IFERROR(#REF!,0)*Y5","v":0},{"$f":"IFERROR(#REF!,0)*AC5","v":0},{"$f":"IFERROR(#REF!,0)*AC5","v":0},{"$f":"IFERROR(#REF!,0)*AC5","v":0},{"$f":"IFERROR(#REF!,0)*AC5","v":0},{"$f":"IFERROR(#REF!,0)*AG5","v":0},{"$f":"IFERROR(#REF!,0)*AG5","v":0},{"$f":"IFERROR(#REF!,0)*AG5","v":0},{"$f":"IFERROR(#REF!,0)*AG5","v":0},{"$f":"IFERROR(#REF!,0)*AK5","v":0},{"$f":"IFERROR(#REF!,0)*AK5","v":0},{"$f":"IFERROR(#REF!,0)*AK5","v":0},{"$f":"IFERROR(#REF!,0)*AK5","v":0},{"$f":"IFERROR(#REF!,0)*AO5","v":0},{"$f":"IFERROR(#REF!,0)*AO5","v":0},{"$f":"IFERROR(#REF!,0)*AO5","v":0},{"$f":"IFERROR(#REF!,0)*AO5","v":0},{"$f":"IFERROR(#REF!,0)*AS5","v":0},{"$f":"IFERROR(#REF!,0)*AS5","v":0},{"$f":"IFERROR(#REF!,0)*AS5","v":0},{"$f":"IFERROR(#REF!,0)*AS5","v":0},{"$f":"IFERROR(#REF!,0)*AW5","v":0},{"$f":"IFERROR(#REF!,0)*AW5","v":0},{"$f":"IFERROR(#REF!,0)*AW5","v":0},{"$f":"IFERROR(#REF!,0)*AW5","v":0},{"$f":"IFERROR(#REF!,0)*BA5","v":0},{"$f":"IFERROR(#REF!,0)*BA5","v":0},{"$f":"IFERROR(#REF!,0)*BA5","v":0},{"$f":"IFERROR(#REF!,0)*BA5","v":0},{"$f":"IFERROR(#REF!,0)*BE5","v":0},{"$f":"IFERROR(#REF!,0)*BE5","v":0},{"$f":"IFERROR(#REF!,0)*BE5","v":0},{"$f":"IFERROR(#REF!,0)*BE5","v":0},{"$f":"IFERROR(#REF!,0)*BI5","v":0},{"$f":"IFERROR(#REF!,0)*BI5","v":0},{"$f":"IFERROR(#REF!,0)*BI5","v":0},{"$f":"IFERROR(#REF!,0)*BI5","v":0},{"$f":"IFERROR(#REF!,0)*BM5","v":0},{"$f":"IFERROR(#REF!,0)*BM5","v":0},{"$f":"IFERROR(#REF!,0)*BM5","v":0},{"$f":"IFERROR(#REF!,0)*BM5","v":0},{"$f":"IFERROR(#REF!,0)*BQ5","v":0},{"$f":"IFERROR(#REF!,0)*BQ5","v":0},{"$f":"IFERROR(#REF!,0)*BQ5","v":0},{"$f":"IFERROR(#REF!,0)*BQ5","v":0},{"$f":"IFERROR(#REF!,0)*BU5","v":0},{"$f":"IFERROR(#REF!,0)*BU5","v":0},{"$f":"IFERROR(#REF!,0)*BU5","v":0},{"$f":"IFERROR(#REF!,0)*BU5","v":0},{"$f":"IFERROR(#REF!,0)*BY5","v":0},{"$f":"IFERROR(#REF!,0)*BY5","v":0},{"$f":"IFERROR(#REF!,0)*BY5","v":0},{"$f":"IFERROR(#REF!,0)*BY5","v":0},{"$f":"IFERROR(#REF!,0)*CC5","v":0},{"$f":"IFERROR(#REF!,0)*CC5","v":0},{"$f":"IFERROR(#REF!,0)*CC5","v":0},{"$f":"IFERROR(#REF!,0)*CC5","v":0},{"$f":"IFERROR(#REF!,0)*CG5","v":0},{"$f":"IFERROR(#REF!,0)*CG5","v":0},{"$f":"IFERROR(#REF!,0)*CG5","v":0},{"$f":"IFERROR(#REF!,0)*CG5","v":0},{"$f":"IFERROR(#REF!,0)*CK5","v":0},{"$f":"IFERROR(#REF!,0)*CK5","v":0},{"$f":"IFERROR(#REF!,0)*CK5","v":0},{"$f":"IFERROR(#REF!,0)*CK5","v":0},{"$f":"IFERROR(#REF!,0)*CO5","v":0},{"$f":"IFERROR(#REF!,0)*CO5","v":0},{"$f":"IFERROR(#REF!,0)*CO5","v":0},{"$f":"IFERROR(#REF!,0)*CO5","v":0},{"$f":"IFERROR(#REF!,0)*CS5","v":0},{"$f":"IFERROR(#REF!,0)*CS5","v":0},{"$f":"IFERROR(#REF!,0)*CS5","v":0},{"$f":"IFERROR(#REF!,0)*CS5","v":0},{"$f":"IFERROR(#REF!,0)*CW5","v":0},{"$f":"IFERROR(#REF!,0)*CW5","v":0},{"$f":"IFERROR(#REF!,0)*CW5","v":0},{"$f":"IFERROR(#REF!,0)*CW5","v":0},{"$f":"IFERROR(#REF!,0)*DA5","v":0},{"$f":"IFERROR(#REF!,0)*DA5","v":0},{"$f":"IFERROR(#REF!,0)*DA5","v":0},{"$f":"IFERROR(#REF!,0)*DA5","v":0},{"$f":"IFERROR(#REF!,0)*DE5","v":0},{"$f":"IFERROR(#REF!,0)*DE5","v":0},{"$f":"IFERROR(#REF!,0)*DE5","v":0},{"$f":"IFERROR(#REF!,0)*DE5","v":0},{"$f":"IFERROR(#REF!,0)*DI5","v":0},{"$f":"IFERROR(#REF!,0)*DI5","v":0},{"$f":"IFERROR(#REF!,0)*DI5","v":0},{"$f":"IFERROR(#REF!,0)*DI5","v":0},{"$f":"IFERROR(#REF!,0)*DM5","v":0},{"$f":"IFERROR(#REF!,0)*DM5","v":0},{"$f":"IFERROR(#REF!,0)*DM5","v":0},{"$f":"IFERROR(#REF!,0)*DM5","v":0},{"$f":"IFERROR(#REF!,0)*DQ5","v":0},{"$f":"IFERROR(#REF!,0)*DQ5","v":0},{"$f":"IFERROR(#REF!,0)*DQ5","v":0},{"$f":"IFERROR(#REF!,0)*DQ5","v":0},{"$f":"IFERROR(#REF!,0)*DU5","v":0},{"$f":"IFERROR(#REF!,0)*DU5","v":0},{"$f":"IFERROR(#REF!,0)*DU5","v":0},{"$f":"IFERROR(#REF!,0)*DU5","v":0},{"$f":"IFERROR(#REF!,0)*DY5","v":0},{"$f":"IFERROR(#REF!,0)*DY5","v":0},{"$f":"IFERROR(#REF!,0)*DY5","v":0},{"$f":"IFERROR(#REF!,0)*DY5","v":0},{"$f":"IFERROR(#REF!,0)*EC5","v":0},{"$f":"IFERROR(#REF!,0)*EC5","v":0},{"$f":"IFERROR(#REF!,0)*EC5","v":0},{"$f":"IFERROR(#REF!,0)*EC5","v":0},{"$f":"IFERROR(#REF!,0)*EG5","v":0},{"$f":"IFERROR(#REF!,0)*EG5","v":0},{"$f":"IFERROR(#REF!,0)*EG5","v":0},{"$f":"IFERROR(#REF!,0)*EG5","v":0},{"$f":"IFERROR(#REF!,0)*EK5","v":0},{"$f":"IFERROR(#REF!,0)*EK5","v":0},{"$f":"IFERROR(#REF!,0)*EK5","v":0},{"$f":"IFERROR(#REF!,0)*EK5","v":0},{"$f":"IFERROR(#REF!,0)*EO5","v":0},{"$f":"IFERROR(#REF!,0)*EO5","v":0},{"$f":"IFERROR(#REF!,0)*EO5","v":0},{"$f":"IFERROR(#REF!,0)*EO5","v":0},{"$f":"IFERROR(#REF!,0)*ES5","v":0},{"$f":"IFERROR(#REF!,0)*ES5","v":0},{"$f":"IFERROR(#REF!,0)*ES5","v":0},{"$f":"IFERROR(#REF!,0)*ES5","v":0},{"$f":"IFERROR(#REF!,0)*EW5","v":0},{"$f":"IFERROR(#REF!,0)*EW5","v":0},{"$f":"IFERROR(#REF!,0)*EW5","v":0},{"$f":"IFERROR(#REF!,0)*EW5","v":0},{"$f":"IFERROR(#REF!,0)*FA5","v":0},{"$f":"IFERROR(#REF!,0)*FA5","v":0},{"$f":"IFERROR(#REF!,0)*FA5","v":0},{"$f":"IFERROR(#REF!,0)*FA5","v":0},{"$f":"IFERROR(#REF!,0)*FE5","v":0},{"$f":"IFERROR(#REF!,0)*FE5","v":0},{"$f":"IFERROR(#REF!,0)*FE5","v":0},{"$f":"IFERROR(#REF!,0)*FE5","v":0},{"$f":"IFERROR(#REF!,0)*FI5","v":0},{"$f":"IFERROR(#REF!,0)*FI5","v":0},{"$f":"IFERROR(#REF!,0)*FI5","v":0},{"$f":"IFERROR(#REF!,0)*FI5","v":0},{"$f":"IFERROR(#REF!,0)*FM5","v":0},{"$f":"IFERROR(#REF!,0)*FM5","v":0},{"$f":"IFERROR(#REF!,0)*FM5","v":0},{"$f":"IFERROR(#REF!,0)*FM5","v":0},{"$f":"IFERROR(#REF!,0)*FQ5","v":0},{"$f":"IFERROR(#REF!,0)*FQ5","v":0},{"$f":"IFERROR(#REF!,0)*FQ5","v":0},{"$f":"IFERROR(#REF!,0)*FQ5","v":0},{"$f":"IFERROR(#REF!,0)*FU5","v":0},{"$f":"IFERROR(#REF!,0)*FU5","v":0},{"$f":"IFERROR(#REF!,0)*FU5","v":0},{"$f":"IFERROR(#REF!,0)*FU5","v":0},{"$f":"IFERROR(#REF!,0)*FY5","v":0},{"$f":"IFERROR(#REF!,0)*FY5","v":0},{"$f":"IFERROR(#REF!,0)*FY5","v":0},{"$f":"IFERROR(#REF!,0)*FY5","v":0},{"$f":"IFERROR(#REF!,0)*GC5","v":0},{"$f":"IFERROR(#REF!,0)*GC5","v":0},{"$f":"IFERROR(#REF!,0)*GC5","v":0},{"$f":"IFERROR(#REF!,0)*GC5","v":0},{"$f":"IFERROR(#REF!,0)*GG5","v":0},{"$f":"IFERROR(#REF!,0)*GG5","v":0},{"$f":"IFERROR(#REF!,0)*GG5","v":0},{"$f":"IFERROR(#REF!,0)*GG5","v":0},{"$f":"IFERROR(#REF!,0)*GK5","v":0},{"$f":"IFERROR(#REF!,0)*GK5","v":0},{"$f":"IFERROR(#REF!,0)*GK5","v":0},{"$f":"IFERROR(#REF!,0)*GK5","v":0},{"$f":"IFERROR(#REF!,0)*GO5","v":0},{"$f":"IFERROR(#REF!,0)*GO5","v":0},{"$f":"IFERROR(#REF!,0)*GO5","v":0},{"$f":"IFERROR(#REF!,0)*GO5","v":0},{"$f":"IFERROR(#REF!,0)*GS5","v":0},{"$f":"IFERROR(#REF!,0)*GS5","v":0},{"$f":"IFERROR(#REF!,0)*GS5","v":0},{"$f":"IFERROR(#REF!,0)*GS5","v":0},{"v":0,"d":"0.00"},{"v":0,"d":"0.00"},{"v":0,"d":"0.00"},{"v":0,"d":"0.00"}]
[null,{"$f":"#REF!","v":{"$error":"#REF!"}},{"$f":"#REF!","v":{"$error":"#REF!"}},{"$f":"IFERROR(#REF!,0)*E5","v":0},{"$f":"IFERROR(#REF!,0)*E5","v":0},{"$f":"IFERROR(#REF!,0)*E5","v":0},{"$f":"IFERROR(#REF!,0)*E5","v":0},{"$f":"IFERROR(#REF!,0)*I5","v":0},{"$f":"IFERROR(#REF!,0)*I5","v":0},{"$f":"IFERROR(#REF!,0)*I5","v":0},{"$f":"IFERROR(#REF!,0)*I5","v":0},{"$f":"IFERROR(#REF!,0)*M5","v":0},{"$f":"IFERROR(#REF!,0)*M5","v":0},{"$f":"IFERROR(#REF!,0)*M5","v":0},{"$f":"IFERROR(#REF!,0)*M5","v":0},{"$f":"IFERROR(#REF!,0)*Q5","v":0},{"$f":"IFERROR(#REF!,0)*Q5","v":0},{"$f":"IFERROR(#REF!,0)*Q5","v":0},{"$f":"IFERROR(#REF!,0)*Q5","v":0},{"$f":"IFERROR(#REF!,0)*U5","v":0},{"$f":"IFERROR(#REF!,0)*U5","v":0},{"$f":"IFERROR(#REF!,0)*U5","v":0},{"$f":"IFERROR(#REF!,0)*U5","v":0},{"$f":"IFERROR(#REF!,0)*Y5","v":0},{"$f":"IFERROR(#REF!,0)*Y5","v":0},{"$f":"IFERROR(#REF!,0)*Y5","v":0},{"$f":"IFERROR(#REF!,0)*Y5","v":0},{"$f":"IFERROR(#REF!,0)*AC5","v":0},{"$f":"IFERROR(#REF!,0)*AC5","v":0},{"$f":"IFERROR(#REF!,0)*AC5","v":0},{"$f":"IFERROR(#REF!,0)*AC5","v":0},{"$f":"IFERROR(#REF!,0)*AG5","v":0},{"$f":"IFERROR(#REF!,0)*AG5","v":0},{"$f":"IFERROR(#REF!,0)*AG5","v":0},{"$f":"IFERROR(#REF!,0)*AG5","v":0},{"$f":"IFERROR(#REF!,0)*AK5","v":0},{"$f":"IFERROR(#REF!,0)*AK5","v":0},{"$f":"IFERROR(#REF!,0)*AK5","v":0},{"$f":"IFERROR(#REF!,0)*AK5","v":0},{"$f":"IFERROR(#REF!,0)*AO5","v":0},{"$f":"IFERROR(#REF!,0)*AO5","v":0},{"$f":"IFERROR(#REF!,0)*AO5","v":0},{"$f":"IFERROR(#REF!,0)*AO5","v":0},{"$f":"IFERROR(#REF!,0)*AS5","v":0},{"$f":"IFERROR(#REF!,0)*AS5","v":0},{"$f":"IFERROR(#REF!,0)*AS5","v":0},{"$f":"IFERROR(#REF!,0)*AS5","v":0},{"$f":"IFERROR(#REF!,0)*AW5","v":0},{"$f":"IFERROR(#REF!,0)*AW5","v":0},{"$f":"IFERROR(#REF!,0)*AW5","v":0},{"$f":"IFERROR(#REF!,0)*AW5","v":0},{"$f":"IFERROR(#REF!,0)*BA5","v":0},{"$f":"IFERROR(#REF!,0)*BA5","v":0},{"$f":"IFERROR(#REF!,0)*BA5","v":0},{"$f":"IFERROR(#REF!,0)*BA5","v":0},{"$f":"IFERROR(#REF!,0)*BE5","v":0},{"$f":"IFERROR(#REF!,0)*BE5","v":0},{"$f":"IFERROR(#REF!,0)*BE5","v":0},{"$f":"IFERROR(#REF!,0)*BE5","v":0},{"$f":"IFERROR(#REF!,0)*BI5","v":0},{"$f":"IFERROR(#REF!,0)*BI5","v":0},{"$f":"IFERROR(#REF!,0)*BI5","v":0},{"$f":"IFERROR(#REF!,0)*BI5","v":0},{"$f":"IFERROR(#REF!,0)*BM5","v":0},{"$f":"IFERROR(#REF!,0)*BM5","v":0},{"$f":"IFERROR(#REF!,0)*BM5","v":0},{"$f":"IFERROR(#REF!,0)*BM5","v":0},{"$f":"IFERROR(#REF!,0)*BQ5","v":0},{"$f":"IFERROR(#REF!,0)*BQ5","v":0},{"$f":"IFERROR(#REF!,0)*BQ5","v":0},{"$f":"IFERROR(#REF!,0)*BQ5","v":0},{"$f":"IFERROR(#REF!,0)*BU5","v":0},{"$f":"IFERROR(#REF!,0)*BU5","v":0},{"$f":"IFERROR(#REF!,0)*BU5","v":0},{"$f":"IFERROR(#REF!,0)*BU5","v":0},{"$f":"IFERROR(#REF!,0)*BY5","v":0},{"$f":"IFERROR(#REF!,0)*BY5","v":0},{"$f":"IFERROR(#REF!,0)*BY5","v":0},{"$f":"IFERROR(#REF!,0)*BY5","v":0},{"$f":"IFERROR(#REF!,0)*CC5","v":0},{"$f":"IFERROR(#REF!,0)*CC5","v":0},{"$f":"IFERROR(#REF!,0)*CC5","v":0},{"$f":"IFERROR(#REF!,0)*CC5","v":0},{"$f":"IFERROR(#REF!,0)*CG5","v":0},{"$f":"IFERROR(#REF!,0)*CG5","v":0},{"$f":"IFERROR(#REF!,0)*CG5","v":0},{"$f":"IFERROR(#REF!,0)*CG5","v":0},{"$f":"IFERROR(#REF!,0)*CK5","v":0},{"$f":"IFERROR(#REF!,0)*CK5","v":0},{"$f":"IFERROR(#REF!,0)*CK5","v":0},{"$f":"IFERROR(#REF!,0)*CK5","v":0},{"$f":"IFERROR(#REF!,0)*CO5","v":0},{"$f":"IFERROR(#REF!,0)*CO5","v":0},{"$f":"IFERROR(#REF!,0)*CO5","v":0},{"$f":"IFERROR(#REF!,0)*CO5","v":0},{"$f":"IFERROR(#REF!,0)*CS5","v":0},{"$f":"IFERROR(#REF!,0)*CS5","v":0},{"$f":"IFERROR(#REF!,0)*CS5","v":0},{"$f":"IFERROR(#REF!,0)*CS5","v":0},{"$f":"IFERROR(#REF!,0)*CW5","v":0},{"$f":"IFERROR(#REF!,0)*CW5","v":0},{"$f":"IFERROR(#REF!,0)*CW5","v":0},{"$f":"IFERROR(#REF!,0)*CW5","v":0},{"$f":"IFERROR(#REF!,0)*DA5","v":0},{"$f":"IFERROR(#REF!,0)*DA5","v":0},{"$f":"IFERROR(#REF!,0)*DA5","v":0},{"$f":"IFERROR(#REF!,0)*DA5","v":0},{"$f":"IFERROR(#REF!,0)*DE5","v":0},{"$f":"IFERROR(#REF!,0)*DE5","v":0},{"$f":"IFERROR(#REF!,0)*DE5","v":0},{"$f":"IFERROR(#REF!,0)*DE5","v":0},{"$f":"IFERROR(#REF!,0)*DI5","v":0},{"$f":"IFERROR(#REF!,0)*DI5","v":0},{"$f":"IFERROR(#REF!,0)*DI5","v":0},{"$f":"IFERROR(#REF!,0)*DI5","v":0},{"$f":"IFERROR(#REF!,0)*DM5","v":0},{"$f":"IFERROR(#REF!,0)*DM5","v":0},{"$f":"IFERROR(#REF!,0)*DM5","v":0},{"$f":"IFERROR(#REF!,0)*DM5","v":0},{"$f":"IFERROR(#REF!,0)*DQ5","v":0},{"$f":"IFERROR(#REF!,0)*DQ5","v":0},{"$f":"IFERROR(#REF!,0)*DQ5","v":0},{"$f":"IFERROR(#REF!,0)*DQ5","v":0},{"$f":"IFERROR(#REF!,0)*DU5","v":0},{"$f":"IFERROR(#REF!,0)*DU5","v":0},{"$f":"IFERROR(#REF!,0)*DU5","v":0},{"$f":"IFERROR(#REF!,0)*DU5","v":0},{"$f":"IFERROR(#REF!,0)*DY5","v":0},{"$f":"IFERROR(#REF!,0)*DY5","v":0},{"$f":"IFERROR(#REF!,0)*DY5","v":0},{"$f":"IFERROR(#REF!,0)*DY5","v":0},{"$f":"IFERROR(#REF!,0)*EC5","v":0},{"$f":"IFERROR(#REF!,0)*EC5","v":0},{"$f":"IFERROR(#REF!,0)*EC5","v":0},{"$f":"IFERROR(#REF!,0)*EC5","v":0},{"$f":"IFERROR(#REF!,0)*EG5","v":0},{"$f":"IFERROR(#REF!,0)*EG5","v":0},{"$f":"IFERROR(#REF!,0)*EG5","v":0},{"$f":"IFERROR(#REF!,0)*EG5","v":0},{"$f":"IFERROR(#REF!,0)*EK5","v":0},{"$f":"IFERROR(#REF!,0)*EK5","v":0},{"$f":"IFERROR(#REF!,0)*EK5","v":0},{"$f":"IFERROR(#REF!,0)*EK5","v":0},{"$f":"IFERROR(#REF!,0)*EO5","v":0},{"$f":"IFERROR(#REF!,0)*EO5","v":0},{"$f":"IFERROR(#REF!,0)*EO5","v":0},{"$f":"IFERROR(#REF!,0)*EO5","v":0},{"$f":"IFERROR(#REF!,0)*ES5","v":0},{"$f":"IFERROR(#REF!,0)*ES5","v":0},{"$f":"IFERROR(#REF!,0)*ES5","v":0},{"$f":"IFERROR(#REF!,0)*ES5","v":0},{"$f":"IFERROR(#REF!,0)*EW5","v":0},{"$f":"IFERROR(#REF!,0)*EW5","v":0},{"$f":"IFERROR(#REF!,0)*EW5","v":0},{"$f":"IFERROR(#REF!,0)*EW5","v":0},{"$f":"IFERROR(#REF!,0)*FA5","v":0},{"$f":"IFERROR(#REF!,0)*FA5","v":0},{"$f":"IFERROR(#REF!,0)*FA5","v":0},{"$f":"IFERROR(#REF!,0)*FA5","v":0},{"$f":"IFERROR(#REF!,0)*FE5","v":0},{"$f":"IFERROR(#REF!,0)*FE5","v":0},{"$f":"IFERROR(#REF!,0)*FE5","v":0},{"$f":"IFERROR(#REF!,0)*FE5","v":0},{"$f":"IFERROR(#REF!,0)*FI5","v":0},{"$f":"IFERROR(#REF!,0)*FI5","v":0},{"$f":"IFERROR(#REF!,0)*FI5","v":0},{"$f":"IFERROR(#REF!,0)*FI5","v":0},{"$f":"IFERROR(#REF!,0)*FM5","v":0},{"$f":"IFERROR(#REF!,0)*FM5","v":0},{"$f":"IFERROR(#REF!,0)*FM5","v":0},{"$f":"IFERROR(#REF!,0)*FM5","v":0},{"$f":"IFERROR(#REF!,0)*FQ5","v":0},{"$f":"IFERROR(#REF!,0)*FQ5","v":0},{"$f":"IFERROR(#REF!,0)*FQ5","v":0},{"$f":"IFERROR(#REF!,0)*FQ5","v":0},{"$f":"IFERROR(#REF!,0)*FU5","v":0},{"$f":"IFERROR(#REF!,0)*FU5","v":0},{"$f":"IFERROR(#REF!,0)*FU5","v":0},{"$f":"IFERROR(#REF!,0)*FU5","v":0},{"$f":"IFERROR(#REF!,0)*FY5","v":0},{"$f":"IFERROR(#REF!,0)*FY5","v":0},{"$f":"IFERROR(#REF!,0)*FY5","v":0},{"$f":"IFERROR(#REF!,0)*FY5","v":0},{"$f":"IFERROR(#REF!,0)*GC5","v":0},{"$f":"IFERROR(#REF!,0)*GC5","v":0},{"$f":"IFERROR(#REF!,0)*GC5","v":0},{"$f":"IFERROR(#REF!,0)*GC5","v":0},{"$f":"IFERROR(#REF!,0)*GG5","v":0},{"$f":"IFERROR(#REF!,0)*GG5","v":0},{"$f":"IFERROR(#REF!,0)*GG5","v":0},{"$f":"IFERROR(#REF!,0)*GG5","v":0},{"$f":"IFERROR(#REF!,0)*GK5","v":0},{"$f":"IFERROR(#REF!,0)*GK5","v":0},{"$f":"IFERROR(#REF!,0)*GK5","v":0},{"$f":"IFERROR(#REF!,0)*GK5","v":0},{"$f":"IFERROR(#REF!,0)*GO5","v":0},{"$f":"IFERROR(#REF!,0)*GO5","v":0},{"$f":"IFERROR(#REF!,0)*GO5","v":0},{"$f":"IFERROR(#REF!,0)*GO5","v":0},{"$f":"IFERROR(#REF!,0)*GS5","v":0},{"$f":"IFERROR(#REF!,0)*GS5","v":0},{"$f":"IFERROR(#REF!,0)*GS5","v":0},{"$f":"IFERROR(#REF!,0)*GS5","v":0},{"v":0,"d":"0.00"},{"v":0,"d":"0.00"},{"v":0,"d":"0.00"},{"v":0,"d":"0.00"}]
[null,{"$f":"#REF!","v":{"$error":"#REF!"}},{"$f":"#REF!","v":{"$error":"#REF!"}},{"$f":"IFERROR(#REF!,0)*E5","v":0},{"$f":"IFERROR(#REF!,0)*E5","v":0},{"$f":"IFERROR(#REF!,0)*E5","v":0},{"$f":"IFERROR(#REF!,0)*E5","v":0},{"$f":"IFERROR(#REF!,0)*I5","v":0},{"$f":"IFERROR(#REF!,0)*I5","v":0},{"$f":"IFERROR(#REF!,0)*I5","v":0},{"$f":"IFERROR(#REF!,0)*I5","v":0},{"$f":"IFERROR(#REF!,0)*M5","v":0},{"$f":"IFERROR(#REF!,0)*M5","v":0},{"$f":"IFERROR(#REF!,0)*M5","v":0},{"$f":"IFERROR(#REF!,0)*M5","v":0},{"$f":"IFERROR(#REF!,0)*Q5","v":0},{"$f":"IFERROR(#REF!,0)*Q5","v":0},{"$f":"IFERROR(#REF!,0)*Q5","v":0},{"$f":"IFERROR(#REF!,0)*Q5","v":0},{"$f":"IFERROR(#REF!,0)*U5","v":0},{"$f":"IFERROR(#REF!,0)*U5","v":0},{"$f":"IFERROR(#REF!,0)*U5","v":0},{"$f":"IFERROR(#REF!,0)*U5","v":0},{"$f":"IFERROR(#REF!,0)*Y5","v":0},{"$f":"IFERROR(#REF!,0)*Y5","v":0},{"$f":"IFERROR(#REF!,0)*Y5","v":0},{"$f":"IFERROR(#REF!,0)*Y5","v":0},{"$f":"IFERROR(#REF!,0)*AC5","v":0},{"$f":"IFERROR(#REF!,0)*AC5","v":0},{"$f":"IFERROR(#REF!,0)*AC5","v":0},{"$f":"IFERROR(#REF!,0)*AC5","v":0},{"$f":"IFERROR(#REF!,0)*AG5","v":0},{"$f":"IFERROR(#REF!,0)*AG5","v":0},{"$f":"IFERROR(#REF!,0)*AG5","v":0},{"$f":"IFERROR(#REF!,0)*AG5","v":0},{"$f":"IFERROR(#REF!,0)*AK5","v":0},{"$f":"IFERROR(#REF!,0)*AK5","v":0},{"$f":"IFERROR(#REF!,0)*AK5","v":0},{"$f":"IFERROR(#REF!,0)*AK5","v":0},{"$f":"IFERROR(#REF!,0)*AO5","v":0},{"$f":"IFERROR(#REF!,0)*AO5","v":0},{"$f":"IFERROR(#REF!,0)*AO5","v":0},{"$f":"IFERROR(#REF!,0)*AO5","v":0},{"$f":"IFERROR(#REF!,0)*AS5","v":0},{"$f":"IFERROR(#REF!,0)*AS5","v":0},{"$f":"IFERROR(#REF!,0)*AS5","v":0},{"$f":"IFERROR(#REF!,0)*AS5","v":0},{"$f":"IFERROR(#REF!,0)*AW5","v":0},{"$f":"IFERROR(#REF!,0)*AW5","v":0},{"$f":"IFERROR(#REF!,0)*AW5","v":0},{"$f":"IFERROR(#REF!,0)*AW5","v":0},{"$f":"IFERROR(#REF!,0)*BA5","v":0},{"$f":"IFERROR(#REF!,0)*BA5","v":0},{"$f":"IFERROR(#REF!,0)*BA5","v":0},{"$f":"IFERROR(#REF!,0)*BA5","v":0},{"$f":"IFERROR(#REF!,0)*BE5","v":0},{"$f":"IFERROR(#REF!,0)*BE5","v":0},{"$f":"IFERROR(#REF!,0)*BE5","v":0},{"$f":"IFERROR(#REF!,0)*BE5","v":0},{"$f":"IFERROR(#REF!,0)*BI5","v":0},{"$f":"IFERROR(#REF!,0)*BI5","v":0},{"$f":"IFERROR(#REF!,0)*BI5","v":0},{"$f":"IFERROR(#REF!,0)*BI5","v":0},{"$f":"IFERROR(#REF!,0)*BM5","v":0},{"$f":"IFERROR(#REF!,0)*BM5","v":0},{"$f":"IFERROR(#REF!,0)*BM5","v":0},{"$f":"IFERROR(#REF!,0)*BM5","v":0},{"$f":"IFERROR(#REF!,0)*BQ5","v":0},{"$f":"IFERROR(#REF!,0)*BQ5","v":0},{"$f":"IFERROR(#REF!,0)*BQ5","v":0},{"$f":"IFERROR(#REF!,0)*BQ5","v":0},{"$f":"IFERROR(#REF!,0)*BU5","v":0},{"$f":"IFERROR(#REF!,0)*BU5","v":0},{"$f":"IFERROR(#REF!,0)*BU5","v":0},{"$f":"IFERROR(#REF!,0)*BU5","v":0},{"$f":"IFERROR(#REF!,0)*BY5","v":0},{"$f":"IFERROR(#REF!,0)*BY5","v":0},{"$f":"IFERROR(#REF!,0)*BY5","v":0},{"$f":"IFERROR(#REF!,0)*BY5","v":0},{"$f":"IFERROR(#REF!,0)*CC5","v":0},{"$f":"IFERROR(#REF!,0)*CC5","v":0},{"$f":"IFERROR(#REF!,0)*CC5","v":0},{"$f":"IFERROR(#REF!,0)*CC5","v":0},{"$f":"IFERROR(#REF!,0)*CG5","v":0},{"$f":"IFERROR(#REF!,0)*CG5","v":0},{"$f":"IFERROR(#REF!,0)*CG5","v":0},{"$f":"IFERROR(#REF!,0)*CG5","v":0},{"$f":"IFERROR(#REF!,0)*CK5","v":0},{"$f":"IFERROR(#REF!,0)*CK5","v":0},{"$f":"IFERROR(#REF!,0)*CK5","v":0},{"$f":"IFERROR(#REF!,0)*CK5","v":0},{"$f":"IFERROR(#REF!,0)*CO5","v":0},{"$f":"IFERROR(#REF!,0)*CO5","v":0},{"$f":"IFERROR(#REF!,0)*CO5","v":0},{"$f":"IFERROR(#REF!,0)*CO5","v":0},{"$f":"IFERROR(#REF!,0)*CS5","v":0},{"$f":"IFERROR(#REF!,0)*CS5","v":0},{"$f":"IFERROR(#REF!,0)*CS5","v":0},{"$f":"IFERROR(#REF!,0)*CS5","v":0},{"$f":"IFERROR(#REF!,0)*CW5","v":0},{"$f":"IFERROR(#REF!,0)*CW5","v":0},{"$f":"IFERROR(#REF!,0)*CW5","v":0},{"$f":"IFERROR(#REF!,0)*CW5","v":0},{"$f":"IFERROR(#REF!,0)*DA5","v":0},{"$f":"IFERROR(#REF!,0)*DA5","v":0},{"$f":"IFERROR(#REF!,0)*DA5","v":0},{"$f":"IFERROR(#REF!,0)*DA5","v":0},{"$f":"IFERROR(#REF!,0)*DE5","v":0},{"$f":"IFERROR(#REF!,0)*DE5","v":0},{"$f":"IFERROR(#REF!,0)*DE5","v":0},{"$f":"IFERROR(#REF!,0)*DE5","v":0},{"$f":"IFERROR(#REF!,0)*DI5","v":0},{"$f":"IFERROR(#REF!,0)*DI5","v":0},{"$f":"IFERROR(#REF!,0)*DI5","v":0},{"$f":"IFERROR(#REF!,0)*DI5","v":0},{"$f":"IFERROR(#REF!,0)*DM5","v":0},{"$f":"IFERROR(#REF!,0)*DM5","v":0},{"$f":"IFERROR(#REF!,0)*DM5","v":0},{"$f":"IFERROR(#REF!,0)*DM5","v":0},{"$f":"IFERROR(#REF!,0)*DQ5","v":0},{"$f":"IFERROR(#REF!,0)*DQ5","v":0},{"$f":"IFERROR(#REF!,0)*DQ5","v":0},{"$f":"IFERROR(#REF!,0)*DQ5","v":0},{"$f":"IFERROR(#REF!,0)*DU5","v":0},{"$f":"IFERROR(#REF!,0)*DU5","v":0},{"$f":"IFERROR(#REF!,0)*DU5","v":0},{"$f":"IFERROR(#REF!,0)*DU5","v":0},{"$f":"IFERROR(#REF!,0)*DY5","v":0},{"$f":"IFERROR(#REF!,0)*DY5","v":0},{"$f":"IFERROR(#REF!,0)*DY5","v":0},{"$f":"IFERROR(#REF!,0)*DY5","v":0},{"$f":"IFERROR(#REF!,0)*EC5","v":0},{"$f":"IFERROR(#REF!,0)*EC5","v":0},{"$f":"IFERROR(#REF!,0)*EC5","v":0},{"$f":"IFERROR(#REF!,0)*EC5","v":0},{"$f":"IFERROR(#REF!,0)*EG5","v":0},{"$f":"IFERROR(#REF!,0)*EG5","v":0},{"$f":"IFERROR(#REF!,0)*EG5","v":0},{"$f":"IFERROR(#REF!,0)*EG5","v":0},{"$f":"IFERROR(#REF!,0)*EK5","v":0},{"$f":"IFERROR(#REF!,0)*EK5","v":0},{"$f":"IFERROR(#REF!,0)*EK5","v":0},{"$f":"IFERROR(#REF!,0)*EK5","v":0},{"$f":"IFERROR(#REF!,0)*EO5","v":0},{"$f":"IFERROR(#REF!,0)*EO5","v":0},{"$f":"IFERROR(#REF!,0)*EO5","v":0},{"$f":"IFERROR(#REF!,0)*EO5","v":0},{"$f":"IFERROR(#REF!,0)*ES5","v":0},{"$f":"IFERROR(#REF!,0)*ES5","v":0},{"$f":"IFERROR(#REF!,0)*ES5","v":0},{"$f":"IFERROR(#REF!,0)*ES5","v":0},{"$f":"IFERROR(#REF!,0)*EW5","v":0},{"$f":"IFERROR(#REF!,0)*EW5","v":0},{"$f":"IFERROR(#REF!,0)*EW5","v":0},{"$f":"IFERROR(#REF!,0)*EW5","v":0},{"$f":"IFERROR(#REF!,0)*FA5","v":0},{"$f":"IFERROR(#REF!,0)*FA5","v":0},{"$f":"IFERROR(#REF!,0)*FA5","v":0},{"$f":"IFERROR(#REF!,0)*FA5","v":0},{"$f":"IFERROR(#REF!,0)*FE5","v":0},{"$f":"IFERROR(#REF!,0)*FE5","v":0},{"$f":"IFERROR(#REF!,0)*FE5","v":0},{"$f":"IFERROR(#REF!,0)*FE5","v":0},{"$f":"IFERROR(#REF!,0)*FI5","v":0},{"$f":"IFERROR(#REF!,0)*FI5","v":0},{"$f":"IFERROR(#REF!,0)*FI5","v":0},{"$f":"IFERROR(#REF!,0)*FI5","v":0},{"$f":"IFERROR(#REF!,0)*FM5","v":0},{"$f":"IFERROR(#REF!,0)*FM5","v":0},{"$f":"IFERROR(#REF!,0)*FM5","v":0},{"$f":"IFERROR(#REF!,0)*FM5","v":0},{"$f":"IFERROR(#REF!,0)*FQ5","v":0},{"$f":"IFERROR(#REF!,0)*FQ5","v":0},{"$f":"IFERROR(#REF!,0)*FQ5","v":0},{"$f":"IFERROR(#REF!,0)*FQ5","v":0},{"$f":"IFERROR(#REF!,0)*FU5","v":0},{"$f":"IFERROR(#REF!,0)*FU5","v":0},{"$f":"IFERROR(#REF!,0)*FU5","v":0},{"$f":"IFERROR(#REF!,0)*FU5","v":0},{"$f":"IFERROR(#REF!,0)*FY5","v":0},{"$f":"IFERROR(#REF!,0)*FY5","v":0},{"$f":"IFERROR(#REF!,0)*FY5","v":0},{"$f":"IFERROR(#REF!,0)*FY5","v":0},{"$f":"IFERROR(#REF!,0)*GC5","v":0},{"$f":"IFERROR(#REF!,0)*GC5","v":0},{"$f":"IFERROR(#REF!,0)*GC5","v":0},{"$f":"IFERROR(#REF!,0)*GC5","v":0},{"$f":"IFERROR(#REF!,0)*GG5","v":0},{"$f":"IFERROR(#REF!,0)*GG5","v":0},{"$f":"IFERROR(#REF!,0)*GG5","v":0},{"$f":"IFERROR(#REF!,0)*GG5","v":0},{"$f":"IFERROR(#REF!,0)*GK5","v":0},{"$f":"IFERROR(#REF!,0)*GK5","v":0},{"$f":"IFERROR(#REF!,0)*GK5","v":0},{"$f":"IFERROR(#REF!,0)*GK5","v":0},{"$f":"IFERROR(#REF!,0)*GO5","v":0},{"$f":"IFERROR(#REF!,0)*GO5","v":0},{"$f":"IFERROR(#REF!,0)*GO5","v":0},{"$f":"IFERROR(#REF!,0)*GO5","v":0},{"$f":"IFERROR(#REF!,0)*GS5","v":0},{"$f":"IFERROR(#REF!,0)*GS5","v":0},{"$f":"IFERROR(#REF!,0)*GS5","v":0},{"$f":"IFERROR(#REF!,0)*GS5","v":0},{"v":0,"d":"0.00"},{"v":0,"d":"0.00"},{"v":0,"d":"0.00"},{"v":0,"d":"0.00"}]
[null,{"$f":"#REF!","v":{"$error":"#REF!"}},{"$f":"#REF!","v":{"$error":"#REF!"}},{"$f":"IFERROR(#REF!,0)*E5","v":0},{"$f":"IFERROR(#REF!,0)*E5","v":0},{"$f":"IFERROR(#REF!,0)*E5","v":0},{"$f":"IFERROR(#REF!,0)*E5","v":0},{"$f":"IFERROR(#REF!,0)*I5","v":0},{"$f":"IFERROR(#REF!,0)*I5","v":0},{"$f":"IFERROR(#REF!,0)*I5","v":0},{"$f":"IFERROR(#REF!,0)*I5","v":0},{"$f":"IFERROR(#REF!,0)*M5","v":0},{"$f":"IFERROR(#REF!,0)*M5","v":0},{"$f":"IFERROR(#REF!,0)*M5","v":0},{"$f":"IFERROR(#REF!,0)*M5","v":0},{"$f":"IFERROR(#REF!,0)*Q5","v":0},{"$f":"IFERROR(#REF!,0)*Q5","v":0},{"$f":"IFERROR(#REF!,0)*Q5","v":0},{"$f":"IFERROR(#REF!,0)*Q5","v":0},{"$f":"IFERROR(#REF!,0)*U5","v":0},{"$f":"IFERROR(#REF!,0)*U5","v":0},{"$f":"IFERROR(#REF!,0)*U5","v":0},{"$f":"IFERROR(#REF!,0)*U5","v":0},{"$f":"IFERROR(#REF!,0)*Y5","v":0},{"$f":"IFERROR(#REF!,0)*Y5","v":0},{"$f":"IFERROR(#REF!,0)*Y5","v":0},{"$f":"IFERROR(#REF!,0)*Y5","v":0},{"$f":"IFERROR(#REF!,0)*AC5","v":0},{"$f":"IFERROR(#REF!,0)*AC5","v":0},{"$f":"IFERROR(#REF!,0)*AC5","v":0},{"$f":"IFERROR(#REF!,0)*AC5","v":0},{"$f":"IFERROR(#REF!,0)*AG5","v":0},{"$f":"IFERROR(#REF!,0)*AG5","v":0},{"$f":"IFERROR(#REF!,0)*AG5","v":0},{"$f":"IFERROR(#REF!,0)*AG5","v":0},{"$f":"IFERROR(#REF!,0)*AK5","v":0},{"$f":"IFERROR(#REF!,0)*AK5","v":0},{"$f":"IFERROR(#REF!,0)*AK5","v":0},{"$f":"IFERROR(#REF!,0)*AK5","v":0},{"$f":"IFERROR(#REF!,0)*AO5","v":0},{"$f":"IFERROR(#REF!,0)*AO5","v":0},{"$f":"IFERROR(#REF!,0)*AO5","v":0},{"$f":"IFERROR(#REF!,0)*AO5","v":0},{"$f":"IFERROR(#REF!,0)*AS5","v":0},{"$f":"IFERROR(#REF!,0)*AS5","v":0},{"$f":"IFERROR(#REF!,0)*AS5","v":0},{"$f":"IFERROR(#REF!,0)*AS5","v":0},{"$f":"IFERROR(#REF!,0)*AW5","v":0},{"$f":"IFERROR(#REF!,0)*AW5","v":0},{"$f":"IFERROR(#REF!,0)*AW5","v":0},{"$f":"IFERROR(#REF!,0)*AW5","v":0},{"$f":"IFERROR(#REF!,0)*BA5","v":0},{"$f":"IFERROR(#REF!,0)*BA5","v":0},{"$f":"IFERROR(#REF!,0)*BA5","v":0},{"$f":"IFERROR(#REF!,0)*BA5","v":0},{"$f":"IFERROR(#REF!,0)*BE5","v":0},{"$f":"IFERROR(#REF!,0)*BE5","v":0},{"$f":"IFERROR(#REF!,0)*BE5","v":0},{"$f":"IFERROR(#REF!,0)*BE5","v":0},{"$f":"IFERROR(#REF!,0)*BI5","v":0},{"$f":"IFERROR(#REF!,0)*BI5","v":0},{"$f":"IFERROR(#REF!,0)*BI5","v":0},{"$f":"IFERROR(#REF!,0)*BI5","v":0},{"$f":"IFERROR(#REF!,0)*BM5","v":0},{"$f":"IFERROR(#REF!,0)*BM5","v":0},{"$f":"IFERROR(#REF!,0)*BM5","v":0},{"$f":"IFERROR(#REF!,0)*BM5","v":0},{"$f":"IFERROR(#REF!,0)*BQ5","v":0},{"$f":"IFERROR(#REF!,0)*BQ5","v":0},{"$f":"IFERROR(#REF!,0)*BQ5","v":0},{"$f":"IFERROR(#REF!,0)*BQ5","v":0},{"$f":"IFERROR(#REF!,0)*BU5","v":0},{"$f":"IFERROR(#REF!,0)*BU5","v":0},{"$f":"IFERROR(#REF!,0)*BU5","v":0},{"$f":"IFERROR(#REF!,0)*BU5","v":0},{"$f":"IFERROR(#REF!,0)*BY5","v":0},{"$f":"IFERROR(#REF!,0)*BY5","v":0},{"$f":"IFERROR(#REF!,0)*BY5","v":0},{"$f":"IFERROR(#REF!,0)*BY5","v":0},{"$f":"IFERROR(#REF!,0)*CC5","v":0},{"$f":"IFERROR(#REF!,0)*CC5","v":0},{"$f":"IFERROR(#REF!,0)*CC5","v":0},{"$f":"IFERROR(#REF!,0)*CC5","v":0},{"$f":"IFERROR(#REF!,0)*CG5","v":0},{"$f":"IFERROR(#REF!,0)*CG5","v":0},{"$f":"IFERROR(#REF!,0)*CG5","v":0},{"$f":"IFERROR(#REF!,0)*CG5","v":0},{"$f":"IFERROR(#REF!,0)*CK5","v":0},{"$f":"IFERROR(#REF!,0)*CK5","v":0},{"$f":"IFERROR(#REF!,0)*CK5","v":0},{"$f":"IFERROR(#REF!,0)*CK5","v":0},{"$f":"IFERROR(#REF!,0)*CO5","v":0},{"$f":"IFERROR(#REF!,0)*CO5","v":0},{"$f":"IFERROR(#REF!,0)*CO5","v":0},{"$f":"IFERROR(#REF!,0)*CO5","v":0},{"$f":"IFERROR(#REF!,0)*CS5","v":0},{"$f":"IFERROR(#REF!,0)*CS5","v":0},{"$f":"IFERROR(#REF!,0)*CS5","v":0},{"$f":"IFERROR(#REF!,0)*CS5","v":0},{"$f":"IFERROR(#REF!,0)*CW5","v":0},{"$f":"IFERROR(#REF!,0)*CW5","v":0},{"$f":"IFERROR(#REF!,0)*CW5","v":0},{"$f":"IFERROR(#REF!,0)*CW5","v":0},{"$f":"IFERROR(#REF!,0)*DA5","v":0},{"$f":"IFERROR(#REF!,0)*DA5","v":0},{"$f":"IFERROR(#REF!,0)*DA5","v":0},{"$f":"IFERROR(#REF!,0)*DA5","v":0},{"$f":"IFERROR(#REF!,0)*DE5","v":0},{"$f":"IFERROR(#REF!,0)*DE5","v":0},{"$f":"IFERROR(#REF!,0)*DE5","v":0},{"$f":"IFERROR(#REF!,0)*DE5","v":0},{"$f":"IFERROR(#REF!,0)*DI5","v":0},{"$f":"IFERROR(#REF!,0)*DI5","v":0},{"$f":"IFERROR(#REF!,0)*DI5","v":0},{"$f":"IFERROR(#REF!,0)*DI5","v":0},{"$f":"IFERROR(#REF!,0)*DM5","v":0},{"$f":"IFERROR(#REF!,0)*DM5","v":0},{"$f":"IFERROR(#REF!,0)*DM5","v":0},{"$f":"IFERROR(#REF!,0)*DM5","v":0},{"$f":"IFERROR(#REF!,0)*DQ5","v":0},{"$f":"IFERROR(#REF!,0)*DQ5","v":0},{"$f":"IFERROR(#REF!,0)*DQ5","v":0},{"$f":"IFERROR(#REF!,0)*DQ5","v":0},{"$f":"IFERROR(#REF!,0)*DU5","v":0},{"$f":"IFERROR(#REF!,0)*DU5","v":0},{"$f":"IFERROR(#REF!,0)*DU5","v":0},{"$f":"IFERROR(#REF!,0)*DU5","v":0},{"$f":"IFERROR(#REF!,0)*DY5","v":0},{"$f":"IFERROR(#REF!,0)*DY5","v":0},{"$f":"IFERROR(#REF!,0)*DY5","v":0},{"$f":"IFERROR(#REF!,0)*DY5","v":0},{"$f":"IFERROR(#REF!,0)*EC5","v":0},{"$f":"IFERROR(#REF!,0)*EC5","v":0},{"$f":"IFERROR(#REF!,0)*EC5","v":0},{"$f":"IFERROR(#REF!,0)*EC5","v":0},{"$f":"IFERROR(#REF!,0)*EG5","v":0},{"$f":"IFERROR(#REF!,0)*EG5","v":0},{"$f":"IFERROR(#REF!,0)*EG5","v":0},{"$f":"IFERROR(#REF!,0)*EG5","v":0},{"$f":"IFERROR(#REF!,0)*EK5","v":0},{"$f":"IFERROR(#REF!,0)*EK5","v":0},{"$f":"IFERROR(#REF!,0)*EK5","v":0},{"$f":"IFERROR(#REF!,0)*EK5","v":0},{"$f":"IFERROR(#REF!,0)*EO5","v":0},{"$f":"IFERROR(#REF!,0)*EO5","v":0},{"$f":"IFERROR(#REF!,0)*EO5","v":0},{"$f":"IFERROR(#REF!,0)*EO5","v":0},{"$f":"IFERROR(#REF!,0)*ES5","v":0},{"$f":"IFERROR(#REF!,0)*ES5","v":0},{"$f":"IFERROR(#REF!,0)*ES5","v":0},{"$f":"IFERROR(#REF!,0)*ES5","v":0},{"$f":"IFERROR(#REF!,0)*EW5","v":0},{"$f":"IFERROR(#REF!,0)*EW5","v":0},{"$f":"IFERROR(#REF!,0)*EW5","v":0},{"$f":"IFERROR(#REF!,0)*EW5","v":0},{"$f":"IFERROR(#REF!,0)*FA5","v":0},{"$f":"IFERROR(#REF!,0)*FA5","v":0},{"$f":"IFERROR(#REF!,0)*FA5","v":0},{"$f":"IFERROR(#REF!,0)*FA5","v":0},{"$f":"IFERROR(#REF!,0)*FE5","v":0},{"$f":"IFERROR(#REF!,0)*FE5","v":0},{"$f":"IFERROR(#REF!,0)*FE5","v":0},{"$f":"IFERROR(#REF!,0)*FE5","v":0},{"$f":"IFERROR(#REF!,0)*FI5","v":0},{"$f":"IFERROR(#REF!,0)*FI5","v":0},{"$f":"IFERROR(#REF!,0)*FI5","v":0},{"$f":"IFERROR(#REF!,0)*FI5","v":0},{"$f":"IFERROR(#REF!,0)*FM5","v":0},{"$f":"IFERROR(#REF!,0)*FM5","v":0},{"$f":"IFERROR(#REF!,0)*FM5","v":0},{"$f":"IFERROR(#REF!,0)*FM5","v":0},{"$f":"IFERROR(#REF!,0)*FQ5","v":0},{"$f":"IFERROR(#REF!,0)*FQ5","v":0},{"$f":"IFERROR(#REF!,0)*FQ5","v":0},{"$f":"IFERROR(#REF!,0)*FQ5","v":0},{"$f":"IFERROR(#REF!,0)*FU5","v":0},{"$f":"IFERROR(#REF!,0)*FU5","v":0},{"$f":"IFERROR(#REF!,0)*FU5","v":0},{"$f":"IFERROR(#REF!,0)*FU5","v":0},{"$f":"IFERROR(#REF!,0)*FY5","v":0},{"$f":"IFERROR(#REF!,0)*FY5","v":0},{"$f":"IFERROR(#REF!,0)*FY5","v":0},{"$f":"IFERROR(#REF!,0)*FY5","v":0},{"$f":"IFERROR(#REF!,0)*GC5","v":0},{"$f":"IFERROR(#REF!,0)*GC5","v":0},{"$f":"IFERROR(#REF!,0)*GC5","v":0},{"$f":"IFERROR(#REF!,0)*GC5","v":0},{"$f":"IFERROR(#REF!,0)*GG5","v":0},{"$f":"IFERROR(#REF!,0)*GG5","v":0},{"$f":"IFERROR(#REF!,0)*GG5","v":0},{"$f":"IFERROR(#REF!,0)*GG5","v":0},{"$f":"IFERROR(#REF!,0)*GK5","v":0},{"$f":"IFERROR(#REF!,0)*GK5","v":0},{"$f":"IFERROR(#REF!,0)*GK5","v":0},{"$f":"IFERROR(#REF!,0)*GK5","v":0},{"$f":"IFERROR(#REF!,0)*GO5","v":0},{"$f":"IFERROR(#REF!,0)*GO5","v":0},{"$f":"IFERROR(#REF!,0)*GO5","v":0},{"$f":"IFERROR(#REF!,0)*GO5","v":0},{"$f":"IFERROR(#REF!,0)*GS5","v":0},{"$f":"IFERROR(#REF!,0)*GS5","v":0},{"$f":"IFERROR(#REF!,0)*GS5","v":0},{"$f":"IFERROR(#REF!,0)*GS5","v":0},{"v":0,"d":"0.00"},{"v":0,"d":"0.00"},{"v":0,"d":"0.00"},{"v":0,"d":"0.00"}]
[null,{"$f":"#REF!","v":{"$error":"#REF!"}},{"$f":"#REF!","v":{"$error":"#REF!"}},{"$f":"IFERROR(#REF!,0)*E5","v":0},{"$f":"IFERROR(#REF!,0)*E5","v":0},{"$f":"IFERROR(#REF!,0)*E5","v":0},{"$f":"IFERROR(#REF!,0)*E5","v":0},{"$f":"IFERROR(#REF!,0)*I5","v":0},{"$f":"IFERROR(#REF!,0)*I5","v":0},{"$f":"IFERROR(#REF!,0)*I5","v":0},{"$f":"IFERROR(#REF!,0)*I5","v":0},{"$f":"IFERROR(#REF!,0)*M5","v":0},{"$f":"IFERROR(#REF!,0)*M5","v":0},{"$f":"IFERROR(#REF!,0)*M5","v":0},{"$f":"IFERROR(#REF!,0)*M5","v":0},{"$f":"IFERROR(#REF!,0)*Q5","v":0},{"$f":"IFERROR(#REF!,0)*Q5","v":0},{"$f":"IFERROR(#REF!,0)*Q5","v":0},{"$f":"IFERROR(#REF!,0)*Q5","v":0},{"$f":"IFERROR(#REF!,0)*U5","v":0},{"$f":"IFERROR(#REF!,0)*U5","v":0},{"$f":"IFERROR(#REF!,0)*U5","v":0},{"$f":"IFERROR(#REF!,0)*U5","v":0},{"$f":"IFERROR(#REF!,0)*Y5","v":0},{"$f":"IFERROR(#REF!,0)*Y5","v":0},{"$f":"IFERROR(#REF!,0)*Y5","v":0},{"$f":"IFERROR(#REF!,0)*Y5","v":0},{"$f":"IFERROR(#REF!,0)*AC5","v":0},{"$f":"IFERROR(#REF!,0)*AC5","v":0},{"$f":"IFERROR(#REF!,0)*AC5","v":0},{"$f":"IFERROR(#REF!,0)*AC5","v":0},{"$f":"IFERROR(#REF!,0)*AG5","v":0},{"$f":"IFERROR(#REF!,0)*AG5","v":0},{"$f":"IFERROR(#REF!,0)*AG5","v":0},{"$f":"IFERROR(#REF!,0)*AG5","v":0},{"$f":"IFERROR(#REF!,0)*AK5","v":0},{"$f":"IFERROR(#REF!,0)*AK5","v":0},{"$f":"IFERROR(#REF!,0)*AK5","v":0},{"$f":"IFERROR(#REF!,0)*AK5","v":0},{"$f":"IFERROR(#REF!,0)*AO5","v":0},{"$f":"IFERROR(#REF!,0)*AO5","v":0},{"$f":"IFERROR(#REF!,0)*AO5","v":0},{"$f":"IFERROR(#REF!,0)*AO5","v":0},{"$f":"IFERROR(#REF!,0)*AS5","v":0},{"$f":"IFERROR(#REF!,0)*AS5","v":0},{"$f":"IFERROR(#REF!,0)*AS5","v":0},{"$f":"IFERROR(#REF!,0)*AS5","v":0},{"$f":"IFERROR(#REF!,0)*AW5","v":0},{"$f":"IFERROR(#REF!,0)*AW5","v":0},{"$f":"IFERROR(#REF!,0)*AW5","v":0},{"$f":"IFERROR(#REF!,0)*AW5","v":0},{"$f":"IFERROR(#REF!,0)*BA5","v":0},{"$f":"IFERROR(#REF!,0)*BA5","v":0},{"$f":"IFERROR(#REF!,0)*BA5","v":0},{"$f":"IFERROR(#REF!,0)*BA5","v":0},{"$f":"IFERROR(#REF!,0)*BE5","v":0},{"$f":"IFERROR(#REF!,0)*BE5","v":0},{"$f":"IFERROR(#REF!,0)*BE5","v":0},{"$f":"IFERROR(#REF!,0)*BE5","v":0},{"$f":"IFERROR(#REF!,0)*BI5","v":0},{"$f":"IFERROR(#REF!,0)*BI5","v":0},{"$f":"IFERROR(#REF!,0)*BI5","v":0},{"$f":"IFERROR(#REF!,0)*BI5","v":0},{"$f":"IFERROR(#REF!,0)*BM5","v":0},{"$f":"IFERROR(#REF!,0)*BM5","v":0},{"$f":"IFERROR(#REF!,0)*BM5","v":0},{"$f":"IFERROR(#REF!,0)*BM5","v":0},{"$f":"IFERROR(#REF!,0)*BQ5","v":0},{"$f":"IFERROR(#REF!,0)*BQ5","v":0},{"$f":"IFERROR(#REF!,0)*BQ5","v":0},{"$f":"IFERROR(#REF!,0)*BQ5","v":0},{"$f":"IFERROR(#REF!,0)*BU5","v":0},{"$f":"IFERROR(#REF!,0)*BU5","v":0},{"$f":"IFERROR(#REF!,0)*BU5","v":0},{"$f":"IFERROR(#REF!,0)*BU5","v":0},{"$f":"IFERROR(#REF!,0)*BY5","v":0},{"$f":"IFERROR(#REF!,0)*BY5","v":0},{"$f":"IFERROR(#REF!,0)*BY5","v":0},{"$f":"IFERROR(#REF!,0)*BY5","v":0},{"$f":"IFERROR(#REF!,0)*CC5","v":0},{"$f":"IFERROR(#REF!,0)*CC5","v":0},{"$f":"IFERROR(#REF!,0)*CC5","v":0},{"$f":"IFERROR(#REF!,0)*CC5","v":0},{"$f":"IFERROR(#REF!,0)*CG5","v":0},{"$f":"IFERROR(#REF!,0)*CG5","v":0},{"$f":"IFERROR(#REF!,0)*CG5","v":0},{"$f":"IFERROR(#REF!,0)*CG5","v":0},{"$f":"IFERROR(#REF!,0)*CK5","v":0},{"$f":"IFERROR(#REF!,0)*CK5","v":0},{"$f":"IFERROR(#REF!,0)*CK5","v":0},{"$f":"IFERROR(#REF!,0)*CK5","v":0},{"$f":"IFERROR(#REF!,0)*CO5","v":0},{"$f":"IFERROR(#REF!,0)*CO5","v":0},{"$f":"IFERROR(#REF!,0)*CO5","v":0},{"$f":"IFERROR(#REF!,0)*CO5","v":0},{"$f":"IFERROR(#REF!,0)*CS5","v":0},{"$f":"IFERROR(#REF!,0)*CS5","v":0},{"$f":"IFERROR(#REF!,0)*CS5","v":0},{"$f":"IFERROR(#REF!,0)*CS5","v":0},{"$f":"IFERROR(#REF!,0)*CW5","v":0},{"$f":"IFERROR(#REF!,0)*CW5","v":0},{"$f":"IFERROR(#REF!,0)*CW5","v":0},{"$f":"IFERROR(#REF!,0)*CW5","v":0},{"$f":"IFERROR(#REF!,0)*DA5","v":0},{"$f":"IFERROR(#REF!,0)*DA5","v":0},{"$f":"IFERROR(#REF!,0)*DA5","v":0},{"$f":"IFERROR(#REF!,0)*DA5","v":0},{"$f":"IFERROR(#REF!,0)*DE5","v":0},{"$f":"IFERROR(#REF!,0)*DE5","v":0},{"$f":"IFERROR(#REF!,0)*DE5","v":0},{"$f":"IFERROR(#REF!,0)*DE5","v":0},{"$f":"IFERROR(#REF!,0)*DI5","v":0},{"$f":"IFERROR(#REF!,0)*DI5","v":0},{"$f":"IFERROR(#REF!,0)*DI5","v":0},{"$f":"IFERROR(#REF!,0)*DI5","v":0},{"$f":"IFERROR(#REF!,0)*DM5","v":0},{"$f":"IFERROR(#REF!,0)*DM5","v":0},{"$f":"IFERROR(#REF!,0)*DM5","v":0},{"$f":"IFERROR(#REF!,0)*DM5","v":0},{"$f":"IFERROR(#REF!,0)*DQ5","v":0},{"$f":"IFERROR(#REF!,0)*DQ5","v":0},{"$f":"IFERROR(#REF!,0)*DQ5","v":0},{"$f":"IFERROR(#REF!,0)*DQ5","v":0},{"$f":"IFERROR(#REF!,0)*DU5","v":0},{"$f":"IFERROR(#REF!,0)*DU5","v":0},{"$f":"IFERROR(#REF!,0)*DU5","v":0},{"$f":"IFERROR(#REF!,0)*DU5","v":0},{"$f":"IFERROR(#REF!,0)*DY5","v":0},{"$f":"IFERROR(#REF!,0)*DY5","v":0},{"$f":"IFERROR(#REF!,0)*DY5","v":0},{"$f":"IFERROR(#REF!,0)*DY5","v":0},{"$f":"IFERROR(#REF!,0)*EC5","v":0},{"$f":"IFERROR(#REF!,0)*EC5","v":0},{"$f":"IFERROR(#REF!,0)*EC5","v":0},{"$f":"IFERROR(#REF!,0)*EC5","v":0},{"$f":"IFERROR(#REF!,0)*EG5","v":0},{"$f":"IFERROR(#REF!,0)*EG5","v":0},{"$f":"IFERROR(#REF!,0)*EG5","v":0},{"$f":"IFERROR(#REF!,0)*EG5","v":0},{"$f":"IFERROR(#REF!,0)*EK5","v":0},{"$f":"IFERROR(#REF!,0)*EK5","v":0},{"$f":"IFERROR(#REF!,0)*EK5","v":0},{"$f":"IFERROR(#REF!,0)*EK5","v":0},{"$f":"IFERROR(#REF!,0)*EO5","v":0},{"$f":"IFERROR(#REF!,0)*EO5","v":0},{"$f":"IFERROR(#REF!,0)*EO5","v":0},{"$f":"IFERROR(#REF!,0)*EO5","v":0},{"$f":"IFERROR(#REF!,0)*ES5","v":0},{"$f":"IFERROR(#REF!,0)*ES5","v":0},{"$f":"IFERROR(#REF!,0)*ES5","v":0},{"$f":"IFERROR(#REF!,0)*ES5","v":0},{"$f":"IFERROR(#REF!,0)*EW5","v":0},{"$f":"IFERROR(#REF!,0)*EW5","v":0},{"$f":"IFERROR(#REF!,0)*EW5","v":0},{"$f":"IFERROR(#REF!,0)*EW5","v":0},{"$f":"IFERROR(#REF!,0)*FA5","v":0},{"$f":"IFERROR(#REF!,0)*FA5","v":0},{"$f":"IFERROR(#REF!,0)*FA5","v":0},{"$f":"IFERROR(#REF!,0)*FA5","v":0},{"$f":"IFERROR(#REF!,0)*FE5","v":0},{"$f":"IFERROR(#REF!,0)*FE5","v":0},{"$f":"IFERROR(#REF!,0)*FE5","v":0},{"$f":"IFERROR(#REF!,0)*FE5","v":0},{"$f":"IFERROR(#REF!,0)*FI5","v":0},{"$f":"IFERROR(#REF!,0)*FI5","v":0},{"$f":"IFERROR(#REF!,0)*FI5","v":0},{"$f":"IFERROR(#REF!,0)*FI5","v":0},{"$f":"IFERROR(#REF!,0)*FM5","v":0},{"$f":"IFERROR(#REF!,0)*FM5","v":0},{"$f":"IFERROR(#REF!,0)*FM5","v":0},{"$f":"IFERROR(#REF!,0)*FM5","v":0},{"$f":"IFERROR(#REF!,0)*FQ5","v":0},{"$f":"IFERROR(#REF!,0)*FQ5","v":0},{"$f":"IFERROR(#REF!,0)*FQ5","v":0},{"$f":"IFERROR(#REF!,0)*FQ5","v":0},{"$f":"IFERROR(#REF!,0)*FU5","v":0},{"$f":"IFERROR(#REF!,0)*FU5","v":0},{"$f":"IFERROR(#REF!,0)*FU5","v":0},{"$f":"IFERROR(#REF!,0)*FU5","v":0},{"$f":"IFERROR(#REF!,0)*FY5","v":0},{"$f":"IFERROR(#REF!,0)*FY5","v":0},{"$f":"IFERROR(#REF!,0)*FY5","v":0},{"$f":"IFERROR(#REF!,0)*FY5","v":0},{"$f":"IFERROR(#REF!,0)*GC5","v":0},{"$f":"IFERROR(#REF!,0)*GC5","v":0},{"$f":"IFERROR(#REF!,0)*GC5","v":0},{"$f":"IFERROR(#REF!,0)*GC5","v":0},{"$f":"IFERROR(#REF!,0)*GG5","v":0},{"$f":"IFERROR(#REF!,0)*GG5","v":0},{"$f":"IFERROR(#REF!,0)*GG5","v":0},{"$f":"IFERROR(#REF!,0)*GG5","v":0},{"$f":"IFERROR(#REF!,0)*GK5","v":0},{"$f":"IFERROR(#REF!,0)*GK5","v":0},{"$f":"IFERROR(#REF!,0)*GK5","v":0},{"$f":"IFERROR(#REF!,0)*GK5","v":0},{"$f":"IFERROR(#REF!,0)*GO5","v":0},{"$f":"IFERROR(#REF!,0)*GO5","v":0},{"$f":"IFERROR(#REF!,0)*GO5","v":0},{"$f":"IFERROR(#REF!,0)*GO5","v":0},{"$f":"IFERROR(#REF!,0)*GS5","v":0},{"$f":"IFERROR(#REF!,0)*GS5","v":0},{"$f":"IFERROR(#REF!,0)*GS5","v":0},{"$f":"IFERROR(#REF!,0)*GS5","v":0},{"v":0,"d":"0.00"},{"v":0,"d":"0.00"},{"v":0,"d":"0.00"},{"v":0,"d":"0.00"}]
[null,{"$f":"#REF!","v":{"$error":"#REF!"}},{"$f":"#REF!","v":{"$error":"#REF!"}},{"$f":"IFERROR(#REF!,0)*E5","v":0},{"$f":"IFERROR(#REF!,0)*E5","v":0},{"$f":"IFERROR(#REF!,0)*E5","v":0},{"$f":"IFERROR(#REF!,0)*E5","v":0},{"$f":"IFERROR(#REF!,0)*I5","v":0},{"$f":"IFERROR(#REF!,0)*I5","v":0},{"$f":"IFERROR(#REF!,0)*I5","v":0},{"$f":"IFERROR(#REF!,0)*I5","v":0},{"$f":"IFERROR(#REF!,0)*M5","v":0},{"$f":"IFERROR(#REF!,0)*M5","v":0},{"$f":"IFERROR(#REF!,0)*M5","v":0},{"$f":"IFERROR(#REF!,0)*M5","v":0},{"$f":"IFERROR(#REF!,0)*Q5","v":0},{"$f":"IFERROR(#REF!,0)*Q5","v":0},{"$f":"IFERROR(#REF!,0)*Q5","v":0},{"$f":"IFERROR(#REF!,0)*Q5","v":0},{"$f":"IFERROR(#REF!,0)*U5","v":0},{"$f":"IFERROR(#REF!,0)*U5","v":0},{"$f":"IFERROR(#REF!,0)*U5","v":0},{"$f":"IFERROR(#REF!,0)*U5","v":0},{"$f":"IFERROR(#REF!,0)*Y5","v":0},{"$f":"IFERROR(#REF!,0)*Y5","v":0},{"$f":"IFERROR(#REF!,0)*Y5","v":0},{"$f":"IFERROR(#REF!,0)*Y5","v":0},{"$f":"IFERROR(#REF!,0)*AC5","v":0},{"$f":"IFERROR(#REF!,0)*AC5","v":0},{"$f":"IFERROR(#REF!,0)*AC5","v":0},{"$f":"IFERROR(#REF!,0)*AC5","v":0},{"$f":"IFERROR(#REF!,0)*AG5","v":0},{"$f":"IFERROR(#REF!,0)*AG5","v":0},{"$f":"IFERROR(#REF!,0)*AG5","v":0},{"$f":"IFERROR(#REF!,0)*AG5","v":0},{"$f":"IFERROR(#REF!,0)*AK5","v":0},{"$f":"IFERROR(#REF!,0)*AK5","v":0},{"$f":"IFERROR(#REF!,0)*AK5","v":0},{"$f":"IFERROR(#REF!,0)*AK5","v":0},{"$f":"IFERROR(#REF!,0)*AO5","v":0},{"$f":"IFERROR(#REF!,0)*AO5","v":0},{"$f":"IFERROR(#REF!,0)*AO5","v":0},{"$f":"IFERROR(#REF!,0)*AO5","v":0},{"$f":"IFERROR(#REF!,0)*AS5","v":0},{"$f":"IFERROR(#REF!,0)*AS5","v":0},{"$f":"IFERROR(#REF!,0)*AS5","v":0},{"$f":"IFERROR(#REF!,0)*AS5","v":0},{"$f":"IFERROR(#REF!,0)*AW5","v":0},{"$f":"IFERROR(#REF!,0)*AW5","v":0},{"$f":"IFERROR(#REF!,0)*AW5","v":0},{"$f":"IFERROR(#REF!,0)*AW5","v":0},{"$f":"IFERROR(#REF!,0)*BA5","v":0},{"$f":"IFERROR(#REF!,0)*BA5","v":0},{"$f":"IFERROR(#REF!,0)*BA5","v":0},{"$f":"IFERROR(#REF!,0)*BA5","v":0},{"$f":"IFERROR(#REF!,0)*BE5","v":0},{"$f":"IFERROR(#REF!,0)*BE5","v":0},{"$f":"IFERROR(#REF!,0)*BE5","v":0},{"$f":"IFERROR(#REF!,0)*BE5","v":0},{"$f":"IFERROR(#REF!,0)*BI5","v":0},{"$f":"IFERROR(#REF!,0)*BI5","v":0},{"$f":"IFERROR(#REF!,0)*BI5","v":0},{"$f":"IFERROR(#REF!,0)*BI5","v":0},{"$f":"IFERROR(#REF!,0)*BM5","v":0},{"$f":"IFERROR(#REF!,0)*BM5","v":0},{"$f":"IFERROR(#REF!,0)*BM5","v":0},{"$f":"IFERROR(#REF!,0)*BM5","v":0},{"$f":"IFERROR(#REF!,0)*BQ5","v":0},{"$f":"IFERROR(#REF!,0)*BQ5","v":0},{"$f":"IFERROR(#REF!,0)*BQ5","v":0},{"$f":"IFERROR(#REF!,0)*BQ5","v":0},{"$f":"IFERROR(#REF!,0)*BU5","v":0},{"$f":"IFERROR(#REF!,0)*BU5","v":0},{"$f":"IFERROR(#REF!,0)*BU5","v":0},{"$f":"IFERROR(#REF!,0)*BU5","v":0},{"$f":"IFERROR(#REF!,0)*BY5","v":0},{"$f":"IFERROR(#REF!,0)*BY5","v":0},{"$f":"IFERROR(#REF!,0)*BY5","v":0},{"$f":"IFERROR(#REF!,0)*BY5","v":0},{"$f":"IFERROR(#REF!,0)*CC5","v":0},{"$f":"IFERROR(#REF!,0)*CC5","v":0},{"$f":"IFERROR(#REF!,0)*CC5","v":0},{"$f":"IFERROR(#REF!,0)*CC5","v":0},{"$f":"IFERROR(#REF!,0)*CG5","v":0},{"$f":"IFERROR(#REF!,0)*CG5","v":0},{"$f":"IFERROR(#REF!,0)*CG5","v":0},{"$f":"IFERROR(#REF!,0)*CG5","v":0},{"$f":"IFERROR(#REF!,0)*CK5","v":0},{"$f":"IFERROR(#REF!,0)*CK5","v":0},{"$f":"IFERROR(#REF!,0)*CK5","v":0},{"$f":"IFERROR(#REF!,0)*CK5","v":0},{"$f":"IFERROR(#REF!,0)*CO5","v":0},{"$f":"IFERROR(#REF!,0)*CO5","v":0},{"$f":"IFERROR(#REF!,0)*CO5","v":0},{"$f":"IFERROR(#REF!,0)*CO5","v":0},{"$f":"IFERROR(#REF!,0)*CS5","v":0},{"$f":"IFERROR(#REF!,0)*CS5","v":0},{"$f":"IFERROR(#REF!,0)*CS5","v":0},{"$f":"IFERROR(#REF!,0)*CS5","v":0},{"$f":"IFERROR(#REF!,0)*CW5","v":0},{"$f":"IFERROR(#REF!,0)*CW5","v":0},{"$f":"IFERROR(#REF!,0)*CW5","v":0},{"$f":"IFERROR(#REF!,0)*CW5","v":0},{"$f":"IFERROR(#REF!,0)*DA5","v":0},{"$f":"IFERROR(#REF!,0)*DA5","v":0},{"$f":"IFERROR(#REF!,0)*DA5","v":0},{"$f":"IFERROR(#REF!,0)*DA5","v":0},{"$f":"IFERROR(#REF!,0)*DE5","v":0},{"$f":"IFERROR(#REF!,0)*DE5","v":0},{"$f":"IFERROR(#REF!,0)*DE5","v":0},{"$f":"IFERROR(#REF!,0)*DE5","v":0},{"$f":"IFERROR(#REF!,0)*DI5","v":0},{"$f":"IFERROR(#REF!,0)*DI5","v":0},{"$f":"IFERROR(#REF!,0)*DI5","v":0},{"$f":"IFERROR(#REF!,0)*DI5","v":0},{"$f":"IFERROR(#REF!,0)*DM5","v":0},{"$f":"IFERROR(#REF!,0)*DM5","v":0},{"$f":"IFERROR(#REF!,0)*DM5","v":0},{"$f":"IFERROR(#REF!,0)*DM5","v":0},{"$f":"IFERROR(#REF!,0)*DQ5","v":0},{"$f":"IFERROR(#REF!,0)*DQ5","v":0},{"$f":"IFERROR(#REF!,0)*DQ5","v":0},{"$f":"IFERROR(#REF!,0)*DQ5","v":0},{"$f":"IFERROR(#REF!,0)*DU5","v":0},{"$f":"IFERROR(#REF!,0)*DU5","v":0},{"$f":"IFERROR(#REF!,0)*DU5","v":0},{"$f":"IFERROR(#REF!,0)*DU5","v":0},{"$f":"IFERROR(#REF!,0)*DY5","v":0},{"$f":"IFERROR(#REF!,0)*DY5","v":0},{"$f":"IFERROR(#REF!,0)*DY5","v":0},{"$f":"IFERROR(#REF!,0)*DY5","v":0},{"$f":"IFERROR(#REF!,0)*EC5","v":0},{"$f":"IFERROR(#REF!,0)*EC5","v":0},{"$f":"IFERROR(#REF!,0)*EC5","v":0},{"$f":"IFERROR(#REF!,0)*EC5","v":0},{"$f":"IFERROR(#REF!,0)*EG5","v":0},{"$f":"IFERROR(#REF!,0)*EG5","v":0},{"$f":"IFERROR(#REF!,0)*EG5","v":0},{"$f":"IFERROR(#REF!,0)*EG5","v":0},{"$f":"IFERROR(#REF!,0)*EK5","v":0},{"$f":"IFERROR(#REF!,0)*EK5","v":0},{"$f":"IFERROR(#REF!,0)*EK5","v":0},{"$f":"IFERROR(#REF!,0)*EK5","v":0},{"$f":"IFERROR(#REF!,0)*EO5","v":0},{"$f":"IFERROR(#REF!,0)*EO5","v":0},{"$f":"IFERROR(#REF!,0)*EO5","v":0},{"$f":"IFERROR(#REF!,0)*EO5","v":0},{"$f":"IFERROR(#REF!,0)*ES5","v":0},{"$f":"IFERROR(#REF!,0)*ES5","v":0},{"$f":"IFERROR(#REF!,0)*ES5","v":0},{"$f":"IFERROR(#REF!,0)*ES5","v":0},{"$f":"IFERROR(#REF!,0)*EW5","v":0},{"$f":"IFERROR(#REF!,0)*EW5","v":0},{"$f":"IFERROR(#REF!,0)*EW5","v":0},{"$f":"IFERROR(#REF!,0)*EW5","v":0},{"$f":"IFERROR(#REF!,0)*FA5","v":0},{"$f":"IFERROR(#REF!,0)*FA5","v":0},{"$f":"IFERROR(#REF!,0)*FA5","v":0},{"$f":"IFERROR(#REF!,0)*FA5","v":0},{"$f":"IFERROR(#REF!,0)*FE5","v":0},{"$f":"IFERROR(#REF!,0)*FE5","v":0},{"$f":"IFERROR(#REF!,0)*FE5","v":0},{"$f":"IFERROR(#REF!,0)*FE5","v":0},{"$f":"IFERROR(#REF!,0)*FI5","v":0},{"$f":"IFERROR(#REF!,0)*FI5","v":0},{"$f":"IFERROR(#REF!,0)*FI5","v":0},{"$f":"IFERROR(#REF!,0)*FI5","v":0},{"$f":"IFERROR(#REF!,0)*FM5","v":0},{"$f":"IFERROR(#REF!,0)*FM5","v":0},{"$f":"IFERROR(#REF!,0)*FM5","v":0},{"$f":"IFERROR(#REF!,0)*FM5","v":0},{"$f":"IFERROR(#REF!,0)*FQ5","v":0},{"$f":"IFERROR(#REF!,0)*FQ5","v":0},{"$f":"IFERROR(#REF!,0)*FQ5","v":0},{"$f":"IFERROR(#REF!,0)*FQ5","v":0},{"$f":"IFERROR(#REF!,0)*FU5","v":0},{"$f":"IFERROR(#REF!,0)*FU5","v":0},{"$f":"IFERROR(#REF!,0)*FU5","v":0},{"$f":"IFERROR(#REF!,0)*FU5","v":0},{"$f":"IFERROR(#REF!,0)*FY5","v":0},{"$f":"IFERROR(#REF!,0)*FY5","v":0},{"$f":"IFERROR(#REF!,0)*FY5","v":0},{"$f":"IFERROR(#REF!,0)*FY5","v":0},{"$f":"IFERROR(#REF!,0)*GC5","v":0},{"$f":"IFERROR(#REF!,0)*GC5","v":0},{"$f":"IFERROR(#REF!,0)*GC5","v":0},{"$f":"IFERROR(#REF!,0)*GC5","v":0},{"$f":"IFERROR(#REF!,0)*GG5","v":0},{"$f":"IFERROR(#REF!,0)*GG5","v":0},{"$f":"IFERROR(#REF!,0)*GG5","v":0},{"$f":"IFERROR(#REF!,0)*GG5","v":0},{"$f":"IFERROR(#REF!,0)*GK5","v":0},{"$f":"IFERROR(#REF!,0)*GK5","v":0},{"$f":"IFERROR(#REF!,0)*GK5","v":0},{"$f":"IFERROR(#REF!,0)*GK5","v":0},{"$f":"IFERROR(#REF!,0)*GO5","v":0},{"$f":"IFERROR(#REF!,0)*GO5","v":0},{"$f":"IFERROR(#REF!,0)*GO5","v":0},{"$f":"IFERROR(#REF!,0)*GO5","v":0},{"$f":"IFERROR(#REF!,0)*GS5","v":0},{"$f":"IFERROR(#REF!,0)*GS5","v":0},{"$f":"IFERROR(#REF!,0)*GS5","v":0},{"$f":"IFERROR(#REF!,0)*GS5","v":0},{"v":0,"d":"0.00"},{"v":0,"d":"0.00"},{"v":0,"d":"0.00"},{"v":0,"d":"0.00"}]
[null,{"$f":"#REF!","v":{"$error":"#REF!"}},{"$f":"#REF!","v":{"$error":"#REF!"}},{"$f":"IFERROR(#REF!,0)*E5","v":0},{"$f":"IFERROR(#REF!,0)*E5","v":0},{"$f":"IFERROR(#REF!,0)*E5","v":0},{"$f":"IFERROR(#REF!,0)*E5","v":0},{"$f":"IFERROR(#REF!,0)*I5","v":0},{"$f":"IFERROR(#REF!,0)*I5","v":0},{"$f":"IFERROR(#REF!,0)*I5","v":0},{"$f":"IFERROR(#REF!,0)*I5","v":0},{"$f":"IFERROR(#REF!,0)*M5","v":0},{"$f":"IFERROR(#REF!,0)*M5","v":0},{"$f":"IFERROR(#REF!,0)*M5","v":0},{"$f":"IFERROR(#REF!,0)*M5","v":0},{"$f":"IFERROR(#REF!,0)*Q5","v":0},{"$f":"IFERROR(#REF!,0)*Q5","v":0},{"$f":"IFERROR(#REF!,0)*Q5","v":0},{"$f":"IFERROR(#REF!,0)*Q5","v":0},{"$f":"IFERROR(#REF!,0)*U5","v":0},{"$f":"IFERROR(#REF!,0)*U5","v":0},{"$f":"IFERROR(#REF!,0)*U5","v":0},{"$f":"IFERROR(#REF!,0)*U5","v":0},{"$f":"IFERROR(#REF!,0)*Y5","v":0},{"$f":"IFERROR(#REF!,0)*Y5","v":0},{"$f":"IFERROR(#REF!,0)*Y5","v":0},{"$f":"IFERROR(#REF!,0)*Y5","v":0},{"$f":"IFERROR(#REF!,0)*AC5","v":0},{"$f":"IFERROR(#REF!,0)*AC5","v":0},{"$f":"IFERROR(#REF!,0)*AC5","v":0},{"$f":"IFERROR(#REF!,0)*AC5","v":0},{"$f":"IFERROR(#REF!,0)*AG5","v":0},{"$f":"IFERROR(#REF!,0)*AG5","v":0},{"$f":"IFERROR(#REF!,0)*AG5","v":0},{"$f":"IFERROR(#REF!,0)*AG5","v":0},{"$f":"IFERROR(#REF!,0)*AK5","v":0},{"$f":"IFERROR(#REF!,0)*AK5","v":0},{"$f":"IFERROR(#REF!,0)*AK5","v":0},{"$f":"IFERROR(#REF!,0)*AK5","v":0},{"$f":"IFERROR(#REF!,0)*AO5","v":0},{"$f":"IFERROR(#REF!,0)*AO5","v":0},{"$f":"IFERROR(#REF!,0)*AO5","v":0},{"$f":"IFERROR(#REF!,0)*AO5","v":0},{"$f":"IFERROR(#REF!,0)*AS5","v":0},{"$f":"IFERROR(#REF!,0)*AS5","v":0},{"$f":"IFERROR(#REF!,0)*AS5","v":0},{"$f":"IFERROR(#REF!,0)*AS5","v":0},{"$f":"IFERROR(#REF!,0)*AW5","v":0},{"$f":"IFERROR(#REF!,0)*AW5","v":0},{"$f":"IFERROR(#REF!,0)*AW5","v":0},{"$f":"IFERROR(#REF!,0)*AW5","v":0},{"$f":"IFERROR(#REF!,0)*BA5","v":0},{"$f":"IFERROR(#REF!,0)*BA5","v":0},{"$f":"IFERROR(#REF!,0)*BA5","v":0},{"$f":"IFERROR(#REF!,0)*BA5","v":0},{"$f":"IFERROR(#REF!,0)*BE5","v":0},{"$f":"IFERROR(#REF!,0)*BE5","v":0},{"$f":"IFERROR(#REF!,0)*BE5","v":0},{"$f":"IFERROR(#REF!,0)*BE5","v":0},{"$f":"IFERROR(#REF!,0)*BI5","v":0},{"$f":"IFERROR(#REF!,0)*BI5","v":0},{"$f":"IFERROR(#REF!,0)*BI5","v":0},{"$f":"IFERROR(#REF!,0)*BI5","v":0},{"$f":"IFERROR(#REF!,0)*BM5","v":0},{"$f":"IFERROR(#REF!,0)*BM5","v":0},{"$f":"IFERROR(#REF!,0)*BM5","v":0},{"$f":"IFERROR(#REF!,0)*BM5","v":0},{"$f":"IFERROR(#REF!,0)*BQ5","v":0},{"$f":"IFERROR(#REF!,0)*BQ5","v":0},{"$f":"IFERROR(#REF!,0)*BQ5","v":0},{"$f":"IFERROR(#REF!,0)*BQ5","v":0},{"$f":"IFERROR(#REF!,0)*BU5","v":0},{"$f":"IFERROR(#REF!,0)*BU5","v":0},{"$f":"IFERROR(#REF!,0)*BU5","v":0},{"$f":"IFERROR(#REF!,0)*BU5","v":0},{"$f":"IFERROR(#REF!,0)*BY5","v":0},{"$f":"IFERROR(#REF!,0)*BY5","v":0},{"$f":"IFERROR(#REF!,0)*BY5","v":0},{"$f":"IFERROR(#REF!,0)*BY5","v":0},{"$f":"IFERROR(#REF!,0)*CC5","v":0},{"$f":"IFERROR(#REF!,0)*CC5","v":0},{"$f":"IFERROR(#REF!,0)*CC5","v":0},{"$f":"IFERROR(#REF!,0)*CC5","v":0},{"$f":"IFERROR(#REF!,0)*CG5","v":0},{"$f":"IFERROR(#REF!,0)*CG5","v":0},{"$f":"IFERROR(#REF!,0)*CG5","v":0},{"$f":"IFERROR(#REF!,0)*CG5","v":0},{"$f":"IFERROR(#REF!,0)*CK5","v":0},{"$f":"IFERROR(#REF!,0)*CK5","v":0},{"$f":"IFERROR(#REF!,0)*CK5","v":0},{"$f":"IFERROR(#REF!,0)*CK5","v":0},{"$f":"IFERROR(#REF!,0)*CO5","v":0},{"$f":"IFERROR(#REF!,0)*CO5","v":0},{"$f":"IFERROR(#REF!,0)*CO5","v":0},{"$f":"IFERROR(#REF!,0)*CO5","v":0},{"$f":"IFERROR(#REF!,0)*CS5","v":0},{"$f":"IFERROR(#REF!,0)*CS5","v":0},{"$f":"IFERROR(#REF!,0)*CS5","v":0},{"$f":"IFERROR(#REF!,0)*CS5","v":0},{"$f":"IFERROR(#REF!,0)*CW5","v":0},{"$f":"IFERROR(#REF!,0)*CW5","v":0},{"$f":"IFERROR(#REF!,0)*CW5","v":0},{"$f":"IFERROR(#REF!,0)*CW5","v":0},{"$f":"IFERROR(#REF!,0)*DA5","v":0},{"$f":"IFERROR(#REF!,0)*DA5","v":0},{"$f":"IFERROR(#REF!,0)*DA5","v":0},{"$f":"IFERROR(#REF!,0)*DA5","v":0},{"$f":"IFERROR(#REF!,0)*DE5","v":0},{"$f":"IFERROR(#REF!,0)*DE5","v":0},{"$f":"IFERROR(#REF!,0)*DE5","v":0},{"$f":"IFERROR(#REF!,0)*DE5","v":0},{"$f":"IFERROR(#REF!,0)*DI5","v":0},{"$f":"IFERROR(#REF!,0)*DI5","v":0},{"$f":"IFERROR(#REF!,0)*DI5","v":0},{"$f":"IFERROR(#REF!,0)*DI5","v":0},{"$f":"IFERROR(#REF!,0)*DM5","v":0},{"$f":"IFERROR(#REF!,0)*DM5","v":0},{"$f":"IFERROR(#REF!,0)*DM5","v":0},{"$f":"IFERROR(#REF!,0)*DM5","v":0},{"$f":"IFERROR(#REF!,0)*DQ5","v":0},{"$f":"IFERROR(#REF!,0)*DQ5","v":0},{"$f":"IFERROR(#REF!,0)*DQ5","v":0},{"$f":"IFERROR(#REF!,0)*DQ5","v":0},{"$f":"IFERROR(#REF!,0)*DU5","v":0},{"$f":"IFERROR(#REF!,0)*DU5","v":0},{"$f":"IFERROR(#REF!,0)*DU5","v":0},{"$f":"IFERROR(#REF!,0)*DU5","v":0},{"$f":"IFERROR(#REF!,0)*DY5","v":0},{"$f":"IFERROR(#REF!,0)*DY5","v":0},{"$f":"IFERROR(#REF!,0)*DY5","v":0},{"$f":"IFERROR(#REF!,0)*DY5","v":0},{"$f":"IFERROR(#REF!,0)*EC5","v":0},{"$f":"IFERROR(#REF!,0)*EC5","v":0},{"$f":"IFERROR(#REF!,0)*EC5","v":0},{"$f":"IFERROR(#REF!,0)*EC5","v":0},{"$f":"IFERROR(#REF!,0)*EG5","v":0},{"$f":"IFERROR(#REF!,0)*EG5","v":0},{"$f":"IFERROR(#REF!,0)*EG5","v":0},{"$f":"IFERROR(#REF!,0)*EG5","v":0},{"$f":"IFERROR(#REF!,0)*EK5","v":0},{"$f":"IFERROR(#REF!,0)*EK5","v":0},{"$f":"IFERROR(#REF!,0)*EK5","v":0},{"$f":"IFERROR(#REF!,0)*EK5","v":0},{"$f":"IFERROR(#REF!,0)*EO5","v":0},{"$f":"IFERROR(#REF!,0)*EO5","v":0},{"$f":"IFERROR(#REF!,0)*EO5","v":0},{"$f":"IFERROR(#REF!,0)*EO5","v":0},{"$f":"IFERROR(#REF!,0)*ES5","v":0},{"$f":"IFERROR(#REF!,0)*ES5","v":0},{"$f":"IFERROR(#REF!,0)*ES5","v":0},{"$f":"IFERROR(#REF!,0)*ES5","v":0},{"$f":"IFERROR(#REF!,0)*EW5","v":0},{"$f":"IFERROR(#REF!,0)*EW5","v":0},{"$f":"IFERROR(#REF!,0)*EW5","v":0},{"$f":"IFERROR(#REF!,0)*EW5","v":0},{"$f":"IFERROR(#REF!,0)*FA5","v":0},{"$f":"IFERROR(#REF!,0)*FA5","v":0},{"$f":"IFERROR(#REF!,0)*FA5","v":0},{"$f":"IFERROR(#REF!,0)*FA5","v":0},{"$f":"IFERROR(#REF!,0)*FE5","v":0},{"$f":"IFERROR(#REF!,0)*FE5","v":0},{"$f":"IFERROR(#REF!,0)*FE5","v":0},{"$f":"IFERROR(#REF!,0)*FE5","v":0},{"$f":"IFERROR(#REF!,0)*FI5","v":0},{"$f":"IFERROR(#REF!,0)*FI5","v":0},{"$f":"IFERROR(#REF!,0)*FI5","v":0},{"$f":"IFERROR(#REF!,0)*FI5","v":0},{"$f":"IFERROR(#REF!,0)*FM5","v":0},{"$f":"IFERROR(#REF!,0)*FM5","v":0},{"$f":"IFERROR(#REF!,0)*FM5","v":0},{"$f":"IFERROR(#REF!,0)*FM5","v":0},{"$f":"IFERROR(#REF!,0)*FQ5","v":0},{"$f":"IFERROR(#REF!,0)*FQ5","v":0},{"$f":"IFERROR(#REF!,0)*FQ5","v":0},{"$f":"IFERROR(#REF!,0)*FQ5","v":0},{"$f":"IFERROR(#REF!,0)*FU5","v":0},{"$f":"IFERROR(#REF!,0)*FU5","v":0},{"$f":"IFERROR(#REF!,0)*FU5","v":0},{"$f":"IFERROR(#REF!,0)*FU5","v":0},{"$f":"IFERROR(#REF!,0)*FY5","v":0},{"$f":"IFERROR(#REF!,0)*FY5","v":0},{"$f":"IFERROR(#REF!,0)*FY5","v":0},{"$f":"IFERROR(#REF!,0)*FY5","v":0},{"$f":"IFERROR(#REF!,0)*GC5","v":0},{"$f":"IFERROR(#REF!,0)*GC5","v":0},{"$f":"IFERROR(#REF!,0)*GC5","v":0},{"$f":"IFERROR(#REF!,0)*GC5","v":0},{"$f":"IFERROR(#REF!,0)*GG5","v":0},{"$f":"IFERROR(#REF!,0)*GG5","v":0},{"$f":"IFERROR(#REF!,0)*GG5","v":0},{"$f":"IFERROR(#REF!,0)*GG5","v":0},{"$f":"IFERROR(#REF!,0)*GK5","v":0},{"$f":"IFERROR(#REF!,0)*GK5","v":0},{"$f":"IFERROR(#REF!,0)*GK5","v":0},{"$f":"IFERROR(#REF!,0)*GK5","v":0},{"$f":"IFERROR(#REF!,0)*GO5","v":0},{"$f":"IFERROR(#REF!,0)*GO5","v":0},{"$f":"IFERROR(#REF!,0)*GO5","v":0},{"$f":"IFERROR(#REF!,0)*GO5","v":0},{"$f":"IFERROR(#REF!,0)*GS5","v":0},{"$f":"IFERROR(#REF!,0)*GS5","v":0},{"$f":"IFERROR(#REF!,0)*GS5","v":0},{"$f":"IFERROR(#REF!,0)*GS5","v":0},{"v":0,"d":"0.00"},{"v":0,"d":"0.00"},{"v":0,"d":"0.00"},{"v":0,"d":"0.00"}]
[null,{"$f":"#REF!","v":{"$error":"#REF!"}},{"$f":"#REF!","v":{"$error":"#REF!"}},{"$f":"IFERROR(#REF!,0)*E5","v":0},{"$f":"IFERROR(#REF!,0)*E5","v":0},{"$f":"IFERROR(#REF!,0)*E5","v":0},{"$f":"IFERROR(#REF!,0)*E5","v":0},{"$f":"IFERROR(#REF!,0)*I5","v":0},{"$f":"IFERROR(#REF!,0)*I5","v":0},{"$f":"IFERROR(#REF!,0)*I5","v":0},{"$f":"IFERROR(#REF!,0)*I5","v":0},{"$f":"IFERROR(#REF!,0)*M5","v":0},{"$f":"IFERROR(#REF!,0)*M5","v":0},{"$f":"IFERROR(#REF!,0)*M5","v":0},{"$f":"IFERROR(#REF!,0)*M5","v":0},{"$f":"IFERROR(#REF!,0)*Q5","v":0},{"$f":"IFERROR(#REF!,0)*Q5","v":0},{"$f":"IFERROR(#REF!,0)*Q5","v":0},{"$f":"IFERROR(#REF!,0)*Q5","v":0},{"$f":"IFERROR(#REF!,0)*U5","v":0},{"$f":"IFERROR(#REF!,0)*U5","v":0},{"$f":"IFERROR(#REF!,0)*U5","v":0},{"$f":"IFERROR(#REF!,0)*U5","v":0},{"$f":"IFERROR(#REF!,0)*Y5","v":0},{"$f":"IFERROR(#REF!,0)*Y5","v":0},{"$f":"IFERROR(#REF!,0)*Y5","v":0},{"$f":"IFERROR(#REF!,0)*Y5","v":0},{"$f":"IFERROR(#REF!,0)*AC5","v":0},{"$f":"IFERROR(#REF!,0)*AC5","v":0},{"$f":"IFERROR(#REF!,0)*AC5","v":0},{"$f":"IFERROR(#REF!,0)*AC5","v":0},{"$f":"IFERROR(#REF!,0)*AG5","v":0},{"$f":"IFERROR(#REF!,0)*AG5","v":0},{"$f":"IFERROR(#REF!,0)*AG5","v":0},{"$f":"IFERROR(#REF!,0)*AG5","v":0},{"$f":"IFERROR(#REF!,0)*AK5","v":0},{"$f":"IFERROR(#REF!,0)*AK5","v":0},{"$f":"IFERROR(#REF!,0)*AK5","v":0},{"$f":"IFERROR(#REF!,0)*AK5","v":0},{"$f":"IFERROR(#REF!,0)*AO5","v":0},{"$f":"IFERROR(#REF!,0)*AO5","v":0},{"$f":"IFERROR(#REF!,0)*AO5","v":0},{"$f":"IFERROR(#REF!,0)*AO5","v":0},{"$f":"IFERROR(#REF!,0)*AS5","v":0},{"$f":"IFERROR(#REF!,0)*AS5","v":0},{"$f":"IFERROR(#REF!,0)*AS5","v":0},{"$f":"IFERROR(#REF!,0)*AS5","v":0},{"$f":"IFERROR(#REF!,0)*AW5","v":0},{"$f":"IFERROR(#REF!,0)*AW5","v":0},{"$f":"IFERROR(#REF!,0)*AW5","v":0},{"$f":"IFERROR(#REF!,0)*AW5","v":0},{"$f":"IFERROR(#REF!,0)*BA5","v":0},{"$f":"IFERROR(#REF!,0)*BA5","v":0},{"$f":"IFERROR(#REF!,0)*BA5","v":0},{"$f":"IFERROR(#REF!,0)*BA5","v":0},{"$f":"IFERROR(#REF!,0)*BE5","v":0},{"$f":"IFERROR(#REF!,0)*BE5","v":0},{"$f":"IFERROR(#REF!,0)*BE5","v":0},{"$f":"IFERROR(#REF!,0)*BE5","v":0},{"$f":"IFERROR(#REF!,0)*BI5","v":0},{"$f":"IFERROR(#REF!,0)*BI5","v":0},{"$f":"IFERROR(#REF!,0)*BI5","v":0},{"$f":"IFERROR(#REF!,0)*BI5","v":0},{"$f":"IFERROR(#REF!,0)*BM5","v":0},{"$f":"IFERROR(#REF!,0)*BM5","v":0},{"$f":"IFERROR(#REF!,0)*BM5","v":0},{"$f":"IFERROR(#REF!,0)*BM5","v":0},{"$f":"IFERROR(#REF!,0)*BQ5","v":0},{"$f":"IFERROR(#REF!,0)*BQ5","v":0},{"$f":"IFERROR(#REF!,0)*BQ5","v":0},{"$f":"IFERROR(#REF!,0)*BQ5","v":0},{"$f":"IFERROR(#REF!,0)*BU5","v":0},{"$f":"IFERROR(#REF!,0)*BU5","v":0},{"$f":"IFERROR(#REF!,0)*BU5","v":0},{"$f":"IFERROR(#REF!,0)*BU5","v":0},{"$f":"IFERROR(#REF!,0)*BY5","v":0},{"$f":"IFERROR(#REF!,0)*BY5","v":0},{"$f":"IFERROR(#REF!,0)*BY5","v":0},{"$f":"IFERROR(#REF!,0)*BY5","v":0},{"$f":"IFERROR(#REF!,0)*CC5","v":0},{"$f":"IFERROR(#REF!,0)*CC5","v":0},{"$f":"IFERROR(#REF!,0)*CC5","v":0},{"$f":"IFERROR(#REF!,0)*CC5","v":0},{"$f":"IFERROR(#REF!,0)*CG5","v":0},{"$f":"IFERROR(#REF!,0)*CG5","v":0},{"$f":"IFERROR(#REF!,0)*CG5","v":0},{"$f":"IFERROR(#REF!,0)*CG5","v":0},{"$f":"IFERROR(#REF!,0)*CK5","v":0},{"$f":"IFERROR(#REF!,0)*CK5","v":0},{"$f":"IFERROR(#REF!,0)*CK5","v":0},{"$f":"IFERROR(#REF!,0)*CK5","v":0},{"$f":"IFERROR(#REF!,0)*CO5","v":0},{"$f":"IFERROR(#REF!,0)*CO5","v":0},{"$f":"IFERROR(#REF!,0)*CO5","v":0},{"$f":"IFERROR(#REF!,0)*CO5","v":0},{"$f":"IFERROR(#REF!,0)*CS5","v":0},{"$f":"IFERROR(#REF!,0)*CS5","v":0},{"$f":"IFERROR(#REF!,0)*CS5","v":0},{"$f":"IFERROR(#REF!,0)*CS5","v":0},{"$f":"IFERROR(#REF!,0)*CW5","v":0},{"$f":"IFERROR(#REF!,0)*CW5","v":0},{"$f":"IFERROR(#REF!,0)*CW5","v":0},{"$f":"IFERROR(#REF!,0)*CW5","v":0},{"$f":"IFERROR(#REF!,0)*DA5","v":0},{"$f":"IFERROR(#REF!,0)*DA5","v":0},{"$f":"IFERROR(#REF!,0)*DA5","v":0},{"$f":"IFERROR(#REF!,0)*DA5","v":0},{"$f":"IFERROR(#REF!,0)*DE5","v":0},{"$f":"IFERROR(#REF!,0)*DE5","v":0},{"$f":"IFERROR(#REF!,0)*DE5","v":0},{"$f":"IFERROR(#REF!,0)*DE5","v":0},{"$f":"IFERROR(#REF!,0)*DI5","v":0},{"$f":"IFERROR(#REF!,0)*DI5","v":0},{"$f":"IFERROR(#REF!,0)*DI5","v":0},{"$f":"IFERROR(#REF!,0)*DI5","v":0},{"$f":"IFERROR(#REF!,0)*DM5","v":0},{"$f":"IFERROR(#REF!,0)*DM5","v":0},{"$f":"IFERROR(#REF!,0)*DM5","v":0},{"$f":"IFERROR(#REF!,0)*DM5","v":0},{"$f":"IFERROR(#REF!,0)*DQ5","v":0},{"$f":"IFERROR(#REF!,0)*DQ5","v":0},{"$f":"IFERROR(#REF!,0)*DQ5","v":0},{"$f":"IFERROR(#REF!,0)*DQ5","v":0},{"$f":"IFERROR(#REF!,0)*DU5","v":0},{"$f":"IFERROR(#REF!,0)*DU5","v":0},{"$f":"IFERROR(#REF!,0)*DU5","v":0},{"$f":"IFERROR(#REF!,0)*DU5","v":0},{"$f":"IFERROR(#REF!,0)*DY5","v":0},{"$f":"IFERROR(#REF!,0)*DY5","v":0},{"$f":"IFERROR(#REF!,0)*DY5","v":0},{"$f":"IFERROR(#REF!,0)*DY5","v":0},{"$f":"IFERROR(#REF!,0)*EC5","v":0},{"$f":"IFERROR(#REF!,0)*EC5","v":0},{"$f":"IFERROR(#REF!,0)*EC5","v":0},{"$f":"IFERROR(#REF!,0)*EC5","v":0},{"$f":"IFERROR(#REF!,0)*EG5","v":0},{"$f":"IFERROR(#REF!,0)*EG5","v":0},{"$f":"IFERROR(#REF!,0)*EG5","v":0},{"$f":"IFERROR(#REF!,0)*EG5","v":0},{"$f":"IFERROR(#REF!,0)*EK5","v":0},{"$f":"IFERROR(#REF!,0)*EK5","v":0},{"$f":"IFERROR(#REF!,0)*EK5","v":0},{"$f":"IFERROR(#REF!,0)*EK5","v":0},{"$f":"IFERROR(#REF!,0)*EO5","v":0},{"$f":"IFERROR(#REF!,0)*EO5","v":0},{"$f":"IFERROR(#REF!,0)*EO5","v":0},{"$f":"IFERROR(#REF!,0)*EO5","v":0},{"$f":"IFERROR(#REF!,0)*ES5","v":0},{"$f":"IFERROR(#REF!,0)*ES5","v":0},{"$f":"IFERROR(#REF!,0)*ES5","v":0},{"$f":"IFERROR(#REF!,0)*ES5","v":0},{"$f":"IFERROR(#REF!,0)*EW5","v":0},{"$f":"IFERROR(#REF!,0)*EW5","v":0},{"$f":"IFERROR(#REF!,0)*EW5","v":0},{"$f":"IFERROR(#REF!,0)*EW5","v":0},{"$f":"IFERROR(#REF!,0)*FA5","v":0},{"$f":"IFERROR(#REF!,0)*FA5","v":0},{"$f":"IFERROR(#REF!,0)*FA5","v":0},{"$f":"IFERROR(#REF!,0)*FA5","v":0},{"$f":"IFERROR(#REF!,0)*FE5","v":0},{"$f":"IFERROR(#REF!,0)*FE5","v":0},{"$f":"IFERROR(#REF!,0)*FE5","v":0},{"$f":"IFERROR(#REF!,0)*FE5","v":0},{"$f":"IFERROR(#REF!,0)*FI5","v":0},{"$f":"IFERROR(#REF!,0)*FI5","v":0},{"$f":"IFERROR(#REF!,0)*FI5","v":0},{"$f":"IFERROR(#REF!,0)*FI5","v":0},{"$f":"IFERROR(#REF!,0)*FM5","v":0},{"$f":"IFERROR(#REF!,0)*FM5","v":0},{"$f":"IFERROR(#REF!,0)*FM5","v":0},{"$f":"IFERROR(#REF!,0)*FM5","v":0},{"$f":"IFERROR(#REF!,0)*FQ5","v":0},{"$f":"IFERROR(#REF!,0)*FQ5","v":0},{"$f":"IFERROR(#REF!,0)*FQ5","v":0},{"$f":"IFERROR(#REF!,0)*FQ5","v":0},{"$f":"IFERROR(#REF!,0)*FU5","v":0},{"$f":"IFERROR(#REF!,0)*FU5","v":0},{"$f":"IFERROR(#REF!,0)*FU5","v":0},{"$f":"IFERROR(#REF!,0)*FU5","v":0},{"$f":"IFERROR(#REF!,0)*FY5","v":0},{"$f":"IFERROR(#REF!,0)*FY5","v":0},{"$f":"IFERROR(#REF!,0)*FY5","v":0},{"$f":"IFERROR(#REF!,0)*FY5","v":0},{"$f":"IFERROR(#REF!,0)*GC5","v":0},{"$f":"IFERROR(#REF!,0)*GC5","v":0},{"$f":"IFERROR(#REF!,0)*GC5","v":0},{"$f":"IFERROR(#REF!,0)*GC5","v":0},{"$f":"IFERROR(#REF!,0)*GG5","v":0},{"$f":"IFERROR(#REF!,0)*GG5","v":0},{"$f":"IFERROR(#REF!,0)*GG5","v":0},{"$f":"IFERROR(#REF!,0)*GG5","v":0},{"$f":"IFERROR(#REF!,0)*GK5","v":0},{"$f":"IFERROR(#REF!,0)*GK5","v":0},{"$f":"IFERROR(#REF!,0)*GK5","v":0},{"$f":"IFERROR(#REF!,0)*GK5","v":0},{"$f":"IFERROR(#REF!,0)*GO5","v":0},{"$f":"IFERROR(#REF!,0)*GO5","v":0},{"$f":"IFERROR(#REF!,0)*GO5","v":0},{"$f":"IFERROR(#REF!,0)*GO5","v":0},{"$f":"IFERROR(#REF!,0)*GS5","v":0},{"$f":"IFERROR(#REF!,0)*GS5","v":0},{"$f":"IFERROR(#REF!,0)*GS5","v":0},{"$f":"IFERROR(#REF!,0)*GS5","v":0},{"v":0,"d":"0.00"},{"v":0,"d":"0.00"},{"v":0,"d":"0.00"},{"v":0,"d":"0.00"}]
[null,{"$f":"#REF!","v":{"$error":"#REF!"}},{"$f":"#REF!","v":{"$error":"#REF!"}},{"$f":"IFERROR(#REF!,0)*E5","v":0},{"$f":"IFERROR(#REF!,0)*E5","v":0},{"$f":"IFERROR(#REF!,0)*E5","v":0},{"$f":"IFERROR(#REF!,0)*E5","v":0},{"$f":"IFERROR(#REF!,0)*I5","v":0},{"$f":"IFERROR(#REF!,0)*I5","v":0},{"$f":"IFERROR(#REF!,0)*I5","v":0},{"$f":"IFERROR(#REF!,0)*I5","v":0},{"$f":"IFERROR(#REF!,0)*M5","v":0},{"$f":"IFERROR(#REF!,0)*M5","v":0},{"$f":"IFERROR(#REF!,0)*M5","v":0},{"$f":"IFERROR(#REF!,0)*M5","v":0},{"$f":"IFERROR(#REF!,0)*Q5","v":0},{"$f":"IFERROR(#REF!,0)*Q5","v":0},{"$f":"IFERROR(#REF!,0)*Q5","v":0},{"$f":"IFERROR(#REF!,0)*Q5","v":0},{"$f":"IFERROR(#REF!,0)*U5","v":0},{"$f":"IFERROR(#REF!,0)*U5","v":0},{"$f":"IFERROR(#REF!,0)*U5","v":0},{"$f":"IFERROR(#REF!,0)*U5","v":0},{"$f":"IFERROR(#REF!,0)*Y5","v":0},{"$f":"IFERROR(#REF!,0)*Y5","v":0},{"$f":"IFERROR(#REF!,0)*Y5","v":0},{"$f":"IFERROR(#REF!,0)*Y5","v":0},{"$f":"IFERROR(#REF!,0)*AC5","v":0},{"$f":"IFERROR(#REF!,0)*AC5","v":0},{"$f":"IFERROR(#REF!,0)*AC5","v":0},{"$f":"IFERROR(#REF!,0)*AC5","v":0},{"$f":"IFERROR(#REF!,0)*AG5","v":0},{"$f":"IFERROR(#REF!,0)*AG5","v":0},{"$f":"IFERROR(#REF!,0)*AG5","v":0},{"$f":"IFERROR(#REF!,0)*AG5","v":0},{"$f":"IFERROR(#REF!,0)*AK5","v":0},{"$f":"IFERROR(#REF!,0)*AK5","v":0},{"$f":"IFERROR(#REF!,0)*AK5","v":0},{"$f":"IFERROR(#REF!,0)*AK5","v":0},{"$f":"IFERROR(#REF!,0)*AO5","v":0},{"$f":"IFERROR(#REF!,0)*AO5","v":0},{"$f":"IFERROR(#REF!,0)*AO5","v":0},{"$f":"IFERROR(#REF!,0)*AO5","v":0},{"$f":"IFERROR(#REF!,0)*AS5","v":0},{"$f":"IFERROR(#REF!,0)*AS5","v":0},{"$f":"IFERROR(#REF!,0)*AS5","v":0},{"$f":"IFERROR(#REF!,0)*AS5","v":0},{"$f":"IFERROR(#REF!,0)*AW5","v":0},{"$f":"IFERROR(#REF!,0)*AW5","v":0},{"$f":"IFERROR(#REF!,0)*AW5","v":0},{"$f":"IFERROR(#REF!,0)*AW5","v":0},{"$f":"IFERROR(#REF!,0)*BA5","v":0},{"$f":"IFERROR(#REF!,0)*BA5","v":0},{"$f":"IFERROR(#REF!,0)*BA5","v":0},{"$f":"IFERROR(#REF!,0)*BA5","v":0},{"$f":"IFERROR(#REF!,0)*BE5","v":0},{"$f":"IFERROR(#REF!,0)*BE5","v":0},{"$f":"IFERROR(#REF!,0)*BE5","v":0},{"$f":"IFERROR(#REF!,0)*BE5","v":0},{"$f":"IFERROR(#REF!,0)*BI5","v":0},{"$f":"IFERROR(#REF!,0)*BI5","v":0},{"$f":"IFERROR(#REF!,0)*BI5","v":0},{"$f":"IFERROR(#REF!,0)*BI5","v":0},{"$f":"IFERROR(#REF!,0)*BM5","v":0},{"$f":"IFERROR(#REF!,0)*BM5","v":0},{"$f":"IFERROR(#REF!,0)*BM5","v":0},{"$f":"IFERROR(#REF!,0)*BM5","v":0},{"$f":"IFERROR(#REF!,0)*BQ5","v":0},{"$f":"IFERROR(#REF!,0)*BQ5","v":0},{"$f":"IFERROR(#REF!,0)*BQ5","v":0},{"$f":"IFERROR(#REF!,0)*BQ5","v":0},{"$f":"IFERROR(#REF!,0)*BU5","v":0},{"$f":"IFERROR(#REF!,0)*BU5","v":0},{"$f":"IFERROR(#REF!,0)*BU5","v":0},{"$f":"IFERROR(#REF!,0)*BU5","v":0},{"$f":"IFERROR(#REF!,0)*BY5","v":0},{"$f":"IFERROR(#REF!,0)*BY5","v":0},{"$f":"IFERROR(#REF!,0)*BY5","v":0},{"$f":"IFERROR(#REF!,0)*BY5","v":0},{"$f":"IFERROR(#REF!,0)*CC5","v":0},{"$f":"IFERROR(#REF!,0)*CC5","v":0},{"$f":"IFERROR(#REF!,0)*CC5","v":0},{"$f":"IFERROR(#REF!,0)*CC5","v":0},{"$f":"IFERROR(#REF!,0)*CG5","v":0},{"$f":"IFERROR(#REF!,0)*CG5","v":0},{"$f":"IFERROR(#REF!,0)*CG5","v":0},{"$f":"IFERROR(#REF!,0)*CG5","v":0},{"$f":"IFERROR(#REF!,0)*CK5","v":0},{"$f":"IFERROR(#REF!,0)*CK5","v":0},{"$f":"IFERROR(#REF!,0)*CK5","v":0},{"$f":"IFERROR(#REF!,0)*CK5","v":0},{"$f":"IFERROR(#REF!,0)*CO5","v":0},{"$f":"IFERROR(#REF!,0)*CO5","v":0},{"$f":"IFERROR(#REF!,0)*CO5","v":0},{"$f":"IFERROR(#REF!,0)*CO5","v":0},{"$f":"IFERROR(#REF!,0)*CS5","v":0},{"$f":"IFERROR(#REF!,0)*CS5","v":0},{"$f":"IFERROR(#REF!,0)*CS5","v":0},{"$f":"IFERROR(#REF!,0)*CS5","v":0},{"$f":"IFERROR(#REF!,0)*CW5","v":0},{"$f":"IFERROR(#REF!,0)*CW5","v":0},{"$f":"IFERROR(#REF!,0)*CW5","v":0},{"$f":"IFERROR(#REF!,0)*CW5","v":0},{"$f":"IFERROR(#REF!,0)*DA5","v":0},{"$f":"IFERROR(#REF!,0)*DA5","v":0},{"$f":"IFERROR(#REF!,0)*DA5","v":0},{"$f":"IFERROR(#REF!,0)*DA5","v":0},{"$f":"IFERROR(#REF!,0)*DE5","v":0},{"$f":"IFERROR(#REF!,0)*DE5","v":0},{"$f":"IFERROR(#REF!,0)*DE5","v":0},{"$f":"IFERROR(#REF!,0)*DE5","v":0},{"$f":"IFERROR(#REF!,0)*DI5","v":0},{"$f":"IFERROR(#REF!,0)*DI5","v":0},{"$f":"IFERROR(#REF!,0)*DI5","v":0},{"$f":"IFERROR(#REF!,0)*DI5","v":0},{"$f":"IFERROR(#REF!,0)*DM5","v":0},{"$f":"IFERROR(#REF!,0)*DM5","v":0},{"$f":"IFERROR(#REF!,0)*DM5","v":0},{"$f":"IFERROR(#REF!,0)*DM5","v":0},{"$f":"IFERROR(#REF!,0)*DQ5","v":0},{"$f":"IFERROR(#REF!,0)*DQ5","v":0},{"$f":"IFERROR(#REF!,0)*DQ5","v":0},{"$f":"IFERROR(#REF!,0)*DQ5","v":0},{"$f":"IFERROR(#REF!,0)*DU5","v":0},{"$f":"IFERROR(#REF!,0)*DU5","v":0},{"$f":"IFERROR(#REF!,0)*DU5","v":0},{"$f":"IFERROR(#REF!,0)*DU5","v":0},{"$f":"IFERROR(#REF!,0)*DY5","v":0},{"$f":"IFERROR(#REF!,0)*DY5","v":0},{"$f":"IFERROR(#REF!,0)*DY5","v":0},{"$f":"IFERROR(#REF!,0)*DY5","v":0},{"$f":"IFERROR(#REF!,0)*EC5","v":0},{"$f":"IFERROR(#REF!,0)*EC5","v":0},{"$f":"IFERROR(#REF!,0)*EC5","v":0},{"$f":"IFERROR(#REF!,0)*EC5","v":0},{"$f":"IFERROR(#REF!,0)*EG5","v":0},{"$f":"IFERROR(#REF!,0)*EG5","v":0},{"$f":"IFERROR(#REF!,0)*EG5","v":0},{"$f":"IFERROR(#REF!,0)*EG5","v":0},{"$f":"IFERROR(#REF!,0)*EK5","v":0},{"$f":"IFERROR(#REF!,0)*EK5","v":0},{"$f":"IFERROR(#REF!,0)*EK5","v":0},{"$f":"IFERROR(#REF!,0)*EK5","v":0},{"$f":"IFERROR(#REF!,0)*EO5","v":0},{"$f":"IFERROR(#REF!,0)*EO5","v":0},{"$f":"IFERROR(#REF!,0)*EO5","v":0},{"$f":"IFERROR(#REF!,0)*EO5","v":0},{"$f":"IFERROR(#REF!,0)*ES5","v":0},{"$f":"IFERROR(#REF!,0)*ES5","v":0},{"$f":"IFERROR(#REF!,0)*ES5","v":0},{"$f":"IFERROR(#REF!,0)*ES5","v":0},{"$f":"IFERROR(#REF!,0)*EW5","v":0},{"$f":"IFERROR(#REF!,0)*EW5","v":0},{"$f":"IFERROR(#REF!,0)*EW5","v":0},{"$f":"IFERROR(#REF!,0)*EW5","v":0},{"$f":"IFERROR(#REF!,0)*FA5","v":0},{"$f":"IFERROR(#REF!,0)*FA5","v":0},{"$f":"IFERROR(#REF!,0)*FA5","v":0},{"$f":"IFERROR(#REF!,0)*FA5","v":0},{"$f":"IFERROR(#REF!,0)*FE5","v":0},{"$f":"IFERROR(#REF!,0)*FE5","v":0},{"$f":"IFERROR(#REF!,0)*FE5","v":0},{"$f":"IFERROR(#REF!,0)*FE5","v":0},{"$f":"IFERROR(#REF!,0)*FI5","v":0},{"$f":"IFERROR(#REF!,0)*FI5","v":0},{"$f":"IFERROR(#REF!,0)*FI5","v":0},{"$f":"IFERROR(#REF!,0)*FI5","v":0},{"$f":"IFERROR(#REF!,0)*FM5","v":0},{"$f":"IFERROR(#REF!,0)*FM5","v":0},{"$f":"IFERROR(#REF!,0)*FM5","v":0},{"$f":"IFERROR(#REF!,0)*FM5","v":0},{"$f":"IFERROR(#REF!,0)*FQ5","v":0},{"$f":"IFERROR(#REF!,0)*FQ5","v":0},{"$f":"IFERROR(#REF!,0)*FQ5","v":0},{"$f":"IFERROR(#REF!,0)*FQ5","v":0},{"$f":"IFERROR(#REF!,0)*FU5","v":0},{"$f":"IFERROR(#REF!,0)*FU5","v":0},{"$f":"IFERROR(#REF!,0)*FU5","v":0},{"$f":"IFERROR(#REF!,0)*FU5","v":0},{"$f":"IFERROR(#REF!,0)*FY5","v":0},{"$f":"IFERROR(#REF!,0)*FY5","v":0},{"$f":"IFERROR(#REF!,0)*FY5","v":0},{"$f":"IFERROR(#REF!,0)*FY5","v":0},{"$f":"IFERROR(#REF!,0)*GC5","v":0},{"$f":"IFERROR(#REF!,0)*GC5","v":0},{"$f":"IFERROR(#REF!,0)*GC5","v":0},{"$f":"IFERROR(#REF!,0)*GC5","v":0},{"$f":"IFERROR(#REF!,0)*GG5","v":0},{"$f":"IFERROR(#REF!,0)*GG5","v":0},{"$f":"IFERROR(#REF!,0)*GG5","v":0},{"$f":"IFERROR(#REF!,0)*GG5","v":0},{"$f":"IFERROR(#REF!,0)*GK5","v":0},{"$f":"IFERROR(#REF!,0)*GK5","v":0},{"$f":"IFERROR(#REF!,0)*GK5","v":0},{"$f":"IFERROR(#REF!,0)*GK5","v":0},{"$f":"IFERROR(#REF!,0)*GO5","v":0},{"$f":"IFERROR(#REF!,0)*GO5","v":0},{"$f":"IFERROR(#REF!,0)*GO5","v":0},{"$f":"IFERROR(#REF!,0)*GO5","v":0},{"$f":"IFERROR(#REF!,0)*GS5","v":0},{"$f":"IFERROR(#REF!,0)*GS5","v":0},{"$f":"IFERROR(#REF!,0)*GS5","v":0},{"$f":"IFERROR(#REF!,0)*GS5","v":0},{"v":0,"d":"0.00"},{"v":0,"d":"0.00"},{"v":0,"d":"0.00"},{"v":0,"d":"0.00"}]
[null,{"$f":"#REF!","v":{"$error":"#REF!"}},{"$f":"#REF!","v":{"$error":"#REF!"}},{"$f":"IFERROR(#REF!,0)*E5","v":0},{"$f":"IFERROR(#REF!,0)*E5","v":0},{"$f":"IFERROR(#REF!,0)*E5","v":0},{"$f":"IFERROR(#REF!,0)*E5","v":0},{"$f":"IFERROR(#REF!,0)*I5","v":0},{"$f":"IFERROR(#REF!,0)*I5","v":0},{"$f":"IFERROR(#REF!,0)*I5","v":0},{"$f":"IFERROR(#REF!,0)*I5","v":0},{"$f":"IFERROR(#REF!,0)*M5","v":0},{"$f":"IFERROR(#REF!,0)*M5","v":0},{"$f":"IFERROR(#REF!,0)*M5","v":0},{"$f":"IFERROR(#REF!,0)*M5","v":0},{"$f":"IFERROR(#REF!,0)*Q5","v":0},{"$f":"IFERROR(#REF!,0)*Q5","v":0},{"$f":"IFERROR(#REF!,0)*Q5","v":0},{"$f":"IFERROR(#REF!,0)*Q5","v":0},{"$f":"IFERROR(#REF!,0)*U5","v":0},{"$f":"IFERROR(#REF!,0)*U5","v":0},{"$f":"IFERROR(#REF!,0)*U5","v":0},{"$f":"IFERROR(#REF!,0)*U5","v":0},{"$f":"IFERROR(#REF!,0)*Y5","v":0},{"$f":"IFERROR(#REF!,0)*Y5","v":0},{"$f":"IFERROR(#REF!,0)*Y5","v":0},{"$f":"IFERROR(#REF!,0)*Y5","v":0},{"$f":"IFERROR(#REF!,0)*AC5","v":0},{"$f":"IFERROR(#REF!,0)*AC5","v":0},{"$f":"IFERROR(#REF!,0)*AC5","v":0},{"$f":"IFERROR(#REF!,0)*AC5","v":0},{"$f":"IFERROR(#REF!,0)*AG5","v":0},{"$f":"IFERROR(#REF!,0)*AG5","v":0},{"$f":"IFERROR(#REF!,0)*AG5","v":0},{"$f":"IFERROR(#REF!,0)*AG5","v":0},{"$f":"IFERROR(#REF!,0)*AK5","v":0},{"$f":"IFERROR(#REF!,0)*AK5","v":0},{"$f":"IFERROR(#REF!,0)*AK5","v":0},{"$f":"IFERROR(#REF!,0)*AK5","v":0},{"$f":"IFERROR(#REF!,0)*AO5","v":0},{"$f":"IFERROR(#REF!,0)*AO5","v":0},{"$f":"IFERROR(#REF!,0)*AO5","v":0},{"$f":"IFERROR(#REF!,0)*AO5","v":0},{"$f":"IFERROR(#REF!,0)*AS5","v":0},{"$f":"IFERROR(#REF!,0)*AS5","v":0},{"$f":"IFERROR(#REF!,0)*AS5","v":0},{"$f":"IFERROR(#REF!,0)*AS5","v":0},{"$f":"IFERROR(#REF!,0)*AW5","v":0},{"$f":"IFERROR(#REF!,0)*AW5","v":0},{"$f":"IFERROR(#REF!,0)*AW5","v":0},{"$f":"IFERROR(#REF!,0)*AW5","v":0},{"$f":"IFERROR(#REF!,0)*BA5","v":0},{"$f":"IFERROR(#REF!,0)*BA5","v":0},{"$f":"IFERROR(#REF!,0)*BA5","v":0},{"$f":"IFERROR(#REF!,0)*BA5","v":0},{"$f":"IFERROR(#REF!,0)*BE5","v":0},{"$f":"IFERROR(#REF!,0)*BE5","v":0},{"$f":"IFERROR(#REF!,0)*BE5","v":0},{"$f":"IFERROR(#REF!,0)*BE5","v":0},{"$f":"IFERROR(#REF!,0)*BI5","v":0},{"$f":"IFERROR(#REF!,0)*BI5","v":0},{"$f":"IFERROR(#REF!,0)*BI5","v":0},{"$f":"IFERROR(#REF!,0)*BI5","v":0},{"$f":"IFERROR(#REF!,0)*BM5","v":0},{"$f":"IFERROR(#REF!,0)*BM5","v":0},{"$f":"IFERROR(#REF!,0)*BM5","v":0},{"$f":"IFERROR(#REF!,0)*BM5","v":0},{"$f":"IFERROR(#REF!,0)*BQ5","v":0},{"$f":"IFERROR(#REF!,0)*BQ5","v":0},{"$f":"IFERROR(#REF!,0)*BQ5","v":0},{"$f":"IFERROR(#REF!,0)*BQ5","v":0},{"$f":"IFERROR(#REF!,0)*BU5","v":0},{"$f":"IFERROR(#REF!,0)*BU5","v":0},{"$f":"IFERROR(#REF!,0)*BU5","v":0},{"$f":"IFERROR(#REF!,0)*BU5","v":0},{"$f":"IFERROR(#REF!,0)*BY5","v":0},{"$f":"IFERROR(#REF!,0)*BY5","v":0},{"$f":"IFERROR(#REF!,0)*BY5","v":0},{"$f":"IFERROR(#REF!,0)*BY5","v":0},{"$f":"IFERROR(#REF!,0)*CC5","v":0},{"$f":"IFERROR(#REF!,0)*CC5","v":0},{"$f":"IFERROR(#REF!,0)*CC5","v":0},{"$f":"IFERROR(#REF!,0)*CC5","v":0},{"$f":"IFERROR(#REF!,0)*CG5","v":0},{"$f":"IFERROR(#REF!,0)*CG5","v":0},{"$f":"IFERROR(#REF!,0)*CG5","v":0},{"$f":"IFERROR(#REF!,0)*CG5","v":0},{"$f":"IFERROR(#REF!,0)*CK5","v":0},{"$f":"IFERROR(#REF!,0)*CK5","v":0},{"$f":"IFERROR(#REF!,0)*CK5","v":0},{"$f":"IFERROR(#REF!,0)*CK5","v":0},{"$f":"IFERROR(#REF!,0)*CO5","v":0},{"$f":"IFERROR(#REF!,0)*CO5","v":0},{"$f":"IFERROR(#REF!,0)*CO5","v":0},{"$f":"IFERROR(#REF!,0)*CO5","v":0},{"$f":"IFERROR(#REF!,0)*CS5","v":0},{"$f":"IFERROR(#REF!,0)*CS5","v":0},{"$f":"IFERROR(#REF!,0)*CS5","v":0},{"$f":"IFERROR(#REF!,0)*CS5","v":0},{"$f":"IFERROR(#REF!,0)*CW5","v":0},{"$f":"IFERROR(#REF!,0)*CW5","v":0},{"$f":"IFERROR(#REF!,0)*CW5","v":0},{"$f":"IFERROR(#REF!,0)*CW5","v":0},{"$f":"IFERROR(#REF!,0)*DA5","v":0},{"$f":"IFERROR(#REF!,0)*DA5","v":0},{"$f":"IFERROR(#REF!,0)*DA5","v":0},{"$f":"IFERROR(#REF!,0)*DA5","v":0},{"$f":"IFERROR(#REF!,0)*DE5","v":0},{"$f":"IFERROR(#REF!,0)*DE5","v":0},{"$f":"IFERROR(#REF!,0)*DE5","v":0},{"$f":"IFERROR(#REF!,0)*DE5","v":0},{"$f":"IFERROR(#REF!,0)*DI5","v":0},{"$f":"IFERROR(#REF!,0)*DI5","v":0},{"$f":"IFERROR(#REF!,0)*DI5","v":0},{"$f":"IFERROR(#REF!,0)*DI5","v":0},{"$f":"IFERROR(#REF!,0)*DM5","v":0},{"$f":"IFERROR(#REF!,0)*DM5","v":0},{"$f":"IFERROR(#REF!,0)*DM5","v":0},{"$f":"IFERROR(#REF!,0)*DM5","v":0},{"$f":"IFERROR(#REF!,0)*DQ5","v":0},{"$f":"IFERROR(#REF!,0)*DQ5","v":0},{"$f":"IFERROR(#REF!,0)*DQ5","v":0},{"$f":"IFERROR(#REF!,0)*DQ5","v":0},{"$f":"IFERROR(#REF!,0)*DU5","v":0},{"$f":"IFERROR(#REF!,0)*DU5","v":0},{"$f":"IFERROR(#REF!,0)*DU5","v":0},{"$f":"IFERROR(#REF!,0)*DU5","v":0},{"$f":"IFERROR(#REF!,0)*DY5","v":0},{"$f":"IFERROR(#REF!,0)*DY5","v":0},{"$f":"IFERROR(#REF!,0)*DY5","v":0},{"$f":"IFERROR(#REF!,0)*DY5","v":0},{"$f":"IFERROR(#REF!,0)*EC5","v":0},{"$f":"IFERROR(#REF!,0)*EC5","v":0},{"$f":"IFERROR(#REF!,0)*EC5","v":0},{"$f":"IFERROR(#REF!,0)*EC5","v":0},{"$f":"IFERROR(#REF!,0)*EG5","v":0},{"$f":"IFERROR(#REF!,0)*EG5","v":0},{"$f":"IFERROR(#REF!,0)*EG5","v":0},{"$f":"IFERROR(#REF!,0)*EG5","v":0},{"$f":"IFERROR(#REF!,0)*EK5","v":0},{"$f":"IFERROR(#REF!,0)*EK5","v":0},{"$f":"IFERROR(#REF!,0)*EK5","v":0},{"$f":"IFERROR(#REF!,0)*EK5","v":0},{"$f":"IFERROR(#REF!,0)*EO5","v":0},{"$f":"IFERROR(#REF!,0)*EO5","v":0},{"$f":"IFERROR(#REF!,0)*EO5","v":0},{"$f":"IFERROR(#REF!,0)*EO5","v":0},{"$f":"IFERROR(#REF!,0)*ES5","v":0},{"$f":"IFERROR(#REF!,0)*ES5","v":0},{"$f":"IFERROR(#REF!,0)*ES5","v":0},{"$f":"IFERROR(#REF!,0)*ES5","v":0},{"$f":"IFERROR(#REF!,0)*EW5","v":0},{"$f":"IFERROR(#REF!,0)*EW5","v":0},{"$f":"IFERROR(#REF!,0)*EW5","v":0},{"$f":"IFERROR(#REF!,0)*EW5","v":0},{"$f":"IFERROR(#REF!,0)*FA5","v":0},{"$f":"IFERROR(#REF!,0)*FA5","v":0},{"$f":"IFERROR(#REF!,0)*FA5","v":0},{"$f":"IFERROR(#REF!,0)*FA5","v":0},{"$f":"IFERROR(#REF!,0)*FE5","v":0},{"$f":"IFERROR(#REF!,0)*FE5","v":0},{"$f":"IFERROR(#REF!,0)*FE5","v":0},{"$f":"IFERROR(#REF!,0)*FE5","v":0},{"$f":"IFERROR(#REF!,0)*FI5","v":0},{"$f":"IFERROR(#REF!,0)*FI5","v":0},{"$f":"IFERROR(#REF!,0)*FI5","v":0},{"$f":"IFERROR(#REF!,0)*FI5","v":0},{"$f":"IFERROR(#REF!,0)*FM5","v":0},{"$f":"IFERROR(#REF!,0)*FM5","v":0},{"$f":"IFERROR(#REF!,0)*FM5","v":0},{"$f":"IFERROR(#REF!,0)*FM5","v":0},{"$f":"IFERROR(#REF!,0)*FQ5","v":0},{"$f":"IFERROR(#REF!,0)*FQ5","v":0},{"$f":"IFERROR(#REF!,0)*FQ5","v":0},{"$f":"IFERROR(#REF!,0)*FQ5","v":0},{"$f":"IFERROR(#REF!,0)*FU5","v":0},{"$f":"IFERROR(#REF!,0)*FU5","v":0},{"$f":"IFERROR(#REF!,0)*FU5","v":0},{"$f":"IFERROR(#REF!,0)*FU5","v":0},{"$f":"IFERROR(#REF!,0)*FY5","v":0},{"$f":"IFERROR(#REF!,0)*FY5","v":0},{"$f":"IFERROR(#REF!,0)*FY5","v":0},{"$f":"IFERROR(#REF!,0)*FY5","v":0},{"$f":"IFERROR(#REF!,0)*GC5","v":0},{"$f":"IFERROR(#REF!,0)*GC5","v":0},{"$f":"IFERROR(#REF!,0)*GC5","v":0},{"$f":"IFERROR(#REF!,0)*GC5","v":0},{"$f":"IFERROR(#REF!,0)*GG5","v":0},{"$f":"IFERROR(#REF!,0)*GG5","v":0},{"$f":"IFERROR(#REF!,0)*GG5","v":0},{"$f":"IFERROR(#REF!,0)*GG5","v":0},{"$f":"IFERROR(#REF!,0)*GK5","v":0},{"$f":"IFERROR(#REF!,0)*GK5","v":0},{"$f":"IFERROR(#REF!,0)*GK5","v":0},{"$f":"IFERROR(#REF!,0)*GK5","v":0},{"$f":"IFERROR(#REF!,0)*GO5","v":0},{"$f":"IFERROR(#REF!,0)*GO5","v":0},{"$f":"IFERROR(#REF!,0)*GO5","v":0},{"$f":"IFERROR(#REF!,0)*GO5","v":0},{"$f":"IFERROR(#REF!,0)*GS5","v":0},{"$f":"IFERROR(#REF!,0)*GS5","v":0},{"$f":"IFERROR(#REF!,0)*GS5","v":0},{"$f":"IFERROR(#REF!,0)*GS5","v":0},{"v":0,"d":"0.00"},{"v":0,"d":"0.00"},{"v":0,"d":"0.00"},{"v":0,"d":"0.00"}]
[null,{"$f":"#REF!","v":{"$error":"#REF!"}},{"$f":"#REF!","v":{"$error":"#REF!"}},{"$f":"IFERROR(#REF!,0)*E5","v":0},{"$f":"IFERROR(#REF!,0)*E5","v":0},{"$f":"IFERROR(#REF!,0)*E5","v":0},{"$f":"IFERROR(#REF!,0)*E5","v":0},{"$f":"IFERROR(#REF!,0)*I5","v":0},{"$f":"IFERROR(#REF!,0)*I5","v":0},{"$f":"IFERROR(#REF!,0)*I5","v":0},{"$f":"IFERROR(#REF!,0)*I5","v":0},{"$f":"IFERROR(#REF!,0)*M5","v":0},{"$f":"IFERROR(#REF!,0)*M5","v":0},{"$f":"IFERROR(#REF!,0)*M5","v":0},{"$f":"IFERROR(#REF!,0)*M5","v":0},{"$f":"IFERROR(#REF!,0)*Q5","v":0},{"$f":"IFERROR(#REF!,0)*Q5","v":0},{"$f":"IFERROR(#REF!,0)*Q5","v":0},{"$f":"IFERROR(#REF!,0)*Q5","v":0},{"$f":"IFERROR(#REF!,0)*U5","v":0},{"$f":"IFERROR(#REF!,0)*U5","v":0},{"$f":"IFERROR(#REF!,0)*U5","v":0},{"$f":"IFERROR(#REF!,0)*U5","v":0},{"$f":"IFERROR(#REF!,0)*Y5","v":0},{"$f":"IFERROR(#REF!,0)*Y5","v":0},{"$f":"IFERROR(#REF!,0)*Y5","v":0},{"$f":"IFERROR(#REF!,0)*Y5","v":0},{"$f":"IFERROR(#REF!,0)*AC5","v":0},{"$f":"IFERROR(#REF!,0)*AC5","v":0},{"$f":"IFERROR(#REF!,0)*AC5","v":0},{"$f":"IFERROR(#REF!,0)*AC5","v":0},{"$f":"IFERROR(#REF!,0)*AG5","v":0},{"$f":"IFERROR(#REF!,0)*AG5","v":0},{"$f":"IFERROR(#REF!,0)*AG5","v":0},{"$f":"IFERROR(#REF!,0)*AG5","v":0},{"$f":"IFERROR(#REF!,0)*AK5","v":0},{"$f":"IFERROR(#REF!,0)*AK5","v":0},{"$f":"IFERROR(#REF!,0)*AK5","v":0},{"$f":"IFERROR(#REF!,0)*AK5","v":0},{"$f":"IFERROR(#REF!,0)*AO5","v":0},{"$f":"IFERROR(#REF!,0)*AO5","v":0},{"$f":"IFERROR(#REF!,0)*AO5","v":0},{"$f":"IFERROR(#REF!,0)*AO5","v":0},{"$f":"IFERROR(#REF!,0)*AS5","v":0},{"$f":"IFERROR(#REF!,0)*AS5","v":0},{"$f":"IFERROR(#REF!,0)*AS5","v":0},{"$f":"IFERROR(#REF!,0)*AS5","v":0},{"$f":"IFERROR(#REF!,0)*AW5","v":0},{"$f":"IFERROR(#REF!,0)*AW5","v":0},{"$f":"IFERROR(#REF!,0)*AW5","v":0},{"$f":"IFERROR(#REF!,0)*AW5","v":0},{"$f":"IFERROR(#REF!,0)*BA5","v":0},{"$f":"IFERROR(#REF!,0)*BA5","v":0},{"$f":"IFERROR(#REF!,0)*BA5","v":0},{"$f":"IFERROR(#REF!,0)*BA5","v":0},{"$f":"IFERROR(#REF!,0)*BE5","v":0},{"$f":"IFERROR(#REF!,0)*BE5","v":0},{"$f":"IFERROR(#REF!,0)*BE5","v":0},{"$f":"IFERROR(#REF!,0)*BE5","v":0},{"$f":"IFERROR(#REF!,0)*BI5","v":0},{"$f":"IFERROR(#REF!,0)*BI5","v":0},{"$f":"IFERROR(#REF!,0)*BI5","v":0},{"$f":"IFERROR(#REF!,0)*BI5","v":0},{"$f":"IFERROR(#REF!,0)*BM5","v":0},{"$f":"IFERROR(#REF!,0)*BM5","v":0},{"$f":"IFERROR(#REF!,0)*BM5","v":0},{"$f":"IFERROR(#REF!,0)*BM5","v":0},{"$f":"IFERROR(#REF!,0)*BQ5","v":0},{"$f":"IFERROR(#REF!,0)*BQ5","v":0},{"$f":"IFERROR(#REF!,0)*BQ5","v":0},{"$f":"IFERROR(#REF!,0)*BQ5","v":0},{"$f":"IFERROR(#REF!,0)*BU5","v":0},{"$f":"IFERROR(#REF!,0)*BU5","v":0},{"$f":"IFERROR(#REF!,0)*BU5","v":0},{"$f":"IFERROR(#REF!,0)*BU5","v":0},{"$f":"IFERROR(#REF!,0)*BY5","v":0},{"$f":"IFERROR(#REF!,0)*BY5","v":0},{"$f":"IFERROR(#REF!,0)*BY5","v":0},{"$f":"IFERROR(#REF!,0)*BY5","v":0},{"$f":"IFERROR(#REF!,0)*CC5","v":0},{"$f":"IFERROR(#REF!,0)*CC5","v":0},{"$f":"IFERROR(#REF!,0)*CC5","v":0},{"$f":"IFERROR(#REF!,0)*CC5","v":0},{"$f":"IFERROR(#REF!,0)*CG5","v":0},{"$f":"IFERROR(#REF!,0)*CG5","v":0},{"$f":"IFERROR(#REF!,0)*CG5","v":0},{"$f":"IFERROR(#REF!,0)*CG5","v":0},{"$f":"IFERROR(#REF!,0)*CK5","v":0},{"$f":"IFERROR(#REF!,0)*CK5","v":0},{"$f":"IFERROR(#REF!,0)*CK5","v":0},{"$f":"IFERROR(#REF!,0)*CK5","v":0},{"$f":"IFERROR(#REF!,0)*CO5","v":0},{"$f":"IFERROR(#REF!,0)*CO5","v":0},{"$f":"IFERROR(#REF!,0)*CO5","v":0},{"$f":"IFERROR(#REF!,0)*CO5","v":0},{"$f":"IFERROR(#REF!,0)*CS5","v":0},{"$f":"IFERROR(#REF!,0)*CS5","v":0},{"$f":"IFERROR(#REF!,0)*CS5","v":0},{"$f":"IFERROR(#REF!,0)*CS5","v":0},{"$f":"IFERROR(#REF!,0)*CW5","v":0},{"$f":"IFERROR(#REF!,0)*CW5","v":0},{"$f":"IFERROR(#REF!,0)*CW5","v":0},{"$f":"IFERROR(#REF!,0)*CW5","v":0},{"$f":"IFERROR(#REF!,0)*DA5","v":0},{"$f":"IFERROR(#REF!,0)*DA5","v":0},{"$f":"IFERROR(#REF!,0)*DA5","v":0},{"$f":"IFERROR(#REF!,0)*DA5","v":0},{"$f":"IFERROR(#REF!,0)*DE5","v":0},{"$f":"IFERROR(#REF!,0)*DE5","v":0},{"$f":"IFERROR(#REF!,0)*DE5","v":0},{"$f":"IFERROR(#REF!,0)*DE5","v":0},{"$f":"IFERROR(#REF!,0)*DI5","v":0},{"$f":"IFERROR(#REF!,0)*DI5","v":0},{"$f":"IFERROR(#REF!,0)*DI5","v":0},{"$f":"IFERROR(#REF!,0)*DI5","v":0},{"$f":"IFERROR(#REF!,0)*DM5","v":0},{"$f":"IFERROR(#REF!,0)*DM5","v":0},{"$f":"IFERROR(#REF!,0)*DM5","v":0},{"$f":"IFERROR(#REF!,0)*DM5","v":0},{"$f":"IFERROR(#REF!,0)*DQ5","v":0},{"$f":"IFERROR(#REF!,0)*DQ5","v":0},{"$f":"IFERROR(#REF!,0)*DQ5","v":0},{"$f":"IFERROR(#REF!,0)*DQ5","v":0},{"$f":"IFERROR(#REF!,0)*DU5","v":0},{"$f":"IFERROR(#REF!,0)*DU5","v":0},{"$f":"IFERROR(#REF!,0)*DU5","v":0},{"$f":"IFERROR(#REF!,0)*DU5","v":0},{"$f":"IFERROR(#REF!,0)*DY5","v":0},{"$f":"IFERROR(#REF!,0)*DY5","v":0},{"$f":"IFERROR(#REF!,0)*DY5","v":0},{"$f":"IFERROR(#REF!,0)*DY5","v":0},{"$f":"IFERROR(#REF!,0)*EC5","v":0},{"$f":"IFERROR(#REF!,0)*EC5","v":0},{"$f":"IFERROR(#REF!,0)*EC5","v":0},{"$f":"IFERROR(#REF!,0)*EC5","v":0},{"$f":"IFERROR(#REF!,0)*EG5","v":0},{"$f":"IFERROR(#REF!,0)*EG5","v":0},{"$f":"IFERROR(#REF!,0)*EG5","v":0},{"$f":"IFERROR(#REF!,0)*EG5","v":0},{"$f":"IFERROR(#REF!,0)*EK5","v":0},{"$f":"IFERROR(#REF!,0)*EK5","v":0},{"$f":"IFERROR(#REF!,0)*EK5","v":0},{"$f":"IFERROR(#REF!,0)*EK5","v":0},{"$f":"IFERROR(#REF!,0)*EO5","v":0},{"$f":"IFERROR(#REF!,0)*EO5","v":0},{"$f":"IFERROR(#REF!,0)*EO5","v":0},{"$f":"IFERROR(#REF!,0)*EO5","v":0},{"$f":"IFERROR(#REF!,0)*ES5","v":0},{"$f":"IFERROR(#REF!,0)*ES5","v":0},{"$f":"IFERROR(#REF!,0)*ES5","v":0},{"$f":"IFERROR(#REF!,0)*ES5","v":0},{"$f":"IFERROR(#REF!,0)*EW5","v":0},{"$f":"IFERROR(#REF!,0)*EW5","v":0},{"$f":"IFERROR(#REF!,0)*EW5","v":0},{"$f":"IFERROR(#REF!,0)*EW5","v":0},{"$f":"IFERROR(#REF!,0)*FA5","v":0},{"$f":"IFERROR(#REF!,0)*FA5","v":0},{"$f":"IFERROR(#REF!,0)*FA5","v":0},{"$f":"IFERROR(#REF!,0)*FA5","v":0},{"$f":"IFERROR(#REF!,0)*FE5","v":0},{"$f":"IFERROR(#REF!,0)*FE5","v":0},{"$f":"IFERROR(#REF!,0)*FE5","v":0},{"$f":"IFERROR(#REF!,0)*FE5","v":0},{"$f":"IFERROR(#REF!,0)*FI5","v":0},{"$f":"IFERROR(#REF!,0)*FI5","v":0},{"$f":"IFERROR(#REF!,0)*FI5","v":0},{"$f":"IFERROR(#REF!,0)*FI5","v":0},{"$f":"IFERROR(#REF!,0)*FM5","v":0},{"$f":"IFERROR(#REF!,0)*FM5","v":0},{"$f":"IFERROR(#REF!,0)*FM5","v":0},{"$f":"IFERROR(#REF!,0)*FM5","v":0},{"$f":"IFERROR(#REF!,0)*FQ5","v":0},{"$f":"IFERROR(#REF!,0)*FQ5","v":0},{"$f":"IFERROR(#REF!,0)*FQ5","v":0},{"$f":"IFERROR(#REF!,0)*FQ5","v":0},{"$f":"IFERROR(#REF!,0)*FU5","v":0},{"$f":"IFERROR(#REF!,0)*FU5","v":0},{"$f":"IFERROR(#REF!,0)*FU5","v":0},{"$f":"IFERROR(#REF!,0)*FU5","v":0},{"$f":"IFERROR(#REF!,0)*FY5","v":0},{"$f":"IFERROR(#REF!,0)*FY5","v":0},{"$f":"IFERROR(#REF!,0)*FY5","v":0},{"$f":"IFERROR(#REF!,0)*FY5","v":0},{"$f":"IFERROR(#REF!,0)*GC5","v":0},{"$f":"IFERROR(#REF!,0)*GC5","v":0},{"$f":"IFERROR(#REF!,0)*GC5","v":0},{"$f":"IFERROR(#REF!,0)*GC5","v":0},{"$f":"IFERROR(#REF!,0)*GG5","v":0},{"$f":"IFERROR(#REF!,0)*GG5","v":0},{"$f":"IFERROR(#REF!,0)*GG5","v":0},{"$f":"IFERROR(#REF!,0)*GG5","v":0},{"$f":"IFERROR(#REF!,0)*GK5","v":0},{"$f":"IFERROR(#REF!,0)*GK5","v":0},{"$f":"IFERROR(#REF!,0)*GK5","v":0},{"$f":"IFERROR(#REF!,0)*GK5","v":0},{"$f":"IFERROR(#REF!,0)*GO5","v":0},{"$f":"IFERROR(#REF!,0)*GO5","v":0},{"$f":"IFERROR(#REF!,0)*GO5","v":0},{"$f":"IFERROR(#REF!,0)*GO5","v":0},{"$f":"IFERROR(#REF!,0)*GS5","v":0},{"$f":"IFERROR(#REF!,0)*GS5","v":0},{"$f":"IFERROR(#REF!,0)*GS5","v":0},{"$f":"IFERROR(#REF!,0)*GS5","v":0},{"v":0,"d":"0.00"},{"v":0,"d":"0.00"},{"v":0,"d":"0.00"},{"v":0,"d":"0.00"}]
[null,{"$f":"#REF!","v":{"$error":"#REF!"}},{"$f":"#REF!","v":{"$error":"#REF!"}},{"$f":"IFERROR(#REF!,0)*E5","v":0},{"$f":"IFERROR(#REF!,0)*E5","v":0},{"$f":"IFERROR(#REF!,0)*E5","v":0},{"$f":"IFERROR(#REF!,0)*E5","v":0},{"$f":"IFERROR(#REF!,0)*I5","v":0},{"$f":"IFERROR(#REF!,0)*I5","v":0},{"$f":"IFERROR(#REF!,0)*I5","v":0},{"$f":"IFERROR(#REF!,0)*I5","v":0},{"$f":"IFERROR(#REF!,0)*M5","v":0},{"$f":"IFERROR(#REF!,0)*M5","v":0},{"$f":"IFERROR(#REF!,0)*M5","v":0},{"$f":"IFERROR(#REF!,0)*M5","v":0},{"$f":"IFERROR(#REF!,0)*Q5","v":0},{"$f":"IFERROR(#REF!,0)*Q5","v":0},{"$f":"IFERROR(#REF!,0)*Q5","v":0},{"$f":"IFERROR(#REF!,0)*Q5","v":0},{"$f":"IFERROR(#REF!,0)*U5","v":0},{"$f":"IFERROR(#REF!,0)*U5","v":0},{"$f":"IFERROR(#REF!,0)*U5","v":0},{"$f":"IFERROR(#REF!,0)*U5","v":0},{"$f":"IFERROR(#REF!,0)*Y5","v":0},{"$f":"IFERROR(#REF!,0)*Y5","v":0},{"$f":"IFERROR(#REF!,0)*Y5","v":0},{"$f":"IFERROR(#REF!,0)*Y5","v":0},{"$f":"IFERROR(#REF!,0)*AC5","v":0},{"$f":"IFERROR(#REF!,0)*AC5","v":0},{"$f":"IFERROR(#REF!,0)*AC5","v":0},{"$f":"IFERROR(#REF!,0)*AC5","v":0},{"$f":"IFERROR(#REF!,0)*AG5","v":0},{"$f":"IFERROR(#REF!,0)*AG5","v":0},{"$f":"IFERROR(#REF!,0)*AG5","v":0},{"$f":"IFERROR(#REF!,0)*AG5","v":0},{"$f":"IFERROR(#REF!,0)*AK5","v":0},{"$f":"IFERROR(#REF!,0)*AK5","v":0},{"$f":"IFERROR(#REF!,0)*AK5","v":0},{"$f":"IFERROR(#REF!,0)*AK5","v":0},{"$f":"IFERROR(#REF!,0)*AO5","v":0},{"$f":"IFERROR(#REF!,0)*AO5","v":0},{"$f":"IFERROR(#REF!,0)*AO5","v":0},{"$f":"IFERROR(#REF!,0)*AO5","v":0},{"$f":"IFERROR(#REF!,0)*AS5","v":0},{"$f":"IFERROR(#REF!,0)*AS5","v":0},{"$f":"IFERROR(#REF!,0)*AS5","v":0},{"$f":"IFERROR(#REF!,0)*AS5","v":0},{"$f":"IFERROR(#REF!,0)*AW5","v":0},{"$f":"IFERROR(#REF!,0)*AW5","v":0},{"$f":"IFERROR(#REF!,0)*AW5","v":0},{"$f":"IFERROR(#REF!,0)*AW5","v":0},{"$f":"IFERROR(#REF!,0)*BA5","v":0},{"$f":"IFERROR(#REF!,0)*BA5","v":0},{"$f":"IFERROR(#REF!,0)*BA5","v":0},{"$f":"IFERROR(#REF!,0)*BA5","v":0},{"$f":"IFERROR(#REF!,0)*BE5","v":0},{"$f":"IFERROR(#REF!,0)*BE5","v":0},{"$f":"IFERROR(#REF!,0)*BE5","v":0},{"$f":"IFERROR(#REF!,0)*BE5","v":0},{"$f":"IFERROR(#REF!,0)*BI5","v":0},{"$f":"IFERROR(#REF!,0)*BI5","v":0},{"$f":"IFERROR(#REF!,0)*BI5","v":0},{"$f":"IFERROR(#REF!,0)*BI5","v":0},{"$f":"IFERROR(#REF!,0)*BM5","v":0},{"$f":"IFERROR(#REF!,0)*BM5","v":0},{"$f":"IFERROR(#REF!,0)*BM5","v":0},{"$f":"IFERROR(#REF!,0)*BM5","v":0},{"$f":"IFERROR(#REF!,0)*BQ5","v":0},{"$f":"IFERROR(#REF!,0)*BQ5","v":0},{"$f":"IFERROR(#REF!,0)*BQ5","v":0},{"$f":"IFERROR(#REF!,0)*BQ5","v":0},{"$f":"IFERROR(#REF!,0)*BU5","v":0},{"$f":"IFERROR(#REF!,0)*BU5","v":0},{"$f":"IFERROR(#REF!,0)*BU5","v":0},{"$f":"IFERROR(#REF!,0)*BU5","v":0},{"$f":"IFERROR(#REF!,0)*BY5","v":0},{"$f":"IFERROR(#REF!,0)*BY5","v":0},{"$f":"IFERROR(#REF!,0)*BY5","v":0},{"$f":"IFERROR(#REF!,0)*BY5","v":0},{"$f":"IFERROR(#REF!,0)*CC5","v":0},{"$f":"IFERROR(#REF!,0)*CC5","v":0},{"$f":"IFERROR(#REF!,0)*CC5","v":0},{"$f":"IFERROR(#REF!,0)*CC5","v":0},{"$f":"IFERROR(#REF!,0)*CG5","v":0},{"$f":"IFERROR(#REF!,0)*CG5","v":0},{"$f":"IFERROR(#REF!,0)*CG5","v":0},{"$f":"IFERROR(#REF!,0)*CG5","v":0},{"$f":"IFERROR(#REF!,0)*CK5","v":0},{"$f":"IFERROR(#REF!,0)*CK5","v":0},{"$f":"IFERROR(#REF!,0)*CK5","v":0},{"$f":"IFERROR(#REF!,0)*CK5","v":0},{"$f":"IFERROR(#REF!,0)*CO5","v":0},{"$f":"IFERROR(#REF!,0)*CO5","v":0},{"$f":"IFERROR(#REF!,0)*CO5","v":0},{"$f":"IFERROR(#REF!,0)*CO5","v":0},{"$f":"IFERROR(#REF!,0)*CS5","v":0},{"$f":"IFERROR(#REF!,0)*CS5","v":0},{"$f":"IFERROR(#REF!,0)*CS5","v":0},{"$f":"IFERROR(#REF!,0)*CS5","v":0},{"$f":"IFERROR(#REF!,0)*CW5","v":0},{"$f":"IFERROR(#REF!,0)*CW5","v":0},{"$f":"IFERROR(#REF!,0)*CW5","v":0},{"$f":"IFERROR(#REF!,0)*CW5","v":0},{"$f":"IFERROR(#REF!,0)*DA5","v":0},{"$f":"IFERROR(#REF!,0)*DA5","v":0},{"$f":"IFERROR(#REF!,0)*DA5","v":0},{"$f":"IFERROR(#REF!,0)*DA5","v":0},{"$f":"IFERROR(#REF!,0)*DE5","v":0},{"$f":"IFERROR(#REF!,0)*DE5","v":0},{"$f":"IFERROR(#REF!,0)*DE5","v":0},{"$f":"IFERROR(#REF!,0)*DE5","v":0},{"$f":"IFERROR(#REF!,0)*DI5","v":0},{"$f":"IFERROR(#REF!,0)*DI5","v":0},{"$f":"IFERROR(#REF!,0)*DI5","v":0},{"$f":"IFERROR(#REF!,0)*DI5","v":0},{"$f":"IFERROR(#REF!,0)*DM5","v":0},{"$f":"IFERROR(#REF!,0)*DM5","v":0},{"$f":"IFERROR(#REF!,0)*DM5","v":0},{"$f":"IFERROR(#REF!,0)*DM5","v":0},{"$f":"IFERROR(#REF!,0)*DQ5","v":0},{"$f":"IFERROR(#REF!,0)*DQ5","v":0},{"$f":"IFERROR(#REF!,0)*DQ5","v":0},{"$f":"IFERROR(#REF!,0)*DQ5","v":0},{"$f":"IFERROR(#REF!,0)*DU5","v":0},{"$f":"IFERROR(#REF!,0)*DU5","v":0},{"$f":"IFERROR(#REF!,0)*DU5","v":0},{"$f":"IFERROR(#REF!,0)*DU5","v":0},{"$f":"IFERROR(#REF!,0)*DY5","v":0},{"$f":"IFERROR(#REF!,0)*DY5","v":0},{"$f":"IFERROR(#REF!,0)*DY5","v":0},{"$f":"IFERROR(#REF!,0)*DY5","v":0},{"$f":"IFERROR(#REF!,0)*EC5","v":0},{"$f":"IFERROR(#REF!,0)*EC5","v":0},{"$f":"IFERROR(#REF!,0)*EC5","v":0},{"$f":"IFERROR(#REF!,0)*EC5","v":0},{"$f":"IFERROR(#REF!,0)*EG5","v":0},{"$f":"IFERROR(#REF!,0)*EG5","v":0},{"$f":"IFERROR(#REF!,0)*EG5","v":0},{"$f":"IFERROR(#REF!,0)*EG5","v":0},{"$f":"IFERROR(#REF!,0)*EK5","v":0},{"$f":"IFERROR(#REF!,0)*EK5","v":0},{"$f":"IFERROR(#REF!,0)*EK5","v":0},{"$f":"IFERROR(#REF!,0)*EK5","v":0},{"$f":"IFERROR(#REF!,0)*EO5","v":0},{"$f":"IFERROR(#REF!,0)*EO5","v":0},{"$f":"IFERROR(#REF!,0)*EO5","v":0},{"$f":"IFERROR(#REF!,0)*EO5","v":0},{"$f":"IFERROR(#REF!,0)*ES5","v":0},{"$f":"IFERROR(#REF!,0)*ES5","v":0},{"$f":"IFERROR(#REF!,0)*ES5","v":0},{"$f":"IFERROR(#REF!,0)*ES5","v":0},{"$f":"IFERROR(#REF!,0)*EW5","v":0},{"$f":"IFERROR(#REF!,0)*EW5","v":0},{"$f":"IFERROR(#REF!,0)*EW5","v":0},{"$f":"IFERROR(#REF!,0)*EW5","v":0},{"$f":"IFERROR(#REF!,0)*FA5","v":0},{"$f":"IFERROR(#REF!,0)*FA5","v":0},{"$f":"IFERROR(#REF!,0)*FA5","v":0},{"$f":"IFERROR(#REF!,0)*FA5","v":0},{"$f":"IFERROR(#REF!,0)*FE5","v":0},{"$f":"IFERROR(#REF!,0)*FE5","v":0},{"$f":"IFERROR(#REF!,0)*FE5","v":0},{"$f":"IFERROR(#REF!,0)*FE5","v":0},{"$f":"IFERROR(#REF!,0)*FI5","v":0},{"$f":"IFERROR(#REF!,0)*FI5","v":0},{"$f":"IFERROR(#REF!,0)*FI5","v":0},{"$f":"IFERROR(#REF!,0)*FI5","v":0},{"$f":"IFERROR(#REF!,0)*FM5","v":0},{"$f":"IFERROR(#REF!,0)*FM5","v":0},{"$f":"IFERROR(#REF!,0)*FM5","v":0},{"$f":"IFERROR(#REF!,0)*FM5","v":0},{"$f":"IFERROR(#REF!,0)*FQ5","v":0},{"$f":"IFERROR(#REF!,0)*FQ5","v":0},{"$f":"IFERROR(#REF!,0)*FQ5","v":0},{"$f":"IFERROR(#REF!,0)*FQ5","v":0},{"$f":"IFERROR(#REF!,0)*FU5","v":0},{"$f":"IFERROR(#REF!,0)*FU5","v":0},{"$f":"IFERROR(#REF!,0)*FU5","v":0},{"$f":"IFERROR(#REF!,0)*FU5","v":0},{"$f":"IFERROR(#REF!,0)*FY5","v":0},{"$f":"IFERROR(#REF!,0)*FY5","v":0},{"$f":"IFERROR(#REF!,0)*FY5","v":0},{"$f":"IFERROR(#REF!,0)*FY5","v":0},{"$f":"IFERROR(#REF!,0)*GC5","v":0},{"$f":"IFERROR(#REF!,0)*GC5","v":0},{"$f":"IFERROR(#REF!,0)*GC5","v":0},{"$f":"IFERROR(#REF!,0)*GC5","v":0},{"$f":"IFERROR(#REF!,0)*GG5","v":0},{"$f":"IFERROR(#REF!,0)*GG5","v":0},{"$f":"IFERROR(#REF!,0)*GG5","v":0},{"$f":"IFERROR(#REF!,0)*GG5","v":0},{"$f":"IFERROR(#REF!,0)*GK5","v":0},{"$f":"IFERROR(#REF!,0)*GK5","v":0},{"$f":"IFERROR(#REF!,0)*GK5","v":0},{"$f":"IFERROR(#REF!,0)*GK5","v":0},{"$f":"IFERROR(#REF!,0)*GO5","v":0},{"$f":"IFERROR(#REF!,0)*GO5","v":0},{"$f":"IFERROR(#REF!,0)*GO5","v":0},{"$f":"IFERROR(#REF!,0)*GO5","v":0},{"$f":"IFERROR(#REF!,0)*GS5","v":0},{"$f":"IFERROR(#REF!,0)*GS5","v":0},{"$f":"IFERROR(#REF!,0)*GS5","v":0},{"$f":"IFERROR(#REF!,0)*GS5","v":0},{"v":0,"d":"0.00"},{"v":0,"d":"0.00"},{"v":0,"d":"0.00"},{"v":0,"d":"0.00"}]
[null,{"$f":"#REF!","v":{"$error":"#REF!"}},{"$f":"#REF!","v":{"$error":"#REF!"}},{"$f":"IFERROR(#REF!,0)*E5","v":0},{"$f":"IFERROR(#REF!,0)*E5","v":0},{"$f":"IFERROR(#REF!,0)*E5","v":0},{"$f":"IFERROR(#REF!,0)*E5","v":0},{"$f":"IFERROR(#REF!,0)*I5","v":0},{"$f":"IFERROR(#REF!,0)*I5","v":0},{"$f":"IFERROR(#REF!,0)*I5","v":0},{"$f":"IFERROR(#REF!,0)*I5","v":0},{"$f":"IFERROR(#REF!,0)*M5","v":0},{"$f":"IFERROR(#REF!,0)*M5","v":0},{"$f":"IFERROR(#REF!,0)*M5","v":0},{"$f":"IFERROR(#REF!,0)*M5","v":0},{"$f":"IFERROR(#REF!,0)*Q5","v":0},{"$f":"IFERROR(#REF!,0)*Q5","v":0},{"$f":"IFERROR(#REF!,0)*Q5","v":0},{"$f":"IFERROR(#REF!,0)*Q5","v":0},{"$f":"IFERROR(#REF!,0)*U5","v":0},{"$f":"IFERROR(#REF!,0)*U5","v":0},{"$f":"IFERROR(#REF!,0)*U5","v":0},{"$f":"IFERROR(#REF!,0)*U5","v":0},{"$f":"IFERROR(#REF!,0)*Y5","v":0},{"$f":"IFERROR(#REF!,0)*Y5","v":0},{"$f":"IFERROR(#REF!,0)*Y5","v":0},{"$f":"IFERROR(#REF!,0)*Y5","v":0},{"$f":"IFERROR(#REF!,0)*AC5","v":0},{"$f":"IFERROR(#REF!,0)*AC5","v":0},{"$f":"IFERROR(#REF!,0)*AC5","v":0},{"$f":"IFERROR(#REF!,0)*AC5","v":0},{"$f":"IFERROR(#REF!,0)*AG5","v":0},{"$f":"IFERROR(#REF!,0)*AG5","v":0},{"$f":"IFERROR(#REF!,0)*AG5","v":0},{"$f":"IFERROR(#REF!,0)*AG5","v":0},{"$f":"IFERROR(#REF!,0)*AK5","v":0},{"$f":"IFERROR(#REF!,0)*AK5","v":0},{"$f":"IFERROR(#REF!,0)*AK5","v":0},{"$f":"IFERROR(#REF!,0)*AK5","v":0},{"$f":"IFERROR(#REF!,0)*AO5","v":0},{"$f":"IFERROR(#REF!,0)*AO5","v":0},{"$f":"IFERROR(#REF!,0)*AO5","v":0},{"$f":"IFERROR(#REF!,0)*AO5","v":0},{"$f":"IFERROR(#REF!,0)*AS5","v":0},{"$f":"IFERROR(#REF!,0)*AS5","v":0},{"$f":"IFERROR(#REF!,0)*AS5","v":0},{"$f":"IFERROR(#REF!,0)*AS5","v":0},{"$f":"IFERROR(#REF!,0)*AW5","v":0},{"$f":"IFERROR(#REF!,0)*AW5","v":0},{"$f":"IFERROR(#REF!,0)*AW5","v":0},{"$f":"IFERROR(#REF!,0)*AW5","v":0},{"$f":"IFERROR(#REF!,0)*BA5","v":0},{"$f":"IFERROR(#REF!,0)*BA5","v":0},{"$f":"IFERROR(#REF!,0)*BA5","v":0},{"$f":"IFERROR(#REF!,0)*BA5","v":0},{"$f":"IFERROR(#REF!,0)*BE5","v":0},{"$f":"IFERROR(#REF!,0)*BE5","v":0},{"$f":"IFERROR(#REF!,0)*BE5","v":0},{"$f":"IFERROR(#REF!,0)*BE5","v":0},{"$f":"IFERROR(#REF!,0)*BI5","v":0},{"$f":"IFERROR(#REF!,0)*BI5","v":0},{"$f":"IFERROR(#REF!,0)*BI5","v":0},{"$f":"IFERROR(#REF!,0)*BI5","v":0},{"$f":"IFERROR(#REF!,0)*BM5","v":0},{"$f":"IFERROR(#REF!,0)*BM5","v":0},{"$f":"IFERROR(#REF!,0)*BM5","v":0},{"$f":"IFERROR(#REF!,0)*BM5","v":0},{"$f":"IFERROR(#REF!,0)*BQ5","v":0},{"$f":"IFERROR(#REF!,0)*BQ5","v":0},{"$f":"IFERROR(#REF!,0)*BQ5","v":0},{"$f":"IFERROR(#REF!,0)*BQ5","v":0},{"$f":"IFERROR(#REF!,0)*BU5","v":0},{"$f":"IFERROR(#REF!,0)*BU5","v":0},{"$f":"IFERROR(#REF!,0)*BU5","v":0},{"$f":"IFERROR(#REF!,0)*BU5","v":0},{"$f":"IFERROR(#REF!,0)*BY5","v":0},{"$f":"IFERROR(#REF!,0)*BY5","v":0},{"$f":"IFERROR(#REF!,0)*BY5","v":0},{"$f":"IFERROR(#REF!,0)*BY5","v":0},{"$f":"IFERROR(#REF!,0)*CC5","v":0},{"$f":"IFERROR(#REF!,0)*CC5","v":0},{"$f":"IFERROR(#REF!,0)*CC5","v":0},{"$f":"IFERROR(#REF!,0)*CC5","v":0},{"$f":"IFERROR(#REF!,0)*CG5","v":0},{"$f":"IFERROR(#REF!,0)*CG5","v":0},{"$f":"IFERROR(#REF!,0)*CG5","v":0},{"$f":"IFERROR(#REF!,0)*CG5","v":0},{"$f":"IFERROR(#REF!,0)*CK5","v":0},{"$f":"IFERROR(#REF!,0)*CK5","v":0},{"$f":"IFERROR(#REF!,0)*CK5","v":0},{"$f":"IFERROR(#REF!,0)*CK5","v":0},{"$f":"IFERROR(#REF!,0)*CO5","v":0},{"$f":"IFERROR(#REF!,0)*CO5","v":0},{"$f":"IFERROR(#REF!,0)*CO5","v":0},{"$f":"IFERROR(#REF!,0)*CO5","v":0},{"$f":"IFERROR(#REF!,0)*CS5","v":0},{"$f":"IFERROR(#REF!,0)*CS5","v":0},{"$f":"IFERROR(#REF!,0)*CS5","v":0},{"$f":"IFERROR(#REF!,0)*CS5","v":0},{"$f":"IFERROR(#REF!,0)*CW5","v":0},{"$f":"IFERROR(#REF!,0)*CW5","v":0},{"$f":"IFERROR(#REF!,0)*CW5","v":0},{"$f":"IFERROR(#REF!,0)*CW5","v":0},{"$f":"IFERROR(#REF!,0)*DA5","v":0},{"$f":"IFERROR(#REF!,0)*DA5","v":0},{"$f":"IFERROR(#REF!,0)*DA5","v":0},{"$f":"IFERROR(#REF!,0)*DA5","v":0},{"$f":"IFERROR(#REF!,0)*DE5","v":0},{"$f":"IFERROR(#REF!,0)*DE5","v":0},{"$f":"IFERROR(#REF!,0)*DE5","v":0},{"$f":"IFERROR(#REF!,0)*DE5","v":0},{"$f":"IFERROR(#REF!,0)*DI5","v":0},{"$f":"IFERROR(#REF!,0)*DI5","v":0},{"$f":"IFERROR(#REF!,0)*DI5","v":0},{"$f":"IFERROR(#REF!,0)*DI5","v":0},{"$f":"IFERROR(#REF!,0)*DM5","v":0},{"$f":"IFERROR(#REF!,0)*DM5","v":0},{"$f":"IFERROR(#REF!,0)*DM5","v":0},{"$f":"IFERROR(#REF!,0)*DM5","v":0},{"$f":"IFERROR(#REF!,0)*DQ5","v":0},{"$f":"IFERROR(#REF!,0)*DQ5","v":0},{"$f":"IFERROR(#REF!,0)*DQ5","v":0},{"$f":"IFERROR(#REF!,0)*DQ5","v":0},{"$f":"IFERROR(#REF!,0)*DU5","v":0},{"$f":"IFERROR(#REF!,0)*DU5","v":0},{"$f":"IFERROR(#REF!,0)*DU5","v":0},{"$f":"IFERROR(#REF!,0)*DU5","v":0},{"$f":"IFERROR(#REF!,0)*DY5","v":0},{"$f":"IFERROR(#REF!,0)*DY5","v":0},{"$f":"IFERROR(#REF!,0)*DY5","v":0},{"$f":"IFERROR(#REF!,0)*DY5","v":0},{"$f":"IFERROR(#REF!,0)*EC5","v":0},{"$f":"IFERROR(#REF!,0)*EC5","v":0},{"$f":"IFERROR(#REF!,0)*EC5","v":0},{"$f":"IFERROR(#REF!,0)*EC5","v":0},{"$f":"IFERROR(#REF!,0)*EG5","v":0},{"$f":"IFERROR(#REF!,0)*EG5","v":0},{"$f":"IFERROR(#REF!,0)*EG5","v":0},{"$f":"IFERROR(#REF!,0)*EG5","v":0},{"$f":"IFERROR(#REF!,0)*EK5","v":0},{"$f":"IFERROR(#REF!,0)*EK5","v":0},{"$f":"IFERROR(#REF!,0)*EK5","v":0},{"$f":"IFERROR(#REF!,0)*EK5","v":0},{"$f":"IFERROR(#REF!,0)*EO5","v":0},{"$f":"IFERROR(#REF!,0)*EO5","v":0},{"$f":"IFERROR(#REF!,0)*EO5","v":0},{"$f":"IFERROR(#REF!,0)*EO5","v":0},{"$f":"IFERROR(#REF!,0)*ES5","v":0},{"$f":"IFERROR(#REF!,0)*ES5","v":0},{"$f":"IFERROR(#REF!,0)*ES5","v":0},{"$f":"IFERROR(#REF!,0)*ES5","v":0},{"$f":"IFERROR(#REF!,0)*EW5","v":0},{"$f":"IFERROR(#REF!,0)*EW5","v":0},{"$f":"IFERROR(#REF!,0)*EW5","v":0},{"$f":"IFERROR(#REF!,0)*EW5","v":0},{"$f":"IFERROR(#REF!,0)*FA5","v":0},{"$f":"IFERROR(#REF!,0)*FA5","v":0},{"$f":"IFERROR(#REF!,0)*FA5","v":0},{"$f":"IFERROR(#REF!,0)*FA5","v":0},{"$f":"IFERROR(#REF!,0)*FE5","v":0},{"$f":"IFERROR(#REF!,0)*FE5","v":0},{"$f":"IFERROR(#REF!,0)*FE5","v":0},{"$f":"IFERROR(#REF!,0)*FE5","v":0},{"$f":"IFERROR(#REF!,0)*FI5","v":0},{"$f":"IFERROR(#REF!,0)*FI5","v":0},{"$f":"IFERROR(#REF!,0)*FI5","v":0},{"$f":"IFERROR(#REF!,0)*FI5","v":0},{"$f":"IFERROR(#REF!,0)*FM5","v":0},{"$f":"IFERROR(#REF!,0)*FM5","v":0},{"$f":"IFERROR(#REF!,0)*FM5","v":0},{"$f":"IFERROR(#REF!,0)*FM5","v":0},{"$f":"IFERROR(#REF!,0)*FQ5","v":0},{"$f":"IFERROR(#REF!,0)*FQ5","v":0},{"$f":"IFERROR(#REF!,0)*FQ5","v":0},{"$f":"IFERROR(#REF!,0)*FQ5","v":0},{"$f":"IFERROR(#REF!,0)*FU5","v":0},{"$f":"IFERROR(#REF!,0)*FU5","v":0},{"$f":"IFERROR(#REF!,0)*FU5","v":0},{"$f":"IFERROR(#REF!,0)*FU5","v":0},{"$f":"IFERROR(#REF!,0)*FY5","v":0},{"$f":"IFERROR(#REF!,0)*FY5","v":0},{"$f":"IFERROR(#REF!,0)*FY5","v":0},{"$f":"IFERROR(#REF!,0)*FY5","v":0},{"$f":"IFERROR(#REF!,0)*GC5","v":0},{"$f":"IFERROR(#REF!,0)*GC5","v":0},{"$f":"IFERROR(#REF!,0)*GC5","v":0},{"$f":"IFERROR(#REF!,0)*GC5","v":0},{"$f":"IFERROR(#REF!,0)*GG5","v":0},{"$f":"IFERROR(#REF!,0)*GG5","v":0},{"$f":"IFERROR(#REF!,0)*GG5","v":0},{"$f":"IFERROR(#REF!,0)*GG5","v":0},{"$f":"IFERROR(#REF!,0)*GK5","v":0},{"$f":"IFERROR(#REF!,0)*GK5","v":0},{"$f":"IFERROR(#REF!,0)*GK5","v":0},{"$f":"IFERROR(#REF!,0)*GK5","v":0},{"$f":"IFERROR(#REF!,0)*GO5","v":0},{"$f":"IFERROR(#REF!,0)*GO5","v":0},{"$f":"IFERROR(#REF!,0)*GO5","v":0},{"$f":"IFERROR(#REF!,0)*GO5","v":0},{"$f":"IFERROR(#REF!,0)*GS5","v":0},{"$f":"IFERROR(#REF!,0)*GS5","v":0},{"$f":"IFERROR(#REF!,0)*GS5","v":0},{"$f":"IFERROR(#REF!,0)*GS5","v":0},{"v":0,"d":"0.00"},{"v":0,"d":"0.00"},{"v":0,"d":"0.00"},{"v":0,"d":"0.00"}]
[null,{"$f":"#REF!","v":{"$error":"#REF!"}},{"$f":"#REF!","v":{"$error":"#REF!"}},{"$f":"IFERROR(#REF!,0)*E5","v":0},{"$f":"IFERROR(#REF!,0)*E5","v":0},{"$f":"IFERROR(#REF!,0)*E5","v":0},{"$f":"IFERROR(#REF!,0)*E5","v":0},{"$f":"IFERROR(#REF!,0)*I5","v":0},{"$f":"IFERROR(#REF!,0)*I5","v":0},{"$f":"IFERROR(#REF!,0)*I5","v":0},{"$f":"IFERROR(#REF!,0)*I5","v":0},{"$f":"IFERROR(#REF!,0)*M5","v":0},{"$f":"IFERROR(#REF!,0)*M5","v":0},{"$f":"IFERROR(#REF!,0)*M5","v":0},{"$f":"IFERROR(#REF!,0)*M5","v":0},{"$f":"IFERROR(#REF!,0)*Q5","v":0},{"$f":"IFERROR(#REF!,0)*Q5","v":0},{"$f":"IFERROR(#REF!,0)*Q5","v":0},{"$f":"IFERROR(#REF!,0)*Q5","v":0},{"$f":"IFERROR(#REF!,0)*U5","v":0},{"$f":"IFERROR(#REF!,0)*U5","v":0},{"$f":"IFERROR(#REF!,0)*U5","v":0},{"$f":"IFERROR(#REF!,0)*U5","v":0},{"$f":"IFERROR(#REF!,0)*Y5","v":0},{"$f":"IFERROR(#REF!,0)*Y5","v":0},{"$f":"IFERROR(#REF!,0)*Y5","v":0},{"$f":"IFERROR(#REF!,0)*Y5","v":0},{"$f":"IFERROR(#REF!,0)*AC5","v":0},{"$f":"IFERROR(#REF!,0)*AC5","v":0},{"$f":"IFERROR(#REF!,0)*AC5","v":0},{"$f":"IFERROR(#REF!,0)*AC5","v":0},{"$f":"IFERROR(#REF!,0)*AG5","v":0},{"$f":"IFERROR(#REF!,0)*AG5","v":0},{"$f":"IFERROR(#REF!,0)*AG5","v":0},{"$f":"IFERROR(#REF!,0)*AG5","v":0},{"$f":"IFERROR(#REF!,0)*AK5","v":0},{"$f":"IFERROR(#REF!,0)*AK5","v":0},{"$f":"IFERROR(#REF!,0)*AK5","v":0},{"$f":"IFERROR(#REF!,0)*AK5","v":0},{"$f":"IFERROR(#REF!,0)*AO5","v":0},{"$f":"IFERROR(#REF!,0)*AO5","v":0},{"$f":"IFERROR(#REF!,0)*AO5","v":0},{"$f":"IFERROR(#REF!,0)*AO5","v":0},{"$f":"IFERROR(#REF!,0)*AS5","v":0},{"$f":"IFERROR(#REF!,0)*AS5","v":0},{"$f":"IFERROR(#REF!,0)*AS5","v":0},{"$f":"IFERROR(#REF!,0)*AS5","v":0},{"$f":"IFERROR(#REF!,0)*AW5","v":0},{"$f":"IFERROR(#REF!,0)*AW5","v":0},{"$f":"IFERROR(#REF!,0)*AW5","v":0},{"$f":"IFERROR(#REF!,0)*AW5","v":0},{"$f":"IFERROR(#REF!,0)*BA5","v":0},{"$f":"IFERROR(#REF!,0)*BA5","v":0},{"$f":"IFERROR(#REF!,0)*BA5","v":0},{"$f":"IFERROR(#REF!,0)*BA5","v":0},{"$f":"IFERROR(#REF!,0)*BE5","v":0},{"$f":"IFERROR(#REF!,0)*BE5","v":0},{"$f":"IFERROR(#REF!,0)*BE5","v":0},{"$f":"IFERROR(#REF!,0)*BE5","v":0},{"$f":"IFERROR(#REF!,0)*BI5","v":0},{"$f":"IFERROR(#REF!,0)*BI5","v":0},{"$f":"IFERROR(#REF!,0)*BI5","v":0},{"$f":"IFERROR(#REF!,0)*BI5","v":0},{"$f":"IFERROR(#REF!,0)*BM5","v":0},{"$f":"IFERROR(#REF!,0)*BM5","v":0},{"$f":"IFERROR(#REF!,0)*BM5","v":0},{"$f":"IFERROR(#REF!,0)*BM5","v":0},{"$f":"IFERROR(#REF!,0)*BQ5","v":0},{"$f":"IFERROR(#REF!,0)*BQ5","v":0},{"$f":"IFERROR(#REF!,0)*BQ5","v":0},{"$f":"IFERROR(#REF!,0)*BQ5","v":0},{"$f":"IFERROR(#REF!,0)*BU5","v":0},{"$f":"IFERROR(#REF!,0)*BU5","v":0},{"$f":"IFERROR(#REF!,0)*BU5","v":0},{"$f":"IFERROR(#REF!,0)*BU5","v":0},{"$f":"IFERROR(#REF!,0)*BY5","v":0},{"$f":"IFERROR(#REF!,0)*BY5","v":0},{"$f":"IFERROR(#REF!,0)*BY5","v":0},{"$f":"IFERROR(#REF!,0)*BY5","v":0},{"$f":"IFERROR(#REF!,0)*CC5","v":0},{"$f":"IFERROR(#REF!,0)*CC5","v":0},{"$f":"IFERROR(#REF!,0)*CC5","v":0},{"$f":"IFERROR(#REF!,0)*CC5","v":0},{"$f":"IFERROR(#REF!,0)*CG5","v":0},{"$f":"IFERROR(#REF!,0)*CG5","v":0},{"$f":"IFERROR(#REF!,0)*CG5","v":0},{"$f":"IFERROR(#REF!,0)*CG5","v":0},{"$f":"IFERROR(#REF!,0)*CK5","v":0},{"$f":"IFERROR(#REF!,0)*CK5","v":0},{"$f":"IFERROR(#REF!,0)*CK5","v":0},{"$f":"IFERROR(#REF!,0)*CK5","v":0},{"$f":"IFERROR(#REF!,0)*CO5","v":0},{"$f":"IFERROR(#REF!,0)*CO5","v":0},{"$f":"IFERROR(#REF!,0)*CO5","v":0},{"$f":"IFERROR(#REF!,0)*CO5","v":0},{"$f":"IFERROR(#REF!,0)*CS5","v":0},{"$f":"IFERROR(#REF!,0)*CS5","v":0},{"$f":"IFERROR(#REF!,0)*CS5","v":0},{"$f":"IFERROR(#REF!,0)*CS5","v":0},{"$f":"IFERROR(#REF!,0)*CW5","v":0},{"$f":"IFERROR(#REF!,0)*CW5","v":0},{"$f":"IFERROR(#REF!,0)*CW5","v":0},{"$f":"IFERROR(#REF!,0)*CW5","v":0},{"$f":"IFERROR(#REF!,0)*DA5","v":0},{"$f":"IFERROR(#REF!,0)*DA5","v":0},{"$f":"IFERROR(#REF!,0)*DA5","v":0},{"$f":"IFERROR(#REF!,0)*DA5","v":0},{"$f":"IFERROR(#REF!,0)*DE5","v":0},{"$f":"IFERROR(#REF!,0)*DE5","v":0},{"$f":"IFERROR(#REF!,0)*DE5","v":0},{"$f":"IFERROR(#REF!,0)*DE5","v":0},{"$f":"IFERROR(#REF!,0)*DI5","v":0},{"$f":"IFERROR(#REF!,0)*DI5","v":0},{"$f":"IFERROR(#REF!,0)*DI5","v":0},{"$f":"IFERROR(#REF!,0)*DI5","v":0},{"$f":"IFERROR(#REF!,0)*DM5","v":0},{"$f":"IFERROR(#REF!,0)*DM5","v":0},{"$f":"IFERROR(#REF!,0)*DM5","v":0},{"$f":"IFERROR(#REF!,0)*DM5","v":0},{"$f":"IFERROR(#REF!,0)*DQ5","v":0},{"$f":"IFERROR(#REF!,0)*DQ5","v":0},{"$f":"IFERROR(#REF!,0)*DQ5","v":0},{"$f":"IFERROR(#REF!,0)*DQ5","v":0},{"$f":"IFERROR(#REF!,0)*DU5","v":0},{"$f":"IFERROR(#REF!,0)*DU5","v":0},{"$f":"IFERROR(#REF!,0)*DU5","v":0},{"$f":"IFERROR(#REF!,0)*DU5","v":0},{"$f":"IFERROR(#REF!,0)*DY5","v":0},{"$f":"IFERROR(#REF!,0)*DY5","v":0},{"$f":"IFERROR(#REF!,0)*DY5","v":0},{"$f":"IFERROR(#REF!,0)*DY5","v":0},{"$f":"IFERROR(#REF!,0)*EC5","v":0},{"$f":"IFERROR(#REF!,0)*EC5","v":0},{"$f":"IFERROR(#REF!,0)*EC5","v":0},{"$f":"IFERROR(#REF!,0)*EC5","v":0},{"$f":"IFERROR(#REF!,0)*EG5","v":0},{"$f":"IFERROR(#REF!,0)*EG5","v":0},{"$f":"IFERROR(#REF!,0)*EG5","v":0},{"$f":"IFERROR(#REF!,0)*EG5","v":0},{"$f":"IFERROR(#REF!,0)*EK5","v":0},{"$f":"IFERROR(#REF!,0)*EK5","v":0},{"$f":"IFERROR(#REF!,0)*EK5","v":0},{"$f":"IFERROR(#REF!,0)*EK5","v":0},{"$f":"IFERROR(#REF!,0)*EO5","v":0},{"$f":"IFERROR(#REF!,0)*EO5","v":0},{"$f":"IFERROR(#REF!,0)*EO5","v":0},{"$f":"IFERROR(#REF!,0)*EO5","v":0},{"$f":"IFERROR(#REF!,0)*ES5","v":0},{"$f":"IFERROR(#REF!,0)*ES5","v":0},{"$f":"IFERROR(#REF!,0)*ES5","v":0},{"$f":"IFERROR(#REF!,0)*ES5","v":0},{"$f":"IFERROR(#REF!,0)*EW5","v":0},{"$f":"IFERROR(#REF!,0)*EW5","v":0},{"$f":"IFERROR(#REF!,0)*EW5","v":0},{"$f":"IFERROR(#REF!,0)*EW5","v":0},{"$f":"IFERROR(#REF!,0)*FA5","v":0},{"$f":"IFERROR(#REF!,0)*FA5","v":0},{"$f":"IFERROR(#REF!,0)*FA5","v":0},{"$f":"IFERROR(#REF!,0)*FA5","v":0},{"$f":"IFERROR(#REF!,0)*FE5","v":0},{"$f":"IFERROR(#REF!,0)*FE5","v":0},{"$f":"IFERROR(#REF!,0)*FE5","v":0},{"$f":"IFERROR(#REF!,0)*FE5","v":0},{"$f":"IFERROR(#REF!,0)*FI5","v":0},{"$f":"IFERROR(#REF!,0)*FI5","v":0},{"$f":"IFERROR(#REF!,0)*FI5","v":0},{"$f":"IFERROR(#REF!,0)*FI5","v":0},{"$f":"IFERROR(#REF!,0)*FM5","v":0},{"$f":"IFERROR(#REF!,0)*FM5","v":0},{"$f":"IFERROR(#REF!,0)*FM5","v":0},{"$f":"IFERROR(#REF!,0)*FM5","v":0},{"$f":"IFERROR(#REF!,0)*FQ5","v":0},{"$f":"IFERROR(#REF!,0)*FQ5","v":0},{"$f":"IFERROR(#REF!,0)*FQ5","v":0},{"$f":"IFERROR(#REF!,0)*FQ5","v":0},{"$f":"IFERROR(#REF!,0)*FU5","v":0},{"$f":"IFERROR(#REF!,0)*FU5","v":0},{"$f":"IFERROR(#REF!,0)*FU5","v":0},{"$f":"IFERROR(#REF!,0)*FU5","v":0},{"$f":"IFERROR(#REF!,0)*FY5","v":0},{"$f":"IFERROR(#REF!,0)*FY5","v":0},{"$f":"IFERROR(#REF!,0)*FY5","v":0},{"$f":"IFERROR(#REF!,0)*FY5","v":0},{"$f":"IFERROR(#REF!,0)*GC5","v":0},{"$f":"IFERROR(#REF!,0)*GC5","v":0},{"$f":"IFERROR(#REF!,0)*GC5","v":0},{"$f":"IFERROR(#REF!,0)*GC5","v":0},{"$f":"IFERROR(#REF!,0)*GG5","v":0},{"$f":"IFERROR(#REF!,0)*GG5","v":0},{"$f":"IFERROR(#REF!,0)*GG5","v":0},{"$f":"IFERROR(#REF!,0)*GG5","v":0},{"$f":"IFERROR(#REF!,0)*GK5","v":0},{"$f":"IFERROR(#REF!,0)*GK5","v":0},{"$f":"IFERROR(#REF!,0)*GK5","v":0},{"$f":"IFERROR(#REF!,0)*GK5","v":0},{"$f":"IFERROR(#REF!,0)*GO5","v":0},{"$f":"IFERROR(#REF!,0)*GO5","v":0},{"$f":"IFERROR(#REF!,0)*GO5","v":0},{"$f":"IFERROR(#REF!,0)*GO5","v":0},{"$f":"IFERROR(#REF!,0)*GS5","v":0},{"$f":"IFERROR(#REF!,0)*GS5","v":0},{"$f":"IFERROR(#REF!,0)*GS5","v":0},{"$f":"IFERROR(#REF!,0)*GS5","v":0},{"v":0,"d":"0.00"},{"v":0,"d":"0.00"},{"v":0,"d":"0.00"},{"v":0,"d":"0.00"}]
[null,{"$f":"#REF!","v":{"$error":"#REF!"}},{"$f":"#REF!","v":{"$error":"#REF!"}},{"$f":"IFERROR(#REF!,0)*E5","v":0},{"$f":"IFERROR(#REF!,0)*E5","v":0},{"$f":"IFERROR(#REF!,0)*E5","v":0},{"$f":"IFERROR(#REF!,0)*E5","v":0},{"$f":"IFERROR(#REF!,0)*I5","v":0},{"$f":"IFERROR(#REF!,0)*I5","v":0},{"$f":"IFERROR(#REF!,0)*I5","v":0},{"$f":"IFERROR(#REF!,0)*I5","v":0},{"$f":"IFERROR(#REF!,0)*M5","v":0},{"$f":"IFERROR(#REF!,0)*M5","v":0},{"$f":"IFERROR(#REF!,0)*M5","v":0},{"$f":"IFERROR(#REF!,0)*M5","v":0},{"$f":"IFERROR(#REF!,0)*Q5","v":0},{"$f":"IFERROR(#REF!,0)*Q5","v":0},{"$f":"IFERROR(#REF!,0)*Q5","v":0},{"$f":"IFERROR(#REF!,0)*Q5","v":0},{"$f":"IFERROR(#REF!,0)*U5","v":0},{"$f":"IFERROR(#REF!,0)*U5","v":0},{"$f":"IFERROR(#REF!,0)*U5","v":0},{"$f":"IFERROR(#REF!,0)*U5","v":0},{"$f":"IFERROR(#REF!,0)*Y5","v":0},{"$f":"IFERROR(#REF!,0)*Y5","v":0},{"$f":"IFERROR(#REF!,0)*Y5","v":0},{"$f":"IFERROR(#REF!,0)*Y5","v":0},{"$f":"IFERROR(#REF!,0)*AC5","v":0},{"$f":"IFERROR(#REF!,0)*AC5","v":0},{"$f":"IFERROR(#REF!,0)*AC5","v":0},{"$f":"IFERROR(#REF!,0)*AC5","v":0},{"$f":"IFERROR(#REF!,0)*AG5","v":0},{"$f":"IFERROR(#REF!,0)*AG5","v":0},{"$f":"IFERROR(#REF!,0)*AG5","v":0},{"$f":"IFERROR(#REF!,0)*AG5","v":0},{"$f":"IFERROR(#REF!,0)*AK5","v":0},{"$f":"IFERROR(#REF!,0)*AK5","v":0},{"$f":"IFERROR(#REF!,0)*AK5","v":0},{"$f":"IFERROR(#REF!,0)*AK5","v":0},{"$f":"IFERROR(#REF!,0)*AO5","v":0},{"$f":"IFERROR(#REF!,0)*AO5","v":0},{"$f":"IFERROR(#REF!,0)*AO5","v":0},{"$f":"IFERROR(#REF!,0)*AO5","v":0},{"$f":"IFERROR(#REF!,0)*AS5","v":0},{"$f":"IFERROR(#REF!,0)*AS5","v":0},{"$f":"IFERROR(#REF!,0)*AS5","v":0},{"$f":"IFERROR(#REF!,0)*AS5","v":0},{"$f":"IFERROR(#REF!,0)*AW5","v":0},{"$f":"IFERROR(#REF!,0)*AW5","v":0},{"$f":"IFERROR(#REF!,0)*AW5","v":0},{"$f":"IFERROR(#REF!,0)*AW5","v":0},{"$f":"IFERROR(#REF!,0)*BA5","v":0},{"$f":"IFERROR(#REF!,0)*BA5","v":0},{"$f":"IFERROR(#REF!,0)*BA5","v":0},{"$f":"IFERROR(#REF!,0)*BA5","v":0},{"$f":"IFERROR(#REF!,0)*BE5","v":0},{"$f":"IFERROR(#REF!,0)*BE5","v":0},{"$f":"IFERROR(#REF!,0)*BE5","v":0},{"$f":"IFERROR(#REF!,0)*BE5","v":0},{"$f":"IFERROR(#REF!,0)*BI5","v":0},{"$f":"IFERROR(#REF!,0)*BI5","v":0},{"$f":"IFERROR(#REF!,0)*BI5","v":0},{"$f":"IFERROR(#REF!,0)*BI5","v":0},{"$f":"IFERROR(#REF!,0)*BM5","v":0},{"$f":"IFERROR(#REF!,0)*BM5","v":0},{"$f":"IFERROR(#REF!,0)*BM5","v":0},{"$f":"IFERROR(#REF!,0)*BM5","v":0},{"$f":"IFERROR(#REF!,0)*BQ5","v":0},{"$f":"IFERROR(#REF!,0)*BQ5","v":0},{"$f":"IFERROR(#REF!,0)*BQ5","v":0},{"$f":"IFERROR(#REF!,0)*BQ5","v":0},{"$f":"IFERROR(#REF!,0)*BU5","v":0},{"$f":"IFERROR(#REF!,0)*BU5","v":0},{"$f":"IFERROR(#REF!,0)*BU5","v":0},{"$f":"IFERROR(#REF!,0)*BU5","v":0},{"$f":"IFERROR(#REF!,0)*BY5","v":0},{"$f":"IFERROR(#REF!,0)*BY5","v":0},{"$f":"IFERROR(#REF!,0)*BY5","v":0},{"$f":"IFERROR(#REF!,0)*BY5","v":0},{"$f":"IFERROR(#REF!,0)*CC5","v":0},{"$f":"IFERROR(#REF!,0)*CC5","v":0},{"$f":"IFERROR(#REF!,0)*CC5","v":0},{"$f":"IFERROR(#REF!,0)*CC5","v":0},{"$f":"IFERROR(#REF!,0)*CG5","v":0},{"$f":"IFERROR(#REF!,0)*CG5","v":0},{"$f":"IFERROR(#REF!,0)*CG5","v":0},{"$f":"IFERROR(#REF!,0)*CG5","v":0},{"$f":"IFERROR(#REF!,0)*CK5","v":0},{"$f":"IFERROR(#REF!,0)*CK5","v":0},{"$f":"IFERROR(#REF!,0)*CK5","v":0},{"$f":"IFERROR(#REF!,0)*CK5","v":0},{"$f":"IFERROR(#REF!,0)*CO5","v":0},{"$f":"IFERROR(#REF!,0)*CO5","v":0},{"$f":"IFERROR(#REF!,0)*CO5","v":0},{"$f":"IFERROR(#REF!,0)*CO5","v":0},{"$f":"IFERROR(#REF!,0)*CS5","v":0},{"$f":"IFERROR(#REF!,0)*CS5","v":0},{"$f":"IFERROR(#REF!,0)*CS5","v":0},{"$f":"IFERROR(#REF!,0)*CS5","v":0},{"$f":"IFERROR(#REF!,0)*CW5","v":0},{"$f":"IFERROR(#REF!,0)*CW5","v":0},{"$f":"IFERROR(#REF!,0)*CW5","v":0},{"$f":"IFERROR(#REF!,0)*CW5","v":0},{"$f":"IFERROR(#REF!,0)*DA5","v":0},{"$f":"IFERROR(#REF!,0)*DA5","v":0},{"$f":"IFERROR(#REF!,0)*DA5","v":0},{"$f":"IFERROR(#REF!,0)*DA5","v":0},{"$f":"IFERROR(#REF!,0)*DE5","v":0},{"$f":"IFERROR(#REF!,0)*DE5","v":0},{"$f":"IFERROR(#REF!,0)*DE5","v":0},{"$f":"IFERROR(#REF!,0)*DE5","v":0},{"$f":"IFERROR(#REF!,0)*DI5","v":0},{"$f":"IFERROR(#REF!,0)*DI5","v":0},{"$f":"IFERROR(#REF!,0)*DI5","v":0},{"$f":"IFERROR(#REF!,0)*DI5","v":0},{"$f":"IFERROR(#REF!,0)*DM5","v":0},{"$f":"IFERROR(#REF!,0)*DM5","v":0},{"$f":"IFERROR(#REF!,0)*DM5","v":0},{"$f":"IFERROR(#REF!,0)*DM5","v":0},{"$f":"IFERROR(#REF!,0)*DQ5","v":0},{"$f":"IFERROR(#REF!,0)*DQ5","v":0},{"$f":"IFERROR(#REF!,0)*DQ5","v":0},{"$f":"IFERROR(#REF!,0)*DQ5","v":0},{"$f":"IFERROR(#REF!,0)*DU5","v":0},{"$f":"IFERROR(#REF!,0)*DU5","v":0},{"$f":"IFERROR(#REF!,0)*DU5","v":0},{"$f":"IFERROR(#REF!,0)*DU5","v":0},{"$f":"IFERROR(#REF!,0)*DY5","v":0},{"$f":"IFERROR(#REF!,0)*DY5","v":0},{"$f":"IFERROR(#REF!,0)*DY5","v":0},{"$f":"IFERROR(#REF!,0)*DY5","v":0},{"$f":"IFERROR(#REF!,0)*EC5","v":0},{"$f":"IFERROR(#REF!,0)*EC5","v":0},{"$f":"IFERROR(#REF!,0)*EC5","v":0},{"$f":"IFERROR(#REF!,0)*EC5","v":0},{"$f":"IFERROR(#REF!,0)*EG5","v":0},{"$f":"IFERROR(#REF!,0)*EG5","v":0},{"$f":"IFERROR(#REF!,0)*EG5","v":0},{"$f":"IFERROR(#REF!,0)*EG5","v":0},{"$f":"IFERROR(#REF!,0)*EK5","v":0},{"$f":"IFERROR(#REF!,0)*EK5","v":0},{"$f":"IFERROR(#REF!,0)*EK5","v":0},{"$f":"IFERROR(#REF!,0)*EK5","v":0},{"$f":"IFERROR(#REF!,0)*EO5","v":0},{"$f":"IFERROR(#REF!,0)*EO5","v":0},{"$f":"IFERROR(#REF!,0)*EO5","v":0},{"$f":"IFERROR(#REF!,0)*EO5","v":0},{"$f":"IFERROR(#REF!,0)*ES5","v":0},{"$f":"IFERROR(#REF!,0)*ES5","v":0},{"$f":"IFERROR(#REF!,0)*ES5","v":0},{"$f":"IFERROR(#REF!,0)*ES5","v":0},{"$f":"IFERROR(#REF!,0)*EW5","v":0},{"$f":"IFERROR(#REF!,0)*EW5","v":0},{"$f":"IFERROR(#REF!,0)*EW5","v":0},{"$f":"IFERROR(#REF!,0)*EW5","v":0},{"$f":"IFERROR(#REF!,0)*FA5","v":0},{"$f":"IFERROR(#REF!,0)*FA5","v":0},{"$f":"IFERROR(#REF!,0)*FA5","v":0},{"$f":"IFERROR(#REF!,0)*FA5","v":0},{"$f":"IFERROR(#REF!,0)*FE5","v":0},{"$f":"IFERROR(#REF!,0)*FE5","v":0},{"$f":"IFERROR(#REF!,0)*FE5","v":0},{"$f":"IFERROR(#REF!,0)*FE5","v":0},{"$f":"IFERROR(#REF!,0)*FI5","v":0},{"$f":"IFERROR(#REF!,0)*FI5","v":0},{"$f":"IFERROR(#REF!,0)*FI5","v":0},{"$f":"IFERROR(#REF!,0)*FI5","v":0},{"$f":"IFERROR(#REF!,0)*FM5","v":0},{"$f":"IFERROR(#REF!,0)*FM5","v":0},{"$f":"IFERROR(#REF!,0)*FM5","v":0},{"$f":"IFERROR(#REF!,0)*FM5","v":0},{"$f":"IFERROR(#REF!,0)*FQ5","v":0},{"$f":"IFERROR(#REF!,0)*FQ5","v":0},{"$f":"IFERROR(#REF!,0)*FQ5","v":0},{"$f":"IFERROR(#REF!,0)*FQ5","v":0},{"$f":"IFERROR(#REF!,0)*FU5","v":0},{"$f":"IFERROR(#REF!,0)*FU5","v":0},{"$f":"IFERROR(#REF!,0)*FU5","v":0},{"$f":"IFERROR(#REF!,0)*FU5","v":0},{"$f":"IFERROR(#REF!,0)*FY5","v":0},{"$f":"IFERROR(#REF!,0)*FY5","v":0},{"$f":"IFERROR(#REF!,0)*FY5","v":0},{"$f":"IFERROR(#REF!,0)*FY5","v":0},{"$f":"IFERROR(#REF!,0)*GC5","v":0},{"$f":"IFERROR(#REF!,0)*GC5","v":0},{"$f":"IFERROR(#REF!,0)*GC5","v":0},{"$f":"IFERROR(#REF!,0)*GC5","v":0},{"$f":"IFERROR(#REF!,0)*GG5","v":0},{"$f":"IFERROR(#REF!,0)*GG5","v":0},{"$f":"IFERROR(#REF!,0)*GG5","v":0},{"$f":"IFERROR(#REF!,0)*GG5","v":0},{"$f":"IFERROR(#REF!,0)*GK5","v":0},{"$f":"IFERROR(#REF!,0)*GK5","v":0},{"$f":"IFERROR(#REF!,0)*GK5","v":0},{"$f":"IFERROR(#REF!,0)*GK5","v":0},{"$f":"IFERROR(#REF!,0)*GO5","v":0},{"$f":"IFERROR(#REF!,0)*GO5","v":0},{"$f":"IFERROR(#REF!,0)*GO5","v":0},{"$f":"IFERROR(#REF!,0)*GO5","v":0},{"$f":"IFERROR(#REF!,0)*GS5","v":0},{"$f":"IFERROR(#REF!,0)*GS5","v":0},{"$f":"IFERROR(#REF!,0)*GS5","v":0},{"$f":"IFERROR(#REF!,0)*GS5","v":0},{"v":0,"d":"0.00"},{"v":0,"d":"0.00"},{"v":0,"d":"0.00"},{"v":0,"d":"0.00"}]
[null,{"$f":"#REF!","v":{"$error":"#REF!"}},{"$f":"#REF!","v":{"$error":"#REF!"}},{"$f":"IFERROR(#REF!,0)*E5","v":0},{"$f":"IFERROR(#REF!,0)*E5","v":0},{"$f":"IFERROR(#REF!,0)*E5","v":0},{"$f":"IFERROR(#REF!,0)*E5","v":0},{"$f":"IFERROR(#REF!,0)*I5","v":0},{"$f":"IFERROR(#REF!,0)*I5","v":0},{"$f":"IFERROR(#REF!,0)*I5","v":0},{"$f":"IFERROR(#REF!,0)*I5","v":0},{"$f":"IFERROR(#REF!,0)*M5","v":0},{"$f":"IFERROR(#REF!,0)*M5","v":0},{"$f":"IFERROR(#REF!,0)*M5","v":0},{"$f":"IFERROR(#REF!,0)*M5","v":0},{"$f":"IFERROR(#REF!,0)*Q5","v":0},{"$f":"IFERROR(#REF!,0)*Q5","v":0},{"$f":"IFERROR(#REF!,0)*Q5","v":0},{"$f":"IFERROR(#REF!,0)*Q5","v":0},{"$f":"IFERROR(#REF!,0)*U5","v":0},{"$f":"IFERROR(#REF!,0)*U5","v":0},{"$f":"IFERROR(#REF!,0)*U5","v":0},{"$f":"IFERROR(#REF!,0)*U5","v":0},{"$f":"IFERROR(#REF!,0)*Y5","v":0},{"$f":"IFERROR(#REF!,0)*Y5","v":0},{"$f":"IFERROR(#REF!,0)*Y5","v":0},{"$f":"IFERROR(#REF!,0)*Y5","v":0},{"$f":"IFERROR(#REF!,0)*AC5","v":0},{"$f":"IFERROR(#REF!,0)*AC5","v":0},{"$f":"IFERROR(#REF!,0)*AC5","v":0},{"$f":"IFERROR(#REF!,0)*AC5","v":0},{"$f":"IFERROR(#REF!,0)*AG5","v":0},{"$f":"IFERROR(#REF!,0)*AG5","v":0},{"$f":"IFERROR(#REF!,0)*AG5","v":0},{"$f":"IFERROR(#REF!,0)*AG5","v":0},{"$f":"IFERROR(#REF!,0)*AK5","v":0},{"$f":"IFERROR(#REF!,0)*AK5","v":0},{"$f":"IFERROR(#REF!,0)*AK5","v":0},{"$f":"IFERROR(#REF!,0)*AK5","v":0},{"$f":"IFERROR(#REF!,0)*AO5","v":0},{"$f":"IFERROR(#REF!,0)*AO5","v":0},{"$f":"IFERROR(#REF!,0)*AO5","v":0},{"$f":"IFERROR(#REF!,0)*AO5","v":0},{"$f":"IFERROR(#REF!,0)*AS5","v":0},{"$f":"IFERROR(#REF!,0)*AS5","v":0},{"$f":"IFERROR(#REF!,0)*AS5","v":0},{"$f":"IFERROR(#REF!,0)*AS5","v":0},{"$f":"IFERROR(#REF!,0)*AW5","v":0},{"$f":"IFERROR(#REF!,0)*AW5","v":0},{"$f":"IFERROR(#REF!,0)*AW5","v":0},{"$f":"IFERROR(#REF!,0)*AW5","v":0},{"$f":"IFERROR(#REF!,0)*BA5","v":0},{"$f":"IFERROR(#REF!,0)*BA5","v":0},{"$f":"IFERROR(#REF!,0)*BA5","v":0},{"$f":"IFERROR(#REF!,0)*BA5","v":0},{"$f":"IFERROR(#REF!,0)*BE5","v":0},{"$f":"IFERROR(#REF!,0)*BE5","v":0},{"$f":"IFERROR(#REF!,0)*BE5","v":0},{"$f":"IFERROR(#REF!,0)*BE5","v":0},{"$f":"IFERROR(#REF!,0)*BI5","v":0},{"$f":"IFERROR(#REF!,0)*BI5","v":0},{"$f":"IFERROR(#REF!,0)*BI5","v":0},{"$f":"IFERROR(#REF!,0)*BI5","v":0},{"$f":"IFERROR(#REF!,0)*BM5","v":0},{"$f":"IFERROR(#REF!,0)*BM5","v":0},{"$f":"IFERROR(#REF!,0)*BM5","v":0},{"$f":"IFERROR(#REF!,0)*BM5","v":0},{"$f":"IFERROR(#REF!,0)*BQ5","v":0},{"$f":"IFERROR(#REF!,0)*BQ5","v":0},{"$f":"IFERROR(#REF!,0)*BQ5","v":0},{"$f":"IFERROR(#REF!,0)*BQ5","v":0},{"$f":"IFERROR(#REF!,0)*BU5","v":0},{"$f":"IFERROR(#REF!,0)*BU5","v":0},{"$f":"IFERROR(#REF!,0)*BU5","v":0},{"$f":"IFERROR(#REF!,0)*BU5","v":0},{"$f":"IFERROR(#REF!,0)*BY5","v":0},{"$f":"IFERROR(#REF!,0)*BY5","v":0},{"$f":"IFERROR(#REF!,0)*BY5","v":0},{"$f":"IFERROR(#REF!,0)*BY5","v":0},{"$f":"IFERROR(#REF!,0)*CC5","v":0},{"$f":"IFERROR(#REF!,0)*CC5","v":0},{"$f":"IFERROR(#REF!,0)*CC5","v":0},{"$f":"IFERROR(#REF!,0)*CC5","v":0},{"$f":"IFERROR(#REF!,0)*CG5","v":0},{"$f":"IFERROR(#REF!,0)*CG5","v":0},{"$f":"IFERROR(#REF!,0)*CG5","v":0},{"$f":"IFERROR(#REF!,0)*CG5","v":0},{"$f":"IFERROR(#REF!,0)*CK5","v":0},{"$f":"IFERROR(#REF!,0)*CK5","v":0},{"$f":"IFERROR(#REF!,0)*CK5","v":0},{"$f":"IFERROR(#REF!,0)*CK5","v":0},{"$f":"IFERROR(#REF!,0)*CO5","v":0},{"$f":"IFERROR(#REF!,0)*CO5","v":0},{"$f":"IFERROR(#REF!,0)*CO5","v":0},{"$f":"IFERROR(#REF!,0)*CO5","v":0},{"$f":"IFERROR(#REF!,0)*CS5","v":0},{"$f":"IFERROR(#REF!,0)*CS5","v":0},{"$f":"IFERROR(#REF!,0)*CS5","v":0},{"$f":"IFERROR(#REF!,0)*CS5","v":0},{"$f":"IFERROR(#REF!,0)*CW5","v":0},{"$f":"IFERROR(#REF!,0)*CW5","v":0},{"$f":"IFERROR(#REF!,0)*CW5","v":0},{"$f":"IFERROR(#REF!,0)*CW5","v":0},{"$f":"IFERROR(#REF!,0)*DA5","v":0},{"$f":"IFERROR(#REF!,0)*DA5","v":0},{"$f":"IFERROR(#REF!,0)*DA5","v":0},{"$f":"IFERROR(#REF!,0)*DA5","v":0},{"$f":"IFERROR(#REF!,0)*DE5","v":0},{"$f":"IFERROR(#REF!,0)*DE5","v":0},{"$f":"IFERROR(#REF!,0)*DE5","v":0},{"$f":"IFERROR(#REF!,0)*DE5","v":0},{"$f":"IFERROR(#REF!,0)*DI5","v":0},{"$f":"IFERROR(#REF!,0)*DI5","v":0},{"$f":"IFERROR(#REF!,0)*DI5","v":0},{"$f":"IFERROR(#REF!,0)*DI5","v":0},{"$f":"IFERROR(#REF!,0)*DM5","v":0},{"$f":"IFERROR(#REF!,0)*DM5","v":0},{"$f":"IFERROR(#REF!,0)*DM5","v":0},{"$f":"IFERROR(#REF!,0)*DM5","v":0},{"$f":"IFERROR(#REF!,0)*DQ5","v":0},{"$f":"IFERROR(#REF!,0)*DQ5","v":0},{"$f":"IFERROR(#REF!,0)*DQ5","v":0},{"$f":"IFERROR(#REF!,0)*DQ5","v":0},{"$f":"IFERROR(#REF!,0)*DU5","v":0},{"$f":"IFERROR(#REF!,0)*DU5","v":0},{"$f":"IFERROR(#REF!,0)*DU5","v":0},{"$f":"IFERROR(#REF!,0)*DU5","v":0},{"$f":"IFERROR(#REF!,0)*DY5","v":0},{"$f":"IFERROR(#REF!,0)*DY5","v":0},{"$f":"IFERROR(#REF!,0)*DY5","v":0},{"$f":"IFERROR(#REF!,0)*DY5","v":0},{"$f":"IFERROR(#REF!,0)*EC5","v":0},{"$f":"IFERROR(#REF!,0)*EC5","v":0},{"$f":"IFERROR(#REF!,0)*EC5","v":0},{"$f":"IFERROR(#REF!,0)*EC5","v":0},{"$f":"IFERROR(#REF!,0)*EG5","v":0},{"$f":"IFERROR(#REF!,0)*EG5","v":0},{"$f":"IFERROR(#REF!,0)*EG5","v":0},{"$f":"IFERROR(#REF!,0)*EG5","v":0},{"$f":"IFERROR(#REF!,0)*EK5","v":0},{"$f":"IFERROR(#REF!,0)*EK5","v":0},{"$f":"IFERROR(#REF!,0)*EK5","v":0},{"$f":"IFERROR(#REF!,0)*EK5","v":0},{"$f":"IFERROR(#REF!,0)*EO5","v":0},{"$f":"IFERROR(#REF!,0)*EO5","v":0},{"$f":"IFERROR(#REF!,0)*EO5","v":0},{"$f":"IFERROR(#REF!,0)*EO5","v":0},{"$f":"IFERROR(#REF!,0)*ES5","v":0},{"$f":"IFERROR(#REF!,0)*ES5","v":0},{"$f":"IFERROR(#REF!,0)*ES5","v":0},{"$f":"IFERROR(#REF!,0)*ES5","v":0},{"$f":"IFERROR(#REF!,0)*EW5","v":0},{"$f":"IFERROR(#REF!,0)*EW5","v":0},{"$f":"IFERROR(#REF!,0)*EW5","v":0},{"$f":"IFERROR(#REF!,0)*EW5","v":0},{"$f":"IFERROR(#REF!,0)*FA5","v":0},{"$f":"IFERROR(#REF!,0)*FA5","v":0},{"$f":"IFERROR(#REF!,0)*FA5","v":0},{"$f":"IFERROR(#REF!,0)*FA5","v":0},{"$f":"IFERROR(#REF!,0)*FE5","v":0},{"$f":"IFERROR(#REF!,0)*FE5","v":0},{"$f":"IFERROR(#REF!,0)*FE5","v":0},{"$f":"IFERROR(#REF!,0)*FE5","v":0},{"$f":"IFERROR(#REF!,0)*FI5","v":0},{"$f":"IFERROR(#REF!,0)*FI5","v":0},{"$f":"IFERROR(#REF!,0)*FI5","v":0},{"$f":"IFERROR(#REF!,0)*FI5","v":0},{"$f":"IFERROR(#REF!,0)*FM5","v":0},{"$f":"IFERROR(#REF!,0)*FM5","v":0},{"$f":"IFERROR(#REF!,0)*FM5","v":0},{"$f":"IFERROR(#REF!,0)*FM5","v":0},{"$f":"IFERROR(#REF!,0)*FQ5","v":0},{"$f":"IFERROR(#REF!,0)*FQ5","v":0},{"$f":"IFERROR(#REF!,0)*FQ5","v":0},{"$f":"IFERROR(#REF!,0)*FQ5","v":0},{"$f":"IFERROR(#REF!,0)*FU5","v":0},{"$f":"IFERROR(#REF!,0)*FU5","v":0},{"$f":"IFERROR(#REF!,0)*FU5","v":0},{"$f":"IFERROR(#REF!,0)*FU5","v":0},{"$f":"IFERROR(#REF!,0)*FY5","v":0},{"$f":"IFERROR(#REF!,0)*FY5","v":0},{"$f":"IFERROR(#REF!,0)*FY5","v":0},{"$f":"IFERROR(#REF!,0)*FY5","v":0},{"$f":"IFERROR(#REF!,0)*GC5","v":0},{"$f":"IFERROR(#REF!,0)*GC5","v":0},{"$f":"IFERROR(#REF!,0)*GC5","v":0},{"$f":"IFERROR(#REF!,0)*GC5","v":0},{"$f":"IFERROR(#REF!,0)*GG5","v":0},{"$f":"IFERROR(#REF!,0)*GG5","v":0},{"$f":"IFERROR(#REF!,0)*GG5","v":0},{"$f":"IFERROR(#REF!,0)*GG5","v":0},{"$f":"IFERROR(#REF!,0)*GK5","v":0},{"$f":"IFERROR(#REF!,0)*GK5","v":0},{"$f":"IFERROR(#REF!,0)*GK5","v":0},{"$f":"IFERROR(#REF!,0)*GK5","v":0},{"$f":"IFERROR(#REF!,0)*GO5","v":0},{"$f":"IFERROR(#REF!,0)*GO5","v":0},{"$f":"IFERROR(#REF!,0)*GO5","v":0},{"$f":"IFERROR(#REF!,0)*GO5","v":0},{"$f":"IFERROR(#REF!,0)*GS5","v":0},{"$f":"IFERROR(#REF!,0)*GS5","v":0},{"$f":"IFERROR(#REF!,0)*GS5","v":0},{"$f":"IFERROR(#REF!,0)*GS5","v":0},{"v":0,"d":"0.00"},{"v":0,"d":"0.00"},{"v":0,"d":"0.00"},{"v":0,"d":"0.00"}]
[null,{"$f":"#REF!","v":{"$error":"#REF!"}},{"$f":"#REF!","v":{"$error":"#REF!"}},{"$f":"IFERROR(#REF!,0)*E5","v":0},{"$f":"IFERROR(#REF!,0)*E5","v":0},{"$f":"IFERROR(#REF!,0)*E5","v":0},{"$f":"IFERROR(#REF!,0)*E5","v":0},{"$f":"IFERROR(#REF!,0)*I5","v":0},{"$f":"IFERROR(#REF!,0)*I5","v":0},{"$f":"IFERROR(#REF!,0)*I5","v":0},{"$f":"IFERROR(#REF!,0)*I5","v":0},{"$f":"IFERROR(#REF!,0)*M5","v":0},{"$f":"IFERROR(#REF!,0)*M5","v":0},{"$f":"IFERROR(#REF!,0)*M5","v":0},{"$f":"IFERROR(#REF!,0)*M5","v":0},{"$f":"IFERROR(#REF!,0)*Q5","v":0},{"$f":"IFERROR(#REF!,0)*Q5","v":0},{"$f":"IFERROR(#REF!,0)*Q5","v":0},{"$f":"IFERROR(#REF!,0)*Q5","v":0},{"$f":"IFERROR(#REF!,0)*U5","v":0},{"$f":"IFERROR(#REF!,0)*U5","v":0},{"$f":"IFERROR(#REF!,0)*U5","v":0},{"$f":"IFERROR(#REF!,0)*U5","v":0},{"$f":"IFERROR(#REF!,0)*Y5","v":0},{"$f":"IFERROR(#REF!,0)*Y5","v":0},{"$f":"IFERROR(#REF!,0)*Y5","v":0},{"$f":"IFERROR(#REF!,0)*Y5","v":0},{"$f":"IFERROR(#REF!,0)*AC5","v":0},{"$f":"IFERROR(#REF!,0)*AC5","v":0},{"$f":"IFERROR(#REF!,0)*AC5","v":0},{"$f":"IFERROR(#REF!,0)*AC5","v":0},{"$f":"IFERROR(#REF!,0)*AG5","v":0},{"$f":"IFERROR(#REF!,0)*AG5","v":0},{"$f":"IFERROR(#REF!,0)*AG5","v":0},{"$f":"IFERROR(#REF!,0)*AG5","v":0},{"$f":"IFERROR(#REF!,0)*AK5","v":0},{"$f":"IFERROR(#REF!,0)*AK5","v":0},{"$f":"IFERROR(#REF!,0)*AK5","v":0},{"$f":"IFERROR(#REF!,0)*AK5","v":0},{"$f":"IFERROR(#REF!,0)*AO5","v":0},{"$f":"IFERROR(#REF!,0)*AO5","v":0},{"$f":"IFERROR(#REF!,0)*AO5","v":0},{"$f":"IFERROR(#REF!,0)*AO5","v":0},{"$f":"IFERROR(#REF!,0)*AS5","v":0},{"$f":"IFERROR(#REF!,0)*AS5","v":0},{"$f":"IFERROR(#REF!,0)*AS5","v":0},{"$f":"IFERROR(#REF!,0)*AS5","v":0},{"$f":"IFERROR(#REF!,0)*AW5","v":0},{"$f":"IFERROR(#REF!,0)*AW5","v":0},{"$f":"IFERROR(#REF!,0)*AW5","v":0},{"$f":"IFERROR(#REF!,0)*AW5","v":0},{"$f":"IFERROR(#REF!,0)*BA5","v":0},{"$f":"IFERROR(#REF!,0)*BA5","v":0},{"$f":"IFERROR(#REF!,0)*BA5","v":0},{"$f":"IFERROR(#REF!,0)*BA5","v":0},{"$f":"IFERROR(#REF!,0)*BE5","v":0},{"$f":"IFERROR(#REF!,0)*BE5","v":0},{"$f":"IFERROR(#REF!,0)*BE5","v":0},{"$f":"IFERROR(#REF!,0)*BE5","v":0},{"$f":"IFERROR(#REF!,0)*BI5","v":0},{"$f":"IFERROR(#REF!,0)*BI5","v":0},{"$f":"IFERROR(#REF!,0)*BI5","v":0},{"$f":"IFERROR(#REF!,0)*BI5","v":0},{"$f":"IFERROR(#REF!,0)*BM5","v":0},{"$f":"IFERROR(#REF!,0)*BM5","v":0},{"$f":"IFERROR(#REF!,0)*BM5","v":0},{"$f":"IFERROR(#REF!,0)*BM5","v":0},{"$f":"IFERROR(#REF!,0)*BQ5","v":0},{"$f":"IFERROR(#REF!,0)*BQ5","v":0},{"$f":"IFERROR(#REF!,0)*BQ5","v":0},{"$f":"IFERROR(#REF!,0)*BQ5","v":0},{"$f":"IFERROR(#REF!,0)*BU5","v":0},{"$f":"IFERROR(#REF!,0)*BU5","v":0},{"$f":"IFERROR(#REF!,0)*BU5","v":0},{"$f":"IFERROR(#REF!,0)*BU5","v":0},{"$f":"IFERROR(#REF!,0)*BY5","v":0},{"$f":"IFERROR(#REF!,0)*BY5","v":0},{"$f":"IFERROR(#REF!,0)*BY5","v":0},{"$f":"IFERROR(#REF!,0)*BY5","v":0},{"$f":"IFERROR(#REF!,0)*CC5","v":0},{"$f":"IFERROR(#REF!,0)*CC5","v":0},{"$f":"IFERROR(#REF!,0)*CC5","v":0},{"$f":"IFERROR(#REF!,0)*CC5","v":0},{"$f":"IFERROR(#REF!,0)*CG5","v":0},{"$f":"IFERROR(#REF!,0)*CG5","v":0},{"$f":"IFERROR(#REF!,0)*CG5","v":0},{"$f":"IFERROR(#REF!,0)*CG5","v":0},{"$f":"IFERROR(#REF!,0)*CK5","v":0},{"$f":"IFERROR(#REF!,0)*CK5","v":0},{"$f":"IFERROR(#REF!,0)*CK5","v":0},{"$f":"IFERROR(#REF!,0)*CK5","v":0},{"$f":"IFERROR(#REF!,0)*CO5","v":0},{"$f":"IFERROR(#REF!,0)*CO5","v":0},{"$f":"IFERROR(#REF!,0)*CO5","v":0},{"$f":"IFERROR(#REF!,0)*CO5","v":0},{"$f":"IFERROR(#REF!,0)*CS5","v":0},{"$f":"IFERROR(#REF!,0)*CS5","v":0},{"$f":"IFERROR(#REF!,0)*CS5","v":0},{"$f":"IFERROR(#REF!,0)*CS5","v":0},{"$f":"IFERROR(#REF!,0)*CW5","v":0},{"$f":"IFERROR(#REF!,0)*CW5","v":0},{"$f":"IFERROR(#REF!,0)*CW5","v":0},{"$f":"IFERROR(#REF!,0)*CW5","v":0},{"$f":"IFERROR(#REF!,0)*DA5","v":0},{"$f":"IFERROR(#REF!,0)*DA5","v":0},{"$f":"IFERROR(#REF!,0)*DA5","v":0},{"$f":"IFERROR(#REF!,0)*DA5","v":0},{"$f":"IFERROR(#REF!,0)*DE5","v":0},{"$f":"IFERROR(#REF!,0)*DE5","v":0},{"$f":"IFERROR(#REF!,0)*DE5","v":0},{"$f":"IFERROR(#REF!,0)*DE5","v":0},{"$f":"IFERROR(#REF!,0)*DI5","v":0},{"$f":"IFERROR(#REF!,0)*DI5","v":0},{"$f":"IFERROR(#REF!,0)*DI5","v":0},{"$f":"IFERROR(#REF!,0)*DI5","v":0},{"$f":"IFERROR(#REF!,0)*DM5","v":0},{"$f":"IFERROR(#REF!,0)*DM5","v":0},{"$f":"IFERROR(#REF!,0)*DM5","v":0},{"$f":"IFERROR(#REF!,0)*DM5","v":0},{"$f":"IFERROR(#REF!,0)*DQ5","v":0},{"$f":"IFERROR(#REF!,0)*DQ5","v":0},{"$f":"IFERROR(#REF!,0)*DQ5","v":0},{"$f":"IFERROR(#REF!,0)*DQ5","v":0},{"$f":"IFERROR(#REF!,0)*DU5","v":0},{"$f":"IFERROR(#REF!,0)*DU5","v":0},{"$f":"IFERROR(#REF!,0)*DU5","v":0},{"$f":"IFERROR(#REF!,0)*DU5","v":0},{"$f":"IFERROR(#REF!,0)*DY5","v":0},{"$f":"IFERROR(#REF!,0)*DY5","v":0},{"$f":"IFERROR(#REF!,0)*DY5","v":0},{"$f":"IFERROR(#REF!,0)*DY5","v":0},{"$f":"IFERROR(#REF!,0)*EC5","v":0},{"$f":"IFERROR(#REF!,0)*EC5","v":0},{"$f":"IFERROR(#REF!,0)*EC5","v":0},{"$f":"IFERROR(#REF!,0)*EC5","v":0},{"$f":"IFERROR(#REF!,0)*EG5","v":0},{"$f":"IFERROR(#REF!,0)*EG5","v":0},{"$f":"IFERROR(#REF!,0)*EG5","v":0},{"$f":"IFERROR(#REF!,0)*EG5","v":0},{"$f":"IFERROR(#REF!,0)*EK5","v":0},{"$f":"IFERROR(#REF!,0)*EK5","v":0},{"$f":"IFERROR(#REF!,0)*EK5","v":0},{"$f":"IFERROR(#REF!,0)*EK5","v":0},{"$f":"IFERROR(#REF!,0)*EO5","v":0},{"$f":"IFERROR(#REF!,0)*EO5","v":0},{"$f":"IFERROR(#REF!,0)*EO5","v":0},{"$f":"IFERROR(#REF!,0)*EO5","v":0},{"$f":"IFERROR(#REF!,0)*ES5","v":0},{"$f":"IFERROR(#REF!,0)*ES5","v":0},{"$f":"IFERROR(#REF!,0)*ES5","v":0},{"$f":"IFERROR(#REF!,0)*ES5","v":0},{"$f":"IFERROR(#REF!,0)*EW5","v":0},{"$f":"IFERROR(#REF!,0)*EW5","v":0},{"$f":"IFERROR(#REF!,0)*EW5","v":0},{"$f":"IFERROR(#REF!,0)*EW5","v":0},{"$f":"IFERROR(#REF!,0)*FA5","v":0},{"$f":"IFERROR(#REF!,0)*FA5","v":0},{"$f":"IFERROR(#REF!,0)*FA5","v":0},{"$f":"IFERROR(#REF!,0)*FA5","v":0},{"$f":"IFERROR(#REF!,0)*FE5","v":0},{"$f":"IFERROR(#REF!,0)*FE5","v":0},{"$f":"IFERROR(#REF!,0)*FE5","v":0},{"$f":"IFERROR(#REF!,0)*FE5","v":0},{"$f":"IFERROR(#REF!,0)*FI5","v":0},{"$f":"IFERROR(#REF!,0)*FI5","v":0},{"$f":"IFERROR(#REF!,0)*FI5","v":0},{"$f":"IFERROR(#REF!,0)*FI5","v":0},{"$f":"IFERROR(#REF!,0)*FM5","v":0},{"$f":"IFERROR(#REF!,0)*FM5","v":0},{"$f":"IFERROR(#REF!,0)*FM5","v":0},{"$f":"IFERROR(#REF!,0)*FM5","v":0},{"$f":"IFERROR(#REF!,0)*FQ5","v":0},{"$f":"IFERROR(#REF!,0)*FQ5","v":0},{"$f":"IFERROR(#REF!,0)*FQ5","v":0},{"$f":"IFERROR(#REF!,0)*FQ5","v":0},{"$f":"IFERROR(#REF!,0)*FU5","v":0},{"$f":"IFERROR(#REF!,0)*FU5","v":0},{"$f":"IFERROR(#REF!,0)*FU5","v":0},{"$f":"IFERROR(#REF!,0)*FU5","v":0},{"$f":"IFERROR(#REF!,0)*FY5","v":0},{"$f":"IFERROR(#REF!,0)*FY5","v":0},{"$f":"IFERROR(#REF!,0)*FY5","v":0},{"$f":"IFERROR(#REF!,0)*FY5","v":0},{"$f":"IFERROR(#REF!,0)*GC5","v":0},{"$f":"IFERROR(#REF!,0)*GC5","v":0},{"$f":"IFERROR(#REF!,0)*GC5","v":0},{"$f":"IFERROR(#REF!,0)*GC5","v":0},{"$f":"IFERROR(#REF!,0)*GG5","v":0},{"$f":"IFERROR(#REF!,0)*GG5","v":0},{"$f":"IFERROR(#REF!,0)*GG5","v":0},{"$f":"IFERROR(#REF!,0)*GG5","v":0},{"$f":"IFERROR(#REF!,0)*GK5","v":0},{"$f":"IFERROR(#REF!,0)*GK5","v":0},{"$f":"IFERROR(#REF!,0)*GK5","v":0},{"$f":"IFERROR(#REF!,0)*GK5","v":0},{"$f":"IFERROR(#REF!,0)*GO5","v":0},{"$f":"IFERROR(#REF!,0)*GO5","v":0},{"$f":"IFERROR(#REF!,0)*GO5","v":0},{"$f":"IFERROR(#REF!,0)*GO5","v":0},{"$f":"IFERROR(#REF!,0)*GS5","v":0},{"$f":"IFERROR(#REF!,0)*GS5","v":0},{"$f":"IFERROR(#REF!,0)*GS5","v":0},{"$f":"IFERROR(#REF!,0)*GS5","v":0},{"v":0,"d":"0.00"},{"v":0,"d":"0.00"},{"v":0,"d":"0.00"},{"v":0,"d":"0.00"}]
[null,{"$f":"#REF!","v":{"$error":"#REF!"}},{"$f":"#REF!","v":{"$error":"#REF!"}},{"$f":"IFERROR(#REF!,0)*E5","v":0},{"$f":"IFERROR(#REF!,0)*E5","v":0},{"$f":"IFERROR(#REF!,0)*E5","v":0},{"$f":"IFERROR(#REF!,0)*E5","v":0},{"$f":"IFERROR(#REF!,0)*I5","v":0},{"$f":"IFERROR(#REF!,0)*I5","v":0},{"$f":"IFERROR(#REF!,0)*I5","v":0},{"$f":"IFERROR(#REF!,0)*I5","v":0},{"$f":"IFERROR(#REF!,0)*M5","v":0},{"$f":"IFERROR(#REF!,0)*M5","v":0},{"$f":"IFERROR(#REF!,0)*M5","v":0},{"$f":"IFERROR(#REF!,0)*M5","v":0},{"$f":"IFERROR(#REF!,0)*Q5","v":0},{"$f":"IFERROR(#REF!,0)*Q5","v":0},{"$f":"IFERROR(#REF!,0)*Q5","v":0},{"$f":"IFERROR(#REF!,0)*Q5","v":0},{"$f":"IFERROR(#REF!,0)*U5","v":0},{"$f":"IFERROR(#REF!,0)*U5","v":0},{"$f":"IFERROR(#REF!,0)*U5","v":0},{"$f":"IFERROR(#REF!,0)*U5","v":0},{"$f":"IFERROR(#REF!,0)*Y5","v":0},{"$f":"IFERROR(#REF!,0)*Y5","v":0},{"$f":"IFERROR(#REF!,0)*Y5","v":0},{"$f":"IFERROR(#REF!,0)*Y5","v":0},{"$f":"IFERROR(#REF!,0)*AC5","v":0},{"$f":"IFERROR(#REF!,0)*AC5","v":0},{"$f":"IFERROR(#REF!,0)*AC5","v":0},{"$f":"IFERROR(#REF!,0)*AC5","v":0},{"$f":"IFERROR(#REF!,0)*AG5","v":0},{"$f":"IFERROR(#REF!,0)*AG5","v":0},{"$f":"IFERROR(#REF!,0)*AG5","v":0},{"$f":"IFERROR(#REF!,0)*AG5","v":0},{"$f":"IFERROR(#REF!,0)*AK5","v":0},{"$f":"IFERROR(#REF!,0)*AK5","v":0},{"$f":"IFERROR(#REF!,0)*AK5","v":0},{"$f":"IFERROR(#REF!,0)*AK5","v":0},{"$f":"IFERROR(#REF!,0)*AO5","v":0},{"$f":"IFERROR(#REF!,0)*AO5","v":0},{"$f":"IFERROR(#REF!,0)*AO5","v":0},{"$f":"IFERROR(#REF!,0)*AO5","v":0},{"$f":"IFERROR(#REF!,0)*AS5","v":0},{"$f":"IFERROR(#REF!,0)*AS5","v":0},{"$f":"IFERROR(#REF!,0)*AS5","v":0},{"$f":"IFERROR(#REF!,0)*AS5","v":0},{"$f":"IFERROR(#REF!,0)*AW5","v":0},{"$f":"IFERROR(#REF!,0)*AW5","v":0},{"$f":"IFERROR(#REF!,0)*AW5","v":0},{"$f":"IFERROR(#REF!,0)*AW5","v":0},{"$f":"IFERROR(#REF!,0)*BA5","v":0},{"$f":"IFERROR(#REF!,0)*BA5","v":0},{"$f":"IFERROR(#REF!,0)*BA5","v":0},{"$f":"IFERROR(#REF!,0)*BA5","v":0},{"$f":"IFERROR(#REF!,0)*BE5","v":0},{"$f":"IFERROR(#REF!,0)*BE5","v":0},{"$f":"IFERROR(#REF!,0)*BE5","v":0},{"$f":"IFERROR(#REF!,0)*BE5","v":0},{"$f":"IFERROR(#REF!,0)*BI5","v":0},{"$f":"IFERROR(#REF!,0)*BI5","v":0},{"$f":"IFERROR(#REF!,0)*BI5","v":0},{"$f":"IFERROR(#REF!,0)*BI5","v":0},{"$f":"IFERROR(#REF!,0)*BM5","v":0},{"$f":"IFERROR(#REF!,0)*BM5","v":0},{"$f":"IFERROR(#REF!,0)*BM5","v":0},{"$f":"IFERROR(#REF!,0)*BM5","v":0},{"$f":"IFERROR(#REF!,0)*BQ5","v":0},{"$f":"IFERROR(#REF!,0)*BQ5","v":0},{"$f":"IFERROR(#REF!,0)*BQ5","v":0},{"$f":"IFERROR(#REF!,0)*BQ5","v":0},{"$f":"IFERROR(#REF!,0)*BU5","v":0},{"$f":"IFERROR(#REF!,0)*BU5","v":0},{"$f":"IFERROR(#REF!,0)*BU5","v":0},{"$f":"IFERROR(#REF!,0)*BU5","v":0},{"$f":"IFERROR(#REF!,0)*BY5","v":0},{"$f":"IFERROR(#REF!,0)*BY5","v":0},{"$f":"IFERROR(#REF!,0)*BY5","v":0},{"$f":"IFERROR(#REF!,0)*BY5","v":0},{"$f":"IFERROR(#REF!,0)*CC5","v":0},{"$f":"IFERROR(#REF!,0)*CC5","v":0},{"$f":"IFERROR(#REF!,0)*CC5","v":0},{"$f":"IFERROR(#REF!,0)*CC5","v":0},{"$f":"IFERROR(#REF!,0)*CG5","v":0},{"$f":"IFERROR(#REF!,0)*CG5","v":0},{"$f":"IFERROR(#REF!,0)*CG5","v":0},{"$f":"IFERROR(#REF!,0)*CG5","v":0},{"$f":"IFERROR(#REF!,0)*CK5","v":0},{"$f":"IFERROR(#REF!,0)*CK5","v":0},{"$f":"IFERROR(#REF!,0)*CK5","v":0},{"$f":"IFERROR(#REF!,0)*CK5","v":0},{"$f":"IFERROR(#REF!,0)*CO5","v":0},{"$f":"IFERROR(#REF!,0)*CO5","v":0},{"$f":"IFERROR(#REF!,0)*CO5","v":0},{"$f":"IFERROR(#REF!,0)*CO5","v":0},{"$f":"IFERROR(#REF!,0)*CS5","v":0},{"$f":"IFERROR(#REF!,0)*CS5","v":0},{"$f":"IFERROR(#REF!,0)*CS5","v":0},{"$f":"IFERROR(#REF!,0)*CS5","v":0},{"$f":"IFERROR(#REF!,0)*CW5","v":0},{"$f":"IFERROR(#REF!,0)*CW5","v":0},{"$f":"IFERROR(#REF!,0)*CW5","v":0},{"$f":"IFERROR(#REF!,0)*CW5","v":0},{"$f":"IFERROR(#REF!,0)*DA5","v":0},{"$f":"IFERROR(#REF!,0)*DA5","v":0},{"$f":"IFERROR(#REF!,0)*DA5","v":0},{"$f":"IFERROR(#REF!,0)*DA5","v":0},{"$f":"IFERROR(#REF!,0)*DE5","v":0},{"$f":"IFERROR(#REF!,0)*DE5","v":0},{"$f":"IFERROR(#REF!,0)*DE5","v":0},{"$f":"IFERROR(#REF!,0)*DE5","v":0},{"$f":"IFERROR(#REF!,0)*DI5","v":0},{"$f":"IFERROR(#REF!,0)*DI5","v":0},{"$f":"IFERROR(#REF!,0)*DI5","v":0},{"$f":"IFERROR(#REF!,0)*DI5","v":0},{"$f":"IFERROR(#REF!,0)*DM5","v":0},{"$f":"IFERROR(#REF!,0)*DM5","v":0},{"$f":"IFERROR(#REF!,0)*DM5","v":0},{"$f":"IFERROR(#REF!,0)*DM5","v":0},{"$f":"IFERROR(#REF!,0)*DQ5","v":0},{"$f":"IFERROR(#REF!,0)*DQ5","v":0},{"$f":"IFERROR(#REF!,0)*DQ5","v":0},{"$f":"IFERROR(#REF!,0)*DQ5","v":0},{"$f":"IFERROR(#REF!,0)*DU5","v":0},{"$f":"IFERROR(#REF!,0)*DU5","v":0},{"$f":"IFERROR(#REF!,0)*DU5","v":0},{"$f":"IFERROR(#REF!,0)*DU5","v":0},{"$f":"IFERROR(#REF!,0)*DY5","v":0},{"$f":"IFERROR(#REF!,0)*DY5","v":0},{"$f":"IFERROR(#REF!,0)*DY5","v":0},{"$f":"IFERROR(#REF!,0)*DY5","v":0},{"$f":"IFERROR(#REF!,0)*EC5","v":0},{"$f":"IFERROR(#REF!,0)*EC5","v":0},{"$f":"IFERROR(#REF!,0)*EC5","v":0},{"$f":"IFERROR(#REF!,0)*EC5","v":0},{"$f":"IFERROR(#REF!,0)*EG5","v":0},{"$f":"IFERROR(#REF!,0)*EG5","v":0},{"$f":"IFERROR(#REF!,0)*EG5","v":0},{"$f":"IFERROR(#REF!,0)*EG5","v":0},{"$f":"IFERROR(#REF!,0)*EK5","v":0},{"$f":"IFERROR(#REF!,0)*EK5","v":0},{"$f":"IFERROR(#REF!,0)*EK5","v":0},{"$f":"IFERROR(#REF!,0)*EK5","v":0},{"$f":"IFERROR(#REF!,0)*EO5","v":0},{"$f":"IFERROR(#REF!,0)*EO5","v":0},{"$f":"IFERROR(#REF!,0)*EO5","v":0},{"$f":"IFERROR(#REF!,0)*EO5","v":0},{"$f":"IFERROR(#REF!,0)*ES5","v":0},{"$f":"IFERROR(#REF!,0)*ES5","v":0},{"$f":"IFERROR(#REF!,0)*ES5","v":0},{"$f":"IFERROR(#REF!,0)*ES5","v":0},{"$f":"IFERROR(#REF!,0)*EW5","v":0},{"$f":"IFERROR(#REF!,0)*EW5","v":0},{"$f":"IFERROR(#REF!,0)*EW5","v":0},{"$f":"IFERROR(#REF!,0)*EW5","v":0},{"$f":"IFERROR(#REF!,0)*FA5","v":0},{"$f":"IFERROR(#REF!,0)*FA5","v":0},{"$f":"IFERROR(#REF!,0)*FA5","v":0},{"$f":"IFERROR(#REF!,0)*FA5","v":0},{"$f":"IFERROR(#REF!,0)*FE5","v":0},{"$f":"IFERROR(#REF!,0)*FE5","v":0},{"$f":"IFERROR(#REF!,0)*FE5","v":0},{"$f":"IFERROR(#REF!,0)*FE5","v":0},{"$f":"IFERROR(#REF!,0)*FI5","v":0},{"$f":"IFERROR(#REF!,0)*FI5","v":0},{"$f":"IFERROR(#REF!,0)*FI5","v":0},{"$f":"IFERROR(#REF!,0)*FI5","v":0},{"$f":"IFERROR(#REF!,0)*FM5","v":0},{"$f":"IFERROR(#REF!,0)*FM5","v":0},{"$f":"IFERROR(#REF!,0)*FM5","v":0},{"$f":"IFERROR(#REF!,0)*FM5","v":0},{"$f":"IFERROR(#REF!,0)*FQ5","v":0},{"$f":"IFERROR(#REF!,0)*FQ5","v":0},{"$f":"IFERROR(#REF!,0)*FQ5","v":0},{"$f":"IFERROR(#REF!,0)*FQ5","v":0},{"$f":"IFERROR(#REF!,0)*FU5","v":0},{"$f":"IFERROR(#REF!,0)*FU5","v":0},{"$f":"IFERROR(#REF!,0)*FU5","v":0},{"$f":"IFERROR(#REF!,0)*FU5","v":0},{"$f":"IFERROR(#REF!,0)*FY5","v":0},{"$f":"IFERROR(#REF!,0)*FY5","v":0},{"$f":"IFERROR(#REF!,0)*FY5","v":0},{"$f":"IFERROR(#REF!,0)*FY5","v":0},{"$f":"IFERROR(#REF!,0)*GC5","v":0},{"$f":"IFERROR(#REF!,0)*GC5","v":0},{"$f":"IFERROR(#REF!,0)*GC5","v":0},{"$f":"IFERROR(#REF!,0)*GC5","v":0},{"$f":"IFERROR(#REF!,0)*GG5","v":0},{"$f":"IFERROR(#REF!,0)*GG5","v":0},{"$f":"IFERROR(#REF!,0)*GG5","v":0},{"$f":"IFERROR(#REF!,0)*GG5","v":0},{"$f":"IFERROR(#REF!,0)*GK5","v":0},{"$f":"IFERROR(#REF!,0)*GK5","v":0},{"$f":"IFERROR(#REF!,0)*GK5","v":0},{"$f":"IFERROR(#REF!,0)*GK5","v":0},{"$f":"IFERROR(#REF!,0)*GO5","v":0},{"$f":"IFERROR(#REF!,0)*GO5","v":0},{"$f":"IFERROR(#REF!,0)*GO5","v":0},{"$f":"IFERROR(#REF!,0)*GO5","v":0},{"$f":"IFERROR(#REF!,0)*GS5","v":0},{"$f":"IFERROR(#REF!,0)*GS5","v":0},{"$f":"IFERROR(#REF!,0)*GS5","v":0},{"$f":"IFERROR(#REF!,0)*GS5","v":0},{"v":0,"d":"0.00"},{"v":0,"d":"0.00"},{"v":0,"d":"0.00"},{"v":0,"d":"0.00"}]
[null,{"$f":"#REF!","v":{"$error":"#REF!"}},{"$f":"#REF!","v":{"$error":"#REF!"}},{"$f":"IFERROR(#REF!,0)*E5","v":0},{"$f":"IFERROR(#REF!,0)*E5","v":0},{"$f":"IFERROR(#REF!,0)*E5","v":0},{"$f":"IFERROR(#REF!,0)*E5","v":0},{"$f":"IFERROR(#REF!,0)*I5","v":0},{"$f":"IFERROR(#REF!,0)*I5","v":0},{"$f":"IFERROR(#REF!,0)*I5","v":0},{"$f":"IFERROR(#REF!,0)*I5","v":0},{"$f":"IFERROR(#REF!,0)*M5","v":0},{"$f":"IFERROR(#REF!,0)*M5","v":0},{"$f":"IFERROR(#REF!,0)*M5","v":0},{"$f":"IFERROR(#REF!,0)*M5","v":0},{"$f":"IFERROR(#REF!,0)*Q5","v":0},{"$f":"IFERROR(#REF!,0)*Q5","v":0},{"$f":"IFERROR(#REF!,0)*Q5","v":0},{"$f":"IFERROR(#REF!,0)*Q5","v":0},{"$f":"IFERROR(#REF!,0)*U5","v":0},{"$f":"IFERROR(#REF!,0)*U5","v":0},{"$f":"IFERROR(#REF!,0)*U5","v":0},{"$f":"IFERROR(#REF!,0)*U5","v":0},{"$f":"IFERROR(#REF!,0)*Y5","v":0},{"$f":"IFERROR(#REF!,0)*Y5","v":0},{"$f":"IFERROR(#REF!,0)*Y5","v":0},{"$f":"IFERROR(#REF!,0)*Y5","v":0},{"$f":"IFERROR(#REF!,0)*AC5","v":0},{"$f":"IFERROR(#REF!,0)*AC5","v":0},{"$f":"IFERROR(#REF!,0)*AC5","v":0},{"$f":"IFERROR(#REF!,0)*AC5","v":0},{"$f":"IFERROR(#REF!,0)*AG5","v":0},{"$f":"IFERROR(#REF!,0)*AG5","v":0},{"$f":"IFERROR(#REF!,0)*AG5","v":0},{"$f":"IFERROR(#REF!,0)*AG5","v":0},{"$f":"IFERROR(#REF!,0)*AK5","v":0},{"$f":"IFERROR(#REF!,0)*AK5","v":0},{"$f":"IFERROR(#REF!,0)*AK5","v":0},{"$f":"IFERROR(#REF!,0)*AK5","v":0},{"$f":"IFERROR(#REF!,0)*AO5","v":0},{"$f":"IFERROR(#REF!,0)*AO5","v":0},{"$f":"IFERROR(#REF!,0)*AO5","v":0},{"$f":"IFERROR(#REF!,0)*AO5","v":0},{"$f":"IFERROR(#REF!,0)*AS5","v":0},{"$f":"IFERROR(#REF!,0)*AS5","v":0},{"$f":"IFERROR(#REF!,0)*AS5","v":0},{"$f":"IFERROR(#REF!,0)*AS5","v":0},{"$f":"IFERROR(#REF!,0)*AW5","v":0},{"$f":"IFERROR(#REF!,0)*AW5","v":0},{"$f":"IFERROR(#REF!,0)*AW5","v":0},{"$f":"IFERROR(#REF!,0)*AW5","v":0},{"$f":"IFERROR(#REF!,0)*BA5","v":0},{"$f":"IFERROR(#REF!,0)*BA5","v":0},{"$f":"IFERROR(#REF!,0)*BA5","v":0},{"$f":"IFERROR(#REF!,0)*BA5","v":0},{"$f":"IFERROR(#REF!,0)*BE5","v":0},{"$f":"IFERROR(#REF!,0)*BE5","v":0},{"$f":"IFERROR(#REF!,0)*BE5","v":0},{"$f":"IFERROR(#REF!,0)*BE5","v":0},{"$f":"IFERROR(#REF!,0)*BI5","v":0},{"$f":"IFERROR(#REF!,0)*BI5","v":0},{"$f":"IFERROR(#REF!,0)*BI5","v":0},{"$f":"IFERROR(#REF!,0)*BI5","v":0},{"$f":"IFERROR(#REF!,0)*BM5","v":0},{"$f":"IFERROR(#REF!,0)*BM5","v":0},{"$f":"IFERROR(#REF!,0)*BM5","v":0},{"$f":"IFERROR(#REF!,0)*BM5","v":0},{"$f":"IFERROR(#REF!,0)*BQ5","v":0},{"$f":"IFERROR(#REF!,0)*BQ5","v":0},{"$f":"IFERROR(#REF!,0)*BQ5","v":0},{"$f":"IFERROR(#REF!,0)*BQ5","v":0},{"$f":"IFERROR(#REF!,0)*BU5","v":0},{"$f":"IFERROR(#REF!,0)*BU5","v":0},{"$f":"IFERROR(#REF!,0)*BU5","v":0},{"$f":"IFERROR(#REF!,0)*BU5","v":0},{"$f":"IFERROR(#REF!,0)*BY5","v":0},{"$f":"IFERROR(#REF!,0)*BY5","v":0},{"$f":"IFERROR(#REF!,0)*BY5","v":0},{"$f":"IFERROR(#REF!,0)*BY5","v":0},{"$f":"IFERROR(#REF!,0)*CC5","v":0},{"$f":"IFERROR(#REF!,0)*CC5","v":0},{"$f":"IFERROR(#REF!,0)*CC5","v":0},{"$f":"IFERROR(#REF!,0)*CC5","v":0},{"$f":"IFERROR(#REF!,0)*CG5","v":0},{"$f":"IFERROR(#REF!,0)*CG5","v":0},{"$f":"IFERROR(#REF!,0)*CG5","v":0},{"$f":"IFERROR(#REF!,0)*CG5","v":0},{"$f":"IFERROR(#REF!,0)*CK5","v":0},{"$f":"IFERROR(#REF!,0)*CK5","v":0},{"$f":"IFERROR(#REF!,0)*CK5","v":0},{"$f":"IFERROR(#REF!,0)*CK5","v":0},{"$f":"IFERROR(#REF!,0)*CO5","v":0},{"$f":"IFERROR(#REF!,0)*CO5","v":0},{"$f":"IFERROR(#REF!,0)*CO5","v":0},{"$f":"IFERROR(#REF!,0)*CO5","v":0},{"$f":"IFERROR(#REF!,0)*CS5","v":0},{"$f":"IFERROR(#REF!,0)*CS5","v":0},{"$f":"IFERROR(#REF!,0)*CS5","v":0},{"$f":"IFERROR(#REF!,0)*CS5","v":0},{"$f":"IFERROR(#REF!,0)*CW5","v":0},{"$f":"IFERROR(#REF!,0)*CW5","v":0},{"$f":"IFERROR(#REF!,0)*CW5","v":0},{"$f":"IFERROR(#REF!,0)*CW5","v":0},{"$f":"IFERROR(#REF!,0)*DA5","v":0},{"$f":"IFERROR(#REF!,0)*DA5","v":0},{"$f":"IFERROR(#REF!,0)*DA5","v":0},{"$f":"IFERROR(#REF!,0)*DA5","v":0},{"$f":"IFERROR(#REF!,0)*DE5","v":0},{"$f":"IFERROR(#REF!,0)*DE5","v":0},{"$f":"IFERROR(#REF!,0)*DE5","v":0},{"$f":"IFERROR(#REF!,0)*DE5","v":0},{"$f":"IFERROR(#REF!,0)*DI5","v":0},{"$f":"IFERROR(#REF!,0)*DI5","v":0},{"$f":"IFERROR(#REF!,0)*DI5","v":0},{"$f":"IFERROR(#REF!,0)*DI5","v":0},{"$f":"IFERROR(#REF!,0)*DM5","v":0},{"$f":"IFERROR(#REF!,0)*DM5","v":0},{"$f":"IFERROR(#REF!,0)*DM5","v":0},{"$f":"IFERROR(#REF!,0)*DM5","v":0},{"$f":"IFERROR(#REF!,0)*DQ5","v":0},{"$f":"IFERROR(#REF!,0)*DQ5","v":0},{"$f":"IFERROR(#REF!,0)*DQ5","v":0},{"$f":"IFERROR(#REF!,0)*DQ5","v":0},{"$f":"IFERROR(#REF!,0)*DU5","v":0},{"$f":"IFERROR(#REF!,0)*DU5","v":0},{"$f":"IFERROR(#REF!,0)*DU5","v":0},{"$f":"IFERROR(#REF!,0)*DU5","v":0},{"$f":"IFERROR(#REF!,0)*DY5","v":0},{"$f":"IFERROR(#REF!,0)*DY5","v":0},{"$f":"IFERROR(#REF!,0)*DY5","v":0},{"$f":"IFERROR(#REF!,0)*DY5","v":0},{"$f":"IFERROR(#REF!,0)*EC5","v":0},{"$f":"IFERROR(#REF!,0)*EC5","v":0},{"$f":"IFERROR(#REF!,0)*EC5","v":0},{"$f":"IFERROR(#REF!,0)*EC5","v":0},{"$f":"IFERROR(#REF!,0)*EG5","v":0},{"$f":"IFERROR(#REF!,0)*EG5","v":0},{"$f":"IFERROR(#REF!,0)*EG5","v":0},{"$f":"IFERROR(#REF!,0)*EG5","v":0},{"$f":"IFERROR(#REF!,0)*EK5","v":0},{"$f":"IFERROR(#REF!,0)*EK5","v":0},{"$f":"IFERROR(#REF!,0)*EK5","v":0},{"$f":"IFERROR(#REF!,0)*EK5","v":0},{"$f":"IFERROR(#REF!,0)*EO5","v":0},{"$f":"IFERROR(#REF!,0)*EO5","v":0},{"$f":"IFERROR(#REF!,0)*EO5","v":0},{"$f":"IFERROR(#REF!,0)*EO5","v":0},{"$f":"IFERROR(#REF!,0)*ES5","v":0},{"$f":"IFERROR(#REF!,0)*ES5","v":0},{"$f":"IFERROR(#REF!,0)*ES5","v":0},{"$f":"IFERROR(#REF!,0)*ES5","v":0},{"$f":"IFERROR(#REF!,0)*EW5","v":0},{"$f":"IFERROR(#REF!,0)*EW5","v":0},{"$f":"IFERROR(#REF!,0)*EW5","v":0},{"$f":"IFERROR(#REF!,0)*EW5","v":0},{"$f":"IFERROR(#REF!,0)*FA5","v":0},{"$f":"IFERROR(#REF!,0)*FA5","v":0},{"$f":"IFERROR(#REF!,0)*FA5","v":0},{"$f":"IFERROR(#REF!,0)*FA5","v":0},{"$f":"IFERROR(#REF!,0)*FE5","v":0},{"$f":"IFERROR(#REF!,0)*FE5","v":0},{"$f":"IFERROR(#REF!,0)*FE5","v":0},{"$f":"IFERROR(#REF!,0)*FE5","v":0},{"$f":"IFERROR(#REF!,0)*FI5","v":0},{"$f":"IFERROR(#REF!,0)*FI5","v":0},{"$f":"IFERROR(#REF!,0)*FI5","v":0},{"$f":"IFERROR(#REF!,0)*FI5","v":0},{"$f":"IFERROR(#REF!,0)*FM5","v":0},{"$f":"IFERROR(#REF!,0)*FM5","v":0},{"$f":"IFERROR(#REF!,0)*FM5","v":0},{"$f":"IFERROR(#REF!,0)*FM5","v":0},{"$f":"IFERROR(#REF!,0)*FQ5","v":0},{"$f":"IFERROR(#REF!,0)*FQ5","v":0},{"$f":"IFERROR(#REF!,0)*FQ5","v":0},{"$f":"IFERROR(#REF!,0)*FQ5","v":0},{"$f":"IFERROR(#REF!,0)*FU5","v":0},{"$f":"IFERROR(#REF!,0)*FU5","v":0},{"$f":"IFERROR(#REF!,0)*FU5","v":0},{"$f":"IFERROR(#REF!,0)*FU5","v":0},{"$f":"IFERROR(#REF!,0)*FY5","v":0},{"$f":"IFERROR(#REF!,0)*FY5","v":0},{"$f":"IFERROR(#REF!,0)*FY5","v":0},{"$f":"IFERROR(#REF!,0)*FY5","v":0},{"$f":"IFERROR(#REF!,0)*GC5","v":0},{"$f":"IFERROR(#REF!,0)*GC5","v":0},{"$f":"IFERROR(#REF!,0)*GC5","v":0},{"$f":"IFERROR(#REF!,0)*GC5","v":0},{"$f":"IFERROR(#REF!,0)*GG5","v":0},{"$f":"IFERROR(#REF!,0)*GG5","v":0},{"$f":"IFERROR(#REF!,0)*GG5","v":0},{"$f":"IFERROR(#REF!,0)*GG5","v":0},{"$f":"IFERROR(#REF!,0)*GK5","v":0},{"$f":"IFERROR(#REF!,0)*GK5","v":0},{"$f":"IFERROR(#REF!,0)*GK5","v":0},{"$f":"IFERROR(#REF!,0)*GK5","v":0},{"$f":"IFERROR(#REF!,0)*GO5","v":0},{"$f":"IFERROR(#REF!,0)*GO5","v":0},{"$f":"IFERROR(#REF!,0)*GO5","v":0},{"$f":"IFERROR(#REF!,0)*GO5","v":0},{"$f":"IFERROR(#REF!,0)*GS5","v":0},{"$f":"IFERROR(#REF!,0)*GS5","v":0},{"$f":"IFERROR(#REF!,0)*GS5","v":0},{"$f":"IFERROR(#REF!,0)*GS5","v":0},{"v":0,"d":"0.00"},{"v":0,"d":"0.00"},{"v":0,"d":"0.00"},{"v":0,"d":"0.00"}]
[null,{"$f":"#REF!","v":{"$error":"#REF!"}},{"$f":"#REF!","v":{"$error":"#REF!"}},{"$f":"IFERROR(#REF!,0)*E5","v":0},{"$f":"IFERROR(#REF!,0)*E5","v":0},{"$f":"IFERROR(#REF!,0)*E5","v":0},{"$f":"IFERROR(#REF!,0)*E5","v":0},{"$f":"IFERROR(#REF!,0)*I5","v":0},{"$f":"IFERROR(#REF!,0)*I5","v":0},{"$f":"IFERROR(#REF!,0)*I5","v":0},{"$f":"IFERROR(#REF!,0)*I5","v":0},{"$f":"IFERROR(#REF!,0)*M5","v":0},{"$f":"IFERROR(#REF!,0)*M5","v":0},{"$f":"IFERROR(#REF!,0)*M5","v":0},{"$f":"IFERROR(#REF!,0)*M5","v":0},{"$f":"IFERROR(#REF!,0)*Q5","v":0},{"$f":"IFERROR(#REF!,0)*Q5","v":0},{"$f":"IFERROR(#REF!,0)*Q5","v":0},{"$f":"IFERROR(#REF!,0)*Q5","v":0},{"$f":"IFERROR(#REF!,0)*U5","v":0},{"$f":"IFERROR(#REF!,0)*U5","v":0},{"$f":"IFERROR(#REF!,0)*U5","v":0},{"$f":"IFERROR(#REF!,0)*U5","v":0},{"$f":"IFERROR(#REF!,0)*Y5","v":0},{"$f":"IFERROR(#REF!,0)*Y5","v":0},{"$f":"IFERROR(#REF!,0)*Y5","v":0},{"$f":"IFERROR(#REF!,0)*Y5","v":0},{"$f":"IFERROR(#REF!,0)*AC5","v":0},{"$f":"IFERROR(#REF!,0)*AC5","v":0},{"$f":"IFERROR(#REF!,0)*AC5","v":0},{"$f":"IFERROR(#REF!,0)*AC5","v":0},{"$f":"IFERROR(#REF!,0)*AG5","v":0},{"$f":"IFERROR(#REF!,0)*AG5","v":0},{"$f":"IFERROR(#REF!,0)*AG5","v":0},{"$f":"IFERROR(#REF!,0)*AG5","v":0},{"$f":"IFERROR(#REF!,0)*AK5","v":0},{"$f":"IFERROR(#REF!,0)*AK5","v":0},{"$f":"IFERROR(#REF!,0)*AK5","v":0},{"$f":"IFERROR(#REF!,0)*AK5","v":0},{"$f":"IFERROR(#REF!,0)*AO5","v":0},{"$f":"IFERROR(#REF!,0)*AO5","v":0},{"$f":"IFERROR(#REF!,0)*AO5","v":0},{"$f":"IFERROR(#REF!,0)*AO5","v":0},{"$f":"IFERROR(#REF!,0)*AS5","v":0},{"$f":"IFERROR(#REF!,0)*AS5","v":0},{"$f":"IFERROR(#REF!,0)*AS5","v":0},{"$f":"IFERROR(#REF!,0)*AS5","v":0},{"$f":"IFERROR(#REF!,0)*AW5","v":0},{"$f":"IFERROR(#REF!,0)*AW5","v":0},{"$f":"IFERROR(#REF!,0)*AW5","v":0},{"$f":"IFERROR(#REF!,0)*AW5","v":0},{"$f":"IFERROR(#REF!,0)*BA5","v":0},{"$f":"IFERROR(#REF!,0)*BA5","v":0},{"$f":"IFERROR(#REF!,0)*BA5","v":0},{"$f":"IFERROR(#REF!,0)*BA5","v":0},{"$f":"IFERROR(#REF!,0)*BE5","v":0},{"$f":"IFERROR(#REF!,0)*BE5","v":0},{"$f":"IFERROR(#REF!,0)*BE5","v":0},{"$f":"IFERROR(#REF!,0)*BE5","v":0},{"$f":"IFERROR(#REF!,0)*BI5","v":0},{"$f":"IFERROR(#REF!,0)*BI5","v":0},{"$f":"IFERROR(#REF!,0)*BI5","v":0},{"$f":"IFERROR(#REF!,0)*BI5","v":0},{"$f":"IFERROR(#REF!,0)*BM5","v":0},{"$f":"IFERROR(#REF!,0)*BM5","v":0},{"$f":"IFERROR(#REF!,0)*BM5","v":0},{"$f":"IFERROR(#REF!,0)*BM5","v":0},{"$f":"IFERROR(#REF!,0)*BQ5","v":0},{"$f":"IFERROR(#REF!,0)*BQ5","v":0},{"$f":"IFERROR(#REF!,0)*BQ5","v":0},{"$f":"IFERROR(#REF!,0)*BQ5","v":0},{"$f":"IFERROR(#REF!,0)*BU5","v":0},{"$f":"IFERROR(#REF!,0)*BU5","v":0},{"$f":"IFERROR(#REF!,0)*BU5","v":0},{"$f":"IFERROR(#REF!,0)*BU5","v":0},{"$f":"IFERROR(#REF!,0)*BY5","v":0},{"$f":"IFERROR(#REF!,0)*BY5","v":0},{"$f":"IFERROR(#REF!,0)*BY5","v":0},{"$f":"IFERROR(#REF!,0)*BY5","v":0},{"$f":"IFERROR(#REF!,0)*CC5","v":0},{"$f":"IFERROR(#REF!,0)*CC5","v":0},{"$f":"IFERROR(#REF!,0)*CC5","v":0},{"$f":"IFERROR(#REF!,0)*CC5","v":0},{"$f":"IFERROR(#REF!,0)*CG5","v":0},{"$f":"IFERROR(#REF!,0)*CG5","v":0},{"$f":"IFERROR(#REF!,0)*CG5","v":0},{"$f":"IFERROR(#REF!,0)*CG5","v":0},{"$f":"IFERROR(#REF!,0)*CK5","v":0},{"$f":"IFERROR(#REF!,0)*CK5","v":0},{"$f":"IFERROR(#REF!,0)*CK5","v":0},{"$f":"IFERROR(#REF!,0)*CK5","v":0},{"$f":"IFERROR(#REF!,0)*CO5","v":0},{"$f":"IFERROR(#REF!,0)*CO5","v":0},{"$f":"IFERROR(#REF!,0)*CO5","v":0},{"$f":"IFERROR(#REF!,0)*CO5","v":0},{"$f":"IFERROR(#REF!,0)*CS5","v":0},{"$f":"IFERROR(#REF!,0)*CS5","v":0},{"$f":"IFERROR(#REF!,0)*CS5","v":0},{"$f":"IFERROR(#REF!,0)*CS5","v":0},{"$f":"IFERROR(#REF!,0)*CW5","v":0},{"$f":"IFERROR(#REF!,0)*CW5","v":0},{"$f":"IFERROR(#REF!,0)*CW5","v":0},{"$f":"IFERROR(#REF!,0)*CW5","v":0},{"$f":"IFERROR(#REF!,0)*DA5","v":0},{"$f":"IFERROR(#REF!,0)*DA5","v":0},{"$f":"IFERROR(#REF!,0)*DA5","v":0},{"$f":"IFERROR(#REF!,0)*DA5","v":0},{"$f":"IFERROR(#REF!,0)*DE5","v":0},{"$f":"IFERROR(#REF!,0)*DE5","v":0},{"$f":"IFERROR(#REF!,0)*DE5","v":0},{"$f":"IFERROR(#REF!,0)*DE5","v":0},{"$f":"IFERROR(#REF!,0)*DI5","v":0},{"$f":"IFERROR(#REF!,0)*DI5","v":0},{"$f":"IFERROR(#REF!,0)*DI5","v":0},{"$f":"IFERROR(#REF!,0)*DI5","v":0},{"$f":"IFERROR(#REF!,0)*DM5","v":0},{"$f":"IFERROR(#REF!,0)*DM5","v":0},{"$f":"IFERROR(#REF!,0)*DM5","v":0},{"$f":"IFERROR(#REF!,0)*DM5","v":0},{"$f":"IFERROR(#REF!,0)*DQ5","v":0},{"$f":"IFERROR(#REF!,0)*DQ5","v":0},{"$f":"IFERROR(#REF!,0)*DQ5","v":0},{"$f":"IFERROR(#REF!,0)*DQ5","v":0},{"$f":"IFERROR(#REF!,0)*DU5","v":0},{"$f":"IFERROR(#REF!,0)*DU5","v":0},{"$f":"IFERROR(#REF!,0)*DU5","v":0},{"$f":"IFERROR(#REF!,0)*DU5","v":0},{"$f":"IFERROR(#REF!,0)*DY5","v":0},{"$f":"IFERROR(#REF!,0)*DY5","v":0},{"$f":"IFERROR(#REF!,0)*DY5","v":0},{"$f":"IFERROR(#REF!,0)*DY5","v":0},{"$f":"IFERROR(#REF!,0)*EC5","v":0},{"$f":"IFERROR(#REF!,0)*EC5","v":0},{"$f":"IFERROR(#REF!,0)*EC5","v":0},{"$f":"IFERROR(#REF!,0)*EC5","v":0},{"$f":"IFERROR(#REF!,0)*EG5","v":0},{"$f":"IFERROR(#REF!,0)*EG5","v":0},{"$f":"IFERROR(#REF!,0)*EG5","v":0},{"$f":"IFERROR(#REF!,0)*EG5","v":0},{"$f":"IFERROR(#REF!,0)*EK5","v":0},{"$f":"IFERROR(#REF!,0)*EK5","v":0},{"$f":"IFERROR(#REF!,0)*EK5","v":0},{"$f":"IFERROR(#REF!,0)*EK5","v":0},{"$f":"IFERROR(#REF!,0)*EO5","v":0},{"$f":"IFERROR(#REF!,0)*EO5","v":0},{"$f":"IFERROR(#REF!,0)*EO5","v":0},{"$f":"IFERROR(#REF!,0)*EO5","v":0},{"$f":"IFERROR(#REF!,0)*ES5","v":0},{"$f":"IFERROR(#REF!,0)*ES5","v":0},{"$f":"IFERROR(#REF!,0)*ES5","v":0},{"$f":"IFERROR(#REF!,0)*ES5","v":0},{"$f":"IFERROR(#REF!,0)*EW5","v":0},{"$f":"IFERROR(#REF!,0)*EW5","v":0},{"$f":"IFERROR(#REF!,0)*EW5","v":0},{"$f":"IFERROR(#REF!,0)*EW5","v":0},{"$f":"IFERROR(#REF!,0)*FA5","v":0},{"$f":"IFERROR(#REF!,0)*FA5","v":0},{"$f":"IFERROR(#REF!,0)*FA5","v":0},{"$f":"IFERROR(#REF!,0)*FA5","v":0},{"$f":"IFERROR(#REF!,0)*FE5","v":0},{"$f":"IFERROR(#REF!,0)*FE5","v":0},{"$f":"IFERROR(#REF!,0)*FE5","v":0},{"$f":"IFERROR(#REF!,0)*FE5","v":0},{"$f":"IFERROR(#REF!,0)*FI5","v":0},{"$f":"IFERROR(#REF!,0)*FI5","v":0},{"$f":"IFERROR(#REF!,0)*FI5","v":0},{"$f":"IFERROR(#REF!,0)*FI5","v":0},{"$f":"IFERROR(#REF!,0)*FM5","v":0},{"$f":"IFERROR(#REF!,0)*FM5","v":0},{"$f":"IFERROR(#REF!,0)*FM5","v":0},{"$f":"IFERROR(#REF!,0)*FM5","v":0},{"$f":"IFERROR(#REF!,0)*FQ5","v":0},{"$f":"IFERROR(#REF!,0)*FQ5","v":0},{"$f":"IFERROR(#REF!,0)*FQ5","v":0},{"$f":"IFERROR(#REF!,0)*FQ5","v":0},{"$f":"IFERROR(#REF!,0)*FU5","v":0},{"$f":"IFERROR(#REF!,0)*FU5","v":0},{"$f":"IFERROR(#REF!,0)*FU5","v":0},{"$f":"IFERROR(#REF!,0)*FU5","v":0},{"$f":"IFERROR(#REF!,0)*FY5","v":0},{"$f":"IFERROR(#REF!,0)*FY5","v":0},{"$f":"IFERROR(#REF!,0)*FY5","v":0},{"$f":"IFERROR(#REF!,0)*FY5","v":0},{"$f":"IFERROR(#REF!,0)*GC5","v":0},{"$f":"IFERROR(#REF!,0)*GC5","v":0},{"$f":"IFERROR(#REF!,0)*GC5","v":0},{"$f":"IFERROR(#REF!,0)*GC5","v":0},{"$f":"IFERROR(#REF!,0)*GG5","v":0},{"$f":"IFERROR(#REF!,0)*GG5","v":0},{"$f":"IFERROR(#REF!,0)*GG5","v":0},{"$f":"IFERROR(#REF!,0)*GG5","v":0},{"$f":"IFERROR(#REF!,0)*GK5","v":0},{"$f":"IFERROR(#REF!,0)*GK5","v":0},{"$f":"IFERROR(#REF!,0)*GK5","v":0},{"$f":"IFERROR(#REF!,0)*GK5","v":0},{"$f":"IFERROR(#REF!,0)*GO5","v":0},{"$f":"IFERROR(#REF!,0)*GO5","v":0},{"$f":"IFERROR(#REF!,0)*GO5","v":0},{"$f":"IFERROR(#REF!,0)*GO5","v":0},{"$f":"IFERROR(#REF!,0)*GS5","v":0},{"$f":"IFERROR(#REF!,0)*GS5","v":0},{"$f":"IFERROR(#REF!,0)*GS5","v":0},{"$f":"IFERROR(#REF!,0)*GS5","v":0},{"v":0,"d":"0.00"},{"v":0,"d":"0.00"},{"v":0,"d":"0.00"},{"v":0,"d":"0.00"}]
[null,{"$f":"#REF!","v":{"$error":"#REF!"}},{"$f":"#REF!","v":{"$error":"#REF!"}},{"$f":"IFERROR(#REF!,0)*E5","v":0},{"$f":"IFERROR(#REF!,0)*E5","v":0},{"$f":"IFERROR(#REF!,0)*E5","v":0},{"$f":"IFERROR(#REF!,0)*E5","v":0},{"$f":"IFERROR(#REF!,0)*I5","v":0},{"$f":"IFERROR(#REF!,0)*I5","v":0},{"$f":"IFERROR(#REF!,0)*I5","v":0},{"$f":"IFERROR(#REF!,0)*I5","v":0},{"$f":"IFERROR(#REF!,0)*M5","v":0},{"$f":"IFERROR(#REF!,0)*M5","v":0},{"$f":"IFERROR(#REF!,0)*M5","v":0},{"$f":"IFERROR(#REF!,0)*M5","v":0},{"$f":"IFERROR(#REF!,0)*Q5","v":0},{"$f":"IFERROR(#REF!,0)*Q5","v":0},{"$f":"IFERROR(#REF!,0)*Q5","v":0},{"$f":"IFERROR(#REF!,0)*Q5","v":0},{"$f":"IFERROR(#REF!,0)*U5","v":0},{"$f":"IFERROR(#REF!,0)*U5","v":0},{"$f":"IFERROR(#REF!,0)*U5","v":0},{"$f":"IFERROR(#REF!,0)*U5","v":0},{"$f":"IFERROR(#REF!,0)*Y5","v":0},{"$f":"IFERROR(#REF!,0)*Y5","v":0},{"$f":"IFERROR(#REF!,0)*Y5","v":0},{"$f":"IFERROR(#REF!,0)*Y5","v":0},{"$f":"IFERROR(#REF!,0)*AC5","v":0},{"$f":"IFERROR(#REF!,0)*AC5","v":0},{"$f":"IFERROR(#REF!,0)*AC5","v":0},{"$f":"IFERROR(#REF!,0)*AC5","v":0},{"$f":"IFERROR(#REF!,0)*AG5","v":0},{"$f":"IFERROR(#REF!,0)*AG5","v":0},{"$f":"IFERROR(#REF!,0)*AG5","v":0},{"$f":"IFERROR(#REF!,0)*AG5","v":0},{"$f":"IFERROR(#REF!,0)*AK5","v":0},{"$f":"IFERROR(#REF!,0)*AK5","v":0},{"$f":"IFERROR(#REF!,0)*AK5","v":0},{"$f":"IFERROR(#REF!,0)*AK5","v":0},{"$f":"IFERROR(#REF!,0)*AO5","v":0},{"$f":"IFERROR(#REF!,0)*AO5","v":0},{"$f":"IFERROR(#REF!,0)*AO5","v":0},{"$f":"IFERROR(#REF!,0)*AO5","v":0},{"$f":"IFERROR(#REF!,0)*AS5","v":0},{"$f":"IFERROR(#REF!,0)*AS5","v":0},{"$f":"IFERROR(#REF!,0)*AS5","v":0},{"$f":"IFERROR(#REF!,0)*AS5","v":0},{"$f":"IFERROR(#REF!,0)*AW5","v":0},{"$f":"IFERROR(#REF!,0)*AW5","v":0},{"$f":"IFERROR(#REF!,0)*AW5","v":0},{"$f":"IFERROR(#REF!,0)*AW5","v":0},{"$f":"IFERROR(#REF!,0)*BA5","v":0},{"$f":"IFERROR(#REF!,0)*BA5","v":0},{"$f":"IFERROR(#REF!,0)*BA5","v":0},{"$f":"IFERROR(#REF!,0)*BA5","v":0},{"$f":"IFERROR(#REF!,0)*BE5","v":0},{"$f":"IFERROR(#REF!,0)*BE5","v":0},{"$f":"IFERROR(#REF!,0)*BE5","v":0},{"$f":"IFERROR(#REF!,0)*BE5","v":0},{"$f":"IFERROR(#REF!,0)*BI5","v":0},{"$f":"IFERROR(#REF!,0)*BI5","v":0},{"$f":"IFERROR(#REF!,0)*BI5","v":0},{"$f":"IFERROR(#REF!,0)*BI5","v":0},{"$f":"IFERROR(#REF!,0)*BM5","v":0},{"$f":"IFERROR(#REF!,0)*BM5","v":0},{"$f":"IFERROR(#REF!,0)*BM5","v":0},{"$f":"IFERROR(#REF!,0)*BM5","v":0},{"$f":"IFERROR(#REF!,0)*BQ5","v":0},{"$f":"IFERROR(#REF!,0)*BQ5","v":0},{"$f":"IFERROR(#REF!,0)*BQ5","v":0},{"$f":"IFERROR(#REF!,0)*BQ5","v":0},{"$f":"IFERROR(#REF!,0)*BU5","v":0},{"$f":"IFERROR(#REF!,0)*BU5","v":0},{"$f":"IFERROR(#REF!,0)*BU5","v":0},{"$f":"IFERROR(#REF!,0)*BU5","v":0},{"$f":"IFERROR(#REF!,0)*BY5","v":0},{"$f":"IFERROR(#REF!,0)*BY5","v":0},{"$f":"IFERROR(#REF!,0)*BY5","v":0},{"$f":"IFERROR(#REF!,0)*BY5","v":0},{"$f":"IFERROR(#REF!,0)*CC5","v":0},{"$f":"IFERROR(#REF!,0)*CC5","v":0},{"$f":"IFERROR(#REF!,0)*CC5","v":0},{"$f":"IFERROR(#REF!,0)*CC5","v":0},{"$f":"IFERROR(#REF!,0)*CG5","v":0},{"$f":"IFERROR(#REF!,0)*CG5","v":0},{"$f":"IFERROR(#REF!,0)*CG5","v":0},{"$f":"IFERROR(#REF!,0)*CG5","v":0},{"$f":"IFERROR(#REF!,0)*CK5","v":0},{"$f":"IFERROR(#REF!,0)*CK5","v":0},{"$f":"IFERROR(#REF!,0)*CK5","v":0},{"$f":"IFERROR(#REF!,0)*CK5","v":0},{"$f":"IFERROR(#REF!,0)*CO5","v":0},{"$f":"IFERROR(#REF!,0)*CO5","v":0},{"$f":"IFERROR(#REF!,0)*CO5","v":0},{"$f":"IFERROR(#REF!,0)*CO5","v":0},{"$f":"IFERROR(#REF!,0)*CS5","v":0},{"$f":"IFERROR(#REF!,0)*CS5","v":0},{"$f":"IFERROR(#REF!,0)*CS5","v":0},{"$f":"IFERROR(#REF!,0)*CS5","v":0},{"$f":"IFERROR(#REF!,0)*CW5","v":0},{"$f":"IFERROR(#REF!,0)*CW5","v":0},{"$f":"IFERROR(#REF!,0)*CW5","v":0},{"$f":"IFERROR(#REF!,0)*CW5","v":0},{"$f":"IFERROR(#REF!,0)*DA5","v":0},{"$f":"IFERROR(#REF!,0)*DA5","v":0},{"$f":"IFERROR(#REF!,0)*DA5","v":0},{"$f":"IFERROR(#REF!,0)*DA5","v":0},{"$f":"IFERROR(#REF!,0)*DE5","v":0},{"$f":"IFERROR(#REF!,0)*DE5","v":0},{"$f":"IFERROR(#REF!,0)*DE5","v":0},{"$f":"IFERROR(#REF!,0)*DE5","v":0},{"$f":"IFERROR(#REF!,0)*DI5","v":0},{"$f":"IFERROR(#REF!,0)*DI5","v":0},{"$f":"IFERROR(#REF!,0)*DI5","v":0},{"$f":"IFERROR(#REF!,0)*DI5","v":0},{"$f":"IFERROR(#REF!,0)*DM5","v":0},{"$f":"IFERROR(#REF!,0)*DM5","v":0},{"$f":"IFERROR(#REF!,0)*DM5","v":0},{"$f":"IFERROR(#REF!,0)*DM5","v":0},{"$f":"IFERROR(#REF!,0)*DQ5","v":0},{"$f":"IFERROR(#REF!,0)*DQ5","v":0},{"$f":"IFERROR(#REF!,0)*DQ5","v":0},{"$f":"IFERROR(#REF!,0)*DQ5","v":0},{"$f":"IFERROR(#REF!,0)*DU5","v":0},{"$f":"IFERROR(#REF!,0)*DU5","v":0},{"$f":"IFERROR(#REF!,0)*DU5","v":0},{"$f":"IFERROR(#REF!,0)*DU5","v":0},{"$f":"IFERROR(#REF!,0)*DY5","v":0},{"$f":"IFERROR(#REF!,0)*DY5","v":0},{"$f":"IFERROR(#REF!,0)*DY5","v":0},{"$f":"IFERROR(#REF!,0)*DY5","v":0},{"$f":"IFERROR(#REF!,0)*EC5","v":0},{"$f":"IFERROR(#REF!,0)*EC5","v":0},{"$f":"IFERROR(#REF!,0)*EC5","v":0},{"$f":"IFERROR(#REF!,0)*EC5","v":0},{"$f":"IFERROR(#REF!,0)*EG5","v":0},{"$f":"IFERROR(#REF!,0)*EG5","v":0},{"$f":"IFERROR(#REF!,0)*EG5","v":0},{"$f":"IFERROR(#REF!,0)*EG5","v":0},{"$f":"IFERROR(#REF!,0)*EK5","v":0},{"$f":"IFERROR(#REF!,0)*EK5","v":0},{"$f":"IFERROR(#REF!,0)*EK5","v":0},{"$f":"IFERROR(#REF!,0)*EK5","v":0},{"$f":"IFERROR(#REF!,0)*EO5","v":0},{"$f":"IFERROR(#REF!,0)*EO5","v":0},{"$f":"IFERROR(#REF!,0)*EO5","v":0},{"$f":"IFERROR(#REF!,0)*EO5","v":0},{"$f":"IFERROR(#REF!,0)*ES5","v":0},{"$f":"IFERROR(#REF!,0)*ES5","v":0},{"$f":"IFERROR(#REF!,0)*ES5","v":0},{"$f":"IFERROR(#REF!,0)*ES5","v":0},{"$f":"IFERROR(#REF!,0)*EW5","v":0},{"$f":"IFERROR(#REF!,0)*EW5","v":0},{"$f":"IFERROR(#REF!,0)*EW5","v":0},{"$f":"IFERROR(#REF!,0)*EW5","v":0},{"$f":"IFERROR(#REF!,0)*FA5","v":0},{"$f":"IFERROR(#REF!,0)*FA5","v":0},{"$f":"IFERROR(#REF!,0)*FA5","v":0},{"$f":"IFERROR(#REF!,0)*FA5","v":0},{"$f":"IFERROR(#REF!,0)*FE5","v":0},{"$f":"IFERROR(#REF!,0)*FE5","v":0},{"$f":"IFERROR(#REF!,0)*FE5","v":0},{"$f":"IFERROR(#REF!,0)*FE5","v":0},{"$f":"IFERROR(#REF!,0)*FI5","v":0},{"$f":"IFERROR(#REF!,0)*FI5","v":0},{"$f":"IFERROR(#REF!,0)*FI5","v":0},{"$f":"IFERROR(#REF!,0)*FI5","v":0},{"$f":"IFERROR(#REF!,0)*FM5","v":0},{"$f":"IFERROR(#REF!,0)*FM5","v":0},{"$f":"IFERROR(#REF!,0)*FM5","v":0},{"$f":"IFERROR(#REF!,0)*FM5","v":0},{"$f":"IFERROR(#REF!,0)*FQ5","v":0},{"$f":"IFERROR(#REF!,0)*FQ5","v":0},{"$f":"IFERROR(#REF!,0)*FQ5","v":0},{"$f":"IFERROR(#REF!,0)*FQ5","v":0},{"$f":"IFERROR(#REF!,0)*FU5","v":0},{"$f":"IFERROR(#REF!,0)*FU5","v":0},{"$f":"IFERROR(#REF!,0)*FU5","v":0},{"$f":"IFERROR(#REF!,0)*FU5","v":0},{"$f":"IFERROR(#REF!,0)*FY5","v":0},{"$f":"IFERROR(#REF!,0)*FY5","v":0},{"$f":"IFERROR(#REF!,0)*FY5","v":0},{"$f":"IFERROR(#REF!,0)*FY5","v":0},{"$f":"IFERROR(#REF!,0)*GC5","v":0},{"$f":"IFERROR(#REF!,0)*GC5","v":0},{"$f":"IFERROR(#REF!,0)*GC5","v":0},{"$f":"IFERROR(#REF!,0)*GC5","v":0},{"$f":"IFERROR(#REF!,0)*GG5","v":0},{"$f":"IFERROR(#REF!,0)*GG5","v":0},{"$f":"IFERROR(#REF!,0)*GG5","v":0},{"$f":"IFERROR(#REF!,0)*GG5","v":0},{"$f":"IFERROR(#REF!,0)*GK5","v":0},{"$f":"IFERROR(#REF!,0)*GK5","v":0},{"$f":"IFERROR(#REF!,0)*GK5","v":0},{"$f":"IFERROR(#REF!,0)*GK5","v":0},{"$f":"IFERROR(#REF!,0)*GO5","v":0},{"$f":"IFERROR(#REF!,0)*GO5","v":0},{"$f":"IFERROR(#REF!,0)*GO5","v":0},{"$f":"IFERROR(#REF!,0)*GO5","v":0},{"$f":"IFERROR(#REF!,0)*GS5","v":0},{"$f":"IFERROR(#REF!,0)*GS5","v":0},{"$f":"IFERROR(#REF!,0)*GS5","v":0},{"$f":"IFERROR(#REF!,0)*GS5","v":0},{"v":0,"d":"0.00"},{"v":0,"d":"0.00"},{"v":0,"d":"0.00"},{"v":0,"d":"0.00"}]
[null,{"$f":"#REF!","v":{"$error":"#REF!"}},{"$f":"#REF!","v":{"$error":"#REF!"}},{"$f":"IFERROR(#REF!,0)*E5","v":0},{"$f":"IFERROR(#REF!,0)*E5","v":0},{"$f":"IFERROR(#REF!,0)*E5","v":0},{"$f":"IFERROR(#REF!,0)*E5","v":0},{"$f":"IFERROR(#REF!,0)*I5","v":0},{"$f":"IFERROR(#REF!,0)*I5","v":0},{"$f":"IFERROR(#REF!,0)*I5","v":0},{"$f":"IFERROR(#REF!,0)*I5","v":0},{"$f":"IFERROR(#REF!,0)*M5","v":0},{"$f":"IFERROR(#REF!,0)*M5","v":0},{"$f":"IFERROR(#REF!,0)*M5","v":0},{"$f":"IFERROR(#REF!,0)*M5","v":0},{"$f":"IFERROR(#REF!,0)*Q5","v":0},{"$f":"IFERROR(#REF!,0)*Q5","v":0},{"$f":"IFERROR(#REF!,0)*Q5","v":0},{"$f":"IFERROR(#REF!,0)*Q5","v":0},{"$f":"IFERROR(#REF!,0)*U5","v":0},{"$f":"IFERROR(#REF!,0)*U5","v":0},{"$f":"IFERROR(#REF!,0)*U5","v":0},{"$f":"IFERROR(#REF!,0)*U5","v":0},{"$f":"IFERROR(#REF!,0)*Y5","v":0},{"$f":"IFERROR(#REF!,0)*Y5","v":0},{"$f":"IFERROR(#REF!,0)*Y5","v":0},{"$f":"IFERROR(#REF!,0)*Y5","v":0},{"$f":"IFERROR(#REF!,0)*AC5","v":0},{"$f":"IFERROR(#REF!,0)*AC5","v":0},{"$f":"IFERROR(#REF!,0)*AC5","v":0},{"$f":"IFERROR(#REF!,0)*AC5","v":0},{"$f":"IFERROR(#REF!,0)*AG5","v":0},{"$f":"IFERROR(#REF!,0)*AG5","v":0},{"$f":"IFERROR(#REF!,0)*AG5","v":0},{"$f":"IFERROR(#REF!,0)*AG5","v":0},{"$f":"IFERROR(#REF!,0)*AK5","v":0},{"$f":"IFERROR(#REF!,0)*AK5","v":0},{"$f":"IFERROR(#REF!,0)*AK5","v":0},{"$f":"IFERROR(#REF!,0)*AK5","v":0},{"$f":"IFERROR(#REF!,0)*AO5","v":0},{"$f":"IFERROR(#REF!,0)*AO5","v":0},{"$f":"IFERROR(#REF!,0)*AO5","v":0},{"$f":"IFERROR(#REF!,0)*AO5","v":0},{"$f":"IFERROR(#REF!,0)*AS5","v":0},{"$f":"IFERROR(#REF!,0)*AS5","v":0},{"$f":"IFERROR(#REF!,0)*AS5","v":0},{"$f":"IFERROR(#REF!,0)*AS5","v":0},{"$f":"IFERROR(#REF!,0)*AW5","v":0},{"$f":"IFERROR(#REF!,0)*AW5","v":0},{"$f":"IFERROR(#REF!,0)*AW5","v":0},{"$f":"IFERROR(#REF!,0)*AW5","v":0},{"$f":"IFERROR(#REF!,0)*BA5","v":0},{"$f":"IFERROR(#REF!,0)*BA5","v":0},{"$f":"IFERROR(#REF!,0)*BA5","v":0},{"$f":"IFERROR(#REF!,0)*BA5","v":0},{"$f":"IFERROR(#REF!,0)*BE5","v":0},{"$f":"IFERROR(#REF!,0)*BE5","v":0},{"$f":"IFERROR(#REF!,0)*BE5","v":0},{"$f":"IFERROR(#REF!,0)*BE5","v":0},{"$f":"IFERROR(#REF!,0)*BI5","v":0},{"$f":"IFERROR(#REF!,0)*BI5","v":0},{"$f":"IFERROR(#REF!,0)*BI5","v":0},{"$f":"IFERROR(#REF!,0)*BI5","v":0},{"$f":"IFERROR(#REF!,0)*BM5","v":0},{"$f":"IFERROR(#REF!,0)*BM5","v":0},{"$f":"IFERROR(#REF!,0)*BM5","v":0},{"$f":"IFERROR(#REF!,0)*BM5","v":0},{"$f":"IFERROR(#REF!,0)*BQ5","v":0},{"$f":"IFERROR(#REF!,0)*BQ5","v":0},{"$f":"IFERROR(#REF!,0)*BQ5","v":0},{"$f":"IFERROR(#REF!,0)*BQ5","v":0},{"$f":"IFERROR(#REF!,0)*BU5","v":0},{"$f":"IFERROR(#REF!,0)*BU5","v":0},{"$f":"IFERROR(#REF!,0)*BU5","v":0},{"$f":"IFERROR(#REF!,0)*BU5","v":0},{"$f":"IFERROR(#REF!,0)*BY5","v":0},{"$f":"IFERROR(#REF!,0)*BY5","v":0},{"$f":"IFERROR(#REF!,0)*BY5","v":0},{"$f":"IFERROR(#REF!,0)*BY5","v":0},{"$f":"IFERROR(#REF!,0)*CC5","v":0},{"$f":"IFERROR(#REF!,0)*CC5","v":0},{"$f":"IFERROR(#REF!,0)*CC5","v":0},{"$f":"IFERROR(#REF!,0)*CC5","v":0},{"$f":"IFERROR(#REF!,0)*CG5","v":0},{"$f":"IFERROR(#REF!,0)*CG5","v":0},{"$f":"IFERROR(#REF!,0)*CG5","v":0},{"$f":"IFERROR(#REF!,0)*CG5","v":0},{"$f":"IFERROR(#REF!,0)*CK5","v":0},{"$f":"IFERROR(#REF!,0)*CK5","v":0},{"$f":"IFERROR(#REF!,0)*CK5","v":0},{"$f":"IFERROR(#REF!,0)*CK5","v":0},{"$f":"IFERROR(#REF!,0)*CO5","v":0},{"$f":"IFERROR(#REF!,0)*CO5","v":0},{"$f":"IFERROR(#REF!,0)*CO5","v":0},{"$f":"IFERROR(#REF!,0)*CO5","v":0},{"$f":"IFERROR(#REF!,0)*CS5","v":0},{"$f":"IFERROR(#REF!,0)*CS5","v":0},{"$f":"IFERROR(#REF!,0)*CS5","v":0},{"$f":"IFERROR(#REF!,0)*CS5","v":0},{"$f":"IFERROR(#REF!,0)*CW5","v":0},{"$f":"IFERROR(#REF!,0)*CW5","v":0},{"$f":"IFERROR(#REF!,0)*CW5","v":0},{"$f":"IFERROR(#REF!,0)*CW5","v":0},{"$f":"IFERROR(#REF!,0)*DA5","v":0},{"$f":"IFERROR(#REF!,0)*DA5","v":0},{"$f":"IFERROR(#REF!,0)*DA5","v":0},{"$f":"IFERROR(#REF!,0)*DA5","v":0},{"$f":"IFERROR(#REF!,0)*DE5","v":0},{"$f":"IFERROR(#REF!,0)*DE5","v":0},{"$f":"IFERROR(#REF!,0)*DE5","v":0},{"$f":"IFERROR(#REF!,0)*DE5","v":0},{"$f":"IFERROR(#REF!,0)*DI5","v":0},{"$f":"IFERROR(#REF!,0)*DI5","v":0},{"$f":"IFERROR(#REF!,0)*DI5","v":0},{"$f":"IFERROR(#REF!,0)*DI5","v":0},{"$f":"IFERROR(#REF!,0)*DM5","v":0},{"$f":"IFERROR(#REF!,0)*DM5","v":0},{"$f":"IFERROR(#REF!,0)*DM5","v":0},{"$f":"IFERROR(#REF!,0)*DM5","v":0},{"$f":"IFERROR(#REF!,0)*DQ5","v":0},{"$f":"IFERROR(#REF!,0)*DQ5","v":0},{"$f":"IFERROR(#REF!,0)*DQ5","v":0},{"$f":"IFERROR(#REF!,0)*DQ5","v":0},{"$f":"IFERROR(#REF!,0)*DU5","v":0},{"$f":"IFERROR(#REF!,0)*DU5","v":0},{"$f":"IFERROR(#REF!,0)*DU5","v":0},{"$f":"IFERROR(#REF!,0)*DU5","v":0},{"$f":"IFERROR(#REF!,0)*DY5","v":0},{"$f":"IFERROR(#REF!,0)*DY5","v":0},{"$f":"IFERROR(#REF!,0)*DY5","v":0},{"$f":"IFERROR(#REF!,0)*DY5","v":0},{"$f":"IFERROR(#REF!,0)*EC5","v":0},{"$f":"IFERROR(#REF!,0)*EC5","v":0},{"$f":"IFERROR(#REF!,0)*EC5","v":0},{"$f":"IFERROR(#REF!,0)*EC5","v":0},{"$f":"IFERROR(#REF!,0)*EG5","v":0},{"$f":"IFERROR(#REF!,0)*EG5","v":0},{"$f":"IFERROR(#REF!,0)*EG5","v":0},{"$f":"IFERROR(#REF!,0)*EG5","v":0},{"$f":"IFERROR(#REF!,0)*EK5","v":0},{"$f":"IFERROR(#REF!,0)*EK5","v":0},{"$f":"IFERROR(#REF!,0)*EK5","v":0},{"$f":"IFERROR(#REF!,0)*EK5","v":0},{"$f":"IFERROR(#REF!,0)*EO5","v":0},{"$f":"IFERROR(#REF!,0)*EO5","v":0},{"$f":"IFERROR(#REF!,0)*EO5","v":0},{"$f":"IFERROR(#REF!,0)*EO5","v":0},{"$f":"IFERROR(#REF!,0)*ES5","v":0},{"$f":"IFERROR(#REF!,0)*ES5","v":0},{"$f":"IFERROR(#REF!,0)*ES5","v":0},{"$f":"IFERROR(#REF!,0)*ES5","v":0},{"$f":"IFERROR(#REF!,0)*EW5","v":0},{"$f":"IFERROR(#REF!,0)*EW5","v":0},{"$f":"IFERROR(#REF!,0)*EW5","v":0},{"$f":"IFERROR(#REF!,0)*EW5","v":0},{"$f":"IFERROR(#REF!,0)*FA5","v":0},{"$f":"IFERROR(#REF!,0)*FA5","v":0},{"$f":"IFERROR(#REF!,0)*FA5","v":0},{"$f":"IFERROR(#REF!,0)*FA5","v":0},{"$f":"IFERROR(#REF!,0)*FE5","v":0},{"$f":"IFERROR(#REF!,0)*FE5","v":0},{"$f":"IFERROR(#REF!,0)*FE5","v":0},{"$f":"IFERROR(#REF!,0)*FE5","v":0},{"$f":"IFERROR(#REF!,0)*FI5","v":0},{"$f":"IFERROR(#REF!,0)*FI5","v":0},{"$f":"IFERROR(#REF!,0)*FI5","v":0},{"$f":"IFERROR(#REF!,0)*FI5","v":0},{"$f":"IFERROR(#REF!,0)*FM5","v":0},{"$f":"IFERROR(#REF!,0)*FM5","v":0},{"$f":"IFERROR(#REF!,0)*FM5","v":0},{"$f":"IFERROR(#REF!,0)*FM5","v":0},{"$f":"IFERROR(#REF!,0)*FQ5","v":0},{"$f":"IFERROR(#REF!,0)*FQ5","v":0},{"$f":"IFERROR(#REF!,0)*FQ5","v":0},{"$f":"IFERROR(#REF!,0)*FQ5","v":0},{"$f":"IFERROR(#REF!,0)*FU5","v":0},{"$f":"IFERROR(#REF!,0)*FU5","v":0},{"$f":"IFERROR(#REF!,0)*FU5","v":0},{"$f":"IFERROR(#REF!,0)*FU5","v":0},{"$f":"IFERROR(#REF!,0)*FY5","v":0},{"$f":"IFERROR(#REF!,0)*FY5","v":0},{"$f":"IFERROR(#REF!,0)*FY5","v":0},{"$f":"IFERROR(#REF!,0)*FY5","v":0},{"$f":"IFERROR(#REF!,0)*GC5","v":0},{"$f":"IFERROR(#REF!,0)*GC5","v":0},{"$f":"IFERROR(#REF!,0)*GC5","v":0},{"$f":"IFERROR(#REF!,0)*GC5","v":0},{"$f":"IFERROR(#REF!,0)*GG5","v":0},{"$f":"IFERROR(#REF!,0)*GG5","v":0},{"$f":"IFERROR(#REF!,0)*GG5","v":0},{"$f":"IFERROR(#REF!,0)*GG5","v":0},{"$f":"IFERROR(#REF!,0)*GK5","v":0},{"$f":"IFERROR(#REF!,0)*GK5","v":0},{"$f":"IFERROR(#REF!,0)*GK5","v":0},{"$f":"IFERROR(#REF!,0)*GK5","v":0},{"$f":"IFERROR(#REF!,0)*GO5","v":0},{"$f":"IFERROR(#REF!,0)*GO5","v":0},{"$f":"IFERROR(#REF!,0)*GO5","v":0},{"$f":"IFERROR(#REF!,0)*GO5","v":0},{"$f":"IFERROR(#REF!,0)*GS5","v":0},{"$f":"IFERROR(#REF!,0)*GS5","v":0},{"$f":"IFERROR(#REF!,0)*GS5","v":0},{"$f":"IFERROR(#REF!,0)*GS5","v":0},{"v":0,"d":"0.00"},{"v":0,"d":"0.00"},{"v":0,"d":"0.00"},{"v":0,"d":"0.00"}]
[null,{"$f":"#REF!","v":{"$error":"#REF!"}},{"$f":"#REF!","v":{"$error":"#REF!"}},{"$f":"IFERROR(#REF!,0)*E5","v":0},{"$f":"IFERROR(#REF!,0)*E5","v":0},{"$f":"IFERROR(#REF!,0)*E5","v":0},{"$f":"IFERROR(#REF!,0)*E5","v":0},{"$f":"IFERROR(#REF!,0)*I5","v":0},{"$f":"IFERROR(#REF!,0)*I5","v":0},{"$f":"IFERROR(#REF!,0)*I5","v":0},{"$f":"IFERROR(#REF!,0)*I5","v":0},{"$f":"IFERROR(#REF!,0)*M5","v":0},{"$f":"IFERROR(#REF!,0)*M5","v":0},{"$f":"IFERROR(#REF!,0)*M5","v":0},{"$f":"IFERROR(#REF!,0)*M5","v":0},{"$f":"IFERROR(#REF!,0)*Q5","v":0},{"$f":"IFERROR(#REF!,0)*Q5","v":0},{"$f":"IFERROR(#REF!,0)*Q5","v":0},{"$f":"IFERROR(#REF!,0)*Q5","v":0},{"$f":"IFERROR(#REF!,0)*U5","v":0},{"$f":"IFERROR(#REF!,0)*U5","v":0},{"$f":"IFERROR(#REF!,0)*U5","v":0},{"$f":"IFERROR(#REF!,0)*U5","v":0},{"$f":"IFERROR(#REF!,0)*Y5","v":0},{"$f":"IFERROR(#REF!,0)*Y5","v":0},{"$f":"IFERROR(#REF!,0)*Y5","v":0},{"$f":"IFERROR(#REF!,0)*Y5","v":0},{"$f":"IFERROR(#REF!,0)*AC5","v":0},{"$f":"IFERROR(#REF!,0)*AC5","v":0},{"$f":"IFERROR(#REF!,0)*AC5","v":0},{"$f":"IFERROR(#REF!,0)*AC5","v":0},{"$f":"IFERROR(#REF!,0)*AG5","v":0},{"$f":"IFERROR(#REF!,0)*AG5","v":0},{"$f":"IFERROR(#REF!,0)*AG5","v":0},{"$f":"IFERROR(#REF!,0)*AG5","v":0},{"$f":"IFERROR(#REF!,0)*AK5","v":0},{"$f":"IFERROR(#REF!,0)*AK5","v":0},{"$f":"IFERROR(#REF!,0)*AK5","v":0},{"$f":"IFERROR(#REF!,0)*AK5","v":0},{"$f":"IFERROR(#REF!,0)*AO5","v":0},{"$f":"IFERROR(#REF!,0)*AO5","v":0},{"$f":"IFERROR(#REF!,0)*AO5","v":0},{"$f":"IFERROR(#REF!,0)*AO5","v":0},{"$f":"IFERROR(#REF!,0)*AS5","v":0},{"$f":"IFERROR(#REF!,0)*AS5","v":0},{"$f":"IFERROR(#REF!,0)*AS5","v":0},{"$f":"IFERROR(#REF!,0)*AS5","v":0},{"$f":"IFERROR(#REF!,0)*AW5","v":0},{"$f":"IFERROR(#REF!,0)*AW5","v":0},{"$f":"IFERROR(#REF!,0)*AW5","v":0},{"$f":"IFERROR(#REF!,0)*AW5","v":0},{"$f":"IFERROR(#REF!,0)*BA5","v":0},{"$f":"IFERROR(#REF!,0)*BA5","v":0},{"$f":"IFERROR(#REF!,0)*BA5","v":0},{"$f":"IFERROR(#REF!,0)*BA5","v":0},{"$f":"IFERROR(#REF!,0)*BE5","v":0},{"$f":"IFERROR(#REF!,0)*BE5","v":0},{"$f":"IFERROR(#REF!,0)*BE5","v":0},{"$f":"IFERROR(#REF!,0)*BE5","v":0},{"$f":"IFERROR(#REF!,0)*BI5","v":0},{"$f":"IFERROR(#REF!,0)*BI5","v":0},{"$f":"IFERROR(#REF!,0)*BI5","v":0},{"$f":"IFERROR(#REF!,0)*BI5","v":0},{"$f":"IFERROR(#REF!,0)*BM5","v":0},{"$f":"IFERROR(#REF!,0)*BM5","v":0},{"$f":"IFERROR(#REF!,0)*BM5","v":0},{"$f":"IFERROR(#REF!,0)*BM5","v":0},{"$f":"IFERROR(#REF!,0)*BQ5","v":0},{"$f":"IFERROR(#REF!,0)*BQ5","v":0},{"$f":"IFERROR(#REF!,0)*BQ5","v":0},{"$f":"IFERROR(#REF!,0)*BQ5","v":0},{"$f":"IFERROR(#REF!,0)*BU5","v":0},{"$f":"IFERROR(#REF!,0)*BU5","v":0},{"$f":"IFERROR(#REF!,0)*BU5","v":0},{"$f":"IFERROR(#REF!,0)*BU5","v":0},{"$f":"IFERROR(#REF!,0)*BY5","v":0},{"$f":"IFERROR(#REF!,0)*BY5","v":0},{"$f":"IFERROR(#REF!,0)*BY5","v":0},{"$f":"IFERROR(#REF!,0)*BY5","v":0},{"$f":"IFERROR(#REF!,0)*CC5","v":0},{"$f":"IFERROR(#REF!,0)*CC5","v":0},{"$f":"IFERROR(#REF!,0)*CC5","v":0},{"$f":"IFERROR(#REF!,0)*CC5","v":0},{"$f":"IFERROR(#REF!,0)*CG5","v":0},{"$f":"IFERROR(#REF!,0)*CG5","v":0},{"$f":"IFERROR(#REF!,0)*CG5","v":0},{"$f":"IFERROR(#REF!,0)*CG5","v":0},{"$f":"IFERROR(#REF!,0)*CK5","v":0},{"$f":"IFERROR(#REF!,0)*CK5","v":0},{"$f":"IFERROR(#REF!,0)*CK5","v":0},{"$f":"IFERROR(#REF!,0)*CK5","v":0},{"$f":"IFERROR(#REF!,0)*CO5","v":0},{"$f":"IFERROR(#REF!,0)*CO5","v":0},{"$f":"IFERROR(#REF!,0)*CO5","v":0},{"$f":"IFERROR(#REF!,0)*CO5","v":0},{"$f":"IFERROR(#REF!,0)*CS5","v":0},{"$f":"IFERROR(#REF!,0)*CS5","v":0},{"$f":"IFERROR(#REF!,0)*CS5","v":0},{"$f":"IFERROR(#REF!,0)*CS5","v":0},{"$f":"IFERROR(#REF!,0)*CW5","v":0},{"$f":"IFERROR(#REF!,0)*CW5","v":0},{"$f":"IFERROR(#REF!,0)*CW5","v":0},{"$f":"IFERROR(#REF!,0)*CW5","v":0},{"$f":"IFERROR(#REF!,0)*DA5","v":0},{"$f":"IFERROR(#REF!,0)*DA5","v":0},{"$f":"IFERROR(#REF!,0)*DA5","v":0},{"$f":"IFERROR(#REF!,0)*DA5","v":0},{"$f":"IFERROR(#REF!,0)*DE5","v":0},{"$f":"IFERROR(#REF!,0)*DE5","v":0},{"$f":"IFERROR(#REF!,0)*DE5","v":0},{"$f":"IFERROR(#REF!,0)*DE5","v":0},{"$f":"IFERROR(#REF!,0)*DI5","v":0},{"$f":"IFERROR(#REF!,0)*DI5","v":0},{"$f":"IFERROR(#REF!,0)*DI5","v":0},{"$f":"IFERROR(#REF!,0)*DI5","v":0},{"$f":"IFERROR(#REF!,0)*DM5","v":0},{"$f":"IFERROR(#REF!,0)*DM5","v":0},{"$f":"IFERROR(#REF!,0)*DM5","v":0},{"$f":"IFERROR(#REF!,0)*DM5","v":0},{"$f":"IFERROR(#REF!,0)*DQ5","v":0},{"$f":"IFERROR(#REF!,0)*DQ5","v":0},{"$f":"IFERROR(#REF!,0)*DQ5","v":0},{"$f":"IFERROR(#REF!,0)*DQ5","v":0},{"$f":"IFERROR(#REF!,0)*DU5","v":0},{"$f":"IFERROR(#REF!,0)*DU5","v":0},{"$f":"IFERROR(#REF!,0)*DU5","v":0},{"$f":"IFERROR(#REF!,0)*DU5","v":0},{"$f":"IFERROR(#REF!,0)*DY5","v":0},{"$f":"IFERROR(#REF!,0)*DY5","v":0},{"$f":"IFERROR(#REF!,0)*DY5","v":0},{"$f":"IFERROR(#REF!,0)*DY5","v":0},{"$f":"IFERROR(#REF!,0)*EC5","v":0},{"$f":"IFERROR(#REF!,0)*EC5","v":0},{"$f":"IFERROR(#REF!,0)*EC5","v":0},{"$f":"IFERROR(#REF!,0)*EC5","v":0},{"$f":"IFERROR(#REF!,0)*EG5","v":0},{"$f":"IFERROR(#REF!,0)*EG5","v":0},{"$f":"IFERROR(#REF!,0)*EG5","v":0},{"$f":"IFERROR(#REF!,0)*EG5","v":0},{"$f":"IFERROR(#REF!,0)*EK5","v":0},{"$f":"IFERROR(#REF!,0)*EK5","v":0},{"$f":"IFERROR(#REF!,0)*EK5","v":0},{"$f":"IFERROR(#REF!,0)*EK5","v":0},{"$f":"IFERROR(#REF!,0)*EO5","v":0},{"$f":"IFERROR(#REF!,0)*EO5","v":0},{"$f":"IFERROR(#REF!,0)*EO5","v":0},{"$f":"IFERROR(#REF!,0)*EO5","v":0},{"$f":"IFERROR(#REF!,0)*ES5","v":0},{"$f":"IFERROR(#REF!,0)*ES5","v":0},{"$f":"IFERROR(#REF!,0)*ES5","v":0},{"$f":"IFERROR(#REF!,0)*ES5","v":0},{"$f":"IFERROR(#REF!,0)*EW5","v":0},{"$f":"IFERROR(#REF!,0)*EW5","v":0},{"$f":"IFERROR(#REF!,0)*EW5","v":0},{"$f":"IFERROR(#REF!,0)*EW5","v":0},{"$f":"IFERROR(#REF!,0)*FA5","v":0},{"$f":"IFERROR(#REF!,0)*FA5","v":0},{"$f":"IFERROR(#REF!,0)*FA5","v":0},{"$f":"IFERROR(#REF!,0)*FA5","v":0},{"$f":"IFERROR(#REF!,0)*FE5","v":0},{"$f":"IFERROR(#REF!,0)*FE5","v":0},{"$f":"IFERROR(#REF!,0)*FE5","v":0},{"$f":"IFERROR(#REF!,0)*FE5","v":0},{"$f":"IFERROR(#REF!,0)*FI5","v":0},{"$f":"IFERROR(#REF!,0)*FI5","v":0},{"$f":"IFERROR(#REF!,0)*FI5","v":0},{"$f":"IFERROR(#REF!,0)*FI5","v":0},{"$f":"IFERROR(#REF!,0)*FM5","v":0},{"$f":"IFERROR(#REF!,0)*FM5","v":0},{"$f":"IFERROR(#REF!,0)*FM5","v":0},{"$f":"IFERROR(#REF!,0)*FM5","v":0},{"$f":"IFERROR(#REF!,0)*FQ5","v":0},{"$f":"IFERROR(#REF!,0)*FQ5","v":0},{"$f":"IFERROR(#REF!,0)*FQ5","v":0},{"$f":"IFERROR(#REF!,0)*FQ5","v":0},{"$f":"IFERROR(#REF!,0)*FU5","v":0},{"$f":"IFERROR(#REF!,0)*FU5","v":0},{"$f":"IFERROR(#REF!,0)*FU5","v":0},{"$f":"IFERROR(#REF!,0)*FU5","v":0},{"$f":"IFERROR(#REF!,0)*FY5","v":0},{"$f":"IFERROR(#REF!,0)*FY5","v":0},{"$f":"IFERROR(#REF!,0)*FY5","v":0},{"$f":"IFERROR(#REF!,0)*FY5","v":0},{"$f":"IFERROR(#REF!,0)*GC5","v":0},{"$f":"IFERROR(#REF!,0)*GC5","v":0},{"$f":"IFERROR(#REF!,0)*GC5","v":0},{"$f":"IFERROR(#REF!,0)*GC5","v":0},{"$f":"IFERROR(#REF!,0)*GG5","v":0},{"$f":"IFERROR(#REF!,0)*GG5","v":0},{"$f":"IFERROR(#REF!,0)*GG5","v":0},{"$f":"IFERROR(#REF!,0)*GG5","v":0},{"$f":"IFERROR(#REF!,0)*GK5","v":0},{"$f":"IFERROR(#REF!,0)*GK5","v":0},{"$f":"IFERROR(#REF!,0)*GK5","v":0},{"$f":"IFERROR(#REF!,0)*GK5","v":0},{"$f":"IFERROR(#REF!,0)*GO5","v":0},{"$f":"IFERROR(#REF!,0)*GO5","v":0},{"$f":"IFERROR(#REF!,0)*GO5","v":0},{"$f":"IFERROR(#REF!,0)*GO5","v":0},{"$f":"IFERROR(#REF!,0)*GS5","v":0},{"$f":"IFERROR(#REF!,0)*GS5","v":0},{"$f":"IFERROR(#REF!,0)*GS5","v":0},{"$f":"IFERROR(#REF!,0)*GS5","v":0},{"v":0,"d":"0.00"},{"v":0,"d":"0.00"},{"v":0,"d":"0.00"},{"v":0,"d":"0.00"}]
[null,{"$f":"#REF!","v":{"$error":"#REF!"}},{"$f":"#REF!","v":{"$error":"#REF!"}},{"$f":"IFERROR(#REF!,0)*E5","v":0},{"$f":"IFERROR(#REF!,0)*E5","v":0},{"$f":"IFERROR(#REF!,0)*E5","v":0},{"$f":"IFERROR(#REF!,0)*E5","v":0},{"$f":"IFERROR(#REF!,0)*I5","v":0},{"$f":"IFERROR(#REF!,0)*I5","v":0},{"$f":"IFERROR(#REF!,0)*I5","v":0},{"$f":"IFERROR(#REF!,0)*I5","v":0},{"$f":"IFERROR(#REF!,0)*M5","v":0},{"$f":"IFERROR(#REF!,0)*M5","v":0},{"$f":"IFERROR(#REF!,0)*M5","v":0},{"$f":"IFERROR(#REF!,0)*M5","v":0},{"$f":"IFERROR(#REF!,0)*Q5","v":0},{"$f":"IFERROR(#REF!,0)*Q5","v":0},{"$f":"IFERROR(#REF!,0)*Q5","v":0},{"$f":"IFERROR(#REF!,0)*Q5","v":0},{"$f":"IFERROR(#REF!,0)*U5","v":0},{"$f":"IFERROR(#REF!,0)*U5","v":0},{"$f":"IFERROR(#REF!,0)*U5","v":0},{"$f":"IFERROR(#REF!,0)*U5","v":0},{"$f":"IFERROR(#REF!,0)*Y5","v":0},{"$f":"IFERROR(#REF!,0)*Y5","v":0},{"$f":"IFERROR(#REF!,0)*Y5","v":0},{"$f":"IFERROR(#REF!,0)*Y5","v":0},{"$f":"IFERROR(#REF!,0)*AC5","v":0},{"$f":"IFERROR(#REF!,0)*AC5","v":0},{"$f":"IFERROR(#REF!,0)*AC5","v":0},{"$f":"IFERROR(#REF!,0)*AC5","v":0},{"$f":"IFERROR(#REF!,0)*AG5","v":0},{"$f":"IFERROR(#REF!,0)*AG5","v":0},{"$f":"IFERROR(#REF!,0)*AG5","v":0},{"$f":"IFERROR(#REF!,0)*AG5","v":0},{"$f":"IFERROR(#REF!,0)*AK5","v":0},{"$f":"IFERROR(#REF!,0)*AK5","v":0},{"$f":"IFERROR(#REF!,0)*AK5","v":0},{"$f":"IFERROR(#REF!,0)*AK5","v":0},{"$f":"IFERROR(#REF!,0)*AO5","v":0},{"$f":"IFERROR(#REF!,0)*AO5","v":0},{"$f":"IFERROR(#REF!,0)*AO5","v":0},{"$f":"IFERROR(#REF!,0)*AO5","v":0},{"$f":"IFERROR(#REF!,0)*AS5","v":0},{"$f":"IFERROR(#REF!,0)*AS5","v":0},{"$f":"IFERROR(#REF!,0)*AS5","v":0},{"$f":"IFERROR(#REF!,0)*AS5","v":0},{"$f":"IFERROR(#REF!,0)*AW5","v":0},{"$f":"IFERROR(#REF!,0)*AW5","v":0},{"$f":"IFERROR(#REF!,0)*AW5","v":0},{"$f":"IFERROR(#REF!,0)*AW5","v":0},{"$f":"IFERROR(#REF!,0)*BA5","v":0},{"$f":"IFERROR(#REF!,0)*BA5","v":0},{"$f":"IFERROR(#REF!,0)*BA5","v":0},{"$f":"IFERROR(#REF!,0)*BA5","v":0},{"$f":"IFERROR(#REF!,0)*BE5","v":0},{"$f":"IFERROR(#REF!,0)*BE5","v":0},{"$f":"IFERROR(#REF!,0)*BE5","v":0},{"$f":"IFERROR(#REF!,0)*BE5","v":0},{"$f":"IFERROR(#REF!,0)*BI5","v":0},{"$f":"IFERROR(#REF!,0)*BI5","v":0},{"$f":"IFERROR(#REF!,0)*BI5","v":0},{"$f":"IFERROR(#REF!,0)*BI5","v":0},{"$f":"IFERROR(#REF!,0)*BM5","v":0},{"$f":"IFERROR(#REF!,0)*BM5","v":0},{"$f":"IFERROR(#REF!,0)*BM5","v":0},{"$f":"IFERROR(#REF!,0)*BM5","v":0},{"$f":"IFERROR(#REF!,0)*BQ5","v":0},{"$f":"IFERROR(#REF!,0)*BQ5","v":0},{"$f":"IFERROR(#REF!,0)*BQ5","v":0},{"$f":"IFERROR(#REF!,0)*BQ5","v":0},{"$f":"IFERROR(#REF!,0)*BU5","v":0},{"$f":"IFERROR(#REF!,0)*BU5","v":0},{"$f":"IFERROR(#REF!,0)*BU5","v":0},{"$f":"IFERROR(#REF!,0)*BU5","v":0},{"$f":"IFERROR(#REF!,0)*BY5","v":0},{"$f":"IFERROR(#REF!,0)*BY5","v":0},{"$f":"IFERROR(#REF!,0)*BY5","v":0},{"$f":"IFERROR(#REF!,0)*BY5","v":0},{"$f":"IFERROR(#REF!,0)*CC5","v":0},{"$f":"IFERROR(#REF!,0)*CC5","v":0},{"$f":"IFERROR(#REF!,0)*CC5","v":0},{"$f":"IFERROR(#REF!,0)*CC5","v":0},{"$f":"IFERROR(#REF!,0)*CG5","v":0},{"$f":"IFERROR(#REF!,0)*CG5","v":0},{"$f":"IFERROR(#REF!,0)*CG5","v":0},{"$f":"IFERROR(#REF!,0)*CG5","v":0},{"$f":"IFERROR(#REF!,0)*CK5","v":0},{"$f":"IFERROR(#REF!,0)*CK5","v":0},{"$f":"IFERROR(#REF!,0)*CK5","v":0},{"$f":"IFERROR(#REF!,0)*CK5","v":0},{"$f":"IFERROR(#REF!,0)*CO5","v":0},{"$f":"IFERROR(#REF!,0)*CO5","v":0},{"$f":"IFERROR(#REF!,0)*CO5","v":0},{"$f":"IFERROR(#REF!,0)*CO5","v":0},{"$f":"IFERROR(#REF!,0)*CS5","v":0},{"$f":"IFERROR(#REF!,0)*CS5","v":0},{"$f":"IFERROR(#REF!,0)*CS5","v":0},{"$f":"IFERROR(#REF!,0)*CS5","v":0},{"$f":"IFERROR(#REF!,0)*CW5","v":0},{"$f":"IFERROR(#REF!,0)*CW5","v":0},{"$f":"IFERROR(#REF!,0)*CW5","v":0},{"$f":"IFERROR(#REF!,0)*CW5","v":0},{"$f":"IFERROR(#REF!,0)*DA5","v":0},{"$f":"IFERROR(#REF!,0)*DA5","v":0},{"$f":"IFERROR(#REF!,0)*DA5","v":0},{"$f":"IFERROR(#REF!,0)*DA5","v":0},{"$f":"IFERROR(#REF!,0)*DE5","v":0},{"$f":"IFERROR(#REF!,0)*DE5","v":0},{"$f":"IFERROR(#REF!,0)*DE5","v":0},{"$f":"IFERROR(#REF!,0)*DE5","v":0},{"$f":"IFERROR(#REF!,0)*DI5","v":0},{"$f":"IFERROR(#REF!,0)*DI5","v":0},{"$f":"IFERROR(#REF!,0)*DI5","v":0},{"$f":"IFERROR(#REF!,0)*DI5","v":0},{"$f":"IFERROR(#REF!,0)*DM5","v":0},{"$f":"IFERROR(#REF!,0)*DM5","v":0},{"$f":"IFERROR(#REF!,0)*DM5","v":0},{"$f":"IFERROR(#REF!,0)*DM5","v":0},{"$f":"IFERROR(#REF!,0)*DQ5","v":0},{"$f":"IFERROR(#REF!,0)*DQ5","v":0},{"$f":"IFERROR(#REF!,0)*DQ5","v":0},{"$f":"IFERROR(#REF!,0)*DQ5","v":0},{"$f":"IFERROR(#REF!,0)*DU5","v":0},{"$f":"IFERROR(#REF!,0)*DU5","v":0},{"$f":"IFERROR(#REF!,0)*DU5","v":0},{"$f":"IFERROR(#REF!,0)*DU5","v":0},{"$f":"IFERROR(#REF!,0)*DY5","v":0},{"$f":"IFERROR(#REF!,0)*DY5","v":0},{"$f":"IFERROR(#REF!,0)*DY5","v":0},{"$f":"IFERROR(#REF!,0)*DY5","v":0},{"$f":"IFERROR(#REF!,0)*EC5","v":0},{"$f":"IFERROR(#REF!,0)*EC5","v":0},{"$f":"IFERROR(#REF!,0)*EC5","v":0},{"$f":"IFERROR(#REF!,0)*EC5","v":0},{"$f":"IFERROR(#REF!,0)*EG5","v":0},{"$f":"IFERROR(#REF!,0)*EG5","v":0},{"$f":"IFERROR(#REF!,0)*EG5","v":0},{"$f":"IFERROR(#REF!,0)*EG5","v":0},{"$f":"IFERROR(#REF!,0)*EK5","v":0},{"$f":"IFERROR(#REF!,0)*EK5","v":0},{"$f":"IFERROR(#REF!,0)*EK5","v":0},{"$f":"IFERROR(#REF!,0)*EK5","v":0},{"$f":"IFERROR(#REF!,0)*EO5","v":0},{"$f":"IFERROR(#REF!,0)*EO5","v":0},{"$f":"IFERROR(#REF!,0)*EO5","v":0},{"$f":"IFERROR(#REF!,0)*EO5","v":0},{"$f":"IFERROR(#REF!,0)*ES5","v":0},{"$f":"IFERROR(#REF!,0)*ES5","v":0},{"$f":"IFERROR(#REF!,0)*ES5","v":0},{"$f":"IFERROR(#REF!,0)*ES5","v":0},{"$f":"IFERROR(#REF!,0)*EW5","v":0},{"$f":"IFERROR(#REF!,0)*EW5","v":0},{"$f":"IFERROR(#REF!,0)*EW5","v":0},{"$f":"IFERROR(#REF!,0)*EW5","v":0},{"$f":"IFERROR(#REF!,0)*FA5","v":0},{"$f":"IFERROR(#REF!,0)*FA5","v":0},{"$f":"IFERROR(#REF!,0)*FA5","v":0},{"$f":"IFERROR(#REF!,0)*FA5","v":0},{"$f":"IFERROR(#REF!,0)*FE5","v":0},{"$f":"IFERROR(#REF!,0)*FE5","v":0},{"$f":"IFERROR(#REF!,0)*FE5","v":0},{"$f":"IFERROR(#REF!,0)*FE5","v":0},{"$f":"IFERROR(#REF!,0)*FI5","v":0},{"$f":"IFERROR(#REF!,0)*FI5","v":0},{"$f":"IFERROR(#REF!,0)*FI5","v":0},{"$f":"IFERROR(#REF!,0)*FI5","v":0},{"$f":"IFERROR(#REF!,0)*FM5","v":0},{"$f":"IFERROR(#REF!,0)*FM5","v":0},{"$f":"IFERROR(#REF!,0)*FM5","v":0},{"$f":"IFERROR(#REF!,0)*FM5","v":0},{"$f":"IFERROR(#REF!,0)*FQ5","v":0},{"$f":"IFERROR(#REF!,0)*FQ5","v":0},{"$f":"IFERROR(#REF!,0)*FQ5","v":0},{"$f":"IFERROR(#REF!,0)*FQ5","v":0},{"$f":"IFERROR(#REF!,0)*FU5","v":0},{"$f":"IFERROR(#REF!,0)*FU5","v":0},{"$f":"IFERROR(#REF!,0)*FU5","v":0},{"$f":"IFERROR(#REF!,0)*FU5","v":0},{"$f":"IFERROR(#REF!,0)*FY5","v":0},{"$f":"IFERROR(#REF!,0)*FY5","v":0},{"$f":"IFERROR(#REF!,0)*FY5","v":0},{"$f":"IFERROR(#REF!,0)*FY5","v":0},{"$f":"IFERROR(#REF!,0)*GC5","v":0},{"$f":"IFERROR(#REF!,0)*GC5","v":0},{"$f":"IFERROR(#REF!,0)*GC5","v":0},{"$f":"IFERROR(#REF!,0)*GC5","v":0},{"$f":"IFERROR(#REF!,0)*GG5","v":0},{"$f":"IFERROR(#REF!,0)*GG5","v":0},{"$f":"IFERROR(#REF!,0)*GG5","v":0},{"$f":"IFERROR(#REF!,0)*GG5","v":0},{"$f":"IFERROR(#REF!,0)*GK5","v":0},{"$f":"IFERROR(#REF!,0)*GK5","v":0},{"$f":"IFERROR(#REF!,0)*GK5","v":0},{"$f":"IFERROR(#REF!,0)*GK5","v":0},{"$f":"IFERROR(#REF!,0)*GO5","v":0},{"$f":"IFERROR(#REF!,0)*GO5","v":0},{"$f":"IFERROR(#REF!,0)*GO5","v":0},{"$f":"IFERROR(#REF!,0)*GO5","v":0},{"$f":"IFERROR(#REF!,0)*GS5","v":0},{"$f":"IFERROR(#REF!,0)*GS5","v":0},{"$f":"IFERROR(#REF!,0)*GS5","v":0},{"$f":"IFERROR(#REF!,0)*GS5","v":0},{"v":0,"d":"0.00"},{"v":0,"d":"0.00"},{"v":0,"d":"0.00"},{"$f":"GU71+GQ71+GM71+GI71+GE71+GA71+FW71+FS71+FO71+FK71+FG71+FC71+EY71+EU71+EQ71+EM71+EI71+EE71+EA71+DW71+DS71+DO71+DK71+DG71+DC71+CY71+CU71+CQ71+CM71+CI71+CE71+CA71+BW71+BS71+BO71+BK71+BG71+BC71+AY71+AU71+AQ71+AM71+AI71+AE71+AA71+W71+S71+O71+K71+G71","v":{"v":0,"d":"0.00"}}]
[null,{"$f":"#REF!","v":{"$error":"#REF!"}},{"$f":"#REF!","v":{"$error":"#REF!"}},{"$f":"IFERROR(#REF!,0)*E5","v":0},{"$f":"IFERROR(#REF!,0)*E5","v":0},{"$f":"IFERROR(#REF!,0)*E5","v":0},{"$f":"IFERROR(#REF!,0)*E5","v":0},{"$f":"IFERROR(#REF!,0)*I5","v":0},{"$f":"IFERROR(#REF!,0)*I5","v":0},{"$f":"IFERROR(#REF!,0)*I5","v":0},{"$f":"IFERROR(#REF!,0)*I5","v":0},{"$f":"IFERROR(#REF!,0)*M5","v":0},{"$f":"IFERROR(#REF!,0)*M5","v":0},{"$f":"IFERROR(#REF!,0)*M5","v":0},{"$f":"IFERROR(#REF!,0)*M5","v":0},{"$f":"IFERROR(#REF!,0)*Q5","v":0},{"$f":"IFERROR(#REF!,0)*Q5","v":0},{"$f":"IFERROR(#REF!,0)*Q5","v":0},{"$f":"IFERROR(#REF!,0)*Q5","v":0},{"$f":"IFERROR(#REF!,0)*U5","v":0},{"$f":"IFERROR(#REF!,0)*U5","v":0},{"$f":"IFERROR(#REF!,0)*U5","v":0},{"$f":"IFERROR(#REF!,0)*U5","v":0},{"$f":"IFERROR(#REF!,0)*Y5","v":0},{"$f":"IFERROR(#REF!,0)*Y5","v":0},{"$f":"IFERROR(#REF!,0)*Y5","v":0},{"$f":"IFERROR(#REF!,0)*Y5","v":0},{"$f":"IFERROR(#REF!,0)*AC5","v":0},{"$f":"IFERROR(#REF!,0)*AC5","v":0},{"$f":"IFERROR(#REF!,0)*AC5","v":0},{"$f":"IFERROR(#REF!,0)*AC5","v":0},{"$f":"IFERROR(#REF!,0)*AG5","v":0},{"$f":"IFERROR(#REF!,0)*AG5","v":0},{"$f":"IFERROR(#REF!,0)*AG5","v":0},{"$f":"IFERROR(#REF!,0)*AG5","v":0},{"$f":"IFERROR(#REF!,0)*AK5","v":0},{"$f":"IFERROR(#REF!,0)*AK5","v":0},{"$f":"IFERROR(#REF!,0)*AK5","v":0},{"$f":"IFERROR(#REF!,0)*AK5","v":0},{"$f":"IFERROR(#REF!,0)*AO5","v":0},{"$f":"IFERROR(#REF!,0)*AO5","v":0},{"$f":"IFERROR(#REF!,0)*AO5","v":0},{"$f":"IFERROR(#REF!,0)*AO5","v":0},{"$f":"IFERROR(#REF!,0)*AS5","v":0},{"$f":"IFERROR(#REF!,0)*AS5","v":0},{"$f":"IFERROR(#REF!,0)*AS5","v":0},{"$f":"IFERROR(#REF!,0)*AS5","v":0},{"$f":"IFERROR(#REF!,0)*AW5","v":0},{"$f":"IFERROR(#REF!,0)*AW5","v":0},{"$f":"IFERROR(#REF!,0)*AW5","v":0},{"$f":"IFERROR(#REF!,0)*AW5","v":0},{"$f":"IFERROR(#REF!,0)*BA5","v":0},{"$f":"IFERROR(#REF!,0)*BA5","v":0},{"$f":"IFERROR(#REF!,0)*BA5","v":0},{"$f":"IFERROR(#REF!,0)*BA5","v":0},{"$f":"IFERROR(#REF!,0)*BE5","v":0},{"$f":"IFERROR(#REF!,0)*BE5","v":0},{"$f":"IFERROR(#REF!,0)*BE5","v":0},{"$f":"IFERROR(#REF!,0)*BE5","v":0},{"$f":"IFERROR(#REF!,0)*BI5","v":0},{"$f":"IFERROR(#REF!,0)*BI5","v":0},{"$f":"IFERROR(#REF!,0)*BI5","v":0},{"$f":"IFERROR(#REF!,0)*BI5","v":0},{"$f":"IFERROR(#REF!,0)*BM5","v":0},{"$f":"IFERROR(#REF!,0)*BM5","v":0},{"$f":"IFERROR(#REF!,0)*BM5","v":0},{"$f":"IFERROR(#REF!,0)*BM5","v":0},{"$f":"IFERROR(#REF!,0)*BQ5","v":0},{"$f":"IFERROR(#REF!,0)*BQ5","v":0},{"$f":"IFERROR(#REF!,0)*BQ5","v":0},{"$f":"IFERROR(#REF!,0)*BQ5","v":0},{"$f":"IFERROR(#REF!,0)*BU5","v":0},{"$f":"IFERROR(#REF!,0)*BU5","v":0},{"$f":"IFERROR(#REF!,0)*BU5","v":0},{"$f":"IFERROR(#REF!,0)*BU5","v":0},{"$f":"IFERROR(#REF!,0)*BY5","v":0},{"$f":"IFERROR(#REF!,0)*BY5","v":0},{"$f":"IFERROR(#REF!,0)*BY5","v":0},{"$f":"IFERROR(#REF!,0)*BY5","v":0},{"$f":"IFERROR(#REF!,0)*CC5","v":0},{"$f":"IFERROR(#REF!,0)*CC5","v":0},{"$f":"IFERROR(#REF!,0)*CC5","v":0},{"$f":"IFERROR(#REF!,0)*CC5","v":0},{"$f":"IFERROR(#REF!,0)*CG5","v":0},{"$f":"IFERROR(#REF!,0)*CG5","v":0},{"$f":"IFERROR(#REF!,0)*CG5","v":0},{"$f":"IFERROR(#REF!,0)*CG5","v":0},{"$f":"IFERROR(#REF!,0)*CK5","v":0},{"$f":"IFERROR(#REF!,0)*CK5","v":0},{"$f":"IFERROR(#REF!,0)*CK5","v":0},{"$f":"IFERROR(#REF!,0)*CK5","v":0},{"$f":"IFERROR(#REF!,0)*CO5","v":0},{"$f":"IFERROR(#REF!,0)*CO5","v":0},{"$f":"IFERROR(#REF!,0)*CO5","v":0},{"$f":"IFERROR(#REF!,0)*CO5","v":0},{"$f":"IFERROR(#REF!,0)*CS5","v":0},{"$f":"IFERROR(#REF!,0)*CS5","v":0},{"$f":"IFERROR(#REF!,0)*CS5","v":0},{"$f":"IFERROR(#REF!,0)*CS5","v":0},{"$f":"IFERROR(#REF!,0)*CW5","v":0},{"$f":"IFERROR(#REF!,0)*CW5","v":0},{"$f":"IFERROR(#REF!,0)*CW5","v":0},{"$f":"IFERROR(#REF!,0)*CW5","v":0},{"$f":"IFERROR(#REF!,0)*DA5","v":0},{"$f":"IFERROR(#REF!,0)*DA5","v":0},{"$f":"IFERROR(#REF!,0)*DA5","v":0},{"$f":"IFERROR(#REF!,0)*DA5","v":0},{"$f":"IFERROR(#REF!,0)*DE5","v":0},{"$f":"IFERROR(#REF!,0)*DE5","v":0},{"$f":"IFERROR(#REF!,0)*DE5","v":0},{"$f":"IFERROR(#REF!,0)*DE5","v":0},{"$f":"IFERROR(#REF!,0)*DI5","v":0},{"$f":"IFERROR(#REF!,0)*DI5","v":0},{"$f":"IFERROR(#REF!,0)*DI5","v":0},{"$f":"IFERROR(#REF!,0)*DI5","v":0},{"$f":"IFERROR(#REF!,0)*DM5","v":0},{"$f":"IFERROR(#REF!,0)*DM5","v":0},{"$f":"IFERROR(#REF!,0)*DM5","v":0},{"$f":"IFERROR(#REF!,0)*DM5","v":0},{"$f":"IFERROR(#REF!,0)*DQ5","v":0},{"$f":"IFERROR(#REF!,0)*DQ5","v":0},{"$f":"IFERROR(#REF!,0)*DQ5","v":0},{"$f":"IFERROR(#REF!,0)*DQ5","v":0},{"$f":"IFERROR(#REF!,0)*DU5","v":0},{"$f":"IFERROR(#REF!,0)*DU5","v":0},{"$f":"IFERROR(#REF!,0)*DU5","v":0},{"$f":"IFERROR(#REF!,0)*DU5","v":0},{"$f":"IFERROR(#REF!,0)*DY5","v":0},{"$f":"IFERROR(#REF!,0)*DY5","v":0},{"$f":"IFERROR(#REF!,0)*DY5","v":0},{"$f":"IFERROR(#REF!,0)*DY5","v":0},{"$f":"IFERROR(#REF!,0)*EC5","v":0},{"$f":"IFERROR(#REF!,0)*EC5","v":0},{"$f":"IFERROR(#REF!,0)*EC5","v":0},{"$f":"IFERROR(#REF!,0)*EC5","v":0},{"$f":"IFERROR(#REF!,0)*EG5","v":0},{"$f":"IFERROR(#REF!,0)*EG5","v":0},{"$f":"IFERROR(#REF!,0)*EG5","v":0},{"$f":"IFERROR(#REF!,0)*EG5","v":0},{"$f":"IFERROR(#REF!,0)*EK5","v":0},{"$f":"IFERROR(#REF!,0)*EK5","v":0},{"$f":"IFERROR(#REF!,0)*EK5","v":0},{"$f":"IFERROR(#REF!,0)*EK5","v":0},{"$f":"IFERROR(#REF!,0)*EO5","v":0},{"$f":"IFERROR(#REF!,0)*EO5","v":0},{"$f":"IFERROR(#REF!,0)*EO5","v":0},{"$f":"IFERROR(#REF!,0)*EO5","v":0},{"$f":"IFERROR(#REF!,0)*ES5","v":0},{"$f":"IFERROR(#REF!,0)*ES5","v":0},{"$f":"IFERROR(#REF!,0)*ES5","v":0},{"$f":"IFERROR(#REF!,0)*ES5","v":0},{"$f":"IFERROR(#REF!,0)*EW5","v":0},{"$f":"IFERROR(#REF!,0)*EW5","v":0},{"$f":"IFERROR(#REF!,0)*EW5","v":0},{"$f":"IFERROR(#REF!,0)*EW5","v":0},{"$f":"IFERROR(#REF!,0)*FA5","v":0},{"$f":"IFERROR(#REF!,0)*FA5","v":0},{"$f":"IFERROR(#REF!,0)*FA5","v":0},{"$f":"IFERROR(#REF!,0)*FA5","v":0},{"$f":"IFERROR(#REF!,0)*FE5","v":0},{"$f":"IFERROR(#REF!,0)*FE5","v":0},{"$f":"IFERROR(#REF!,0)*FE5","v":0},{"$f":"IFERROR(#REF!,0)*FE5","v":0},{"$f":"IFERROR(#REF!,0)*FI5","v":0},{"$f":"IFERROR(#REF!,0)*FI5","v":0},{"$f":"IFERROR(#REF!,0)*FI5","v":0},{"$f":"IFERROR(#REF!,0)*FI5","v":0},{"$f":"IFERROR(#REF!,0)*FM5","v":0},{"$f":"IFERROR(#REF!,0)*FM5","v":0},{"$f":"IFERROR(#REF!,0)*FM5","v":0},{"$f":"IFERROR(#REF!,0)*FM5","v":0},{"$f":"IFERROR(#REF!,0)*FQ5","v":0},{"$f":"IFERROR(#REF!,0)*FQ5","v":0},{"$f":"IFERROR(#REF!,0)*FQ5","v":0},{"$f":"IFERROR(#REF!,0)*FQ5","v":0},{"$f":"IFERROR(#REF!,0)*FU5","v":0},{"$f":"IFERROR(#REF!,0)*FU5","v":0},{"$f":"IFERROR(#REF!,0)*FU5","v":0},{"$f":"IFERROR(#REF!,0)*FU5","v":0},{"$f":"IFERROR(#REF!,0)*FY5","v":0},{"$f":"IFERROR(#REF!,0)*FY5","v":0},{"$f":"IFERROR(#REF!,0)*FY5","v":0},{"$f":"IFERROR(#REF!,0)*FY5","v":0},{"$f":"IFERROR(#REF!,0)*GC5","v":0},{"$f":"IFERROR(#REF!,0)*GC5","v":0},{"$f":"IFERROR(#REF!,0)*GC5","v":0},{"$f":"IFERROR(#REF!,0)*GC5","v":0},{"$f":"IFERROR(#REF!,0)*GG5","v":0},{"$f":"IFERROR(#REF!,0)*GG5","v":0},{"$f":"IFERROR(#REF!,0)*GG5","v":0},{"$f":"IFERROR(#REF!,0)*GG5","v":0},{"$f":"IFERROR(#REF!,0)*GK5","v":0},{"$f":"IFERROR(#REF!,0)*GK5","v":0},{"$f":"IFERROR(#REF!,0)*GK5","v":0},{"$f":"IFERROR(#REF!,0)*GK5","v":0},{"$f":"IFERROR(#REF!,0)*GO5","v":0},{"$f":"IFERROR(#REF!,0)*GO5","v":0},{"$f":"IFERROR(#REF!,0)*GO5","v":0},{"$f":"IFERROR(#REF!,0)*GO5","v":0},{"$f":"IFERROR(#REF!,0)*GS5","v":0},{"$f":"IFERROR(#REF!,0)*GS5","v":0},{"$f":"IFERROR(#REF!,0)*GS5","v":0},{"$f":"IFERROR(#REF!,0)*GS5","v":0},{"$f":"GR72+GN72+GJ72+GF72+GB72+FX72+FT72+FP72+FL72+FH72+FD72+EZ72+EV72+ER72+EN72+EJ72+EF72+EB72+DX72+DT72+DP72+DL72+DH72+DD72+CZ72+CV72+CR72+CN72+CJ72+CF72+CB72+BX72+BT72+BP72+BL72+BH72+BD72+AZ72+AV72+AR72+AN72+AJ72+AF72+AB72+X72+T72+P72+L72+H72+D72","v":{"v":0,"d":"0.00"}},{"v":0,"d":"0.00"},{"v":0,"d":"0.00"},{"v":0,"d":"0.00"}]
[null,{"$f":"#REF!","v":{"$error":"#REF!"}},{"$f":"#REF!","v":{"$error":"#REF!"}},{"$f":"IFERROR(#REF!,0)*E5","v":0},{"$f":"IFERROR(#REF!,0)*E5","v":0},{"$f":"IFERROR(#REF!,0)*E5","v":0},{"$f":"IFERROR(#REF!,0)*E5","v":0},{"$f":"IFERROR(#REF!,0)*I5","v":0},{"$f":"IFERROR(#REF!,0)*I5","v":0},{"$f":"IFERROR(#REF!,0)*I5","v":0},{"$f":"IFERROR(#REF!,0)*I5","v":0},{"$f":"IFERROR(#REF!,0)*M5","v":0},{"$f":"IFERROR(#REF!,0)*M5","v":0},{"$f":"IFERROR(#REF!,0)*M5","v":0},{"$f":"IFERROR(#REF!,0)*M5","v":0},{"$f":"IFERROR(#REF!,0)*Q5","v":0},{"$f":"IFERROR(#REF!,0)*Q5","v":0},{"$f":"IFERROR(#REF!,0)*Q5","v":0},{"$f":"IFERROR(#REF!,0)*Q5","v":0},{"$f":"IFERROR(#REF!,0)*U5","v":0},{"$f":"IFERROR(#REF!,0)*U5","v":0},{"$f":"IFERROR(#REF!,0)*U5","v":0},{"$f":"IFERROR(#REF!,0)*U5","v":0},{"$f":"IFERROR(#REF!,0)*Y5","v":0},{"$f":"IFERROR(#REF!,0)*Y5","v":0},{"$f":"IFERROR(#REF!,0)*Y5","v":0},{"$f":"IFERROR(#REF!,0)*Y5","v":0},{"$f":"IFERROR(#REF!,0)*AC5","v":0},{"$f":"IFERROR(#REF!,0)*AC5","v":0},{"$f":"IFERROR(#REF!,0)*AC5","v":0},{"$f":"IFERROR(#REF!,0)*AC5","v":0},{"$f":"IFERROR(#REF!,0)*AG5","v":0},{"$f":"IFERROR(#REF!,0)*AG5","v":0},{"$f":"IFERROR(#REF!,0)*AG5","v":0},{"$f":"IFERROR(#REF!,0)*AG5","v":0},{"$f":"IFERROR(#REF!,0)*AK5","v":0},{"$f":"IFERROR(#REF!,0)*AK5","v":0},{"$f":"IFERROR(#REF!,0)*AK5","v":0},{"$f":"IFERROR(#REF!,0)*AK5","v":0},{"$f":"IFERROR(#REF!,0)*AO5","v":0},{"$f":"IFERROR(#REF!,0)*AO5","v":0},{"$f":"IFERROR(#REF!,0)*AO5","v":0},{"$f":"IFERROR(#REF!,0)*AO5","v":0},{"$f":"IFERROR(#REF!,0)*AS5","v":0},{"$f":"IFERROR(#REF!,0)*AS5","v":0},{"$f":"IFERROR(#REF!,0)*AS5","v":0},{"$f":"IFERROR(#REF!,0)*AS5","v":0},{"$f":"IFERROR(#REF!,0)*AW5","v":0},{"$f":"IFERROR(#REF!,0)*AW5","v":0},{"$f":"IFERROR(#REF!,0)*AW5","v":0},{"$f":"IFERROR(#REF!,0)*AW5","v":0},{"$f":"IFERROR(#REF!,0)*BA5","v":0},{"$f":"IFERROR(#REF!,0)*BA5","v":0},{"$f":"IFERROR(#REF!,0)*BA5","v":0},{"$f":"IFERROR(#REF!,0)*BA5","v":0},{"$f":"IFERROR(#REF!,0)*BE5","v":0},{"$f":"IFERROR(#REF!,0)*BE5","v":0},{"$f":"IFERROR(#REF!,0)*BE5","v":0},{"$f":"IFERROR(#REF!,0)*BE5","v":0},{"$f":"IFERROR(#REF!,0)*BI5","v":0},{"$f":"IFERROR(#REF!,0)*BI5","v":0},{"$f":"IFERROR(#REF!,0)*BI5","v":0},{"$f":"IFERROR(#REF!,0)*BI5","v":0},{"$f":"IFERROR(#REF!,0)*BM5","v":0},{"$f":"IFERROR(#REF!,0)*BM5","v":0},{"$f":"IFERROR(#REF!,0)*BM5","v":0},{"$f":"IFERROR(#REF!,0)*BM5","v":0},{"$f":"IFERROR(#REF!,0)*BQ5","v":0},{"$f":"IFERROR(#REF!,0)*BQ5","v":0},{"$f":"IFERROR(#REF!,0)*BQ5","v":0},{"$f":"IFERROR(#REF!,0)*BQ5","v":0},{"$f":"IFERROR(#REF!,0)*BU5","v":0},{"$f":"IFERROR(#REF!,0)*BU5","v":0},{"$f":"IFERROR(#REF!,0)*BU5","v":0},{"$f":"IFERROR(#REF!,0)*BU5","v":0},{"$f":"IFERROR(#REF!,0)*BY5","v":0},{"$f":"IFERROR(#REF!,0)*BY5","v":0},{"$f":"IFERROR(#REF!,0)*BY5","v":0},{"$f":"IFERROR(#REF!,0)*BY5","v":0},{"$f":"IFERROR(#REF!,0)*CC5","v":0},{"$f":"IFERROR(#REF!,0)*CC5","v":0},{"$f":"IFERROR(#REF!,0)*CC5","v":0},{"$f":"IFERROR(#REF!,0)*CC5","v":0},{"$f":"IFERROR(#REF!,0)*CG5","v":0},{"$f":"IFERROR(#REF!,0)*CG5","v":0},{"$f":"IFERROR(#REF!,0)*CG5","v":0},{"$f":"IFERROR(#REF!,0)*CG5","v":0},{"$f":"IFERROR(#REF!,0)*CK5","v":0},{"$f":"IFERROR(#REF!,0)*CK5","v":0},{"$f":"IFERROR(#REF!,0)*CK5","v":0},{"$f":"IFERROR(#REF!,0)*CK5","v":0},{"$f":"IFERROR(#REF!,0)*CO5","v":0},{"$f":"IFERROR(#REF!,0)*CO5","v":0},{"$f":"IFERROR(#REF!,0)*CO5","v":0},{"$f":"IFERROR(#REF!,0)*CO5","v":0},{"$f":"IFERROR(#REF!,0)*CS5","v":0},{"$f":"IFERROR(#REF!,0)*CS5","v":0},{"$f":"IFERROR(#REF!,0)*CS5","v":0},{"$f":"IFERROR(#REF!,0)*CS5","v":0},{"$f":"IFERROR(#REF!,0)*CW5","v":0},{"$f":"IFERROR(#REF!,0)*CW5","v":0},{"$f":"IFERROR(#REF!,0)*CW5","v":0},{"$f":"IFERROR(#REF!,0)*CW5","v":0},{"$f":"IFERROR(#REF!,0)*DA5","v":0},{"$f":"IFERROR(#REF!,0)*DA5","v":0},{"$f":"IFERROR(#REF!,0)*DA5","v":0},{"$f":"IFERROR(#REF!,0)*DA5","v":0},{"$f":"IFERROR(#REF!,0)*DE5","v":0},{"$f":"IFERROR(#REF!,0)*DE5","v":0},{"$f":"IFERROR(#REF!,0)*DE5","v":0},{"$f":"IFERROR(#REF!,0)*DE5","v":0},{"$f":"IFERROR(#REF!,0)*DI5","v":0},{"$f":"IFERROR(#REF!,0)*DI5","v":0},{"$f":"IFERROR(#REF!,0)*DI5","v":0},{"$f":"IFERROR(#REF!,0)*DI5","v":0},{"$f":"IFERROR(#REF!,0)*DM5","v":0},{"$f":"IFERROR(#REF!,0)*DM5","v":0},{"$f":"IFERROR(#REF!,0)*DM5","v":0},{"$f":"IFERROR(#REF!,0)*DM5","v":0},{"$f":"IFERROR(#REF!,0)*DQ5","v":0},{"$f":"IFERROR(#REF!,0)*DQ5","v":0},{"$f":"IFERROR(#REF!,0)*DQ5","v":0},{"$f":"IFERROR(#REF!,0)*DQ5","v":0},{"$f":"IFERROR(#REF!,0)*DU5","v":0},{"$f":"IFERROR(#REF!,0)*DU5","v":0},{"$f":"IFERROR(#REF!,0)*DU5","v":0},{"$f":"IFERROR(#REF!,0)*DU5","v":0},{"$f":"IFERROR(#REF!,0)*DY5","v":0},{"$f":"IFERROR(#REF!,0)*DY5","v":0},{"$f":"IFERROR(#REF!,0)*DY5","v":0},{"$f":"IFERROR(#REF!,0)*DY5","v":0},{"$f":"IFERROR(#REF!,0)*EC5","v":0},{"$f":"IFERROR(#REF!,0)*EC5","v":0},{"$f":"IFERROR(#REF!,0)*EC5","v":0},{"$f":"IFERROR(#REF!,0)*EC5","v":0},{"$f":"IFERROR(#REF!,0)*EG5","v":0},{"$f":"IFERROR(#REF!,0)*EG5","v":0},{"$f":"IFERROR(#REF!,0)*EG5","v":0},{"$f":"IFERROR(#REF!,0)*EG5","v":0},{"$f":"IFERROR(#REF!,0)*EK5","v":0},{"$f":"IFERROR(#REF!,0)*EK5","v":0},{"$f":"IFERROR(#REF!,0)*EK5","v":0},{"$f":"IFERROR(#REF!,0)*EK5","v":0},{"$f":"IFERROR(#REF!,0)*EO5","v":0},{"$f":"IFERROR(#REF!,0)*EO5","v":0},{"$f":"IFERROR(#REF!,0)*EO5","v":0},{"$f":"IFERROR(#REF!,0)*EO5","v":0},{"$f":"IFERROR(#REF!,0)*ES5","v":0},{"$f":"IFERROR(#REF!,0)*ES5","v":0},{"$f":"IFERROR(#REF!,0)*ES5","v":0},{"$f":"IFERROR(#REF!,0)*ES5","v":0},{"$f":"IFERROR(#REF!,0)*EW5","v":0},{"$f":"IFERROR(#REF!,0)*EW5","v":0},{"$f":"IFERROR(#REF!,0)*EW5","v":0},{"$f":"IFERROR(#REF!,0)*EW5","v":0},{"$f":"IFERROR(#REF!,0)*FA5","v":0},{"$f":"IFERROR(#REF!,0)*FA5","v":0},{"$f":"IFERROR(#REF!,0)*FA5","v":0},{"$f":"IFERROR(#REF!,0)*FA5","v":0},{"$f":"IFERROR(#REF!,0)*FE5","v":0},{"$f":"IFERROR(#REF!,0)*FE5","v":0},{"$f":"IFERROR(#REF!,0)*FE5","v":0},{"$f":"IFERROR(#REF!,0)*FE5","v":0},{"$f":"IFERROR(#REF!,0)*FI5","v":0},{"$f":"IFERROR(#REF!,0)*FI5","v":0},{"$f":"IFERROR(#REF!,0)*FI5","v":0},{"$f":"IFERROR(#REF!,0)*FI5","v":0},{"$f":"IFERROR(#REF!,0)*FM5","v":0},{"$f":"IFERROR(#REF!,0)*FM5","v":0},{"$f":"IFERROR(#REF!,0)*FM5","v":0},{"$f":"IFERROR(#REF!,0)*FM5","v":0},{"$f":"IFERROR(#REF!,0)*FQ5","v":0},{"$f":"IFERROR(#REF!,0)*FQ5","v":0},{"$f":"IFERROR(#REF!,0)*FQ5","v":0},{"$f":"IFERROR(#REF!,0)*FQ5","v":0},{"$f":"IFERROR(#REF!,0)*FU5","v":0},{"$f":"IFERROR(#REF!,0)*FU5","v":0},{"$f":"IFERROR(#REF!,0)*FU5","v":0},{"$f":"IFERROR(#REF!,0)*FU5","v":0},{"$f":"IFERROR(#REF!,0)*FY5","v":0},{"$f":"IFERROR(#REF!,0)*FY5","v":0},{"$f":"IFERROR(#REF!,0)*FY5","v":0},{"$f":"IFERROR(#REF!,0)*FY5","v":0},{"$f":"IFERROR(#REF!,0)*GC5","v":0},{"$f":"IFERROR(#REF!,0)*GC5","v":0},{"$f":"IFERROR(#REF!,0)*GC5","v":0},{"$f":"IFERROR(#REF!,0)*GC5","v":0},{"$f":"IFERROR(#REF!,0)*GG5","v":0},{"$f":"IFERROR(#REF!,0)*GG5","v":0},{"$f":"IFERROR(#REF!,0)*GG5","v":0},{"$f":"IFERROR(#REF!,0)*GG5","v":0},{"$f":"IFERROR(#REF!,0)*GK5","v":0},{"$f":"IFERROR(#REF!,0)*GK5","v":0},{"$f":"IFERROR(#REF!,0)*GK5","v":0},{"$f":"IFERROR(#REF!,0)*GK5","v":0},{"$f":"IFERROR(#REF!,0)*GO5","v":0},{"$f":"IFERROR(#REF!,0)*GO5","v":0},{"$f":"IFERROR(#REF!,0)*GO5","v":0},{"$f":"IFERROR(#REF!,0)*GO5","v":0},{"$f":"IFERROR(#REF!,0)*GS5","v":0},{"$f":"IFERROR(#REF!,0)*GS5","v":0},{"$f":"IFERROR(#REF!,0)*GS5","v":0},{"$f":"IFERROR(#REF!,0)*GS5","v":0},{"v":0,"d":"0.00"},{"v":0,"d":"0.00"},{"v":0,"d":"0.00"},{"v":0,"d":"0.00"}]
[null,{"$f":"#REF!","v":{"$error":"#REF!"}},{"$f":"#REF!","v":{"$error":"#REF!"}},{"$f":"IFERROR(#REF!,0)*E5","v":0},{"$f":"IFERROR(#REF!,0)*E5","v":0},{"$f":"IFERROR(#REF!,0)*E5","v":0},{"$f":"IFERROR(#REF!,0)*E5","v":0},{"$f":"IFERROR(#REF!,0)*I5","v":0},{"$f":"IFERROR(#REF!,0)*I5","v":0},{"$f":"IFERROR(#REF!,0)*I5","v":0},{"$f":"IFERROR(#REF!,0)*I5","v":0},{"$f":"IFERROR(#REF!,0)*M5","v":0},{"$f":"IFERROR(#REF!,0)*M5","v":0},{"$f":"IFERROR(#REF!,0)*M5","v":0},{"$f":"IFERROR(#REF!,0)*M5","v":0},{"$f":"IFERROR(#REF!,0)*Q5","v":0},{"$f":"IFERROR(#REF!,0)*Q5","v":0},{"$f":"IFERROR(#REF!,0)*Q5","v":0},{"$f":"IFERROR(#REF!,0)*Q5","v":0},{"$f":"IFERROR(#REF!,0)*U5","v":0},{"$f":"IFERROR(#REF!,0)*U5","v":0},{"$f":"IFERROR(#REF!,0)*U5","v":0},{"$f":"IFERROR(#REF!,0)*U5","v":0},{"$f":"IFERROR(#REF!,0)*Y5","v":0},{"$f":"IFERROR(#REF!,0)*Y5","v":0},{"$f":"IFERROR(#REF!,0)*Y5","v":0},{"$f":"IFERROR(#REF!,0)*Y5","v":0},{"$f":"IFERROR(#REF!,0)*AC5","v":0},{"$f":"IFERROR(#REF!,0)*AC5","v":0},{"$f":"IFERROR(#REF!,0)*AC5","v":0},{"$f":"IFERROR(#REF!,0)*AC5","v":0},{"$f":"IFERROR(#REF!,0)*AG5","v":0},{"$f":"IFERROR(#REF!,0)*AG5","v":0},{"$f":"IFERROR(#REF!,0)*AG5","v":0},{"$f":"IFERROR(#REF!,0)*AG5","v":0},{"$f":"IFERROR(#REF!,0)*AK5","v":0},{"$f":"IFERROR(#REF!,0)*AK5","v":0},{"$f":"IFERROR(#REF!,0)*AK5","v":0},{"$f":"IFERROR(#REF!,0)*AK5","v":0},{"$f":"IFERROR(#REF!,0)*AO5","v":0},{"$f":"IFERROR(#REF!,0)*AO5","v":0},{"$f":"IFERROR(#REF!,0)*AO5","v":0},{"$f":"IFERROR(#REF!,0)*AO5","v":0},{"$f":"IFERROR(#REF!,0)*AS5","v":0},{"$f":"IFERROR(#REF!,0)*AS5","v":0},{"$f":"IFERROR(#REF!,0)*AS5","v":0},{"$f":"IFERROR(#REF!,0)*AS5","v":0},{"$f":"IFERROR(#REF!,0)*AW5","v":0},{"$f":"IFERROR(#REF!,0)*AW5","v":0},{"$f":"IFERROR(#REF!,0)*AW5","v":0},{"$f":"IFERROR(#REF!,0)*AW5","v":0},{"$f":"IFERROR(#REF!,0)*BA5","v":0},{"$f":"IFERROR(#REF!,0)*BA5","v":0},{"$f":"IFERROR(#REF!,0)*BA5","v":0},{"$f":"IFERROR(#REF!,0)*BA5","v":0},{"$f":"IFERROR(#REF!,0)*BE5","v":0},{"$f":"IFERROR(#REF!,0)*BE5","v":0},{"$f":"IFERROR(#REF!,0)*BE5","v":0},{"$f":"IFERROR(#REF!,0)*BE5","v":0},{"$f":"IFERROR(#REF!,0)*BI5","v":0},{"$f":"IFERROR(#REF!,0)*BI5","v":0},{"$f":"IFERROR(#REF!,0)*BI5","v":0},{"$f":"IFERROR(#REF!,0)*BI5","v":0},{"$f":"IFERROR(#REF!,0)*BM5","v":0},{"$f":"IFERROR(#REF!,0)*BM5","v":0},{"$f":"IFERROR(#REF!,0)*BM5","v":0},{"$f":"IFERROR(#REF!,0)*BM5","v":0},{"$f":"IFERROR(#REF!,0)*BQ5","v":0},{"$f":"IFERROR(#REF!,0)*BQ5","v":0},{"$f":"IFERROR(#REF!,0)*BQ5","v":0},{"$f":"IFERROR(#REF!,0)*BQ5","v":0},{"$f":"IFERROR(#REF!,0)*BU5","v":0},{"$f":"IFERROR(#REF!,0)*BU5","v":0},{"$f":"IFERROR(#REF!,0)*BU5","v":0},{"$f":"IFERROR(#REF!,0)*BU5","v":0},{"$f":"IFERROR(#REF!,0)*BY5","v":0},{"$f":"IFERROR(#REF!,0)*BY5","v":0},{"$f":"IFERROR(#REF!,0)*BY5","v":0},{"$f":"IFERROR(#REF!,0)*BY5","v":0},{"$f":"IFERROR(#REF!,0)*CC5","v":0},{"$f":"IFERROR(#REF!,0)*CC5","v":0},{"$f":"IFERROR(#REF!,0)*CC5","v":0},{"$f":"IFERROR(#REF!,0)*CC5","v":0},{"$f":"IFERROR(#REF!,0)*CG5","v":0},{"$f":"IFERROR(#REF!,0)*CG5","v":0},{"$f":"IFERROR(#REF!,0)*CG5","v":0},{"$f":"IFERROR(#REF!,0)*CG5","v":0},{"$f":"IFERROR(#REF!,0)*CK5","v":0},{"$f":"IFERROR(#REF!,0)*CK5","v":0},{"$f":"IFERROR(#REF!,0)*CK5","v":0},{"$f":"IFERROR(#REF!,0)*CK5","v":0},{"$f":"IFERROR(#REF!,0)*CO5","v":0},{"$f":"IFERROR(#REF!,0)*CO5","v":0},{"$f":"IFERROR(#REF!,0)*CO5","v":0},{"$f":"IFERROR(#REF!,0)*CO5","v":0},{"$f":"IFERROR(#REF!,0)*CS5","v":0},{"$f":"IFERROR(#REF!,0)*CS5","v":0},{"$f":"IFERROR(#REF!,0)*CS5","v":0},{"$f":"IFERROR(#REF!,0)*CS5","v":0},{"$f":"IFERROR(#REF!,0)*CW5","v":0},{"$f":"IFERROR(#REF!,0)*CW5","v":0},{"$f":"IFERROR(#REF!,0)*CW5","v":0},{"$f":"IFERROR(#REF!,0)*CW5","v":0},{"$f":"IFERROR(#REF!,0)*DA5","v":0},{"$f":"IFERROR(#REF!,0)*DA5","v":0},{"$f":"IFERROR(#REF!,0)*DA5","v":0},{"$f":"IFERROR(#REF!,0)*DA5","v":0},{"$f":"IFERROR(#REF!,0)*DE5","v":0},{"$f":"IFERROR(#REF!,0)*DE5","v":0},{"$f":"IFERROR(#REF!,0)*DE5","v":0},{"$f":"IFERROR(#REF!,0)*DE5","v":0},{"$f":"IFERROR(#REF!,0)*DI5","v":0},{"$f":"IFERROR(#REF!,0)*DI5","v":0},{"$f":"IFERROR(#REF!,0)*DI5","v":0},{"$f":"IFERROR(#REF!,0)*DI5","v":0},{"$f":"IFERROR(#REF!,0)*DM5","v":0},{"$f":"IFERROR(#REF!,0)*DM5","v":0},{"$f":"IFERROR(#REF!,0)*DM5","v":0},{"$f":"IFERROR(#REF!,0)*DM5","v":0},{"$f":"IFERROR(#REF!,0)*DQ5","v":0},{"$f":"IFERROR(#REF!,0)*DQ5","v":0},{"$f":"IFERROR(#REF!,0)*DQ5","v":0},{"$f":"IFERROR(#REF!,0)*DQ5","v":0},{"$f":"IFERROR(#REF!,0)*DU5","v":0},{"$f":"IFERROR(#REF!,0)*DU5","v":0},{"$f":"IFERROR(#REF!,0)*DU5","v":0},{"$f":"IFERROR(#REF!,0)*DU5","v":0},{"$f":"IFERROR(#REF!,0)*DY5","v":0},{"$f":"IFERROR(#REF!,0)*DY5","v":0},{"$f":"IFERROR(#REF!,0)*DY5","v":0},{"$f":"IFERROR(#REF!,0)*DY5","v":0},{"$f":"IFERROR(#REF!,0)*EC5","v":0},{"$f":"IFERROR(#REF!,0)*EC5","v":0},{"$f":"IFERROR(#REF!,0)*EC5","v":0},{"$f":"IFERROR(#REF!,0)*EC5","v":0},{"$f":"IFERROR(#REF!,0)*EG5","v":0},{"$f":"IFERROR(#REF!,0)*EG5","v":0},{"$f":"IFERROR(#REF!,0)*EG5","v":0},{"$f":"IFERROR(#REF!,0)*EG5","v":0},{"$f":"IFERROR(#REF!,0)*EK5","v":0},{"$f":"IFERROR(#REF!,0)*EK5","v":0},{"$f":"IFERROR(#REF!,0)*EK5","v":0},{"$f":"IFERROR(#REF!,0)*EK5","v":0},{"$f":"IFERROR(#REF!,0)*EO5","v":0},{"$f":"IFERROR(#REF!,0)*EO5","v":0},{"$f":"IFERROR(#REF!,0)*EO5","v":0},{"$f":"IFERROR(#REF!,0)*EO5","v":0},{"$f":"IFERROR(#REF!,0)*ES5","v":0},{"$f":"IFERROR(#REF!,0)*ES5","v":0},{"$f":"IFERROR(#REF!,0)*ES5","v":0},{"$f":"IFERROR(#REF!,0)*ES5","v":0},{"$f":"IFERROR(#REF!,0)*EW5","v":0},{"$f":"IFERROR(#REF!,0)*EW5","v":0},{"$f":"IFERROR(#REF!,0)*EW5","v":0},{"$f":"IFERROR(#REF!,0)*EW5","v":0},{"$f":"IFERROR(#REF!,0)*FA5","v":0},{"$f":"IFERROR(#REF!,0)*FA5","v":0},{"$f":"IFERROR(#REF!,0)*FA5","v":0},{"$f":"IFERROR(#REF!,0)*FA5","v":0},{"$f":"IFERROR(#REF!,0)*FE5","v":0},{"$f":"IFERROR(#REF!,0)*FE5","v":0},{"$f":"IFERROR(#REF!,0)*FE5","v":0},{"$f":"IFERROR(#REF!,0)*FE5","v":0},{"$f":"IFERROR(#REF!,0)*FI5","v":0},{"$f":"IFERROR(#REF!,0)*FI5","v":0},{"$f":"IFERROR(#REF!,0)*FI5","v":0},{"$f":"IFERROR(#REF!,0)*FI5","v":0},{"$f":"IFERROR(#REF!,0)*FM5","v":0},{"$f":"IFERROR(#REF!,0)*FM5","v":0},{"$f":"IFERROR(#REF!,0)*FM5","v":0},{"$f":"IFERROR(#REF!,0)*FM5","v":0},{"$f":"IFERROR(#REF!,0)*FQ5","v":0},{"$f":"IFERROR(#REF!,0)*FQ5","v":0},{"$f":"IFERROR(#REF!,0)*FQ5","v":0},{"$f":"IFERROR(#REF!,0)*FQ5","v":0},{"$f":"IFERROR(#REF!,0)*FU5","v":0},{"$f":"IFERROR(#REF!,0)*FU5","v":0},{"$f":"IFERROR(#REF!,0)*FU5","v":0},{"$f":"IFERROR(#REF!,0)*FU5","v":0},{"$f":"IFERROR(#REF!,0)*FY5","v":0},{"$f":"IFERROR(#REF!,0)*FY5","v":0},{"$f":"IFERROR(#REF!,0)*FY5","v":0},{"$f":"IFERROR(#REF!,0)*FY5","v":0},{"$f":"IFERROR(#REF!,0)*GC5","v":0},{"$f":"IFERROR(#REF!,0)*GC5","v":0},{"$f":"IFERROR(#REF!,0)*GC5","v":0},{"$f":"IFERROR(#REF!,0)*GC5","v":0},{"$f":"IFERROR(#REF!,0)*GG5","v":0},{"$f":"IFERROR(#REF!,0)*GG5","v":0},{"$f":"IFERROR(#REF!,0)*GG5","v":0},{"$f":"IFERROR(#REF!,0)*GG5","v":0},{"$f":"IFERROR(#REF!,0)*GK5","v":0},{"$f":"IFERROR(#REF!,0)*GK5","v":0},{"$f":"IFERROR(#REF!,0)*GK5","v":0},{"$f":"IFERROR(#REF!,0)*GK5","v":0},{"$f":"IFERROR(#REF!,0)*GO5","v":0},{"$f":"IFERROR(#REF!,0)*GO5","v":0},{"$f":"IFERROR(#REF!,0)*GO5","v":0},{"$f":"IFERROR(#REF!,0)*GO5","v":0},{"$f":"IFERROR(#REF!,0)*GS5","v":0},{"$f":"IFERROR(#REF!,0)*GS5","v":0},{"$f":"IFERROR(#REF!,0)*GS5","v":0},{"$f":"IFERROR(#REF!,0)*GS5","v":0},{"v":0,"d":"0.00"},{"v":0,"d":"0.00"},{"v":0,"d":"0.00"},{"v":0,"d":"0.00"}]
[null,{"$f":"#REF!","v":{"$error":"#REF!"}},{"$f":"#REF!","v":{"$error":"#REF!"}},{"$f":"IFERROR(#REF!,0)*E5","v":0},{"$f":"IFERROR(#REF!,0)*E5","v":0},{"$f":"IFERROR(#REF!,0)*E5","v":0},{"$f":"IFERROR(#REF!,0)*E5","v":0},{"$f":"IFERROR(#REF!,0)*I5","v":0},{"$f":"IFERROR(#REF!,0)*I5","v":0},{"$f":"IFERROR(#REF!,0)*I5","v":0},{"$f":"IFERROR(#REF!,0)*I5","v":0},{"$f":"IFERROR(#REF!,0)*M5","v":0},{"$f":"IFERROR(#REF!,0)*M5","v":0},{"$f":"IFERROR(#REF!,0)*M5","v":0},{"$f":"IFERROR(#REF!,0)*M5","v":0},{"$f":"IFERROR(#REF!,0)*Q5","v":0},{"$f":"IFERROR(#REF!,0)*Q5","v":0},{"$f":"IFERROR(#REF!,0)*Q5","v":0},{"$f":"IFERROR(#REF!,0)*Q5","v":0},{"$f":"IFERROR(#REF!,0)*U5","v":0},{"$f":"IFERROR(#REF!,0)*U5","v":0},{"$f":"IFERROR(#REF!,0)*U5","v":0},{"$f":"IFERROR(#REF!,0)*U5","v":0},{"$f":"IFERROR(#REF!,0)*Y5","v":0},{"$f":"IFERROR(#REF!,0)*Y5","v":0},{"$f":"IFERROR(#REF!,0)*Y5","v":0},{"$f":"IFERROR(#REF!,0)*Y5","v":0},{"$f":"IFERROR(#REF!,0)*AC5","v":0},{"$f":"IFERROR(#REF!,0)*AC5","v":0},{"$f":"IFERROR(#REF!,0)*AC5","v":0},{"$f":"IFERROR(#REF!,0)*AC5","v":0},{"$f":"IFERROR(#REF!,0)*AG5","v":0},{"$f":"IFERROR(#REF!,0)*AG5","v":0},{"$f":"IFERROR(#REF!,0)*AG5","v":0},{"$f":"IFERROR(#REF!,0)*AG5","v":0},{"$f":"IFERROR(#REF!,0)*AK5","v":0},{"$f":"IFERROR(#REF!,0)*AK5","v":0},{"$f":"IFERROR(#REF!,0)*AK5","v":0},{"$f":"IFERROR(#REF!,0)*AK5","v":0},{"$f":"IFERROR(#REF!,0)*AO5","v":0},{"$f":"IFERROR(#REF!,0)*AO5","v":0},{"$f":"IFERROR(#REF!,0)*AO5","v":0},{"$f":"IFERROR(#REF!,0)*AO5","v":0},{"$f":"IFERROR(#REF!,0)*AS5","v":0},{"$f":"IFERROR(#REF!,0)*AS5","v":0},{"$f":"IFERROR(#REF!,0)*AS5","v":0},{"$f":"IFERROR(#REF!,0)*AS5","v":0},{"$f":"IFERROR(#REF!,0)*AW5","v":0},{"$f":"IFERROR(#REF!,0)*AW5","v":0},{"$f":"IFERROR(#REF!,0)*AW5","v":0},{"$f":"IFERROR(#REF!,0)*AW5","v":0},{"$f":"IFERROR(#REF!,0)*BA5","v":0},{"$f":"IFERROR(#REF!,0)*BA5","v":0},{"$f":"IFERROR(#REF!,0)*BA5","v":0},{"$f":"IFERROR(#REF!,0)*BA5","v":0},{"$f":"IFERROR(#REF!,0)*BE5","v":0},{"$f":"IFERROR(#REF!,0)*BE5","v":0},{"$f":"IFERROR(#REF!,0)*BE5","v":0},{"$f":"IFERROR(#REF!,0)*BE5","v":0},{"$f":"IFERROR(#REF!,0)*BI5","v":0},{"$f":"IFERROR(#REF!,0)*BI5","v":0},{"$f":"IFERROR(#REF!,0)*BI5","v":0},{"$f":"IFERROR(#REF!,0)*BI5","v":0},{"$f":"IFERROR(#REF!,0)*BM5","v":0},{"$f":"IFERROR(#REF!,0)*BM5","v":0},{"$f":"IFERROR(#REF!,0)*BM5","v":0},{"$f":"IFERROR(#REF!,0)*BM5","v":0},{"$f":"IFERROR(#REF!,0)*BQ5","v":0},{"$f":"IFERROR(#REF!,0)*BQ5","v":0},{"$f":"IFERROR(#REF!,0)*BQ5","v":0},{"$f":"IFERROR(#REF!,0)*BQ5","v":0},{"$f":"IFERROR(#REF!,0)*BU5","v":0},{"$f":"IFERROR(#REF!,0)*BU5","v":0},{"$f":"IFERROR(#REF!,0)*BU5","v":0},{"$f":"IFERROR(#REF!,0)*BU5","v":0},{"$f":"IFERROR(#REF!,0)*BY5","v":0},{"$f":"IFERROR(#REF!,0)*BY5","v":0},{"$f":"IFERROR(#REF!,0)*BY5","v":0},{"$f":"IFERROR(#REF!,0)*BY5","v":0},{"$f":"IFERROR(#REF!,0)*CC5","v":0},{"$f":"IFERROR(#REF!,0)*CC5","v":0},{"$f":"IFERROR(#REF!,0)*CC5","v":0},{"$f":"IFERROR(#REF!,0)*CC5","v":0},{"$f":"IFERROR(#REF!,0)*CG5","v":0},{"$f":"IFERROR(#REF!,0)*CG5","v":0},{"$f":"IFERROR(#REF!,0)*CG5","v":0},{"$f":"IFERROR(#REF!,0)*CG5","v":0},{"$f":"IFERROR(#REF!,0)*CK5","v":0},{"$f":"IFERROR(#REF!,0)*CK5","v":0},{"$f":"IFERROR(#REF!,0)*CK5","v":0},{"$f":"IFERROR(#REF!,0)*CK5","v":0},{"$f":"IFERROR(#REF!,0)*CO5","v":0},{"$f":"IFERROR(#REF!,0)*CO5","v":0},{"$f":"IFERROR(#REF!,0)*CO5","v":0},{"$f":"IFERROR(#REF!,0)*CO5","v":0},{"$f":"IFERROR(#REF!,0)*CS5","v":0},{"$f":"IFERROR(#REF!,0)*CS5","v":0},{"$f":"IFERROR(#REF!,0)*CS5","v":0},{"$f":"IFERROR(#REF!,0)*CS5","v":0},{"$f":"IFERROR(#REF!,0)*CW5","v":0},{"$f":"IFERROR(#REF!,0)*CW5","v":0},{"$f":"IFERROR(#REF!,0)*CW5","v":0},{"$f":"IFERROR(#REF!,0)*CW5","v":0},{"$f":"IFERROR(#REF!,0)*DA5","v":0},{"$f":"IFERROR(#REF!,0)*DA5","v":0},{"$f":"IFERROR(#REF!,0)*DA5","v":0},{"$f":"IFERROR(#REF!,0)*DA5","v":0},{"$f":"IFERROR(#REF!,0)*DE5","v":0},{"$f":"IFERROR(#REF!,0)*DE5","v":0},{"$f":"IFERROR(#REF!,0)*DE5","v":0},{"$f":"IFERROR(#REF!,0)*DE5","v":0},{"$f":"IFERROR(#REF!,0)*DI5","v":0},{"$f":"IFERROR(#REF!,0)*DI5","v":0},{"$f":"IFERROR(#REF!,0)*DI5","v":0},{"$f":"IFERROR(#REF!,0)*DI5","v":0},{"$f":"IFERROR(#REF!,0)*DM5","v":0},{"$f":"IFERROR(#REF!,0)*DM5","v":0},{"$f":"IFERROR(#REF!,0)*DM5","v":0},{"$f":"IFERROR(#REF!,0)*DM5","v":0},{"$f":"IFERROR(#REF!,0)*DQ5","v":0},{"$f":"IFERROR(#REF!,0)*DQ5","v":0},{"$f":"IFERROR(#REF!,0)*DQ5","v":0},{"$f":"IFERROR(#REF!,0)*DQ5","v":0},{"$f":"IFERROR(#REF!,0)*DU5","v":0},{"$f":"IFERROR(#REF!,0)*DU5","v":0},{"$f":"IFERROR(#REF!,0)*DU5","v":0},{"$f":"IFERROR(#REF!,0)*DU5","v":0},{"$f":"IFERROR(#REF!,0)*DY5","v":0},{"$f":"IFERROR(#REF!,0)*DY5","v":0},{"$f":"IFERROR(#REF!,0)*DY5","v":0},{"$f":"IFERROR(#REF!,0)*DY5","v":0},{"$f":"IFERROR(#REF!,0)*EC5","v":0},{"$f":"IFERROR(#REF!,0)*EC5","v":0},{"$f":"IFERROR(#REF!,0)*EC5","v":0},{"$f":"IFERROR(#REF!,0)*EC5","v":0},{"$f":"IFERROR(#REF!,0)*EG5","v":0},{"$f":"IFERROR(#REF!,0)*EG5","v":0},{"$f":"IFERROR(#REF!,0)*EG5","v":0},{"$f":"IFERROR(#REF!,0)*EG5","v":0},{"$f":"IFERROR(#REF!,0)*EK5","v":0},{"$f":"IFERROR(#REF!,0)*EK5","v":0},{"$f":"IFERROR(#REF!,0)*EK5","v":0},{"$f":"IFERROR(#REF!,0)*EK5","v":0},{"$f":"IFERROR(#REF!,0)*EO5","v":0},{"$f":"IFERROR(#REF!,0)*EO5","v":0},{"$f":"IFERROR(#REF!,0)*EO5","v":0},{"$f":"IFERROR(#REF!,0)*EO5","v":0},{"$f":"IFERROR(#REF!,0)*ES5","v":0},{"$f":"IFERROR(#REF!,0)*ES5","v":0},{"$f":"IFERROR(#REF!,0)*ES5","v":0},{"$f":"IFERROR(#REF!,0)*ES5","v":0},{"$f":"IFERROR(#REF!,0)*EW5","v":0},{"$f":"IFERROR(#REF!,0)*EW5","v":0},{"$f":"IFERROR(#REF!,0)*EW5","v":0},{"$f":"IFERROR(#REF!,0)*EW5","v":0},{"$f":"IFERROR(#REF!,0)*FA5","v":0},{"$f":"IFERROR(#REF!,0)*FA5","v":0},{"$f":"IFERROR(#REF!,0)*FA5","v":0},{"$f":"IFERROR(#REF!,0)*FA5","v":0},{"$f":"IFERROR(#REF!,0)*FE5","v":0},{"$f":"IFERROR(#REF!,0)*FE5","v":0},{"$f":"IFERROR(#REF!,0)*FE5","v":0},{"$f":"IFERROR(#REF!,0)*FE5","v":0},{"$f":"IFERROR(#REF!,0)*FI5","v":0},{"$f":"IFERROR(#REF!,0)*FI5","v":0},{"$f":"IFERROR(#REF!,0)*FI5","v":0},{"$f":"IFERROR(#REF!,0)*FI5","v":0},{"$f":"IFERROR(#REF!,0)*FM5","v":0},{"$f":"IFERROR(#REF!,0)*FM5","v":0},{"$f":"IFERROR(#REF!,0)*FM5","v":0},{"$f":"IFERROR(#REF!,0)*FM5","v":0},{"$f":"IFERROR(#REF!,0)*FQ5","v":0},{"$f":"IFERROR(#REF!,0)*FQ5","v":0},{"$f":"IFERROR(#REF!,0)*FQ5","v":0},{"$f":"IFERROR(#REF!,0)*FQ5","v":0},{"$f":"IFERROR(#REF!,0)*FU5","v":0},{"$f":"IFERROR(#REF!,0)*FU5","v":0},{"$f":"IFERROR(#REF!,0)*FU5","v":0},{"$f":"IFERROR(#REF!,0)*FU5","v":0},{"$f":"IFERROR(#REF!,0)*FY5","v":0},{"$f":"IFERROR(#REF!,0)*FY5","v":0},{"$f":"IFERROR(#REF!,0)*FY5","v":0},{"$f":"IFERROR(#REF!,0)*FY5","v":0},{"$f":"IFERROR(#REF!,0)*GC5","v":0},{"$f":"IFERROR(#REF!,0)*GC5","v":0},{"$f":"IFERROR(#REF!,0)*GC5","v":0},{"$f":"IFERROR(#REF!,0)*GC5","v":0},{"$f":"IFERROR(#REF!,0)*GG5","v":0},{"$f":"IFERROR(#REF!,0)*GG5","v":0},{"$f":"IFERROR(#REF!,0)*GG5","v":0},{"$f":"IFERROR(#REF!,0)*GG5","v":0},{"$f":"IFERROR(#REF!,0)*GK5","v":0},{"$f":"IFERROR(#REF!,0)*GK5","v":0},{"$f":"IFERROR(#REF!,0)*GK5","v":0},{"$f":"IFERROR(#REF!,0)*GK5","v":0},{"$f":"IFERROR(#REF!,0)*GO5","v":0},{"$f":"IFERROR(#REF!,0)*GO5","v":0},{"$f":"IFERROR(#REF!,0)*GO5","v":0},{"$f":"IFERROR(#REF!,0)*GO5","v":0},{"$f":"IFERROR(#REF!,0)*GS5","v":0},{"$f":"IFERROR(#REF!,0)*GS5","v":0},{"$f":"IFERROR(#REF!,0)*GS5","v":0},{"$f":"IFERROR(#REF!,0)*GS5","v":0},{"v":0,"d":"0.00"},{"v":0,"d":"0.00"},{"v":0,"d":"0.00"},{"v":0,"d":"0.00"}]
[null,{"$f":"#REF!","v":{"$error":"#REF!"}},{"$f":"#REF!","v":{"$error":"#REF!"}},{"$f":"IFERROR(#REF!,0)*E5","v":0},{"$f":"IFERROR(#REF!,0)*E5","v":0},{"$f":"IFERROR(#REF!,0)*E5","v":0},{"$f":"IFERROR(#REF!,0)*E5","v":0},{"$f":"IFERROR(#REF!,0)*I5","v":0},{"$f":"IFERROR(#REF!,0)*I5","v":0},{"$f":"IFERROR(#REF!,0)*I5","v":0},{"$f":"IFERROR(#REF!,0)*I5","v":0},{"$f":"IFERROR(#REF!,0)*M5","v":0},{"$f":"IFERROR(#REF!,0)*M5","v":0},{"$f":"IFERROR(#REF!,0)*M5","v":0},{"$f":"IFERROR(#REF!,0)*M5","v":0},{"$f":"IFERROR(#REF!,0)*Q5","v":0},{"$f":"IFERROR(#REF!,0)*Q5","v":0},{"$f":"IFERROR(#REF!,0)*Q5","v":0},{"$f":"IFERROR(#REF!,0)*Q5","v":0},{"$f":"IFERROR(#REF!,0)*U5","v":0},{"$f":"IFERROR(#REF!,0)*U5","v":0},{"$f":"IFERROR(#REF!,0)*U5","v":0},{"$f":"IFERROR(#REF!,0)*U5","v":0},{"$f":"IFERROR(#REF!,0)*Y5","v":0},{"$f":"IFERROR(#REF!,0)*Y5","v":0},{"$f":"IFERROR(#REF!,0)*Y5","v":0},{"$f":"IFERROR(#REF!,0)*Y5","v":0},{"$f":"IFERROR(#REF!,0)*AC5","v":0},{"$f":"IFERROR(#REF!,0)*AC5","v":0},{"$f":"IFERROR(#REF!,0)*AC5","v":0},{"$f":"IFERROR(#REF!,0)*AC5","v":0},{"$f":"IFERROR(#REF!,0)*AG5","v":0},{"$f":"IFERROR(#REF!,0)*AG5","v":0},{"$f":"IFERROR(#REF!,0)*AG5","v":0},{"$f":"IFERROR(#REF!,0)*AG5","v":0},{"$f":"IFERROR(#REF!,0)*AK5","v":0},{"$f":"IFERROR(#REF!,0)*AK5","v":0},{"$f":"IFERROR(#REF!,0)*AK5","v":0},{"$f":"IFERROR(#REF!,0)*AK5","v":0},{"$f":"IFERROR(#REF!,0)*AO5","v":0},{"$f":"IFERROR(#REF!,0)*AO5","v":0},{"$f":"IFERROR(#REF!,0)*AO5","v":0},{"$f":"IFERROR(#REF!,0)*AO5","v":0},{"$f":"IFERROR(#REF!,0)*AS5","v":0},{"$f":"IFERROR(#REF!,0)*AS5","v":0},{"$f":"IFERROR(#REF!,0)*AS5","v":0},{"$f":"IFERROR(#REF!,0)*AS5","v":0},{"$f":"IFERROR(#REF!,0)*AW5","v":0},{"$f":"IFERROR(#REF!,0)*AW5","v":0},{"$f":"IFERROR(#REF!,0)*AW5","v":0},{"$f":"IFERROR(#REF!,0)*AW5","v":0},{"$f":"IFERROR(#REF!,0)*BA5","v":0},{"$f":"IFERROR(#REF!,0)*BA5","v":0},{"$f":"IFERROR(#REF!,0)*BA5","v":0},{"$f":"IFERROR(#REF!,0)*BA5","v":0},{"$f":"IFERROR(#REF!,0)*BE5","v":0},{"$f":"IFERROR(#REF!,0)*BE5","v":0},{"$f":"IFERROR(#REF!,0)*BE5","v":0},{"$f":"IFERROR(#REF!,0)*BE5","v":0},{"$f":"IFERROR(#REF!,0)*BI5","v":0},{"$f":"IFERROR(#REF!,0)*BI5","v":0},{"$f":"IFERROR(#REF!,0)*BI5","v":0},{"$f":"IFERROR(#REF!,0)*BI5","v":0},{"$f":"IFERROR(#REF!,0)*BM5","v":0},{"$f":"IFERROR(#REF!,0)*BM5","v":0},{"$f":"IFERROR(#REF!,0)*BM5","v":0},{"$f":"IFERROR(#REF!,0)*BM5","v":0},{"$f":"IFERROR(#REF!,0)*BQ5","v":0},{"$f":"IFERROR(#REF!,0)*BQ5","v":0},{"$f":"IFERROR(#REF!,0)*BQ5","v":0},{"$f":"IFERROR(#REF!,0)*BQ5","v":0},{"$f":"IFERROR(#REF!,0)*BU5","v":0},{"$f":"IFERROR(#REF!,0)*BU5","v":0},{"$f":"IFERROR(#REF!,0)*BU5","v":0},{"$f":"IFERROR(#REF!,0)*BU5","v":0},{"$f":"IFERROR(#REF!,0)*BY5","v":0},{"$f":"IFERROR(#REF!,0)*BY5","v":0},{"$f":"IFERROR(#REF!,0)*BY5","v":0},{"$f":"IFERROR(#REF!,0)*BY5","v":0},{"$f":"IFERROR(#REF!,0)*CC5","v":0},{"$f":"IFERROR(#REF!,0)*CC5","v":0},{"$f":"IFERROR(#REF!,0)*CC5","v":0},{"$f":"IFERROR(#REF!,0)*CC5","v":0},{"$f":"IFERROR(#REF!,0)*CG5","v":0},{"$f":"IFERROR(#REF!,0)*CG5","v":0},{"$f":"IFERROR(#REF!,0)*CG5","v":0},{"$f":"IFERROR(#REF!,0)*CG5","v":0},{"$f":"IFERROR(#REF!,0)*CK5","v":0},{"$f":"IFERROR(#REF!,0)*CK5","v":0},{"$f":"IFERROR(#REF!,0)*CK5","v":0},{"$f":"IFERROR(#REF!,0)*CK5","v":0},{"$f":"IFERROR(#REF!,0)*CO5","v":0},{"$f":"IFERROR(#REF!,0)*CO5","v":0},{"$f":"IFERROR(#REF!,0)*CO5","v":0},{"$f":"IFERROR(#REF!,0)*CO5","v":0},{"$f":"IFERROR(#REF!,0)*CS5","v":0},{"$f":"IFERROR(#REF!,0)*CS5","v":0},{"$f":"IFERROR(#REF!,0)*CS5","v":0},{"$f":"IFERROR(#REF!,0)*CS5","v":0},{"$f":"IFERROR(#REF!,0)*CW5","v":0},{"$f":"IFERROR(#REF!,0)*CW5","v":0},{"$f":"IFERROR(#REF!,0)*CW5","v":0},{"$f":"IFERROR(#REF!,0)*CW5","v":0},{"$f":"IFERROR(#REF!,0)*DA5","v":0},{"$f":"IFERROR(#REF!,0)*DA5","v":0},{"$f":"IFERROR(#REF!,0)*DA5","v":0},{"$f":"IFERROR(#REF!,0)*DA5","v":0},{"$f":"IFERROR(#REF!,0)*DE5","v":0},{"$f":"IFERROR(#REF!,0)*DE5","v":0},{"$f":"IFERROR(#REF!,0)*DE5","v":0},{"$f":"IFERROR(#REF!,0)*DE5","v":0},{"$f":"IFERROR(#REF!,0)*DI5","v":0},{"$f":"IFERROR(#REF!,0)*DI5","v":0},{"$f":"IFERROR(#REF!,0)*DI5","v":0},{"$f":"IFERROR(#REF!,0)*DI5","v":0},{"$f":"IFERROR(#REF!,0)*DM5","v":0},{"$f":"IFERROR(#REF!,0)*DM5","v":0},{"$f":"IFERROR(#REF!,0)*DM5","v":0},{"$f":"IFERROR(#REF!,0)*DM5","v":0},{"$f":"IFERROR(#REF!,0)*DQ5","v":0},{"$f":"IFERROR(#REF!,0)*DQ5","v":0},{"$f":"IFERROR(#REF!,0)*DQ5","v":0},{"$f":"IFERROR(#REF!,0)*DQ5","v":0},{"$f":"IFERROR(#REF!,0)*DU5","v":0},{"$f":"IFERROR(#REF!,0)*DU5","v":0},{"$f":"IFERROR(#REF!,0)*DU5","v":0},{"$f":"IFERROR(#REF!,0)*DU5","v":0},{"$f":"IFERROR(#REF!,0)*DY5","v":0},{"$f":"IFERROR(#REF!,0)*DY5","v":0},{"$f":"IFERROR(#REF!,0)*DY5","v":0},{"$f":"IFERROR(#REF!,0)*DY5","v":0},{"$f":"IFERROR(#REF!,0)*EC5","v":0},{"$f":"IFERROR(#REF!,0)*EC5","v":0},{"$f":"IFERROR(#REF!,0)*EC5","v":0},{"$f":"IFERROR(#REF!,0)*EC5","v":0},{"$f":"IFERROR(#REF!,0)*EG5","v":0},{"$f":"IFERROR(#REF!,0)*EG5","v":0},{"$f":"IFERROR(#REF!,0)*EG5","v":0},{"$f":"IFERROR(#REF!,0)*EG5","v":0},{"$f":"IFERROR(#REF!,0)*EK5","v":0},{"$f":"IFERROR(#REF!,0)*EK5","v":0},{"$f":"IFERROR(#REF!,0)*EK5","v":0},{"$f":"IFERROR(#REF!,0)*EK5","v":0},{"$f":"IFERROR(#REF!,0)*EO5","v":0},{"$f":"IFERROR(#REF!,0)*EO5","v":0},{"$f":"IFERROR(#REF!,0)*EO5","v":0},{"$f":"IFERROR(#REF!,0)*EO5","v":0},{"$f":"IFERROR(#REF!,0)*ES5","v":0},{"$f":"IFERROR(#REF!,0)*ES5","v":0},{"$f":"IFERROR(#REF!,0)*ES5","v":0},{"$f":"IFERROR(#REF!,0)*ES5","v":0},{"$f":"IFERROR(#REF!,0)*EW5","v":0},{"$f":"IFERROR(#REF!,0)*EW5","v":0},{"$f":"IFERROR(#REF!,0)*EW5","v":0},{"$f":"IFERROR(#REF!,0)*EW5","v":0},{"$f":"IFERROR(#REF!,0)*FA5","v":0},{"$f":"IFERROR(#REF!,0)*FA5","v":0},{"$f":"IFERROR(#REF!,0)*FA5","v":0},{"$f":"IFERROR(#REF!,0)*FA5","v":0},{"$f":"IFERROR(#REF!,0)*FE5","v":0},{"$f":"IFERROR(#REF!,0)*FE5","v":0},{"$f":"IFERROR(#REF!,0)*FE5","v":0},{"$f":"IFERROR(#REF!,0)*FE5","v":0},{"$f":"IFERROR(#REF!,0)*FI5","v":0},{"$f":"IFERROR(#REF!,0)*FI5","v":0},{"$f":"IFERROR(#REF!,0)*FI5","v":0},{"$f":"IFERROR(#REF!,0)*FI5","v":0},{"$f":"IFERROR(#REF!,0)*FM5","v":0},{"$f":"IFERROR(#REF!,0)*FM5","v":0},{"$f":"IFERROR(#REF!,0)*FM5","v":0},{"$f":"IFERROR(#REF!,0)*FM5","v":0},{"$f":"IFERROR(#REF!,0)*FQ5","v":0},{"$f":"IFERROR(#REF!,0)*FQ5","v":0},{"$f":"IFERROR(#REF!,0)*FQ5","v":0},{"$f":"IFERROR(#REF!,0)*FQ5","v":0},{"$f":"IFERROR(#REF!,0)*FU5","v":0},{"$f":"IFERROR(#REF!,0)*FU5","v":0},{"$f":"IFERROR(#REF!,0)*FU5","v":0},{"$f":"IFERROR(#REF!,0)*FU5","v":0},{"$f":"IFERROR(#REF!,0)*FY5","v":0},{"$f":"IFERROR(#REF!,0)*FY5","v":0},{"$f":"IFERROR(#REF!,0)*FY5","v":0},{"$f":"IFERROR(#REF!,0)*FY5","v":0},{"$f":"IFERROR(#REF!,0)*GC5","v":0},{"$f":"IFERROR(#REF!,0)*GC5","v":0},{"$f":"IFERROR(#REF!,0)*GC5","v":0},{"$f":"IFERROR(#REF!,0)*GC5","v":0},{"$f":"IFERROR(#REF!,0)*GG5","v":0},{"$f":"IFERROR(#REF!,0)*GG5","v":0},{"$f":"IFERROR(#REF!,0)*GG5","v":0},{"$f":"IFERROR(#REF!,0)*GG5","v":0},{"$f":"IFERROR(#REF!,0)*GK5","v":0},{"$f":"IFERROR(#REF!,0)*GK5","v":0},{"$f":"IFERROR(#REF!,0)*GK5","v":0},{"$f":"IFERROR(#REF!,0)*GK5","v":0},{"$f":"IFERROR(#REF!,0)*GO5","v":0},{"$f":"IFERROR(#REF!,0)*GO5","v":0},{"$f":"IFERROR(#REF!,0)*GO5","v":0},{"$f":"IFERROR(#REF!,0)*GO5","v":0},{"$f":"IFERROR(#REF!,0)*GS5","v":0},{"$f":"IFERROR(#REF!,0)*GS5","v":0},{"$f":"IFERROR(#REF!,0)*GS5","v":0},{"$f":"IFERROR(#REF!,0)*GS5","v":0},{"v":0,"d":"0.00"},{"v":0,"d":"0.00"},{"v":0,"d":"0.00"},{"v":0,"d":"0.00"}]
[null,{"$f":"#REF!","v":{"$error":"#REF!"}},{"$f":"#REF!","v":{"$error":"#REF!"}},{"$f":"IFERROR(#REF!,0)*E5","v":0},{"$f":"IFERROR(#REF!,0)*E5","v":0},{"$f":"IFERROR(#REF!,0)*E5","v":0},{"$f":"IFERROR(#REF!,0)*E5","v":0},{"$f":"IFERROR(#REF!,0)*I5","v":0},{"$f":"IFERROR(#REF!,0)*I5","v":0},{"$f":"IFERROR(#REF!,0)*I5","v":0},{"$f":"IFERROR(#REF!,0)*I5","v":0},{"$f":"IFERROR(#REF!,0)*M5","v":0},{"$f":"IFERROR(#REF!,0)*M5","v":0},{"$f":"IFERROR(#REF!,0)*M5","v":0},{"$f":"IFERROR(#REF!,0)*M5","v":0},{"$f":"IFERROR(#REF!,0)*Q5","v":0},{"$f":"IFERROR(#REF!,0)*Q5","v":0},{"$f":"IFERROR(#REF!,0)*Q5","v":0},{"$f":"IFERROR(#REF!,0)*Q5","v":0},{"$f":"IFERROR(#REF!,0)*U5","v":0},{"$f":"IFERROR(#REF!,0)*U5","v":0},{"$f":"IFERROR(#REF!,0)*U5","v":0},{"$f":"IFERROR(#REF!,0)*U5","v":0},{"$f":"IFERROR(#REF!,0)*Y5","v":0},{"$f":"IFERROR(#REF!,0)*Y5","v":0},{"$f":"IFERROR(#REF!,0)*Y5","v":0},{"$f":"IFERROR(#REF!,0)*Y5","v":0},{"$f":"IFERROR(#REF!,0)*AC5","v":0},{"$f":"IFERROR(#REF!,0)*AC5","v":0},{"$f":"IFERROR(#REF!,0)*AC5","v":0},{"$f":"IFERROR(#REF!,0)*AC5","v":0},{"$f":"IFERROR(#REF!,0)*AG5","v":0},{"$f":"IFERROR(#REF!,0)*AG5","v":0},{"$f":"IFERROR(#REF!,0)*AG5","v":0},{"$f":"IFERROR(#REF!,0)*AG5","v":0},{"$f":"IFERROR(#REF!,0)*AK5","v":0},{"$f":"IFERROR(#REF!,0)*AK5","v":0},{"$f":"IFERROR(#REF!,0)*AK5","v":0},{"$f":"IFERROR(#REF!,0)*AK5","v":0},{"$f":"IFERROR(#REF!,0)*AO5","v":0},{"$f":"IFERROR(#REF!,0)*AO5","v":0},{"$f":"IFERROR(#REF!,0)*AO5","v":0},{"$f":"IFERROR(#REF!,0)*AO5","v":0},{"$f":"IFERROR(#REF!,0)*AS5","v":0},{"$f":"IFERROR(#REF!,0)*AS5","v":0},{"$f":"IFERROR(#REF!,0)*AS5","v":0},{"$f":"IFERROR(#REF!,0)*AS5","v":0},{"$f":"IFERROR(#REF!,0)*AW5","v":0},{"$f":"IFERROR(#REF!,0)*AW5","v":0},{"$f":"IFERROR(#REF!,0)*AW5","v":0},{"$f":"IFERROR(#REF!,0)*AW5","v":0},{"$f":"IFERROR(#REF!,0)*BA5","v":0},{"$f":"IFERROR(#REF!,0)*BA5","v":0},{"$f":"IFERROR(#REF!,0)*BA5","v":0},{"$f":"IFERROR(#REF!,0)*BA5","v":0},{"$f":"IFERROR(#REF!,0)*BE5","v":0},{"$f":"IFERROR(#REF!,0)*BE5","v":0},{"$f":"IFERROR(#REF!,0)*BE5","v":0},{"$f":"IFERROR(#REF!,0)*BE5","v":0},{"$f":"IFERROR(#REF!,0)*BI5","v":0},{"$f":"IFERROR(#REF!,0)*BI5","v":0},{"$f":"IFERROR(#REF!,0)*BI5","v":0},{"$f":"IFERROR(#REF!,0)*BI5","v":0},{"$f":"IFERROR(#REF!,0)*BM5","v":0},{"$f":"IFERROR(#REF!,0)*BM5","v":0},{"$f":"IFERROR(#REF!,0)*BM5","v":0},{"$f":"IFERROR(#REF!,0)*BM5","v":0},{"$f":"IFERROR(#REF!,0)*BQ5","v":0},{"$f":"IFERROR(#REF!,0)*BQ5","v":0},{"$f":"IFERROR(#REF!,0)*BQ5","v":0},{"$f":"IFERROR(#REF!,0)*BQ5","v":0},{"$f":"IFERROR(#REF!,0)*BU5","v":0},{"$f":"IFERROR(#REF!,0)*BU5","v":0},{"$f":"IFERROR(#REF!,0)*BU5","v":0},{"$f":"IFERROR(#REF!,0)*BU5","v":0},{"$f":"IFERROR(#REF!,0)*BY5","v":0},{"$f":"IFERROR(#REF!,0)*BY5","v":0},{"$f":"IFERROR(#REF!,0)*BY5","v":0},{"$f":"IFERROR(#REF!,0)*BY5","v":0},{"$f":"IFERROR(#REF!,0)*CC5","v":0},{"$f":"IFERROR(#REF!,0)*CC5","v":0},{"$f":"IFERROR(#REF!,0)*CC5","v":0},{"$f":"IFERROR(#REF!,0)*CC5","v":0},{"$f":"IFERROR(#REF!,0)*CG5","v":0},{"$f":"IFERROR(#REF!,0)*CG5","v":0},{"$f":"IFERROR(#REF!,0)*CG5","v":0},{"$f":"IFERROR(#REF!,0)*CG5","v":0},{"$f":"IFERROR(#REF!,0)*CK5","v":0},{"$f":"IFERROR(#REF!,0)*CK5","v":0},{"$f":"IFERROR(#REF!,0)*CK5","v":0},{"$f":"IFERROR(#REF!,0)*CK5","v":0},{"$f":"IFERROR(#REF!,0)*CO5","v":0},{"$f":"IFERROR(#REF!,0)*CO5","v":0},{"$f":"IFERROR(#REF!,0)*CO5","v":0},{"$f":"IFERROR(#REF!,0)*CO5","v":0},{"$f":"IFERROR(#REF!,0)*CS5","v":0},{"$f":"IFERROR(#REF!,0)*CS5","v":0},{"$f":"IFERROR(#REF!,0)*CS5","v":0},{"$f":"IFERROR(#REF!,0)*CS5","v":0},{"$f":"IFERROR(#REF!,0)*CW5","v":0},{"$f":"IFERROR(#REF!,0)*CW5","v":0},{"$f":"IFERROR(#REF!,0)*CW5","v":0},{"$f":"IFERROR(#REF!,0)*CW5","v":0},{"$f":"IFERROR(#REF!,0)*DA5","v":0},{"$f":"IFERROR(#REF!,0)*DA5","v":0},{"$f":"IFERROR(#REF!,0)*DA5","v":0},{"$f":"IFERROR(#REF!,0)*DA5","v":0},{"$f":"IFERROR(#REF!,0)*DE5","v":0},{"$f":"IFERROR(#REF!,0)*DE5","v":0},{"$f":"IFERROR(#REF!,0)*DE5","v":0},{"$f":"IFERROR(#REF!,0)*DE5","v":0},{"$f":"IFERROR(#REF!,0)*DI5","v":0},{"$f":"IFERROR(#REF!,0)*DI5","v":0},{"$f":"IFERROR(#REF!,0)*DI5","v":0},{"$f":"IFERROR(#REF!,0)*DI5","v":0},{"$f":"IFERROR(#REF!,0)*DM5","v":0},{"$f":"IFERROR(#REF!,0)*DM5","v":0},{"$f":"IFERROR(#REF!,0)*DM5","v":0},{"$f":"IFERROR(#REF!,0)*DM5","v":0},{"$f":"IFERROR(#REF!,0)*DQ5","v":0},{"$f":"IFERROR(#REF!,0)*DQ5","v":0},{"$f":"IFERROR(#REF!,0)*DQ5","v":0},{"$f":"IFERROR(#REF!,0)*DQ5","v":0},{"$f":"IFERROR(#REF!,0)*DU5","v":0},{"$f":"IFERROR(#REF!,0)*DU5","v":0},{"$f":"IFERROR(#REF!,0)*DU5","v":0},{"$f":"IFERROR(#REF!,0)*DU5","v":0},{"$f":"IFERROR(#REF!,0)*DY5","v":0},{"$f":"IFERROR(#REF!,0)*DY5","v":0},{"$f":"IFERROR(#REF!,0)*DY5","v":0},{"$f":"IFERROR(#REF!,0)*DY5","v":0},{"$f":"IFERROR(#REF!,0)*EC5","v":0},{"$f":"IFERROR(#REF!,0)*EC5","v":0},{"$f":"IFERROR(#REF!,0)*EC5","v":0},{"$f":"IFERROR(#REF!,0)*EC5","v":0},{"$f":"IFERROR(#REF!,0)*EG5","v":0},{"$f":"IFERROR(#REF!,0)*EG5","v":0},{"$f":"IFERROR(#REF!,0)*EG5","v":0},{"$f":"IFERROR(#REF!,0)*EG5","v":0},{"$f":"IFERROR(#REF!,0)*EK5","v":0},{"$f":"IFERROR(#REF!,0)*EK5","v":0},{"$f":"IFERROR(#REF!,0)*EK5","v":0},{"$f":"IFERROR(#REF!,0)*EK5","v":0},{"$f":"IFERROR(#REF!,0)*EO5","v":0},{"$f":"IFERROR(#REF!,0)*EO5","v":0},{"$f":"IFERROR(#REF!,0)*EO5","v":0},{"$f":"IFERROR(#REF!,0)*EO5","v":0},{"$f":"IFERROR(#REF!,0)*ES5","v":0},{"$f":"IFERROR(#REF!,0)*ES5","v":0},{"$f":"IFERROR(#REF!,0)*ES5","v":0},{"$f":"IFERROR(#REF!,0)*ES5","v":0},{"$f":"IFERROR(#REF!,0)*EW5","v":0},{"$f":"IFERROR(#REF!,0)*EW5","v":0},{"$f":"IFERROR(#REF!,0)*EW5","v":0},{"$f":"IFERROR(#REF!,0)*EW5","v":0},{"$f":"IFERROR(#REF!,0)*FA5","v":0},{"$f":"IFERROR(#REF!,0)*FA5","v":0},{"$f":"IFERROR(#REF!,0)*FA5","v":0},{"$f":"IFERROR(#REF!,0)*FA5","v":0},{"$f":"IFERROR(#REF!,0)*FE5","v":0},{"$f":"IFERROR(#REF!,0)*FE5","v":0},{"$f":"IFERROR(#REF!,0)*FE5","v":0},{"$f":"IFERROR(#REF!,0)*FE5","v":0},{"$f":"IFERROR(#REF!,0)*FI5","v":0},{"$f":"IFERROR(#REF!,0)*FI5","v":0},{"$f":"IFERROR(#REF!,0)*FI5","v":0},{"$f":"IFERROR(#REF!,0)*FI5","v":0},{"$f":"IFERROR(#REF!,0)*FM5","v":0},{"$f":"IFERROR(#REF!,0)*FM5","v":0},{"$f":"IFERROR(#REF!,0)*FM5","v":0},{"$f":"IFERROR(#REF!,0)*FM5","v":0},{"$f":"IFERROR(#REF!,0)*FQ5","v":0},{"$f":"IFERROR(#REF!,0)*FQ5","v":0},{"$f":"IFERROR(#REF!,0)*FQ5","v":0},{"$f":"IFERROR(#REF!,0)*FQ5","v":0},{"$f":"IFERROR(#REF!,0)*FU5","v":0},{"$f":"IFERROR(#REF!,0)*FU5","v":0},{"$f":"IFERROR(#REF!,0)*FU5","v":0},{"$f":"IFERROR(#REF!,0)*FU5","v":0},{"$f":"IFERROR(#REF!,0)*FY5","v":0},{"$f":"IFERROR(#REF!,0)*FY5","v":0},{"$f":"IFERROR(#REF!,0)*FY5","v":0},{"$f":"IFERROR(#REF!,0)*FY5","v":0},{"$f":"IFERROR(#REF!,0)*GC5","v":0},{"$f":"IFERROR(#REF!,0)*GC5","v":0},{"$f":"IFERROR(#REF!,0)*GC5","v":0},{"$f":"IFERROR(#REF!,0)*GC5","v":0},{"$f":"IFERROR(#REF!,0)*GG5","v":0},{"$f":"IFERROR(#REF!,0)*GG5","v":0},{"$f":"IFERROR(#REF!,0)*GG5","v":0},{"$f":"IFERROR(#REF!,0)*GG5","v":0},{"$f":"IFERROR(#REF!,0)*GK5","v":0},{"$f":"IFERROR(#REF!,0)*GK5","v":0},{"$f":"IFERROR(#REF!,0)*GK5","v":0},{"$f":"IFERROR(#REF!,0)*GK5","v":0},{"$f":"IFERROR(#REF!,0)*GO5","v":0},{"$f":"IFERROR(#REF!,0)*GO5","v":0},{"$f":"IFERROR(#REF!,0)*GO5","v":0},{"$f":"IFERROR(#REF!,0)*GO5","v":0},{"$f":"IFERROR(#REF!,0)*GS5","v":0},{"$f":"IFERROR(#REF!,0)*GS5","v":0},{"$f":"IFERROR(#REF!,0)*GS5","v":0},{"$f":"IFERROR(#REF!,0)*GS5","v":0},{"v":0,"d":"0.00"},{"v":0,"d":"0.00"},{"v":0,"d":"0.00"},{"v":0,"d":"0.00"}]
[null,{"$f":"#REF!","v":{"$error":"#REF!"}},{"$f":"#REF!","v":{"$error":"#REF!"}},{"$f":"IFERROR(#REF!,0)*E5","v":0},{"$f":"IFERROR(#REF!,0)*E5","v":0},{"$f":"IFERROR(#REF!,0)*E5","v":0},{"$f":"IFERROR(#REF!,0)*E5","v":0},{"$f":"IFERROR(#REF!,0)*I5","v":0},{"$f":"IFERROR(#REF!,0)*I5","v":0},{"$f":"IFERROR(#REF!,0)*I5","v":0},{"$f":"IFERROR(#REF!,0)*I5","v":0},{"$f":"IFERROR(#REF!,0)*M5","v":0},{"$f":"IFERROR(#REF!,0)*M5","v":0},{"$f":"IFERROR(#REF!,0)*M5","v":0},{"$f":"IFERROR(#REF!,0)*M5","v":0},{"$f":"IFERROR(#REF!,0)*Q5","v":0},{"$f":"IFERROR(#REF!,0)*Q5","v":0},{"$f":"IFERROR(#REF!,0)*Q5","v":0},{"$f":"IFERROR(#REF!,0)*Q5","v":0},{"$f":"IFERROR(#REF!,0)*U5","v":0},{"$f":"IFERROR(#REF!,0)*U5","v":0},{"$f":"IFERROR(#REF!,0)*U5","v":0},{"$f":"IFERROR(#REF!,0)*U5","v":0},{"$f":"IFERROR(#REF!,0)*Y5","v":0},{"$f":"IFERROR(#REF!,0)*Y5","v":0},{"$f":"IFERROR(#REF!,0)*Y5","v":0},{"$f":"IFERROR(#REF!,0)*Y5","v":0},{"$f":"IFERROR(#REF!,0)*AC5","v":0},{"$f":"IFERROR(#REF!,0)*AC5","v":0},{"$f":"IFERROR(#REF!,0)*AC5","v":0},{"$f":"IFERROR(#REF!,0)*AC5","v":0},{"$f":"IFERROR(#REF!,0)*AG5","v":0},{"$f":"IFERROR(#REF!,0)*AG5","v":0},{"$f":"IFERROR(#REF!,0)*AG5","v":0},{"$f":"IFERROR(#REF!,0)*AG5","v":0},{"$f":"IFERROR(#REF!,0)*AK5","v":0},{"$f":"IFERROR(#REF!,0)*AK5","v":0},{"$f":"IFERROR(#REF!,0)*AK5","v":0},{"$f":"IFERROR(#REF!,0)*AK5","v":0},{"$f":"IFERROR(#REF!,0)*AO5","v":0},{"$f":"IFERROR(#REF!,0)*AO5","v":0},{"$f":"IFERROR(#REF!,0)*AO5","v":0},{"$f":"IFERROR(#REF!,0)*AO5","v":0},{"$f":"IFERROR(#REF!,0)*AS5","v":0},{"$f":"IFERROR(#REF!,0)*AS5","v":0},{"$f":"IFERROR(#REF!,0)*AS5","v":0},{"$f":"IFERROR(#REF!,0)*AS5","v":0},{"$f":"IFERROR(#REF!,0)*AW5","v":0},{"$f":"IFERROR(#REF!,0)*AW5","v":0},{"$f":"IFERROR(#REF!,0)*AW5","v":0},{"$f":"IFERROR(#REF!,0)*AW5","v":0},{"$f":"IFERROR(#REF!,0)*BA5","v":0},{"$f":"IFERROR(#REF!,0)*BA5","v":0},{"$f":"IFERROR(#REF!,0)*BA5","v":0},{"$f":"IFERROR(#REF!,0)*BA5","v":0},{"$f":"IFERROR(#REF!,0)*BE5","v":0},{"$f":"IFERROR(#REF!,0)*BE5","v":0},{"$f":"IFERROR(#REF!,0)*BE5","v":0},{"$f":"IFERROR(#REF!,0)*BE5","v":0},{"$f":"IFERROR(#REF!,0)*BI5","v":0},{"$f":"IFERROR(#REF!,0)*BI5","v":0},{"$f":"IFERROR(#REF!,0)*BI5","v":0},{"$f":"IFERROR(#REF!,0)*BI5","v":0},{"$f":"IFERROR(#REF!,0)*BM5","v":0},{"$f":"IFERROR(#REF!,0)*BM5","v":0},{"$f":"IFERROR(#REF!,0)*BM5","v":0},{"$f":"IFERROR(#REF!,0)*BM5","v":0},{"$f":"IFERROR(#REF!,0)*BQ5","v":0},{"$f":"IFERROR(#REF!,0)*BQ5","v":0},{"$f":"IFERROR(#REF!,0)*BQ5","v":0},{"$f":"IFERROR(#REF!,0)*BQ5","v":0},{"$f":"IFERROR(#REF!,0)*BU5","v":0},{"$f":"IFERROR(#REF!,0)*BU5","v":0},{"$f":"IFERROR(#REF!,0)*BU5","v":0},{"$f":"IFERROR(#REF!,0)*BU5","v":0},{"$f":"IFERROR(#REF!,0)*BY5","v":0},{"$f":"IFERROR(#REF!,0)*BY5","v":0},{"$f":"IFERROR(#REF!,0)*BY5","v":0},{"$f":"IFERROR(#REF!,0)*BY5","v":0},{"$f":"IFERROR(#REF!,0)*CC5","v":0},{"$f":"IFERROR(#REF!,0)*CC5","v":0},{"$f":"IFERROR(#REF!,0)*CC5","v":0},{"$f":"IFERROR(#REF!,0)*CC5","v":0},{"$f":"IFERROR(#REF!,0)*CG5","v":0},{"$f":"IFERROR(#REF!,0)*CG5","v":0},{"$f":"IFERROR(#REF!,0)*CG5","v":0},{"$f":"IFERROR(#REF!,0)*CG5","v":0},{"$f":"IFERROR(#REF!,0)*CK5","v":0},{"$f":"IFERROR(#REF!,0)*CK5","v":0},{"$f":"IFERROR(#REF!,0)*CK5","v":0},{"$f":"IFERROR(#REF!,0)*CK5","v":0},{"$f":"IFERROR(#REF!,0)*CO5","v":0},{"$f":"IFERROR(#REF!,0)*CO5","v":0},{"$f":"IFERROR(#REF!,0)*CO5","v":0},{"$f":"IFERROR(#REF!,0)*CO5","v":0},{"$f":"IFERROR(#REF!,0)*CS5","v":0},{"$f":"IFERROR(#REF!,0)*CS5","v":0},{"$f":"IFERROR(#REF!,0)*CS5","v":0},{"$f":"IFERROR(#REF!,0)*CS5","v":0},{"$f":"IFERROR(#REF!,0)*CW5","v":0},{"$f":"IFERROR(#REF!,0)*CW5","v":0},{"$f":"IFERROR(#REF!,0)*CW5","v":0},{"$f":"IFERROR(#REF!,0)*CW5","v":0},{"$f":"IFERROR(#REF!,0)*DA5","v":0},{"$f":"IFERROR(#REF!,0)*DA5","v":0},{"$f":"IFERROR(#REF!,0)*DA5","v":0},{"$f":"IFERROR(#REF!,0)*DA5","v":0},{"$f":"IFERROR(#REF!,0)*DE5","v":0},{"$f":"IFERROR(#REF!,0)*DE5","v":0},{"$f":"IFERROR(#REF!,0)*DE5","v":0},{"$f":"IFERROR(#REF!,0)*DE5","v":0},{"$f":"IFERROR(#REF!,0)*DI5","v":0},{"$f":"IFERROR(#REF!,0)*DI5","v":0},{"$f":"IFERROR(#REF!,0)*DI5","v":0},{"$f":"IFERROR(#REF!,0)*DI5","v":0},{"$f":"IFERROR(#REF!,0)*DM5","v":0},{"$f":"IFERROR(#REF!,0)*DM5","v":0},{"$f":"IFERROR(#REF!,0)*DM5","v":0},{"$f":"IFERROR(#REF!,0)*DM5","v":0},{"$f":"IFERROR(#REF!,0)*DQ5","v":0},{"$f":"IFERROR(#REF!,0)*DQ5","v":0},{"$f":"IFERROR(#REF!,0)*DQ5","v":0},{"$f":"IFERROR(#REF!,0)*DQ5","v":0},{"$f":"IFERROR(#REF!,0)*DU5","v":0},{"$f":"IFERROR(#REF!,0)*DU5","v":0},{"$f":"IFERROR(#REF!,0)*DU5","v":0},{"$f":"IFERROR(#REF!,0)*DU5","v":0},{"$f":"IFERROR(#REF!,0)*DY5","v":0},{"$f":"IFERROR(#REF!,0)*DY5","v":0},{"$f":"IFERROR(#REF!,0)*DY5","v":0},{"$f":"IFERROR(#REF!,0)*DY5","v":0},{"$f":"IFERROR(#REF!,0)*EC5","v":0},{"$f":"IFERROR(#REF!,0)*EC5","v":0},{"$f":"IFERROR(#REF!,0)*EC5","v":0},{"$f":"IFERROR(#REF!,0)*EC5","v":0},{"$f":"IFERROR(#REF!,0)*EG5","v":0},{"$f":"IFERROR(#REF!,0)*EG5","v":0},{"$f":"IFERROR(#REF!,0)*EG5","v":0},{"$f":"IFERROR(#REF!,0)*EG5","v":0},{"$f":"IFERROR(#REF!,0)*EK5","v":0},{"$f":"IFERROR(#REF!,0)*EK5","v":0},{"$f":"IFERROR(#REF!,0)*EK5","v":0},{"$f":"IFERROR(#REF!,0)*EK5","v":0},{"$f":"IFERROR(#REF!,0)*EO5","v":0},{"$f":"IFERROR(#REF!,0)*EO5","v":0},{"$f":"IFERROR(#REF!,0)*EO5","v":0},{"$f":"IFERROR(#REF!,0)*EO5","v":0},{"$f":"IFERROR(#REF!,0)*ES5","v":0},{"$f":"IFERROR(#REF!,0)*ES5","v":0},{"$f":"IFERROR(#REF!,0)*ES5","v":0},{"$f":"IFERROR(#REF!,0)*ES5","v":0},{"$f":"IFERROR(#REF!,0)*EW5","v":0},{"$f":"IFERROR(#REF!,0)*EW5","v":0},{"$f":"IFERROR(#REF!,0)*EW5","v":0},{"$f":"IFERROR(#REF!,0)*EW5","v":0},{"$f":"IFERROR(#REF!,0)*FA5","v":0},{"$f":"IFERROR(#REF!,0)*FA5","v":0},{"$f":"IFERROR(#REF!,0)*FA5","v":0},{"$f":"IFERROR(#REF!,0)*FA5","v":0},{"$f":"IFERROR(#REF!,0)*FE5","v":0},{"$f":"IFERROR(#REF!,0)*FE5","v":0},{"$f":"IFERROR(#REF!,0)*FE5","v":0},{"$f":"IFERROR(#REF!,0)*FE5","v":0},{"$f":"IFERROR(#REF!,0)*FI5","v":0},{"$f":"IFERROR(#REF!,0)*FI5","v":0},{"$f":"IFERROR(#REF!,0)*FI5","v":0},{"$f":"IFERROR(#REF!,0)*FI5","v":0},{"$f":"IFERROR(#REF!,0)*FM5","v":0},{"$f":"IFERROR(#REF!,0)*FM5","v":0},{"$f":"IFERROR(#REF!,0)*FM5","v":0},{"$f":"IFERROR(#REF!,0)*FM5","v":0},{"$f":"IFERROR(#REF!,0)*FQ5","v":0},{"$f":"IFERROR(#REF!,0)*FQ5","v":0},{"$f":"IFERROR(#REF!,0)*FQ5","v":0},{"$f":"IFERROR(#REF!,0)*FQ5","v":0},{"$f":"IFERROR(#REF!,0)*FU5","v":0},{"$f":"IFERROR(#REF!,0)*FU5","v":0},{"$f":"IFERROR(#REF!,0)*FU5","v":0},{"$f":"IFERROR(#REF!,0)*FU5","v":0},{"$f":"IFERROR(#REF!,0)*FY5","v":0},{"$f":"IFERROR(#REF!,0)*FY5","v":0},{"$f":"IFERROR(#REF!,0)*FY5","v":0},{"$f":"IFERROR(#REF!,0)*FY5","v":0},{"$f":"IFERROR(#REF!,0)*GC5","v":0},{"$f":"IFERROR(#REF!,0)*GC5","v":0},{"$f":"IFERROR(#REF!,0)*GC5","v":0},{"$f":"IFERROR(#REF!,0)*GC5","v":0},{"$f":"IFERROR(#REF!,0)*GG5","v":0},{"$f":"IFERROR(#REF!,0)*GG5","v":0},{"$f":"IFERROR(#REF!,0)*GG5","v":0},{"$f":"IFERROR(#REF!,0)*GG5","v":0},{"$f":"IFERROR(#REF!,0)*GK5","v":0},{"$f":"IFERROR(#REF!,0)*GK5","v":0},{"$f":"IFERROR(#REF!,0)*GK5","v":0},{"$f":"IFERROR(#REF!,0)*GK5","v":0},{"$f":"IFERROR(#REF!,0)*GO5","v":0},{"$f":"IFERROR(#REF!,0)*GO5","v":0},{"$f":"IFERROR(#REF!,0)*GO5","v":0},{"$f":"IFERROR(#REF!,0)*GO5","v":0},{"$f":"IFERROR(#REF!,0)*GS5","v":0},{"$f":"IFERROR(#REF!,0)*GS5","v":0},{"$f":"IFERROR(#REF!,0)*GS5","v":0},{"$f":"IFERROR(#REF!,0)*GS5","v":0},{"v":0,"d":"0.00"},{"v":0,"d":"0.00"},{"v":0,"d":"0.00"},{"v":0,"d":"0.00"}]
[null,{"$f":"#REF!","v":{"$error":"#REF!"}},{"$f":"#REF!","v":{"$error":"#REF!"}},{"$f":"IFERROR(#REF!,0)*E5","v":0},{"$f":"IFERROR(#REF!,0)*E5","v":0},{"$f":"IFERROR(#REF!,0)*E5","v":0},{"$f":"IFERROR(#REF!,0)*E5","v":0},{"$f":"IFERROR(#REF!,0)*I5","v":0},{"$f":"IFERROR(#REF!,0)*I5","v":0},{"$f":"IFERROR(#REF!,0)*I5","v":0},{"$f":"IFERROR(#REF!,0)*I5","v":0},{"$f":"IFERROR(#REF!,0)*M5","v":0},{"$f":"IFERROR(#REF!,0)*M5","v":0},{"$f":"IFERROR(#REF!,0)*M5","v":0},{"$f":"IFERROR(#REF!,0)*M5","v":0},{"$f":"IFERROR(#REF!,0)*Q5","v":0},{"$f":"IFERROR(#REF!,0)*Q5","v":0},{"$f":"IFERROR(#REF!,0)*Q5","v":0},{"$f":"IFERROR(#REF!,0)*Q5","v":0},{"$f":"IFERROR(#REF!,0)*U5","v":0},{"$f":"IFERROR(#REF!,0)*U5","v":0},{"$f":"IFERROR(#REF!,0)*U5","v":0},{"$f":"IFERROR(#REF!,0)*U5","v":0},{"$f":"IFERROR(#REF!,0)*Y5","v":0},{"$f":"IFERROR(#REF!,0)*Y5","v":0},{"$f":"IFERROR(#REF!,0)*Y5","v":0},{"$f":"IFERROR(#REF!,0)*Y5","v":0},{"$f":"IFERROR(#REF!,0)*AC5","v":0},{"$f":"IFERROR(#REF!,0)*AC5","v":0},{"$f":"IFERROR(#REF!,0)*AC5","v":0},{"$f":"IFERROR(#REF!,0)*AC5","v":0},{"$f":"IFERROR(#REF!,0)*AG5","v":0},{"$f":"IFERROR(#REF!,0)*AG5","v":0},{"$f":"IFERROR(#REF!,0)*AG5","v":0},{"$f":"IFERROR(#REF!,0)*AG5","v":0},{"$f":"IFERROR(#REF!,0)*AK5","v":0},{"$f":"IFERROR(#REF!,0)*AK5","v":0},{"$f":"IFERROR(#REF!,0)*AK5","v":0},{"$f":"IFERROR(#REF!,0)*AK5","v":0},{"$f":"IFERROR(#REF!,0)*AO5","v":0},{"$f":"IFERROR(#REF!,0)*AO5","v":0},{"$f":"IFERROR(#REF!,0)*AO5","v":0},{"$f":"IFERROR(#REF!,0)*AO5","v":0},{"$f":"IFERROR(#REF!,0)*AS5","v":0},{"$f":"IFERROR(#REF!,0)*AS5","v":0},{"$f":"IFERROR(#REF!,0)*AS5","v":0},{"$f":"IFERROR(#REF!,0)*AS5","v":0},{"$f":"IFERROR(#REF!,0)*AW5","v":0},{"$f":"IFERROR(#REF!,0)*AW5","v":0},{"$f":"IFERROR(#REF!,0)*AW5","v":0},{"$f":"IFERROR(#REF!,0)*AW5","v":0},{"$f":"IFERROR(#REF!,0)*BA5","v":0},{"$f":"IFERROR(#REF!,0)*BA5","v":0},{"$f":"IFERROR(#REF!,0)*BA5","v":0},{"$f":"IFERROR(#REF!,0)*BA5","v":0},{"$f":"IFERROR(#REF!,0)*BE5","v":0},{"$f":"IFERROR(#REF!,0)*BE5","v":0},{"$f":"IFERROR(#REF!,0)*BE5","v":0},{"$f":"IFERROR(#REF!,0)*BE5","v":0},{"$f":"IFERROR(#REF!,0)*BI5","v":0},{"$f":"IFERROR(#REF!,0)*BI5","v":0},{"$f":"IFERROR(#REF!,0)*BI5","v":0},{"$f":"IFERROR(#REF!,0)*BI5","v":0},{"$f":"IFERROR(#REF!,0)*BM5","v":0},{"$f":"IFERROR(#REF!,0)*BM5","v":0},{"$f":"IFERROR(#REF!,0)*BM5","v":0},{"$f":"IFERROR(#REF!,0)*BM5","v":0},{"$f":"IFERROR(#REF!,0)*BQ5","v":0},{"$f":"IFERROR(#REF!,0)*BQ5","v":0},{"$f":"IFERROR(#REF!,0)*BQ5","v":0},{"$f":"IFERROR(#REF!,0)*BQ5","v":0},{"$f":"IFERROR(#REF!,0)*BU5","v":0},{"$f":"IFERROR(#REF!,0)*BU5","v":0},{"$f":"IFERROR(#REF!,0)*BU5","v":0},{"$f":"IFERROR(#REF!,0)*BU5","v":0},{"$f":"IFERROR(#REF!,0)*BY5","v":0},{"$f":"IFERROR(#REF!,0)*BY5","v":0},{"$f":"IFERROR(#REF!,0)*BY5","v":0},{"$f":"IFERROR(#REF!,0)*BY5","v":0},{"$f":"IFERROR(#REF!,0)*CC5","v":0},{"$f":"IFERROR(#REF!,0)*CC5","v":0},{"$f":"IFERROR(#REF!,0)*CC5","v":0},{"$f":"IFERROR(#REF!,0)*CC5","v":0},{"$f":"IFERROR(#REF!,0)*CG5","v":0},{"$f":"IFERROR(#REF!,0)*CG5","v":0},{"$f":"IFERROR(#REF!,0)*CG5","v":0},{"$f":"IFERROR(#REF!,0)*CG5","v":0},{"$f":"IFERROR(#REF!,0)*CK5","v":0},{"$f":"IFERROR(#REF!,0)*CK5","v":0},{"$f":"IFERROR(#REF!,0)*CK5","v":0},{"$f":"IFERROR(#REF!,0)*CK5","v":0},{"$f":"IFERROR(#REF!,0)*CO5","v":0},{"$f":"IFERROR(#REF!,0)*CO5","v":0},{"$f":"IFERROR(#REF!,0)*CO5","v":0},{"$f":"IFERROR(#REF!,0)*CO5","v":0},{"$f":"IFERROR(#REF!,0)*CS5","v":0},{"$f":"IFERROR(#REF!,0)*CS5","v":0},{"$f":"IFERROR(#REF!,0)*CS5","v":0},{"$f":"IFERROR(#REF!,0)*CS5","v":0},{"$f":"IFERROR(#REF!,0)*CW5","v":0},{"$f":"IFERROR(#REF!,0)*CW5","v":0},{"$f":"IFERROR(#REF!,0)*CW5","v":0},{"$f":"IFERROR(#REF!,0)*CW5","v":0},{"$f":"IFERROR(#REF!,0)*DA5","v":0},{"$f":"IFERROR(#REF!,0)*DA5","v":0},{"$f":"IFERROR(#REF!,0)*DA5","v":0},{"$f":"IFERROR(#REF!,0)*DA5","v":0},{"$f":"IFERROR(#REF!,0)*DE5","v":0},{"$f":"IFERROR(#REF!,0)*DE5","v":0},{"$f":"IFERROR(#REF!,0)*DE5","v":0},{"$f":"IFERROR(#REF!,0)*DE5","v":0},{"$f":"IFERROR(#REF!,0)*DI5","v":0},{"$f":"IFERROR(#REF!,0)*DI5","v":0},{"$f":"IFERROR(#REF!,0)*DI5","v":0},{"$f":"IFERROR(#REF!,0)*DI5","v":0},{"$f":"IFERROR(#REF!,0)*DM5","v":0},{"$f":"IFERROR(#REF!,0)*DM5","v":0},{"$f":"IFERROR(#REF!,0)*DM5","v":0},{"$f":"IFERROR(#REF!,0)*DM5","v":0},{"$f":"IFERROR(#REF!,0)*DQ5","v":0},{"$f":"IFERROR(#REF!,0)*DQ5","v":0},{"$f":"IFERROR(#REF!,0)*DQ5","v":0},{"$f":"IFERROR(#REF!,0)*DQ5","v":0},{"$f":"IFERROR(#REF!,0)*DU5","v":0},{"$f":"IFERROR(#REF!,0)*DU5","v":0},{"$f":"IFERROR(#REF!,0)*DU5","v":0},{"$f":"IFERROR(#REF!,0)*DU5","v":0},{"$f":"IFERROR(#REF!,0)*DY5","v":0},{"$f":"IFERROR(#REF!,0)*DY5","v":0},{"$f":"IFERROR(#REF!,0)*DY5","v":0},{"$f":"IFERROR(#REF!,0)*DY5","v":0},{"$f":"IFERROR(#REF!,0)*EC5","v":0},{"$f":"IFERROR(#REF!,0)*EC5","v":0},{"$f":"IFERROR(#REF!,0)*EC5","v":0},{"$f":"IFERROR(#REF!,0)*EC5","v":0},{"$f":"IFERROR(#REF!,0)*EG5","v":0},{"$f":"IFERROR(#REF!,0)*EG5","v":0},{"$f":"IFERROR(#REF!,0)*EG5","v":0},{"$f":"IFERROR(#REF!,0)*EG5","v":0},{"$f":"IFERROR(#REF!,0)*EK5","v":0},{"$f":"IFERROR(#REF!,0)*EK5","v":0},{"$f":"IFERROR(#REF!,0)*EK5","v":0},{"$f":"IFERROR(#REF!,0)*EK5","v":0},{"$f":"IFERROR(#REF!,0)*EO5","v":0},{"$f":"IFERROR(#REF!,0)*EO5","v":0},{"$f":"IFERROR(#REF!,0)*EO5","v":0},{"$f":"IFERROR(#REF!,0)*EO5","v":0},{"$f":"IFERROR(#REF!,0)*ES5","v":0},{"$f":"IFERROR(#REF!,0)*ES5","v":0},{"$f":"IFERROR(#REF!,0)*ES5","v":0},{"$f":"IFERROR(#REF!,0)*ES5","v":0},{"$f":"IFERROR(#REF!,0)*EW5","v":0},{"$f":"IFERROR(#REF!,0)*EW5","v":0},{"$f":"IFERROR(#REF!,0)*EW5","v":0},{"$f":"IFERROR(#REF!,0)*EW5","v":0},{"$f":"IFERROR(#REF!,0)*FA5","v":0},{"$f":"IFERROR(#REF!,0)*FA5","v":0},{"$f":"IFERROR(#REF!,0)*FA5","v":0},{"$f":"IFERROR(#REF!,0)*FA5","v":0},{"$f":"IFERROR(#REF!,0)*FE5","v":0},{"$f":"IFERROR(#REF!,0)*FE5","v":0},{"$f":"IFERROR(#REF!,0)*FE5","v":0},{"$f":"IFERROR(#REF!,0)*FE5","v":0},{"$f":"IFERROR(#REF!,0)*FI5","v":0},{"$f":"IFERROR(#REF!,0)*FI5","v":0},{"$f":"IFERROR(#REF!,0)*FI5","v":0},{"$f":"IFERROR(#REF!,0)*FI5","v":0},{"$f":"IFERROR(#REF!,0)*FM5","v":0},{"$f":"IFERROR(#REF!,0)*FM5","v":0},{"$f":"IFERROR(#REF!,0)*FM5","v":0},{"$f":"IFERROR(#REF!,0)*FM5","v":0},{"$f":"IFERROR(#REF!,0)*FQ5","v":0},{"$f":"IFERROR(#REF!,0)*FQ5","v":0},{"$f":"IFERROR(#REF!,0)*FQ5","v":0},{"$f":"IFERROR(#REF!,0)*FQ5","v":0},{"$f":"IFERROR(#REF!,0)*FU5","v":0},{"$f":"IFERROR(#REF!,0)*FU5","v":0},{"$f":"IFERROR(#REF!,0)*FU5","v":0},{"$f":"IFERROR(#REF!,0)*FU5","v":0},{"$f":"IFERROR(#REF!,0)*FY5","v":0},{"$f":"IFERROR(#REF!,0)*FY5","v":0},{"$f":"IFERROR(#REF!,0)*FY5","v":0},{"$f":"IFERROR(#REF!,0)*FY5","v":0},{"$f":"IFERROR(#REF!,0)*GC5","v":0},{"$f":"IFERROR(#REF!,0)*GC5","v":0},{"$f":"IFERROR(#REF!,0)*GC5","v":0},{"$f":"IFERROR(#REF!,0)*GC5","v":0},{"$f":"IFERROR(#REF!,0)*GG5","v":0},{"$f":"IFERROR(#REF!,0)*GG5","v":0},{"$f":"IFERROR(#REF!,0)*GG5","v":0},{"$f":"IFERROR(#REF!,0)*GG5","v":0},{"$f":"IFERROR(#REF!,0)*GK5","v":0},{"$f":"IFERROR(#REF!,0)*GK5","v":0},{"$f":"IFERROR(#REF!,0)*GK5","v":0},{"$f":"IFERROR(#REF!,0)*GK5","v":0},{"$f":"IFERROR(#REF!,0)*GO5","v":0},{"$f":"IFERROR(#REF!,0)*GO5","v":0},{"$f":"IFERROR(#REF!,0)*GO5","v":0},{"$f":"IFERROR(#REF!,0)*GO5","v":0},{"$f":"IFERROR(#REF!,0)*GS5","v":0},{"$f":"IFERROR(#REF!,0)*GS5","v":0},{"$f":"IFERROR(#REF!,0)*GS5","v":0},{"$f":"IFERROR(#REF!,0)*GS5","v":0},{"v":0,"d":"0.00"},{"v":0,"d":"0.00"},{"v":0,"d":"0.00"},{"v":0,"d":"0.00"}]
[null,{"$f":"#REF!","v":{"$error":"#REF!"}},{"$f":"#REF!","v":{"$error":"#REF!"}},{"$f":"IFERROR(#REF!,0)*E5","v":0},{"$f":"IFERROR(#REF!,0)*E5","v":0},{"$f":"IFERROR(#REF!,0)*E5","v":0},{"$f":"IFERROR(#REF!,0)*E5","v":0},{"$f":"IFERROR(#REF!,0)*I5","v":0},{"$f":"IFERROR(#REF!,0)*I5","v":0},{"$f":"IFERROR(#REF!,0)*I5","v":0},{"$f":"IFERROR(#REF!,0)*I5","v":0},{"$f":"IFERROR(#REF!,0)*M5","v":0},{"$f":"IFERROR(#REF!,0)*M5","v":0},{"$f":"IFERROR(#REF!,0)*M5","v":0},{"$f":"IFERROR(#REF!,0)*M5","v":0},{"$f":"IFERROR(#REF!,0)*Q5","v":0},{"$f":"IFERROR(#REF!,0)*Q5","v":0},{"$f":"IFERROR(#REF!,0)*Q5","v":0},{"$f":"IFERROR(#REF!,0)*Q5","v":0},{"$f":"IFERROR(#REF!,0)*U5","v":0},{"$f":"IFERROR(#REF!,0)*U5","v":0},{"$f":"IFERROR(#REF!,0)*U5","v":0},{"$f":"IFERROR(#REF!,0)*U5","v":0},{"$f":"IFERROR(#REF!,0)*Y5","v":0},{"$f":"IFERROR(#REF!,0)*Y5","v":0},{"$f":"IFERROR(#REF!,0)*Y5","v":0},{"$f":"IFERROR(#REF!,0)*Y5","v":0},{"$f":"IFERROR(#REF!,0)*AC5","v":0},{"$f":"IFERROR(#REF!,0)*AC5","v":0},{"$f":"IFERROR(#REF!,0)*AC5","v":0},{"$f":"IFERROR(#REF!,0)*AC5","v":0},{"$f":"IFERROR(#REF!,0)*AG5","v":0},{"$f":"IFERROR(#REF!,0)*AG5","v":0},{"$f":"IFERROR(#REF!,0)*AG5","v":0},{"$f":"IFERROR(#REF!,0)*AG5","v":0},{"$f":"IFERROR(#REF!,0)*AK5","v":0},{"$f":"IFERROR(#REF!,0)*AK5","v":0},{"$f":"IFERROR(#REF!,0)*AK5","v":0},{"$f":"IFERROR(#REF!,0)*AK5","v":0},{"$f":"IFERROR(#REF!,0)*AO5","v":0},{"$f":"IFERROR(#REF!,0)*AO5","v":0},{"$f":"IFERROR(#REF!,0)*AO5","v":0},{"$f":"IFERROR(#REF!,0)*AO5","v":0},{"$f":"IFERROR(#REF!,0)*AS5","v":0},{"$f":"IFERROR(#REF!,0)*AS5","v":0},{"$f":"IFERROR(#REF!,0)*AS5","v":0},{"$f":"IFERROR(#REF!,0)*AS5","v":0},{"$f":"IFERROR(#REF!,0)*AW5","v":0},{"$f":"IFERROR(#REF!,0)*AW5","v":0},{"$f":"IFERROR(#REF!,0)*AW5","v":0},{"$f":"IFERROR(#REF!,0)*AW5","v":0},{"$f":"IFERROR(#REF!,0)*BA5","v":0},{"$f":"IFERROR(#REF!,0)*BA5","v":0},{"$f":"IFERROR(#REF!,0)*BA5","v":0},{"$f":"IFERROR(#REF!,0)*BA5","v":0},{"$f":"IFERROR(#REF!,0)*BE5","v":0},{"$f":"IFERROR(#REF!,0)*BE5","v":0},{"$f":"IFERROR(#REF!,0)*BE5","v":0},{"$f":"IFERROR(#REF!,0)*BE5","v":0},{"$f":"IFERROR(#REF!,0)*BI5","v":0},{"$f":"IFERROR(#REF!,0)*BI5","v":0},{"$f":"IFERROR(#REF!,0)*BI5","v":0},{"$f":"IFERROR(#REF!,0)*BI5","v":0},{"$f":"IFERROR(#REF!,0)*BM5","v":0},{"$f":"IFERROR(#REF!,0)*BM5","v":0},{"$f":"IFERROR(#REF!,0)*BM5","v":0},{"$f":"IFERROR(#REF!,0)*BM5","v":0},{"$f":"IFERROR(#REF!,0)*BQ5","v":0},{"$f":"IFERROR(#REF!,0)*BQ5","v":0},{"$f":"IFERROR(#REF!,0)*BQ5","v":0},{"$f":"IFERROR(#REF!,0)*BQ5","v":0},{"$f":"IFERROR(#REF!,0)*BU5","v":0},{"$f":"IFERROR(#REF!,0)*BU5","v":0},{"$f":"IFERROR(#REF!,0)*BU5","v":0},{"$f":"IFERROR(#REF!,0)*BU5","v":0},{"$f":"IFERROR(#REF!,0)*BY5","v":0},{"$f":"IFERROR(#REF!,0)*BY5","v":0},{"$f":"IFERROR(#REF!,0)*BY5","v":0},{"$f":"IFERROR(#REF!,0)*BY5","v":0},{"$f":"IFERROR(#REF!,0)*CC5","v":0},{"$f":"IFERROR(#REF!,0)*CC5","v":0},{"$f":"IFERROR(#REF!,0)*CC5","v":0},{"$f":"IFERROR(#REF!,0)*CC5","v":0},{"$f":"IFERROR(#REF!,0)*CG5","v":0},{"$f":"IFERROR(#REF!,0)*CG5","v":0},{"$f":"IFERROR(#REF!,0)*CG5","v":0},{"$f":"IFERROR(#REF!,0)*CG5","v":0},{"$f":"IFERROR(#REF!,0)*CK5","v":0},{"$f":"IFERROR(#REF!,0)*CK5","v":0},{"$f":"IFERROR(#REF!,0)*CK5","v":0},{"$f":"IFERROR(#REF!,0)*CK5","v":0},{"$f":"IFERROR(#REF!,0)*CO5","v":0},{"$f":"IFERROR(#REF!,0)*CO5","v":0},{"$f":"IFERROR(#REF!,0)*CO5","v":0},{"$f":"IFERROR(#REF!,0)*CO5","v":0},{"$f":"IFERROR(#REF!,0)*CS5","v":0},{"$f":"IFERROR(#REF!,0)*CS5","v":0},{"$f":"IFERROR(#REF!,0)*CS5","v":0},{"$f":"IFERROR(#REF!,0)*CS5","v":0},{"$f":"IFERROR(#REF!,0)*CW5","v":0},{"$f":"IFERROR(#REF!,0)*CW5","v":0},{"$f":"IFERROR(#REF!,0)*CW5","v":0},{"$f":"IFERROR(#REF!,0)*CW5","v":0},{"$f":"IFERROR(#REF!,0)*DA5","v":0},{"$f":"IFERROR(#REF!,0)*DA5","v":0},{"$f":"IFERROR(#REF!,0)*DA5","v":0},{"$f":"IFERROR(#REF!,0)*DA5","v":0},{"$f":"IFERROR(#REF!,0)*DE5","v":0},{"$f":"IFERROR(#REF!,0)*DE5","v":0},{"$f":"IFERROR(#REF!,0)*DE5","v":0},{"$f":"IFERROR(#REF!,0)*DE5","v":0},{"$f":"IFERROR(#REF!,0)*DI5","v":0},{"$f":"IFERROR(#REF!,0)*DI5","v":0},{"$f":"IFERROR(#REF!,0)*DI5","v":0},{"$f":"IFERROR(#REF!,0)*DI5","v":0},{"$f":"IFERROR(#REF!,0)*DM5","v":0},{"$f":"IFERROR(#REF!,0)*DM5","v":0},{"$f":"IFERROR(#REF!,0)*DM5","v":0},{"$f":"IFERROR(#REF!,0)*DM5","v":0},{"$f":"IFERROR(#REF!,0)*DQ5","v":0},{"$f":"IFERROR(#REF!,0)*DQ5","v":0},{"$f":"IFERROR(#REF!,0)*DQ5","v":0},{"$f":"IFERROR(#REF!,0)*DQ5","v":0},{"$f":"IFERROR(#REF!,0)*DU5","v":0},{"$f":"IFERROR(#REF!,0)*DU5","v":0},{"$f":"IFERROR(#REF!,0)*DU5","v":0},{"$f":"IFERROR(#REF!,0)*DU5","v":0},{"$f":"IFERROR(#REF!,0)*DY5","v":0},{"$f":"IFERROR(#REF!,0)*DY5","v":0},{"$f":"IFERROR(#REF!,0)*DY5","v":0},{"$f":"IFERROR(#REF!,0)*DY5","v":0},{"$f":"IFERROR(#REF!,0)*EC5","v":0},{"$f":"IFERROR(#REF!,0)*EC5","v":0},{"$f":"IFERROR(#REF!,0)*EC5","v":0},{"$f":"IFERROR(#REF!,0)*EC5","v":0},{"$f":"IFERROR(#REF!,0)*EG5","v":0},{"$f":"IFERROR(#REF!,0)*EG5","v":0},{"$f":"IFERROR(#REF!,0)*EG5","v":0},{"$f":"IFERROR(#REF!,0)*EG5","v":0},{"$f":"IFERROR(#REF!,0)*EK5","v":0},{"$f":"IFERROR(#REF!,0)*EK5","v":0},{"$f":"IFERROR(#REF!,0)*EK5","v":0},{"$f":"IFERROR(#REF!,0)*EK5","v":0},{"$f":"IFERROR(#REF!,0)*EO5","v":0},{"$f":"IFERROR(#REF!,0)*EO5","v":0},{"$f":"IFERROR(#REF!,0)*EO5","v":0},{"$f":"IFERROR(#REF!,0)*EO5","v":0},{"$f":"IFERROR(#REF!,0)*ES5","v":0},{"$f":"IFERROR(#REF!,0)*ES5","v":0},{"$f":"IFERROR(#REF!,0)*ES5","v":0},{"$f":"IFERROR(#REF!,0)*ES5","v":0},{"$f":"IFERROR(#REF!,0)*EW5","v":0},{"$f":"IFERROR(#REF!,0)*EW5","v":0},{"$f":"IFERROR(#REF!,0)*EW5","v":0},{"$f":"IFERROR(#REF!,0)*EW5","v":0},{"$f":"IFERROR(#REF!,0)*FA5","v":0},{"$f":"IFERROR(#REF!,0)*FA5","v":0},{"$f":"IFERROR(#REF!,0)*FA5","v":0},{"$f":"IFERROR(#REF!,0)*FA5","v":0},{"$f":"IFERROR(#REF!,0)*FE5","v":0},{"$f":"IFERROR(#REF!,0)*FE5","v":0},{"$f":"IFERROR(#REF!,0)*FE5","v":0},{"$f":"IFERROR(#REF!,0)*FE5","v":0},{"$f":"IFERROR(#REF!,0)*FI5","v":0},{"$f":"IFERROR(#REF!,0)*FI5","v":0},{"$f":"IFERROR(#REF!,0)*FI5","v":0},{"$f":"IFERROR(#REF!,0)*FI5","v":0},{"$f":"IFERROR(#REF!,0)*FM5","v":0},{"$f":"IFERROR(#REF!,0)*FM5","v":0},{"$f":"IFERROR(#REF!,0)*FM5","v":0},{"$f":"IFERROR(#REF!,0)*FM5","v":0},{"$f":"IFERROR(#REF!,0)*FQ5","v":0},{"$f":"IFERROR(#REF!,0)*FQ5","v":0},{"$f":"IFERROR(#REF!,0)*FQ5","v":0},{"$f":"IFERROR(#REF!,0)*FQ5","v":0},{"$f":"IFERROR(#REF!,0)*FU5","v":0},{"$f":"IFERROR(#REF!,0)*FU5","v":0},{"$f":"IFERROR(#REF!,0)*FU5","v":0},{"$f":"IFERROR(#REF!,0)*FU5","v":0},{"$f":"IFERROR(#REF!,0)*FY5","v":0},{"$f":"IFERROR(#REF!,0)*FY5","v":0},{"$f":"IFERROR(#REF!,0)*FY5","v":0},{"$f":"IFERROR(#REF!,0)*FY5","v":0},{"$f":"IFERROR(#REF!,0)*GC5","v":0},{"$f":"IFERROR(#REF!,0)*GC5","v":0},{"$f":"IFERROR(#REF!,0)*GC5","v":0},{"$f":"IFERROR(#REF!,0)*GC5","v":0},{"$f":"IFERROR(#REF!,0)*GG5","v":0},{"$f":"IFERROR(#REF!,0)*GG5","v":0},{"$f":"IFERROR(#REF!,0)*GG5","v":0},{"$f":"IFERROR(#REF!,0)*GG5","v":0},{"$f":"IFERROR(#REF!,0)*GK5","v":0},{"$f":"IFERROR(#REF!,0)*GK5","v":0},{"$f":"IFERROR(#REF!,0)*GK5","v":0},{"$f":"IFERROR(#REF!,0)*GK5","v":0},{"$f":"IFERROR(#REF!,0)*GO5","v":0},{"$f":"IFERROR(#REF!,0)*GO5","v":0},{"$f":"IFERROR(#REF!,0)*GO5","v":0},{"$f":"IFERROR(#REF!,0)*GO5","v":0},{"$f":"IFERROR(#REF!,0)*GS5","v":0},{"$f":"IFERROR(#REF!,0)*GS5","v":0},{"$f":"IFERROR(#REF!,0)*GS5","v":0},{"$f":"IFERROR(#REF!,0)*GS5","v":0},{"v":0,"d":"0.00"},{"v":0,"d":"0.00"},{"v":0,"d":"0.00"},{"v":0,"d":"0.00"}]
[null,{"$f":"#REF!","v":{"$error":"#REF!"}},{"$f":"#REF!","v":{"$error":"#REF!"}},{"$f":"IFERROR(#REF!,0)*E5","v":0},{"$f":"IFERROR(#REF!,0)*E5","v":0},{"$f":"IFERROR(#REF!,0)*E5","v":0},{"$f":"IFERROR(#REF!,0)*E5","v":0},{"$f":"IFERROR(#REF!,0)*I5","v":0},{"$f":"IFERROR(#REF!,0)*I5","v":0},{"$f":"IFERROR(#REF!,0)*I5","v":0},{"$f":"IFERROR(#REF!,0)*I5","v":0},{"$f":"IFERROR(#REF!,0)*M5","v":0},{"$f":"IFERROR(#REF!,0)*M5","v":0},{"$f":"IFERROR(#REF!,0)*M5","v":0},{"$f":"IFERROR(#REF!,0)*M5","v":0},{"$f":"IFERROR(#REF!,0)*Q5","v":0},{"$f":"IFERROR(#REF!,0)*Q5","v":0},{"$f":"IFERROR(#REF!,0)*Q5","v":0},{"$f":"IFERROR(#REF!,0)*Q5","v":0},{"$f":"IFERROR(#REF!,0)*U5","v":0},{"$f":"IFERROR(#REF!,0)*U5","v":0},{"$f":"IFERROR(#REF!,0)*U5","v":0},{"$f":"IFERROR(#REF!,0)*U5","v":0},{"$f":"IFERROR(#REF!,0)*Y5","v":0},{"$f":"IFERROR(#REF!,0)*Y5","v":0},{"$f":"IFERROR(#REF!,0)*Y5","v":0},{"$f":"IFERROR(#REF!,0)*Y5","v":0},{"$f":"IFERROR(#REF!,0)*AC5","v":0},{"$f":"IFERROR(#REF!,0)*AC5","v":0},{"$f":"IFERROR(#REF!,0)*AC5","v":0},{"$f":"IFERROR(#REF!,0)*AC5","v":0},{"$f":"IFERROR(#REF!,0)*AG5","v":0},{"$f":"IFERROR(#REF!,0)*AG5","v":0},{"$f":"IFERROR(#REF!,0)*AG5","v":0},{"$f":"IFERROR(#REF!,0)*AG5","v":0},{"$f":"IFERROR(#REF!,0)*AK5","v":0},{"$f":"IFERROR(#REF!,0)*AK5","v":0},{"$f":"IFERROR(#REF!,0)*AK5","v":0},{"$f":"IFERROR(#REF!,0)*AK5","v":0},{"$f":"IFERROR(#REF!,0)*AO5","v":0},{"$f":"IFERROR(#REF!,0)*AO5","v":0},{"$f":"IFERROR(#REF!,0)*AO5","v":0},{"$f":"IFERROR(#REF!,0)*AO5","v":0},{"$f":"IFERROR(#REF!,0)*AS5","v":0},{"$f":"IFERROR(#REF!,0)*AS5","v":0},{"$f":"IFERROR(#REF!,0)*AS5","v":0},{"$f":"IFERROR(#REF!,0)*AS5","v":0},{"$f":"IFERROR(#REF!,0)*AW5","v":0},{"$f":"IFERROR(#REF!,0)*AW5","v":0},{"$f":"IFERROR(#REF!,0)*AW5","v":0},{"$f":"IFERROR(#REF!,0)*AW5","v":0},{"$f":"IFERROR(#REF!,0)*BA5","v":0},{"$f":"IFERROR(#REF!,0)*BA5","v":0},{"$f":"IFERROR(#REF!,0)*BA5","v":0},{"$f":"IFERROR(#REF!,0)*BA5","v":0},{"$f":"IFERROR(#REF!,0)*BE5","v":0},{"$f":"IFERROR(#REF!,0)*BE5","v":0},{"$f":"IFERROR(#REF!,0)*BE5","v":0},{"$f":"IFERROR(#REF!,0)*BE5","v":0},{"$f":"IFERROR(#REF!,0)*BI5","v":0},{"$f":"IFERROR(#REF!,0)*BI5","v":0},{"$f":"IFERROR(#REF!,0)*BI5","v":0},{"$f":"IFERROR(#REF!,0)*BI5","v":0},{"$f":"IFERROR(#REF!,0)*BM5","v":0},{"$f":"IFERROR(#REF!,0)*BM5","v":0},{"$f":"IFERROR(#REF!,0)*BM5","v":0},{"$f":"IFERROR(#REF!,0)*BM5","v":0},{"$f":"IFERROR(#REF!,0)*BQ5","v":0},{"$f":"IFERROR(#REF!,0)*BQ5","v":0},{"$f":"IFERROR(#REF!,0)*BQ5","v":0},{"$f":"IFERROR(#REF!,0)*BQ5","v":0},{"$f":"IFERROR(#REF!,0)*BU5","v":0},{"$f":"IFERROR(#REF!,0)*BU5","v":0},{"$f":"IFERROR(#REF!,0)*BU5","v":0},{"$f":"IFERROR(#REF!,0)*BU5","v":0},{"$f":"IFERROR(#REF!,0)*BY5","v":0},{"$f":"IFERROR(#REF!,0)*BY5","v":0},{"$f":"IFERROR(#REF!,0)*BY5","v":0},{"$f":"IFERROR(#REF!,0)*BY5","v":0},{"$f":"IFERROR(#REF!,0)*CC5","v":0},{"$f":"IFERROR(#REF!,0)*CC5","v":0},{"$f":"IFERROR(#REF!,0)*CC5","v":0},{"$f":"IFERROR(#REF!,0)*CC5","v":0},{"$f":"IFERROR(#REF!,0)*CG5","v":0},{"$f":"IFERROR(#REF!,0)*CG5","v":0},{"$f":"IFERROR(#REF!,0)*CG5","v":0},{"$f":"IFERROR(#REF!,0)*CG5","v":0},{"$f":"IFERROR(#REF!,0)*CK5","v":0},{"$f":"IFERROR(#REF!,0)*CK5","v":0},{"$f":"IFERROR(#REF!,0)*CK5","v":0},{"$f":"IFERROR(#REF!,0)*CK5","v":0},{"$f":"IFERROR(#REF!,0)*CO5","v":0},{"$f":"IFERROR(#REF!,0)*CO5","v":0},{"$f":"IFERROR(#REF!,0)*CO5","v":0},{"$f":"IFERROR(#REF!,0)*CO5","v":0},{"$f":"IFERROR(#REF!,0)*CS5","v":0},{"$f":"IFERROR(#REF!,0)*CS5","v":0},{"$f":"IFERROR(#REF!,0)*CS5","v":0},{"$f":"IFERROR(#REF!,0)*CS5","v":0},{"$f":"IFERROR(#REF!,0)*CW5","v":0},{"$f":"IFERROR(#REF!,0)*CW5","v":0},{"$f":"IFERROR(#REF!,0)*CW5","v":0},{"$f":"IFERROR(#REF!,0)*CW5","v":0},{"$f":"IFERROR(#REF!,0)*DA5","v":0},{"$f":"IFERROR(#REF!,0)*DA5","v":0},{"$f":"IFERROR(#REF!,0)*DA5","v":0},{"$f":"IFERROR(#REF!,0)*DA5","v":0},{"$f":"IFERROR(#REF!,0)*DE5","v":0},{"$f":"IFERROR(#REF!,0)*DE5","v":0},{"$f":"IFERROR(#REF!,0)*DE5","v":0},{"$f":"IFERROR(#REF!,0)*DE5","v":0},{"$f":"IFERROR(#REF!,0)*DI5","v":0},{"$f":"IFERROR(#REF!,0)*DI5","v":0},{"$f":"IFERROR(#REF!,0)*DI5","v":0},{"$f":"IFERROR(#REF!,0)*DI5","v":0},{"$f":"IFERROR(#REF!,0)*DM5","v":0},{"$f":"IFERROR(#REF!,0)*DM5","v":0},{"$f":"IFERROR(#REF!,0)*DM5","v":0},{"$f":"IFERROR(#REF!,0)*DM5","v":0},{"$f":"IFERROR(#REF!,0)*DQ5","v":0},{"$f":"IFERROR(#REF!,0)*DQ5","v":0},{"$f":"IFERROR(#REF!,0)*DQ5","v":0},{"$f":"IFERROR(#REF!,0)*DQ5","v":0},{"$f":"IFERROR(#REF!,0)*DU5","v":0},{"$f":"IFERROR(#REF!,0)*DU5","v":0},{"$f":"IFERROR(#REF!,0)*DU5","v":0},{"$f":"IFERROR(#REF!,0)*DU5","v":0},{"$f":"IFERROR(#REF!,0)*DY5","v":0},{"$f":"IFERROR(#REF!,0)*DY5","v":0},{"$f":"IFERROR(#REF!,0)*DY5","v":0},{"$f":"IFERROR(#REF!,0)*DY5","v":0},{"$f":"IFERROR(#REF!,0)*EC5","v":0},{"$f":"IFERROR(#REF!,0)*EC5","v":0},{"$f":"IFERROR(#REF!,0)*EC5","v":0},{"$f":"IFERROR(#REF!,0)*EC5","v":0},{"$f":"IFERROR(#REF!,0)*EG5","v":0},{"$f":"IFERROR(#REF!,0)*EG5","v":0},{"$f":"IFERROR(#REF!,0)*EG5","v":0},{"$f":"IFERROR(#REF!,0)*EG5","v":0},{"$f":"IFERROR(#REF!,0)*EK5","v":0},{"$f":"IFERROR(#REF!,0)*EK5","v":0},{"$f":"IFERROR(#REF!,0)*EK5","v":0},{"$f":"IFERROR(#REF!,0)*EK5","v":0},{"$f":"IFERROR(#REF!,0)*EO5","v":0},{"$f":"IFERROR(#REF!,0)*EO5","v":0},{"$f":"IFERROR(#REF!,0)*EO5","v":0},{"$f":"IFERROR(#REF!,0)*EO5","v":0},{"$f":"IFERROR(#REF!,0)*ES5","v":0},{"$f":"IFERROR(#REF!,0)*ES5","v":0},{"$f":"IFERROR(#REF!,0)*ES5","v":0},{"$f":"IFERROR(#REF!,0)*ES5","v":0},{"$f":"IFERROR(#REF!,0)*EW5","v":0},{"$f":"IFERROR(#REF!,0)*EW5","v":0},{"$f":"IFERROR(#REF!,0)*EW5","v":0},{"$f":"IFERROR(#REF!,0)*EW5","v":0},{"$f":"IFERROR(#REF!,0)*FA5","v":0},{"$f":"IFERROR(#REF!,0)*FA5","v":0},{"$f":"IFERROR(#REF!,0)*FA5","v":0},{"$f":"IFERROR(#REF!,0)*FA5","v":0},{"$f":"IFERROR(#REF!,0)*FE5","v":0},{"$f":"IFERROR(#REF!,0)*FE5","v":0},{"$f":"IFERROR(#REF!,0)*FE5","v":0},{"$f":"IFERROR(#REF!,0)*FE5","v":0},{"$f":"IFERROR(#REF!,0)*FI5","v":0},{"$f":"IFERROR(#REF!,0)*FI5","v":0},{"$f":"IFERROR(#REF!,0)*FI5","v":0},{"$f":"IFERROR(#REF!,0)*FI5","v":0},{"$f":"IFERROR(#REF!,0)*FM5","v":0},{"$f":"IFERROR(#REF!,0)*FM5","v":0},{"$f":"IFERROR(#REF!,0)*FM5","v":0},{"$f":"IFERROR(#REF!,0)*FM5","v":0},{"$f":"IFERROR(#REF!,0)*FQ5","v":0},{"$f":"IFERROR(#REF!,0)*FQ5","v":0},{"$f":"IFERROR(#REF!,0)*FQ5","v":0},{"$f":"IFERROR(#REF!,0)*FQ5","v":0},{"$f":"IFERROR(#REF!,0)*FU5","v":0},{"$f":"IFERROR(#REF!,0)*FU5","v":0},{"$f":"IFERROR(#REF!,0)*FU5","v":0},{"$f":"IFERROR(#REF!,0)*FU5","v":0},{"$f":"IFERROR(#REF!,0)*FY5","v":0},{"$f":"IFERROR(#REF!,0)*FY5","v":0},{"$f":"IFERROR(#REF!,0)*FY5","v":0},{"$f":"IFERROR(#REF!,0)*FY5","v":0},{"$f":"IFERROR(#REF!,0)*GC5","v":0},{"$f":"IFERROR(#REF!,0)*GC5","v":0},{"$f":"IFERROR(#REF!,0)*GC5","v":0},{"$f":"IFERROR(#REF!,0)*GC5","v":0},{"$f":"IFERROR(#REF!,0)*GG5","v":0},{"$f":"IFERROR(#REF!,0)*GG5","v":0},{"$f":"IFERROR(#REF!,0)*GG5","v":0},{"$f":"IFERROR(#REF!,0)*GG5","v":0},{"$f":"IFERROR(#REF!,0)*GK5","v":0},{"$f":"IFERROR(#REF!,0)*GK5","v":0},{"$f":"IFERROR(#REF!,0)*GK5","v":0},{"$f":"IFERROR(#REF!,0)*GK5","v":0},{"$f":"IFERROR(#REF!,0)*GO5","v":0},{"$f":"IFERROR(#REF!,0)*GO5","v":0},{"$f":"IFERROR(#REF!,0)*GO5","v":0},{"$f":"IFERROR(#REF!,0)*GO5","v":0},{"$f":"IFERROR(#REF!,0)*GS5","v":0},{"$f":"IFERROR(#REF!,0)*GS5","v":0},{"$f":"IFERROR(#REF!,0)*GS5","v":0},{"$f":"IFERROR(#REF!,0)*GS5","v":0},{"v":0,"d":"0.00"},{"v":0,"d":"0.00"},{"v":0,"d":"0.00"},{"v":0,"d":"0.00"}]
[null,{"$f":"#REF!","v":{"$error":"#REF!"}},{"$f":"#REF!","v":{"$error":"#REF!"}},{"$f":"IFERROR(#REF!,0)*E5","v":0},{"$f":"IFERROR(#REF!,0)*E5","v":0},{"$f":"IFERROR(#REF!,0)*E5","v":0},{"$f":"IFERROR(#REF!,0)*E5","v":0},{"$f":"IFERROR(#REF!,0)*I5","v":0},{"$f":"IFERROR(#REF!,0)*I5","v":0},{"$f":"IFERROR(#REF!,0)*I5","v":0},{"$f":"IFERROR(#REF!,0)*I5","v":0},{"$f":"IFERROR(#REF!,0)*M5","v":0},{"$f":"IFERROR(#REF!,0)*M5","v":0},{"$f":"IFERROR(#REF!,0)*M5","v":0},{"$f":"IFERROR(#REF!,0)*M5","v":0},{"$f":"IFERROR(#REF!,0)*Q5","v":0},{"$f":"IFERROR(#REF!,0)*Q5","v":0},{"$f":"IFERROR(#REF!,0)*Q5","v":0},{"$f":"IFERROR(#REF!,0)*Q5","v":0},{"$f":"IFERROR(#REF!,0)*U5","v":0},{"$f":"IFERROR(#REF!,0)*U5","v":0},{"$f":"IFERROR(#REF!,0)*U5","v":0},{"$f":"IFERROR(#REF!,0)*U5","v":0},{"$f":"IFERROR(#REF!,0)*Y5","v":0},{"$f":"IFERROR(#REF!,0)*Y5","v":0},{"$f":"IFERROR(#REF!,0)*Y5","v":0},{"$f":"IFERROR(#REF!,0)*Y5","v":0},{"$f":"IFERROR(#REF!,0)*AC5","v":0},{"$f":"IFERROR(#REF!,0)*AC5","v":0},{"$f":"IFERROR(#REF!,0)*AC5","v":0},{"$f":"IFERROR(#REF!,0)*AC5","v":0},{"$f":"IFERROR(#REF!,0)*AG5","v":0},{"$f":"IFERROR(#REF!,0)*AG5","v":0},{"$f":"IFERROR(#REF!,0)*AG5","v":0},{"$f":"IFERROR(#REF!,0)*AG5","v":0},{"$f":"IFERROR(#REF!,0)*AK5","v":0},{"$f":"IFERROR(#REF!,0)*AK5","v":0},{"$f":"IFERROR(#REF!,0)*AK5","v":0},{"$f":"IFERROR(#REF!,0)*AK5","v":0},{"$f":"IFERROR(#REF!,0)*AO5","v":0},{"$f":"IFERROR(#REF!,0)*AO5","v":0},{"$f":"IFERROR(#REF!,0)*AO5","v":0},{"$f":"IFERROR(#REF!,0)*AO5","v":0},{"$f":"IFERROR(#REF!,0)*AS5","v":0},{"$f":"IFERROR(#REF!,0)*AS5","v":0},{"$f":"IFERROR(#REF!,0)*AS5","v":0},{"$f":"IFERROR(#REF!,0)*AS5","v":0},{"$f":"IFERROR(#REF!,0)*AW5","v":0},{"$f":"IFERROR(#REF!,0)*AW5","v":0},{"$f":"IFERROR(#REF!,0)*AW5","v":0},{"$f":"IFERROR(#REF!,0)*AW5","v":0},{"$f":"IFERROR(#REF!,0)*BA5","v":0},{"$f":"IFERROR(#REF!,0)*BA5","v":0},{"$f":"IFERROR(#REF!,0)*BA5","v":0},{"$f":"IFERROR(#REF!,0)*BA5","v":0},{"$f":"IFERROR(#REF!,0)*BE5","v":0},{"$f":"IFERROR(#REF!,0)*BE5","v":0},{"$f":"IFERROR(#REF!,0)*BE5","v":0},{"$f":"IFERROR(#REF!,0)*BE5","v":0},{"$f":"IFERROR(#REF!,0)*BI5","v":0},{"$f":"IFERROR(#REF!,0)*BI5","v":0},{"$f":"IFERROR(#REF!,0)*BI5","v":0},{"$f":"IFERROR(#REF!,0)*BI5","v":0},{"$f":"IFERROR(#REF!,0)*BM5","v":0},{"$f":"IFERROR(#REF!,0)*BM5","v":0},{"$f":"IFERROR(#REF!,0)*BM5","v":0},{"$f":"IFERROR(#REF!,0)*BM5","v":0},{"$f":"IFERROR(#REF!,0)*BQ5","v":0},{"$f":"IFERROR(#REF!,0)*BQ5","v":0},{"$f":"IFERROR(#REF!,0)*BQ5","v":0},{"$f":"IFERROR(#REF!,0)*BQ5","v":0},{"$f":"IFERROR(#REF!,0)*BU5","v":0},{"$f":"IFERROR(#REF!,0)*BU5","v":0},{"$f":"IFERROR(#REF!,0)*BU5","v":0},{"$f":"IFERROR(#REF!,0)*BU5","v":0},{"$f":"IFERROR(#REF!,0)*BY5","v":0},{"$f":"IFERROR(#REF!,0)*BY5","v":0},{"$f":"IFERROR(#REF!,0)*BY5","v":0},{"$f":"IFERROR(#REF!,0)*BY5","v":0},{"$f":"IFERROR(#REF!,0)*CC5","v":0},{"$f":"IFERROR(#REF!,0)*CC5","v":0},{"$f":"IFERROR(#REF!,0)*CC5","v":0},{"$f":"IFERROR(#REF!,0)*CC5","v":0},{"$f":"IFERROR(#REF!,0)*CG5","v":0},{"$f":"IFERROR(#REF!,0)*CG5","v":0},{"$f":"IFERROR(#REF!,0)*CG5","v":0},{"$f":"IFERROR(#REF!,0)*CG5","v":0},{"$f":"IFERROR(#REF!,0)*CK5","v":0},{"$f":"IFERROR(#REF!,0)*CK5","v":0},{"$f":"IFERROR(#REF!,0)*CK5","v":0},{"$f":"IFERROR(#REF!,0)*CK5","v":0},{"$f":"IFERROR(#REF!,0)*CO5","v":0},{"$f":"IFERROR(#REF!,0)*CO5","v":0},{"$f":"IFERROR(#REF!,0)*CO5","v":0},{"$f":"IFERROR(#REF!,0)*CO5","v":0},{"$f":"IFERROR(#REF!,0)*CS5","v":0},{"$f":"IFERROR(#REF!,0)*CS5","v":0},{"$f":"IFERROR(#REF!,0)*CS5","v":0},{"$f":"IFERROR(#REF!,0)*CS5","v":0},{"$f":"IFERROR(#REF!,0)*CW5","v":0},{"$f":"IFERROR(#REF!,0)*CW5","v":0},{"$f":"IFERROR(#REF!,0)*CW5","v":0},{"$f":"IFERROR(#REF!,0)*CW5","v":0},{"$f":"IFERROR(#REF!,0)*DA5","v":0},{"$f":"IFERROR(#REF!,0)*DA5","v":0},{"$f":"IFERROR(#REF!,0)*DA5","v":0},{"$f":"IFERROR(#REF!,0)*DA5","v":0},{"$f":"IFERROR(#REF!,0)*DE5","v":0},{"$f":"IFERROR(#REF!,0)*DE5","v":0},{"$f":"IFERROR(#REF!,0)*DE5","v":0},{"$f":"IFERROR(#REF!,0)*DE5","v":0},{"$f":"IFERROR(#REF!,0)*DI5","v":0},{"$f":"IFERROR(#REF!,0)*DI5","v":0},{"$f":"IFERROR(#REF!,0)*DI5","v":0},{"$f":"IFERROR(#REF!,0)*DI5","v":0},{"$f":"IFERROR(#REF!,0)*DM5","v":0},{"$f":"IFERROR(#REF!,0)*DM5","v":0},{"$f":"IFERROR(#REF!,0)*DM5","v":0},{"$f":"IFERROR(#REF!,0)*DM5","v":0},{"$f":"IFERROR(#REF!,0)*DQ5","v":0},{"$f":"IFERROR(#REF!,0)*DQ5","v":0},{"$f":"IFERROR(#REF!,0)*DQ5","v":0},{"$f":"IFERROR(#REF!,0)*DQ5","v":0},{"$f":"IFERROR(#REF!,0)*DU5","v":0},{"$f":"IFERROR(#REF!,0)*DU5","v":0},{"$f":"IFERROR(#REF!,0)*DU5","v":0},{"$f":"IFERROR(#REF!,0)*DU5","v":0},{"$f":"IFERROR(#REF!,0)*DY5","v":0},{"$f":"IFERROR(#REF!,0)*DY5","v":0},{"$f":"IFERROR(#REF!,0)*DY5","v":0},{"$f":"IFERROR(#REF!,0)*DY5","v":0},{"$f":"IFERROR(#REF!,0)*EC5","v":0},{"$f":"IFERROR(#REF!,0)*EC5","v":0},{"$f":"IFERROR(#REF!,0)*EC5","v":0},{"$f":"IFERROR(#REF!,0)*EC5","v":0},{"$f":"IFERROR(#REF!,0)*EG5","v":0},{"$f":"IFERROR(#REF!,0)*EG5","v":0},{"$f":"IFERROR(#REF!,0)*EG5","v":0},{"$f":"IFERROR(#REF!,0)*EG5","v":0},{"$f":"IFERROR(#REF!,0)*EK5","v":0},{"$f":"IFERROR(#REF!,0)*EK5","v":0},{"$f":"IFERROR(#REF!,0)*EK5","v":0},{"$f":"IFERROR(#REF!,0)*EK5","v":0},{"$f":"IFERROR(#REF!,0)*EO5","v":0},{"$f":"IFERROR(#REF!,0)*EO5","v":0},{"$f":"IFERROR(#REF!,0)*EO5","v":0},{"$f":"IFERROR(#REF!,0)*EO5","v":0},{"$f":"IFERROR(#REF!,0)*ES5","v":0},{"$f":"IFERROR(#REF!,0)*ES5","v":0},{"$f":"IFERROR(#REF!,0)*ES5","v":0},{"$f":"IFERROR(#REF!,0)*ES5","v":0},{"$f":"IFERROR(#REF!,0)*EW5","v":0},{"$f":"IFERROR(#REF!,0)*EW5","v":0},{"$f":"IFERROR(#REF!,0)*EW5","v":0},{"$f":"IFERROR(#REF!,0)*EW5","v":0},{"$f":"IFERROR(#REF!,0)*FA5","v":0},{"$f":"IFERROR(#REF!,0)*FA5","v":0},{"$f":"IFERROR(#REF!,0)*FA5","v":0},{"$f":"IFERROR(#REF!,0)*FA5","v":0},{"$f":"IFERROR(#REF!,0)*FE5","v":0},{"$f":"IFERROR(#REF!,0)*FE5","v":0},{"$f":"IFERROR(#REF!,0)*FE5","v":0},{"$f":"IFERROR(#REF!,0)*FE5","v":0},{"$f":"IFERROR(#REF!,0)*FI5","v":0},{"$f":"IFERROR(#REF!,0)*FI5","v":0},{"$f":"IFERROR(#REF!,0)*FI5","v":0},{"$f":"IFERROR(#REF!,0)*FI5","v":0},{"$f":"IFERROR(#REF!,0)*FM5","v":0},{"$f":"IFERROR(#REF!,0)*FM5","v":0},{"$f":"IFERROR(#REF!,0)*FM5","v":0},{"$f":"IFERROR(#REF!,0)*FM5","v":0},{"$f":"IFERROR(#REF!,0)*FQ5","v":0},{"$f":"IFERROR(#REF!,0)*FQ5","v":0},{"$f":"IFERROR(#REF!,0)*FQ5","v":0},{"$f":"IFERROR(#REF!,0)*FQ5","v":0},{"$f":"IFERROR(#REF!,0)*FU5","v":0},{"$f":"IFERROR(#REF!,0)*FU5","v":0},{"$f":"IFERROR(#REF!,0)*FU5","v":0},{"$f":"IFERROR(#REF!,0)*FU5","v":0},{"$f":"IFERROR(#REF!,0)*FY5","v":0},{"$f":"IFERROR(#REF!,0)*FY5","v":0},{"$f":"IFERROR(#REF!,0)*FY5","v":0},{"$f":"IFERROR(#REF!,0)*FY5","v":0},{"$f":"IFERROR(#REF!,0)*GC5","v":0},{"$f":"IFERROR(#REF!,0)*GC5","v":0},{"$f":"IFERROR(#REF!,0)*GC5","v":0},{"$f":"IFERROR(#REF!,0)*GC5","v":0},{"$f":"IFERROR(#REF!,0)*GG5","v":0},{"$f":"IFERROR(#REF!,0)*GG5","v":0},{"$f":"IFERROR(#REF!,0)*GG5","v":0},{"$f":"IFERROR(#REF!,0)*GG5","v":0},{"$f":"IFERROR(#REF!,0)*GK5","v":0},{"$f":"IFERROR(#REF!,0)*GK5","v":0},{"$f":"IFERROR(#REF!,0)*GK5","v":0},{"$f":"IFERROR(#REF!,0)*GK5","v":0},{"$f":"IFERROR(#REF!,0)*GO5","v":0},{"$f":"IFERROR(#REF!,0)*GO5","v":0},{"$f":"IFERROR(#REF!,0)*GO5","v":0},{"$f":"IFERROR(#REF!,0)*GO5","v":0},{"$f":"IFERROR(#REF!,0)*GS5","v":0},{"$f":"IFERROR(#REF!,0)*GS5","v":0},{"$f":"IFERROR(#REF!,0)*GS5","v":0},{"$f":"IFERROR(#REF!,0)*GS5","v":0},{"v":0,"d":"0.00"},{"v":0,"d":"0.00"},{"v":0,"d":"0.00"},{"v":0,"d":"0.00"}]
[null,{"$f":"#REF!","v":{"$error":"#REF!"}},{"$f":"#REF!","v":{"$error":"#REF!"}},{"$f":"IFERROR(#REF!,0)*E5","v":0},{"$f":"IFERROR(#REF!,0)*E5","v":0},{"$f":"IFERROR(#REF!,0)*E5","v":0},{"$f":"IFERROR(#REF!,0)*E5","v":0},{"$f":"IFERROR(#REF!,0)*I5","v":0},{"$f":"IFERROR(#REF!,0)*I5","v":0},{"$f":"IFERROR(#REF!,0)*I5","v":0},{"$f":"IFERROR(#REF!,0)*I5","v":0},{"$f":"IFERROR(#REF!,0)*M5","v":0},{"$f":"IFERROR(#REF!,0)*M5","v":0},{"$f":"IFERROR(#REF!,0)*M5","v":0},{"$f":"IFERROR(#REF!,0)*M5","v":0},{"$f":"IFERROR(#REF!,0)*Q5","v":0},{"$f":"IFERROR(#REF!,0)*Q5","v":0},{"$f":"IFERROR(#REF!,0)*Q5","v":0},{"$f":"IFERROR(#REF!,0)*Q5","v":0},{"$f":"IFERROR(#REF!,0)*U5","v":0},{"$f":"IFERROR(#REF!,0)*U5","v":0},{"$f":"IFERROR(#REF!,0)*U5","v":0},{"$f":"IFERROR(#REF!,0)*U5","v":0},{"$f":"IFERROR(#REF!,0)*Y5","v":0},{"$f":"IFERROR(#REF!,0)*Y5","v":0},{"$f":"IFERROR(#REF!,0)*Y5","v":0},{"$f":"IFERROR(#REF!,0)*Y5","v":0},{"$f":"IFERROR(#REF!,0)*AC5","v":0},{"$f":"IFERROR(#REF!,0)*AC5","v":0},{"$f":"IFERROR(#REF!,0)*AC5","v":0},{"$f":"IFERROR(#REF!,0)*AC5","v":0},{"$f":"IFERROR(#REF!,0)*AG5","v":0},{"$f":"IFERROR(#REF!,0)*AG5","v":0},{"$f":"IFERROR(#REF!,0)*AG5","v":0},{"$f":"IFERROR(#REF!,0)*AG5","v":0},{"$f":"IFERROR(#REF!,0)*AK5","v":0},{"$f":"IFERROR(#REF!,0)*AK5","v":0},{"$f":"IFERROR(#REF!,0)*AK5","v":0},{"$f":"IFERROR(#REF!,0)*AK5","v":0},{"$f":"IFERROR(#REF!,0)*AO5","v":0},{"$f":"IFERROR(#REF!,0)*AO5","v":0},{"$f":"IFERROR(#REF!,0)*AO5","v":0},{"$f":"IFERROR(#REF!,0)*AO5","v":0},{"$f":"IFERROR(#REF!,0)*AS5","v":0},{"$f":"IFERROR(#REF!,0)*AS5","v":0},{"$f":"IFERROR(#REF!,0)*AS5","v":0},{"$f":"IFERROR(#REF!,0)*AS5","v":0},{"$f":"IFERROR(#REF!,0)*AW5","v":0},{"$f":"IFERROR(#REF!,0)*AW5","v":0},{"$f":"IFERROR(#REF!,0)*AW5","v":0},{"$f":"IFERROR(#REF!,0)*AW5","v":0},{"$f":"IFERROR(#REF!,0)*BA5","v":0},{"$f":"IFERROR(#REF!,0)*BA5","v":0},{"$f":"IFERROR(#REF!,0)*BA5","v":0},{"$f":"IFERROR(#REF!,0)*BA5","v":0},{"$f":"IFERROR(#REF!,0)*BE5","v":0},{"$f":"IFERROR(#REF!,0)*BE5","v":0},{"$f":"IFERROR(#REF!,0)*BE5","v":0},{"$f":"IFERROR(#REF!,0)*BE5","v":0},{"$f":"IFERROR(#REF!,0)*BI5","v":0},{"$f":"IFERROR(#REF!,0)*BI5","v":0},{"$f":"IFERROR(#REF!,0)*BI5","v":0},{"$f":"IFERROR(#REF!,0)*BI5","v":0},{"$f":"IFERROR(#REF!,0)*BM5","v":0},{"$f":"IFERROR(#REF!,0)*BM5","v":0},{"$f":"IFERROR(#REF!,0)*BM5","v":0},{"$f":"IFERROR(#REF!,0)*BM5","v":0},{"$f":"IFERROR(#REF!,0)*BQ5","v":0},{"$f":"IFERROR(#REF!,0)*BQ5","v":0},{"$f":"IFERROR(#REF!,0)*BQ5","v":0},{"$f":"IFERROR(#REF!,0)*BQ5","v":0},{"$f":"IFERROR(#REF!,0)*BU5","v":0},{"$f":"IFERROR(#REF!,0)*BU5","v":0},{"$f":"IFERROR(#REF!,0)*BU5","v":0},{"$f":"IFERROR(#REF!,0)*BU5","v":0},{"$f":"IFERROR(#REF!,0)*BY5","v":0},{"$f":"IFERROR(#REF!,0)*BY5","v":0},{"$f":"IFERROR(#REF!,0)*BY5","v":0},{"$f":"IFERROR(#REF!,0)*BY5","v":0},{"$f":"IFERROR(#REF!,0)*CC5","v":0},{"$f":"IFERROR(#REF!,0)*CC5","v":0},{"$f":"IFERROR(#REF!,0)*CC5","v":0},{"$f":"IFERROR(#REF!,0)*CC5","v":0},{"$f":"IFERROR(#REF!,0)*CG5","v":0},{"$f":"IFERROR(#REF!,0)*CG5","v":0},{"$f":"IFERROR(#REF!,0)*CG5","v":0},{"$f":"IFERROR(#REF!,0)*CG5","v":0},{"$f":"IFERROR(#REF!,0)*CK5","v":0},{"$f":"IFERROR(#REF!,0)*CK5","v":0},{"$f":"IFERROR(#REF!,0)*CK5","v":0},{"$f":"IFERROR(#REF!,0)*CK5","v":0},{"$f":"IFERROR(#REF!,0)*CO5","v":0},{"$f":"IFERROR(#REF!,0)*CO5","v":0},{"$f":"IFERROR(#REF!,0)*CO5","v":0},{"$f":"IFERROR(#REF!,0)*CO5","v":0},{"$f":"IFERROR(#REF!,0)*CS5","v":0},{"$f":"IFERROR(#REF!,0)*CS5","v":0},{"$f":"IFERROR(#REF!,0)*CS5","v":0},{"$f":"IFERROR(#REF!,0)*CS5","v":0},{"$f":"IFERROR(#REF!,0)*CW5","v":0},{"$f":"IFERROR(#REF!,0)*CW5","v":0},{"$f":"IFERROR(#REF!,0)*CW5","v":0},{"$f":"IFERROR(#REF!,0)*CW5","v":0},{"$f":"IFERROR(#REF!,0)*DA5","v":0},{"$f":"IFERROR(#REF!,0)*DA5","v":0},{"$f":"IFERROR(#REF!,0)*DA5","v":0},{"$f":"IFERROR(#REF!,0)*DA5","v":0},{"$f":"IFERROR(#REF!,0)*DE5","v":0},{"$f":"IFERROR(#REF!,0)*DE5","v":0},{"$f":"IFERROR(#REF!,0)*DE5","v":0},{"$f":"IFERROR(#REF!,0)*DE5","v":0},{"$f":"IFERROR(#REF!,0)*DI5","v":0},{"$f":"IFERROR(#REF!,0)*DI5","v":0},{"$f":"IFERROR(#REF!,0)*DI5","v":0},{"$f":"IFERROR(#REF!,0)*DI5","v":0},{"$f":"IFERROR(#REF!,0)*DM5","v":0},{"$f":"IFERROR(#REF!,0)*DM5","v":0},{"$f":"IFERROR(#REF!,0)*DM5","v":0},{"$f":"IFERROR(#REF!,0)*DM5","v":0},{"$f":"IFERROR(#REF!,0)*DQ5","v":0},{"$f":"IFERROR(#REF!,0)*DQ5","v":0},{"$f":"IFERROR(#REF!,0)*DQ5","v":0},{"$f":"IFERROR(#REF!,0)*DQ5","v":0},{"$f":"IFERROR(#REF!,0)*DU5","v":0},{"$f":"IFERROR(#REF!,0)*DU5","v":0},{"$f":"IFERROR(#REF!,0)*DU5","v":0},{"$f":"IFERROR(#REF!,0)*DU5","v":0},{"$f":"IFERROR(#REF!,0)*DY5","v":0},{"$f":"IFERROR(#REF!,0)*DY5","v":0},{"$f":"IFERROR(#REF!,0)*DY5","v":0},{"$f":"IFERROR(#REF!,0)*DY5","v":0},{"$f":"IFERROR(#REF!,0)*EC5","v":0},{"$f":"IFERROR(#REF!,0)*EC5","v":0},{"$f":"IFERROR(#REF!,0)*EC5","v":0},{"$f":"IFERROR(#REF!,0)*EC5","v":0},{"$f":"IFERROR(#REF!,0)*EG5","v":0},{"$f":"IFERROR(#REF!,0)*EG5","v":0},{"$f":"IFERROR(#REF!,0)*EG5","v":0},{"$f":"IFERROR(#REF!,0)*EG5","v":0},{"$f":"IFERROR(#REF!,0)*EK5","v":0},{"$f":"IFERROR(#REF!,0)*EK5","v":0},{"$f":"IFERROR(#REF!,0)*EK5","v":0},{"$f":"IFERROR(#REF!,0)*EK5","v":0},{"$f":"IFERROR(#REF!,0)*EO5","v":0},{"$f":"IFERROR(#REF!,0)*EO5","v":0},{"$f":"IFERROR(#REF!,0)*EO5","v":0},{"$f":"IFERROR(#REF!,0)*EO5","v":0},{"$f":"IFERROR(#REF!,0)*ES5","v":0},{"$f":"IFERROR(#REF!,0)*ES5","v":0},{"$f":"IFERROR(#REF!,0)*ES5","v":0},{"$f":"IFERROR(#REF!,0)*ES5","v":0},{"$f":"IFERROR(#REF!,0)*EW5","v":0},{"$f":"IFERROR(#REF!,0)*EW5","v":0},{"$f":"IFERROR(#REF!,0)*EW5","v":0},{"$f":"IFERROR(#REF!,0)*EW5","v":0},{"$f":"IFERROR(#REF!,0)*FA5","v":0},{"$f":"IFERROR(#REF!,0)*FA5","v":0},{"$f":"IFERROR(#REF!,0)*FA5","v":0},{"$f":"IFERROR(#REF!,0)*FA5","v":0},{"$f":"IFERROR(#REF!,0)*FE5","v":0},{"$f":"IFERROR(#REF!,0)*FE5","v":0},{"$f":"IFERROR(#REF!,0)*FE5","v":0},{"$f":"IFERROR(#REF!,0)*FE5","v":0},{"$f":"IFERROR(#REF!,0)*FI5","v":0},{"$f":"IFERROR(#REF!,0)*FI5","v":0},{"$f":"IFERROR(#REF!,0)*FI5","v":0},{"$f":"IFERROR(#REF!,0)*FI5","v":0},{"$f":"IFERROR(#REF!,0)*FM5","v":0},{"$f":"IFERROR(#REF!,0)*FM5","v":0},{"$f":"IFERROR(#REF!,0)*FM5","v":0},{"$f":"IFERROR(#REF!,0)*FM5","v":0},{"$f":"IFERROR(#REF!,0)*FQ5","v":0},{"$f":"IFERROR(#REF!,0)*FQ5","v":0},{"$f":"IFERROR(#REF!,0)*FQ5","v":0},{"$f":"IFERROR(#REF!,0)*FQ5","v":0},{"$f":"IFERROR(#REF!,0)*FU5","v":0},{"$f":"IFERROR(#REF!,0)*FU5","v":0},{"$f":"IFERROR(#REF!,0)*FU5","v":0},{"$f":"IFERROR(#REF!,0)*FU5","v":0},{"$f":"IFERROR(#REF!,0)*FY5","v":0},{"$f":"IFERROR(#REF!,0)*FY5","v":0},{"$f":"IFERROR(#REF!,0)*FY5","v":0},{"$f":"IFERROR(#REF!,0)*FY5","v":0},{"$f":"IFERROR(#REF!,0)*GC5","v":0},{"$f":"IFERROR(#REF!,0)*GC5","v":0},{"$f":"IFERROR(#REF!,0)*GC5","v":0},{"$f":"IFERROR(#REF!,0)*GC5","v":0},{"$f":"IFERROR(#REF!,0)*GG5","v":0},{"$f":"IFERROR(#REF!,0)*GG5","v":0},{"$f":"IFERROR(#REF!,0)*GG5","v":0},{"$f":"IFERROR(#REF!,0)*GG5","v":0},{"$f":"IFERROR(#REF!,0)*GK5","v":0},{"$f":"IFERROR(#REF!,0)*GK5","v":0},{"$f":"IFERROR(#REF!,0)*GK5","v":0},{"$f":"IFERROR(#REF!,0)*GK5","v":0},{"$f":"IFERROR(#REF!,0)*GO5","v":0},{"$f":"IFERROR(#REF!,0)*GO5","v":0},{"$f":"IFERROR(#REF!,0)*GO5","v":0},{"$f":"IFERROR(#REF!,0)*GO5","v":0},{"$f":"IFERROR(#REF!,0)*GS5","v":0},{"$f":"IFERROR(#REF!,0)*GS5","v":0},{"$f":"IFERROR(#REF!,0)*GS5","v":0},{"$f":"IFERROR(#REF!,0)*GS5","v":0},{"v":0,"d":"0.00"},{"v":0,"d":"0.00"},{"v":0,"d":"0.00"},{"v":0,"d":"0.00"}]
[null,{"$f":"#REF!","v":{"$error":"#REF!"}},{"$f":"#REF!","v":{"$error":"#REF!"}},{"$f":"IFERROR(#REF!,0)*E5","v":0},{"$f":"IFERROR(#REF!,0)*E5","v":0},{"$f":"IFERROR(#REF!,0)*E5","v":0},{"$f":"IFERROR(#REF!,0)*E5","v":0},{"$f":"IFERROR(#REF!,0)*I5","v":0},{"$f":"IFERROR(#REF!,0)*I5","v":0},{"$f":"IFERROR(#REF!,0)*I5","v":0},{"$f":"IFERROR(#REF!,0)*I5","v":0},{"$f":"IFERROR(#REF!,0)*M5","v":0},{"$f":"IFERROR(#REF!,0)*M5","v":0},{"$f":"IFERROR(#REF!,0)*M5","v":0},{"$f":"IFERROR(#REF!,0)*M5","v":0},{"$f":"IFERROR(#REF!,0)*Q5","v":0},{"$f":"IFERROR(#REF!,0)*Q5","v":0},{"$f":"IFERROR(#REF!,0)*Q5","v":0},{"$f":"IFERROR(#REF!,0)*Q5","v":0},{"$f":"IFERROR(#REF!,0)*U5","v":0},{"$f":"IFERROR(#REF!,0)*U5","v":0},{"$f":"IFERROR(#REF!,0)*U5","v":0},{"$f":"IFERROR(#REF!,0)*U5","v":0},{"$f":"IFERROR(#REF!,0)*Y5","v":0},{"$f":"IFERROR(#REF!,0)*Y5","v":0},{"$f":"IFERROR(#REF!,0)*Y5","v":0},{"$f":"IFERROR(#REF!,0)*Y5","v":0},{"$f":"IFERROR(#REF!,0)*AC5","v":0},{"$f":"IFERROR(#REF!,0)*AC5","v":0},{"$f":"IFERROR(#REF!,0)*AC5","v":0},{"$f":"IFERROR(#REF!,0)*AC5","v":0},{"$f":"IFERROR(#REF!,0)*AG5","v":0},{"$f":"IFERROR(#REF!,0)*AG5","v":0},{"$f":"IFERROR(#REF!,0)*AG5","v":0},{"$f":"IFERROR(#REF!,0)*AG5","v":0},{"$f":"IFERROR(#REF!,0)*AK5","v":0},{"$f":"IFERROR(#REF!,0)*AK5","v":0},{"$f":"IFERROR(#REF!,0)*AK5","v":0},{"$f":"IFERROR(#REF!,0)*AK5","v":0},{"$f":"IFERROR(#REF!,0)*AO5","v":0},{"$f":"IFERROR(#REF!,0)*AO5","v":0},{"$f":"IFERROR(#REF!,0)*AO5","v":0},{"$f":"IFERROR(#REF!,0)*AO5","v":0},{"$f":"IFERROR(#REF!,0)*AS5","v":0},{"$f":"IFERROR(#REF!,0)*AS5","v":0},{"$f":"IFERROR(#REF!,0)*AS5","v":0},{"$f":"IFERROR(#REF!,0)*AS5","v":0},{"$f":"IFERROR(#REF!,0)*AW5","v":0},{"$f":"IFERROR(#REF!,0)*AW5","v":0},{"$f":"IFERROR(#REF!,0)*AW5","v":0},{"$f":"IFERROR(#REF!,0)*AW5","v":0},{"$f":"IFERROR(#REF!,0)*BA5","v":0},{"$f":"IFERROR(#REF!,0)*BA5","v":0},{"$f":"IFERROR(#REF!,0)*BA5","v":0},{"$f":"IFERROR(#REF!,0)*BA5","v":0},{"$f":"IFERROR(#REF!,0)*BE5","v":0},{"$f":"IFERROR(#REF!,0)*BE5","v":0},{"$f":"IFERROR(#REF!,0)*BE5","v":0},{"$f":"IFERROR(#REF!,0)*BE5","v":0},{"$f":"IFERROR(#REF!,0)*BI5","v":0},{"$f":"IFERROR(#REF!,0)*BI5","v":0},{"$f":"IFERROR(#REF!,0)*BI5","v":0},{"$f":"IFERROR(#REF!,0)*BI5","v":0},{"$f":"IFERROR(#REF!,0)*BM5","v":0},{"$f":"IFERROR(#REF!,0)*BM5","v":0},{"$f":"IFERROR(#REF!,0)*BM5","v":0},{"$f":"IFERROR(#REF!,0)*BM5","v":0},{"$f":"IFERROR(#REF!,0)*BQ5","v":0},{"$f":"IFERROR(#REF!,0)*BQ5","v":0},{"$f":"IFERROR(#REF!,0)*BQ5","v":0},{"$f":"IFERROR(#REF!,0)*BQ5","v":0},{"$f":"IFERROR(#REF!,0)*BU5","v":0},{"$f":"IFERROR(#REF!,0)*BU5","v":0},{"$f":"IFERROR(#REF!,0)*BU5","v":0},{"$f":"IFERROR(#REF!,0)*BU5","v":0},{"$f":"IFERROR(#REF!,0)*BY5","v":0},{"$f":"IFERROR(#REF!,0)*BY5","v":0},{"$f":"IFERROR(#REF!,0)*BY5","v":0},{"$f":"IFERROR(#REF!,0)*BY5","v":0},{"$f":"IFERROR(#REF!,0)*CC5","v":0},{"$f":"IFERROR(#REF!,0)*CC5","v":0},{"$f":"IFERROR(#REF!,0)*CC5","v":0},{"$f":"IFERROR(#REF!,0)*CC5","v":0},{"$f":"IFERROR(#REF!,0)*CG5","v":0},{"$f":"IFERROR(#REF!,0)*CG5","v":0},{"$f":"IFERROR(#REF!,0)*CG5","v":0},{"$f":"IFERROR(#REF!,0)*CG5","v":0},{"$f":"IFERROR(#REF!,0)*CK5","v":0},{"$f":"IFERROR(#REF!,0)*CK5","v":0},{"$f":"IFERROR(#REF!,0)*CK5","v":0},{"$f":"IFERROR(#REF!,0)*CK5","v":0},{"$f":"IFERROR(#REF!,0)*CO5","v":0},{"$f":"IFERROR(#REF!,0)*CO5","v":0},{"$f":"IFERROR(#REF!,0)*CO5","v":0},{"$f":"IFERROR(#REF!,0)*CO5","v":0},{"$f":"IFERROR(#REF!,0)*CS5","v":0},{"$f":"IFERROR(#REF!,0)*CS5","v":0},{"$f":"IFERROR(#REF!,0)*CS5","v":0},{"$f":"IFERROR(#REF!,0)*CS5","v":0},{"$f":"IFERROR(#REF!,0)*CW5","v":0},{"$f":"IFERROR(#REF!,0)*CW5","v":0},{"$f":"IFERROR(#REF!,0)*CW5","v":0},{"$f":"IFERROR(#REF!,0)*CW5","v":0},{"$f":"IFERROR(#REF!,0)*DA5","v":0},{"$f":"IFERROR(#REF!,0)*DA5","v":0},{"$f":"IFERROR(#REF!,0)*DA5","v":0},{"$f":"IFERROR(#REF!,0)*DA5","v":0},{"$f":"IFERROR(#REF!,0)*DE5","v":0},{"$f":"IFERROR(#REF!,0)*DE5","v":0},{"$f":"IFERROR(#REF!,0)*DE5","v":0},{"$f":"IFERROR(#REF!,0)*DE5","v":0},{"$f":"IFERROR(#REF!,0)*DI5","v":0},{"$f":"IFERROR(#REF!,0)*DI5","v":0},{"$f":"IFERROR(#REF!,0)*DI5","v":0},{"$f":"IFERROR(#REF!,0)*DI5","v":0},{"$f":"IFERROR(#REF!,0)*DM5","v":0},{"$f":"IFERROR(#REF!,0)*DM5","v":0},{"$f":"IFERROR(#REF!,0)*DM5","v":0},{"$f":"IFERROR(#REF!,0)*DM5","v":0},{"$f":"IFERROR(#REF!,0)*DQ5","v":0},{"$f":"IFERROR(#REF!,0)*DQ5","v":0},{"$f":"IFERROR(#REF!,0)*DQ5","v":0},{"$f":"IFERROR(#REF!,0)*DQ5","v":0},{"$f":"IFERROR(#REF!,0)*DU5","v":0},{"$f":"IFERROR(#REF!,0)*DU5","v":0},{"$f":"IFERROR(#REF!,0)*DU5","v":0},{"$f":"IFERROR(#REF!,0)*DU5","v":0},{"$f":"IFERROR(#REF!,0)*DY5","v":0},{"$f":"IFERROR(#REF!,0)*DY5","v":0},{"$f":"IFERROR(#REF!,0)*DY5","v":0},{"$f":"IFERROR(#REF!,0)*DY5","v":0},{"$f":"IFERROR(#REF!,0)*EC5","v":0},{"$f":"IFERROR(#REF!,0)*EC5","v":0},{"$f":"IFERROR(#REF!,0)*EC5","v":0},{"$f":"IFERROR(#REF!,0)*EC5","v":0},{"$f":"IFERROR(#REF!,0)*EG5","v":0},{"$f":"IFERROR(#REF!,0)*EG5","v":0},{"$f":"IFERROR(#REF!,0)*EG5","v":0},{"$f":"IFERROR(#REF!,0)*EG5","v":0},{"$f":"IFERROR(#REF!,0)*EK5","v":0},{"$f":"IFERROR(#REF!,0)*EK5","v":0},{"$f":"IFERROR(#REF!,0)*EK5","v":0},{"$f":"IFERROR(#REF!,0)*EK5","v":0},{"$f":"IFERROR(#REF!,0)*EO5","v":0},{"$f":"IFERROR(#REF!,0)*EO5","v":0},{"$f":"IFERROR(#REF!,0)*EO5","v":0},{"$f":"IFERROR(#REF!,0)*EO5","v":0},{"$f":"IFERROR(#REF!,0)*ES5","v":0},{"$f":"IFERROR(#REF!,0)*ES5","v":0},{"$f":"IFERROR(#REF!,0)*ES5","v":0},{"$f":"IFERROR(#REF!,0)*ES5","v":0},{"$f":"IFERROR(#REF!,0)*EW5","v":0},{"$f":"IFERROR(#REF!,0)*EW5","v":0},{"$f":"IFERROR(#REF!,0)*EW5","v":0},{"$f":"IFERROR(#REF!,0)*EW5","v":0},{"$f":"IFERROR(#REF!,0)*FA5","v":0},{"$f":"IFERROR(#REF!,0)*FA5","v":0},{"$f":"IFERROR(#REF!,0)*FA5","v":0},{"$f":"IFERROR(#REF!,0)*FA5","v":0},{"$f":"IFERROR(#REF!,0)*FE5","v":0},{"$f":"IFERROR(#REF!,0)*FE5","v":0},{"$f":"IFERROR(#REF!,0)*FE5","v":0},{"$f":"IFERROR(#REF!,0)*FE5","v":0},{"$f":"IFERROR(#REF!,0)*FI5","v":0},{"$f":"IFERROR(#REF!,0)*FI5","v":0},{"$f":"IFERROR(#REF!,0)*FI5","v":0},{"$f":"IFERROR(#REF!,0)*FI5","v":0},{"$f":"IFERROR(#REF!,0)*FM5","v":0},{"$f":"IFERROR(#REF!,0)*FM5","v":0},{"$f":"IFERROR(#REF!,0)*FM5","v":0},{"$f":"IFERROR(#REF!,0)*FM5","v":0},{"$f":"IFERROR(#REF!,0)*FQ5","v":0},{"$f":"IFERROR(#REF!,0)*FQ5","v":0},{"$f":"IFERROR(#REF!,0)*FQ5","v":0},{"$f":"IFERROR(#REF!,0)*FQ5","v":0},{"$f":"IFERROR(#REF!,0)*FU5","v":0},{"$f":"IFERROR(#REF!,0)*FU5","v":0},{"$f":"IFERROR(#REF!,0)*FU5","v":0},{"$f":"IFERROR(#REF!,0)*FU5","v":0},{"$f":"IFERROR(#REF!,0)*FY5","v":0},{"$f":"IFERROR(#REF!,0)*FY5","v":0},{"$f":"IFERROR(#REF!,0)*FY5","v":0},{"$f":"IFERROR(#REF!,0)*FY5","v":0},{"$f":"IFERROR(#REF!,0)*GC5","v":0},{"$f":"IFERROR(#REF!,0)*GC5","v":0},{"$f":"IFERROR(#REF!,0)*GC5","v":0},{"$f":"IFERROR(#REF!,0)*GC5","v":0},{"$f":"IFERROR(#REF!,0)*GG5","v":0},{"$f":"IFERROR(#REF!,0)*GG5","v":0},{"$f":"IFERROR(#REF!,0)*GG5","v":0},{"$f":"IFERROR(#REF!,0)*GG5","v":0},{"$f":"IFERROR(#REF!,0)*GK5","v":0},{"$f":"IFERROR(#REF!,0)*GK5","v":0},{"$f":"IFERROR(#REF!,0)*GK5","v":0},{"$f":"IFERROR(#REF!,0)*GK5","v":0},{"$f":"IFERROR(#REF!,0)*GO5","v":0},{"$f":"IFERROR(#REF!,0)*GO5","v":0},{"$f":"IFERROR(#REF!,0)*GO5","v":0},{"$f":"IFERROR(#REF!,0)*GO5","v":0},{"$f":"IFERROR(#REF!,0)*GS5","v":0},{"$f":"IFERROR(#REF!,0)*GS5","v":0},{"$f":"IFERROR(#REF!,0)*GS5","v":0},{"$f":"IFERROR(#REF!,0)*GS5","v":0},{"v":0,"d":"0.00"},{"v":0,"d":"0.00"},{"v":0,"d":"0.00"},{"v":0,"d":"0.00"}]
[null,{"$f":"#REF!","v":{"$error":"#REF!"}},{"$f":"#REF!","v":{"$error":"#REF!"}},{"$f":"IFERROR(#REF!,0)*E5","v":0},{"$f":"IFERROR(#REF!,0)*E5","v":0},{"$f":"IFERROR(#REF!,0)*E5","v":0},{"$f":"IFERROR(#REF!,0)*E5","v":0},{"$f":"IFERROR(#REF!,0)*I5","v":0},{"$f":"IFERROR(#REF!,0)*I5","v":0},{"$f":"IFERROR(#REF!,0)*I5","v":0},{"$f":"IFERROR(#REF!,0)*I5","v":0},{"$f":"IFERROR(#REF!,0)*M5","v":0},{"$f":"IFERROR(#REF!,0)*M5","v":0},{"$f":"IFERROR(#REF!,0)*M5","v":0},{"$f":"IFERROR(#REF!,0)*M5","v":0},{"$f":"IFERROR(#REF!,0)*Q5","v":0},{"$f":"IFERROR(#REF!,0)*Q5","v":0},{"$f":"IFERROR(#REF!,0)*Q5","v":0},{"$f":"IFERROR(#REF!,0)*Q5","v":0},{"$f":"IFERROR(#REF!,0)*U5","v":0},{"$f":"IFERROR(#REF!,0)*U5","v":0},{"$f":"IFERROR(#REF!,0)*U5","v":0},{"$f":"IFERROR(#REF!,0)*U5","v":0},{"$f":"IFERROR(#REF!,0)*Y5","v":0},{"$f":"IFERROR(#REF!,0)*Y5","v":0},{"$f":"IFERROR(#REF!,0)*Y5","v":0},{"$f":"IFERROR(#REF!,0)*Y5","v":0},{"$f":"IFERROR(#REF!,0)*AC5","v":0},{"$f":"IFERROR(#REF!,0)*AC5","v":0},{"$f":"IFERROR(#REF!,0)*AC5","v":0},{"$f":"IFERROR(#REF!,0)*AC5","v":0},{"$f":"IFERROR(#REF!,0)*AG5","v":0},{"$f":"IFERROR(#REF!,0)*AG5","v":0},{"$f":"IFERROR(#REF!,0)*AG5","v":0},{"$f":"IFERROR(#REF!,0)*AG5","v":0},{"$f":"IFERROR(#REF!,0)*AK5","v":0},{"$f":"IFERROR(#REF!,0)*AK5","v":0},{"$f":"IFERROR(#REF!,0)*AK5","v":0},{"$f":"IFERROR(#REF!,0)*AK5","v":0},{"$f":"IFERROR(#REF!,0)*AO5","v":0},{"$f":"IFERROR(#REF!,0)*AO5","v":0},{"$f":"IFERROR(#REF!,0)*AO5","v":0},{"$f":"IFERROR(#REF!,0)*AO5","v":0},{"$f":"IFERROR(#REF!,0)*AS5","v":0},{"$f":"IFERROR(#REF!,0)*AS5","v":0},{"$f":"IFERROR(#REF!,0)*AS5","v":0},{"$f":"IFERROR(#REF!,0)*AS5","v":0},{"$f":"IFERROR(#REF!,0)*AW5","v":0},{"$f":"IFERROR(#REF!,0)*AW5","v":0},{"$f":"IFERROR(#REF!,0)*AW5","v":0},{"$f":"IFERROR(#REF!,0)*AW5","v":0},{"$f":"IFERROR(#REF!,0)*BA5","v":0},{"$f":"IFERROR(#REF!,0)*BA5","v":0},{"$f":"IFERROR(#REF!,0)*BA5","v":0},{"$f":"IFERROR(#REF!,0)*BA5","v":0},{"$f":"IFERROR(#REF!,0)*BE5","v":0},{"$f":"IFERROR(#REF!,0)*BE5","v":0},{"$f":"IFERROR(#REF!,0)*BE5","v":0},{"$f":"IFERROR(#REF!,0)*BE5","v":0},{"$f":"IFERROR(#REF!,0)*BI5","v":0},{"$f":"IFERROR(#REF!,0)*BI5","v":0},{"$f":"IFERROR(#REF!,0)*BI5","v":0},{"$f":"IFERROR(#REF!,0)*BI5","v":0},{"$f":"IFERROR(#REF!,0)*BM5","v":0},{"$f":"IFERROR(#REF!,0)*BM5","v":0},{"$f":"IFERROR(#REF!,0)*BM5","v":0},{"$f":"IFERROR(#REF!,0)*BM5","v":0},{"$f":"IFERROR(#REF!,0)*BQ5","v":0},{"$f":"IFERROR(#REF!,0)*BQ5","v":0},{"$f":"IFERROR(#REF!,0)*BQ5","v":0},{"$f":"IFERROR(#REF!,0)*BQ5","v":0},{"$f":"IFERROR(#REF!,0)*BU5","v":0},{"$f":"IFERROR(#REF!,0)*BU5","v":0},{"$f":"IFERROR(#REF!,0)*BU5","v":0},{"$f":"IFERROR(#REF!,0)*BU5","v":0},{"$f":"IFERROR(#REF!,0)*BY5","v":0},{"$f":"IFERROR(#REF!,0)*BY5","v":0},{"$f":"IFERROR(#REF!,0)*BY5","v":0},{"$f":"IFERROR(#REF!,0)*BY5","v":0},{"$f":"IFERROR(#REF!,0)*CC5","v":0},{"$f":"IFERROR(#REF!,0)*CC5","v":0},{"$f":"IFERROR(#REF!,0)*CC5","v":0},{"$f":"IFERROR(#REF!,0)*CC5","v":0},{"$f":"IFERROR(#REF!,0)*CG5","v":0},{"$f":"IFERROR(#REF!,0)*CG5","v":0},{"$f":"IFERROR(#REF!,0)*CG5","v":0},{"$f":"IFERROR(#REF!,0)*CG5","v":0},{"$f":"IFERROR(#REF!,0)*CK5","v":0},{"$f":"IFERROR(#REF!,0)*CK5","v":0},{"$f":"IFERROR(#REF!,0)*CK5","v":0},{"$f":"IFERROR(#REF!,0)*CK5","v":0},{"$f":"IFERROR(#REF!,0)*CO5","v":0},{"$f":"IFERROR(#REF!,0)*CO5","v":0},{"$f":"IFERROR(#REF!,0)*CO5","v":0},{"$f":"IFERROR(#REF!,0)*CO5","v":0},{"$f":"IFERROR(#REF!,0)*CS5","v":0},{"$f":"IFERROR(#REF!,0)*CS5","v":0},{"$f":"IFERROR(#REF!,0)*CS5","v":0},{"$f":"IFERROR(#REF!,0)*CS5","v":0},{"$f":"IFERROR(#REF!,0)*CW5","v":0},{"$f":"IFERROR(#REF!,0)*CW5","v":0},{"$f":"IFERROR(#REF!,0)*CW5","v":0},{"$f":"IFERROR(#REF!,0)*CW5","v":0},{"$f":"IFERROR(#REF!,0)*DA5","v":0},{"$f":"IFERROR(#REF!,0)*DA5","v":0},{"$f":"IFERROR(#REF!,0)*DA5","v":0},{"$f":"IFERROR(#REF!,0)*DA5","v":0},{"$f":"IFERROR(#REF!,0)*DE5","v":0},{"$f":"IFERROR(#REF!,0)*DE5","v":0},{"$f":"IFERROR(#REF!,0)*DE5","v":0},{"$f":"IFERROR(#REF!,0)*DE5","v":0},{"$f":"IFERROR(#REF!,0)*DI5","v":0},{"$f":"IFERROR(#REF!,0)*DI5","v":0},{"$f":"IFERROR(#REF!,0)*DI5","v":0},{"$f":"IFERROR(#REF!,0)*DI5","v":0},{"$f":"IFERROR(#REF!,0)*DM5","v":0},{"$f":"IFERROR(#REF!,0)*DM5","v":0},{"$f":"IFERROR(#REF!,0)*DM5","v":0},{"$f":"IFERROR(#REF!,0)*DM5","v":0},{"$f":"IFERROR(#REF!,0)*DQ5","v":0},{"$f":"IFERROR(#REF!,0)*DQ5","v":0},{"$f":"IFERROR(#REF!,0)*DQ5","v":0},{"$f":"IFERROR(#REF!,0)*DQ5","v":0},{"$f":"IFERROR(#REF!,0)*DU5","v":0},{"$f":"IFERROR(#REF!,0)*DU5","v":0},{"$f":"IFERROR(#REF!,0)*DU5","v":0},{"$f":"IFERROR(#REF!,0)*DU5","v":0},{"$f":"IFERROR(#REF!,0)*DY5","v":0},{"$f":"IFERROR(#REF!,0)*DY5","v":0},{"$f":"IFERROR(#REF!,0)*DY5","v":0},{"$f":"IFERROR(#REF!,0)*DY5","v":0},{"$f":"IFERROR(#REF!,0)*EC5","v":0},{"$f":"IFERROR(#REF!,0)*EC5","v":0},{"$f":"IFERROR(#REF!,0)*EC5","v":0},{"$f":"IFERROR(#REF!,0)*EC5","v":0},{"$f":"IFERROR(#REF!,0)*EG5","v":0},{"$f":"IFERROR(#REF!,0)*EG5","v":0},{"$f":"IFERROR(#REF!,0)*EG5","v":0},{"$f":"IFERROR(#REF!,0)*EG5","v":0},{"$f":"IFERROR(#REF!,0)*EK5","v":0},{"$f":"IFERROR(#REF!,0)*EK5","v":0},{"$f":"IFERROR(#REF!,0)*EK5","v":0},{"$f":"IFERROR(#REF!,0)*EK5","v":0},{"$f":"IFERROR(#REF!,0)*EO5","v":0},{"$f":"IFERROR(#REF!,0)*EO5","v":0},{"$f":"IFERROR(#REF!,0)*EO5","v":0},{"$f":"IFERROR(#REF!,0)*EO5","v":0},{"$f":"IFERROR(#REF!,0)*ES5","v":0},{"$f":"IFERROR(#REF!,0)*ES5","v":0},{"$f":"IFERROR(#REF!,0)*ES5","v":0},{"$f":"IFERROR(#REF!,0)*ES5","v":0},{"$f":"IFERROR(#REF!,0)*EW5","v":0},{"$f":"IFERROR(#REF!,0)*EW5","v":0},{"$f":"IFERROR(#REF!,0)*EW5","v":0},{"$f":"IFERROR(#REF!,0)*EW5","v":0},{"$f":"IFERROR(#REF!,0)*FA5","v":0},{"$f":"IFERROR(#REF!,0)*FA5","v":0},{"$f":"IFERROR(#REF!,0)*FA5","v":0},{"$f":"IFERROR(#REF!,0)*FA5","v":0},{"$f":"IFERROR(#REF!,0)*FE5","v":0},{"$f":"IFERROR(#REF!,0)*FE5","v":0},{"$f":"IFERROR(#REF!,0)*FE5","v":0},{"$f":"IFERROR(#REF!,0)*FE5","v":0},{"$f":"IFERROR(#REF!,0)*FI5","v":0},{"$f":"IFERROR(#REF!,0)*FI5","v":0},{"$f":"IFERROR(#REF!,0)*FI5","v":0},{"$f":"IFERROR(#REF!,0)*FI5","v":0},{"$f":"IFERROR(#REF!,0)*FM5","v":0},{"$f":"IFERROR(#REF!,0)*FM5","v":0},{"$f":"IFERROR(#REF!,0)*FM5","v":0},{"$f":"IFERROR(#REF!,0)*FM5","v":0},{"$f":"IFERROR(#REF!,0)*FQ5","v":0},{"$f":"IFERROR(#REF!,0)*FQ5","v":0},{"$f":"IFERROR(#REF!,0)*FQ5","v":0},{"$f":"IFERROR(#REF!,0)*FQ5","v":0},{"$f":"IFERROR(#REF!,0)*FU5","v":0},{"$f":"IFERROR(#REF!,0)*FU5","v":0},{"$f":"IFERROR(#REF!,0)*FU5","v":0},{"$f":"IFERROR(#REF!,0)*FU5","v":0},{"$f":"IFERROR(#REF!,0)*FY5","v":0},{"$f":"IFERROR(#REF!,0)*FY5","v":0},{"$f":"IFERROR(#REF!,0)*FY5","v":0},{"$f":"IFERROR(#REF!,0)*FY5","v":0},{"$f":"IFERROR(#REF!,0)*GC5","v":0},{"$f":"IFERROR(#REF!,0)*GC5","v":0},{"$f":"IFERROR(#REF!,0)*GC5","v":0},{"$f":"IFERROR(#REF!,0)*GC5","v":0},{"$f":"IFERROR(#REF!,0)*GG5","v":0},{"$f":"IFERROR(#REF!,0)*GG5","v":0},{"$f":"IFERROR(#REF!,0)*GG5","v":0},{"$f":"IFERROR(#REF!,0)*GG5","v":0},{"$f":"IFERROR(#REF!,0)*GK5","v":0},{"$f":"IFERROR(#REF!,0)*GK5","v":0},{"$f":"IFERROR(#REF!,0)*GK5","v":0},{"$f":"IFERROR(#REF!,0)*GK5","v":0},{"$f":"IFERROR(#REF!,0)*GO5","v":0},{"$f":"IFERROR(#REF!,0)*GO5","v":0},{"$f":"IFERROR(#REF!,0)*GO5","v":0},{"$f":"IFERROR(#REF!,0)*GO5","v":0},{"$f":"IFERROR(#REF!,0)*GS5","v":0},{"$f":"IFERROR(#REF!,0)*GS5","v":0},{"$f":"IFERROR(#REF!,0)*GS5","v":0},{"$f":"IFERROR(#REF!,0)*GS5","v":0},{"v":0,"d":"0.00"},{"v":0,"d":"0.00"},{"v":0,"d":"0.00"},{"v":0,"d":"0.00"}]
[null,{"$f":"#REF!","v":{"$error":"#REF!"}},{"$f":"#REF!","v":{"$error":"#REF!"}},{"$f":"IFERROR(#REF!,0)*E5","v":0},{"$f":"IFERROR(#REF!,0)*E5","v":0},{"$f":"IFERROR(#REF!,0)*E5","v":0},{"$f":"IFERROR(#REF!,0)*E5","v":0},{"$f":"IFERROR(#REF!,0)*I5","v":0},{"$f":"IFERROR(#REF!,0)*I5","v":0},{"$f":"IFERROR(#REF!,0)*I5","v":0},{"$f":"IFERROR(#REF!,0)*I5","v":0},{"$f":"IFERROR(#REF!,0)*M5","v":0},{"$f":"IFERROR(#REF!,0)*M5","v":0},{"$f":"IFERROR(#REF!,0)*M5","v":0},{"$f":"IFERROR(#REF!,0)*M5","v":0},{"$f":"IFERROR(#REF!,0)*Q5","v":0},{"$f":"IFERROR(#REF!,0)*Q5","v":0},{"$f":"IFERROR(#REF!,0)*Q5","v":0},{"$f":"IFERROR(#REF!,0)*Q5","v":0},{"$f":"IFERROR(#REF!,0)*U5","v":0},{"$f":"IFERROR(#REF!,0)*U5","v":0},{"$f":"IFERROR(#REF!,0)*U5","v":0},{"$f":"IFERROR(#REF!,0)*U5","v":0},{"$f":"IFERROR(#REF!,0)*Y5","v":0},{"$f":"IFERROR(#REF!,0)*Y5","v":0},{"$f":"IFERROR(#REF!,0)*Y5","v":0},{"$f":"IFERROR(#REF!,0)*Y5","v":0},{"$f":"IFERROR(#REF!,0)*AC5","v":0},{"$f":"IFERROR(#REF!,0)*AC5","v":0},{"$f":"IFERROR(#REF!,0)*AC5","v":0},{"$f":"IFERROR(#REF!,0)*AC5","v":0},{"$f":"IFERROR(#REF!,0)*AG5","v":0},{"$f":"IFERROR(#REF!,0)*AG5","v":0},{"$f":"IFERROR(#REF!,0)*AG5","v":0},{"$f":"IFERROR(#REF!,0)*AG5","v":0},{"$f":"IFERROR(#REF!,0)*AK5","v":0},{"$f":"IFERROR(#REF!,0)*AK5","v":0},{"$f":"IFERROR(#REF!,0)*AK5","v":0},{"$f":"IFERROR(#REF!,0)*AK5","v":0},{"$f":"IFERROR(#REF!,0)*AO5","v":0},{"$f":"IFERROR(#REF!,0)*AO5","v":0},{"$f":"IFERROR(#REF!,0)*AO5","v":0},{"$f":"IFERROR(#REF!,0)*AO5","v":0},{"$f":"IFERROR(#REF!,0)*AS5","v":0},{"$f":"IFERROR(#REF!,0)*AS5","v":0},{"$f":"IFERROR(#REF!,0)*AS5","v":0},{"$f":"IFERROR(#REF!,0)*AS5","v":0},{"$f":"IFERROR(#REF!,0)*AW5","v":0},{"$f":"IFERROR(#REF!,0)*AW5","v":0},{"$f":"IFERROR(#REF!,0)*AW5","v":0},{"$f":"IFERROR(#REF!,0)*AW5","v":0},{"$f":"IFERROR(#REF!,0)*BA5","v":0},{"$f":"IFERROR(#REF!,0)*BA5","v":0},{"$f":"IFERROR(#REF!,0)*BA5","v":0},{"$f":"IFERROR(#REF!,0)*BA5","v":0},{"$f":"IFERROR(#REF!,0)*BE5","v":0},{"$f":"IFERROR(#REF!,0)*BE5","v":0},{"$f":"IFERROR(#REF!,0)*BE5","v":0},{"$f":"IFERROR(#REF!,0)*BE5","v":0},{"$f":"IFERROR(#REF!,0)*BI5","v":0},{"$f":"IFERROR(#REF!,0)*BI5","v":0},{"$f":"IFERROR(#REF!,0)*BI5","v":0},{"$f":"IFERROR(#REF!,0)*BI5","v":0},{"$f":"IFERROR(#REF!,0)*BM5","v":0},{"$f":"IFERROR(#REF!,0)*BM5","v":0},{"$f":"IFERROR(#REF!,0)*BM5","v":0},{"$f":"IFERROR(#REF!,0)*BM5","v":0},{"$f":"IFERROR(#REF!,0)*BQ5","v":0},{"$f":"IFERROR(#REF!,0)*BQ5","v":0},{"$f":"IFERROR(#REF!,0)*BQ5","v":0},{"$f":"IFERROR(#REF!,0)*BQ5","v":0},{"$f":"IFERROR(#REF!,0)*BU5","v":0},{"$f":"IFERROR(#REF!,0)*BU5","v":0},{"$f":"IFERROR(#REF!,0)*BU5","v":0},{"$f":"IFERROR(#REF!,0)*BU5","v":0},{"$f":"IFERROR(#REF!,0)*BY5","v":0},{"$f":"IFERROR(#REF!,0)*BY5","v":0},{"$f":"IFERROR(#REF!,0)*BY5","v":0},{"$f":"IFERROR(#REF!,0)*BY5","v":0},{"$f":"IFERROR(#REF!,0)*CC5","v":0},{"$f":"IFERROR(#REF!,0)*CC5","v":0},{"$f":"IFERROR(#REF!,0)*CC5","v":0},{"$f":"IFERROR(#REF!,0)*CC5","v":0},{"$f":"IFERROR(#REF!,0)*CG5","v":0},{"$f":"IFERROR(#REF!,0)*CG5","v":0},{"$f":"IFERROR(#REF!,0)*CG5","v":0},{"$f":"IFERROR(#REF!,0)*CG5","v":0},{"$f":"IFERROR(#REF!,0)*CK5","v":0},{"$f":"IFERROR(#REF!,0)*CK5","v":0},{"$f":"IFERROR(#REF!,0)*CK5","v":0},{"$f":"IFERROR(#REF!,0)*CK5","v":0},{"$f":"IFERROR(#REF!,0)*CO5","v":0},{"$f":"IFERROR(#REF!,0)*CO5","v":0},{"$f":"IFERROR(#REF!,0)*CO5","v":0},{"$f":"IFERROR(#REF!,0)*CO5","v":0},{"$f":"IFERROR(#REF!,0)*CS5","v":0},{"$f":"IFERROR(#REF!,0)*CS5","v":0},{"$f":"IFERROR(#REF!,0)*CS5","v":0},{"$f":"IFERROR(#REF!,0)*CS5","v":0},{"$f":"IFERROR(#REF!,0)*CW5","v":0},{"$f":"IFERROR(#REF!,0)*CW5","v":0},{"$f":"IFERROR(#REF!,0)*CW5","v":0},{"$f":"IFERROR(#REF!,0)*CW5","v":0},{"$f":"IFERROR(#REF!,0)*DA5","v":0},{"$f":"IFERROR(#REF!,0)*DA5","v":0},{"$f":"IFERROR(#REF!,0)*DA5","v":0},{"$f":"IFERROR(#REF!,0)*DA5","v":0},{"$f":"IFERROR(#REF!,0)*DE5","v":0},{"$f":"IFERROR(#REF!,0)*DE5","v":0},{"$f":"IFERROR(#REF!,0)*DE5","v":0},{"$f":"IFERROR(#REF!,0)*DE5","v":0},{"$f":"IFERROR(#REF!,0)*DI5","v":0},{"$f":"IFERROR(#REF!,0)*DI5","v":0},{"$f":"IFERROR(#REF!,0)*DI5","v":0},{"$f":"IFERROR(#REF!,0)*DI5","v":0},{"$f":"IFERROR(#REF!,0)*DM5","v":0},{"$f":"IFERROR(#REF!,0)*DM5","v":0},{"$f":"IFERROR(#REF!,0)*DM5","v":0},{"$f":"IFERROR(#REF!,0)*DM5","v":0},{"$f":"IFERROR(#REF!,0)*DQ5","v":0},{"$f":"IFERROR(#REF!,0)*DQ5","v":0},{"$f":"IFERROR(#REF!,0)*DQ5","v":0},{"$f":"IFERROR(#REF!,0)*DQ5","v":0},{"$f":"IFERROR(#REF!,0)*DU5","v":0},{"$f":"IFERROR(#REF!,0)*DU5","v":0},{"$f":"IFERROR(#REF!,0)*DU5","v":0},{"$f":"IFERROR(#REF!,0)*DU5","v":0},{"$f":"IFERROR(#REF!,0)*DY5","v":0},{"$f":"IFERROR(#REF!,0)*DY5","v":0},{"$f":"IFERROR(#REF!,0)*DY5","v":0},{"$f":"IFERROR(#REF!,0)*DY5","v":0},{"$f":"IFERROR(#REF!,0)*EC5","v":0},{"$f":"IFERROR(#REF!,0)*EC5","v":0},{"$f":"IFERROR(#REF!,0)*EC5","v":0},{"$f":"IFERROR(#REF!,0)*EC5","v":0},{"$f":"IFERROR(#REF!,0)*EG5","v":0},{"$f":"IFERROR(#REF!,0)*EG5","v":0},{"$f":"IFERROR(#REF!,0)*EG5","v":0},{"$f":"IFERROR(#REF!,0)*EG5","v":0},{"$f":"IFERROR(#REF!,0)*EK5","v":0},{"$f":"IFERROR(#REF!,0)*EK5","v":0},{"$f":"IFERROR(#REF!,0)*EK5","v":0},{"$f":"IFERROR(#REF!,0)*EK5","v":0},{"$f":"IFERROR(#REF!,0)*EO5","v":0},{"$f":"IFERROR(#REF!,0)*EO5","v":0},{"$f":"IFERROR(#REF!,0)*EO5","v":0},{"$f":"IFERROR(#REF!,0)*EO5","v":0},{"$f":"IFERROR(#REF!,0)*ES5","v":0},{"$f":"IFERROR(#REF!,0)*ES5","v":0},{"$f":"IFERROR(#REF!,0)*ES5","v":0},{"$f":"IFERROR(#REF!,0)*ES5","v":0},{"$f":"IFERROR(#REF!,0)*EW5","v":0},{"$f":"IFERROR(#REF!,0)*EW5","v":0},{"$f":"IFERROR(#REF!,0)*EW5","v":0},{"$f":"IFERROR(#REF!,0)*EW5","v":0},{"$f":"IFERROR(#REF!,0)*FA5","v":0},{"$f":"IFERROR(#REF!,0)*FA5","v":0},{"$f":"IFERROR(#REF!,0)*FA5","v":0},{"$f":"IFERROR(#REF!,0)*FA5","v":0},{"$f":"IFERROR(#REF!,0)*FE5","v":0},{"$f":"IFERROR(#REF!,0)*FE5","v":0},{"$f":"IFERROR(#REF!,0)*FE5","v":0},{"$f":"IFERROR(#REF!,0)*FE5","v":0},{"$f":"IFERROR(#REF!,0)*FI5","v":0},{"$f":"IFERROR(#REF!,0)*FI5","v":0},{"$f":"IFERROR(#REF!,0)*FI5","v":0},{"$f":"IFERROR(#REF!,0)*FI5","v":0},{"$f":"IFERROR(#REF!,0)*FM5","v":0},{"$f":"IFERROR(#REF!,0)*FM5","v":0},{"$f":"IFERROR(#REF!,0)*FM5","v":0},{"$f":"IFERROR(#REF!,0)*FM5","v":0},{"$f":"IFERROR(#REF!,0)*FQ5","v":0},{"$f":"IFERROR(#REF!,0)*FQ5","v":0},{"$f":"IFERROR(#REF!,0)*FQ5","v":0},{"$f":"IFERROR(#REF!,0)*FQ5","v":0},{"$f":"IFERROR(#REF!,0)*FU5","v":0},{"$f":"IFERROR(#REF!,0)*FU5","v":0},{"$f":"IFERROR(#REF!,0)*FU5","v":0},{"$f":"IFERROR(#REF!,0)*FU5","v":0},{"$f":"IFERROR(#REF!,0)*FY5","v":0},{"$f":"IFERROR(#REF!,0)*FY5","v":0},{"$f":"IFERROR(#REF!,0)*FY5","v":0},{"$f":"IFERROR(#REF!,0)*FY5","v":0},{"$f":"IFERROR(#REF!,0)*GC5","v":0},{"$f":"IFERROR(#REF!,0)*GC5","v":0},{"$f":"IFERROR(#REF!,0)*GC5","v":0},{"$f":"IFERROR(#REF!,0)*GC5","v":0},{"$f":"IFERROR(#REF!,0)*GG5","v":0},{"$f":"IFERROR(#REF!,0)*GG5","v":0},{"$f":"IFERROR(#REF!,0)*GG5","v":0},{"$f":"IFERROR(#REF!,0)*GG5","v":0},{"$f":"IFERROR(#REF!,0)*GK5","v":0},{"$f":"IFERROR(#REF!,0)*GK5","v":0},{"$f":"IFERROR(#REF!,0)*GK5","v":0},{"$f":"IFERROR(#REF!,0)*GK5","v":0},{"$f":"IFERROR(#REF!,0)*GO5","v":0},{"$f":"IFERROR(#REF!,0)*GO5","v":0},{"$f":"IFERROR(#REF!,0)*GO5","v":0},{"$f":"IFERROR(#REF!,0)*GO5","v":0},{"$f":"IFERROR(#REF!,0)*GS5","v":0},{"$f":"IFERROR(#REF!,0)*GS5","v":0},{"$f":"IFERROR(#REF!,0)*GS5","v":0},{"$f":"IFERROR(#REF!,0)*GS5","v":0},{"v":0,"d":"0.00"},{"v":0,"d":"0.00"},{"v":0,"d":"0.00"},{"v":0,"d":"0.00"}]
[null,{"$f":"#REF!","v":{"$error":"#REF!"}},{"$f":"#REF!","v":{"$error":"#REF!"}},{"$f":"IFERROR(#REF!,0)*E5","v":0},{"$f":"IFERROR(#REF!,0)*E5","v":0},{"$f":"IFERROR(#REF!,0)*E5","v":0},{"$f":"IFERROR(#REF!,0)*E5","v":0},{"$f":"IFERROR(#REF!,0)*I5","v":0},{"$f":"IFERROR(#REF!,0)*I5","v":0},{"$f":"IFERROR(#REF!,0)*I5","v":0},{"$f":"IFERROR(#REF!,0)*I5","v":0},{"$f":"IFERROR(#REF!,0)*M5","v":0},{"$f":"IFERROR(#REF!,0)*M5","v":0},{"$f":"IFERROR(#REF!,0)*M5","v":0},{"$f":"IFERROR(#REF!,0)*M5","v":0},{"$f":"IFERROR(#REF!,0)*Q5","v":0},{"$f":"IFERROR(#REF!,0)*Q5","v":0},{"$f":"IFERROR(#REF!,0)*Q5","v":0},{"$f":"IFERROR(#REF!,0)*Q5","v":0},{"$f":"IFERROR(#REF!,0)*U5","v":0},{"$f":"IFERROR(#REF!,0)*U5","v":0},{"$f":"IFERROR(#REF!,0)*U5","v":0},{"$f":"IFERROR(#REF!,0)*U5","v":0},{"$f":"IFERROR(#REF!,0)*Y5","v":0},{"$f":"IFERROR(#REF!,0)*Y5","v":0},{"$f":"IFERROR(#REF!,0)*Y5","v":0},{"$f":"IFERROR(#REF!,0)*Y5","v":0},{"$f":"IFERROR(#REF!,0)*AC5","v":0},{"$f":"IFERROR(#REF!,0)*AC5","v":0},{"$f":"IFERROR(#REF!,0)*AC5","v":0},{"$f":"IFERROR(#REF!,0)*AC5","v":0},{"$f":"IFERROR(#REF!,0)*AG5","v":0},{"$f":"IFERROR(#REF!,0)*AG5","v":0},{"$f":"IFERROR(#REF!,0)*AG5","v":0},{"$f":"IFERROR(#REF!,0)*AG5","v":0},{"$f":"IFERROR(#REF!,0)*AK5","v":0},{"$f":"IFERROR(#REF!,0)*AK5","v":0},{"$f":"IFERROR(#REF!,0)*AK5","v":0},{"$f":"IFERROR(#REF!,0)*AK5","v":0},{"$f":"IFERROR(#REF!,0)*AO5","v":0},{"$f":"IFERROR(#REF!,0)*AO5","v":0},{"$f":"IFERROR(#REF!,0)*AO5","v":0},{"$f":"IFERROR(#REF!,0)*AO5","v":0},{"$f":"IFERROR(#REF!,0)*AS5","v":0},{"$f":"IFERROR(#REF!,0)*AS5","v":0},{"$f":"IFERROR(#REF!,0)*AS5","v":0},{"$f":"IFERROR(#REF!,0)*AS5","v":0},{"$f":"IFERROR(#REF!,0)*AW5","v":0},{"$f":"IFERROR(#REF!,0)*AW5","v":0},{"$f":"IFERROR(#REF!,0)*AW5","v":0},{"$f":"IFERROR(#REF!,0)*AW5","v":0},{"$f":"IFERROR(#REF!,0)*BA5","v":0},{"$f":"IFERROR(#REF!,0)*BA5","v":0},{"$f":"IFERROR(#REF!,0)*BA5","v":0},{"$f":"IFERROR(#REF!,0)*BA5","v":0},{"$f":"IFERROR(#REF!,0)*BE5","v":0},{"$f":"IFERROR(#REF!,0)*BE5","v":0},{"$f":"IFERROR(#REF!,0)*BE5","v":0},{"$f":"IFERROR(#REF!,0)*BE5","v":0},{"$f":"IFERROR(#REF!,0)*BI5","v":0},{"$f":"IFERROR(#REF!,0)*BI5","v":0},{"$f":"IFERROR(#REF!,0)*BI5","v":0},{"$f":"IFERROR(#REF!,0)*BI5","v":0},{"$f":"IFERROR(#REF!,0)*BM5","v":0},{"$f":"IFERROR(#REF!,0)*BM5","v":0},{"$f":"IFERROR(#REF!,0)*BM5","v":0},{"$f":"IFERROR(#REF!,0)*BM5","v":0},{"$f":"IFERROR(#REF!,0)*BQ5","v":0},{"$f":"IFERROR(#REF!,0)*BQ5","v":0},{"$f":"IFERROR(#REF!,0)*BQ5","v":0},{"$f":"IFERROR(#REF!,0)*BQ5","v":0},{"$f":"IFERROR(#REF!,0)*BU5","v":0},{"$f":"IFERROR(#REF!,0)*BU5","v":0},{"$f":"IFERROR(#REF!,0)*BU5","v":0},{"$f":"IFERROR(#REF!,0)*BU5","v":0},{"$f":"IFERROR(#REF!,0)*BY5","v":0},{"$f":"IFERROR(#REF!,0)*BY5","v":0},{"$f":"IFERROR(#REF!,0)*BY5","v":0},{"$f":"IFERROR(#REF!,0)*BY5","v":0},{"$f":"IFERROR(#REF!,0)*CC5","v":0},{"$f":"IFERROR(#REF!,0)*CC5","v":0},{"$f":"IFERROR(#REF!,0)*CC5","v":0},{"$f":"IFERROR(#REF!,0)*CC5","v":0},{"$f":"IFERROR(#REF!,0)*CG5","v":0},{"$f":"IFERROR(#REF!,0)*CG5","v":0},{"$f":"IFERROR(#REF!,0)*CG5","v":0},{"$f":"IFERROR(#REF!,0)*CG5","v":0},{"$f":"IFERROR(#REF!,0)*CK5","v":0},{"$f":"IFERROR(#REF!,0)*CK5","v":0},{"$f":"IFERROR(#REF!,0)*CK5","v":0},{"$f":"IFERROR(#REF!,0)*CK5","v":0},{"$f":"IFERROR(#REF!,0)*CO5","v":0},{"$f":"IFERROR(#REF!,0)*CO5","v":0},{"$f":"IFERROR(#REF!,0)*CO5","v":0},{"$f":"IFERROR(#REF!,0)*CO5","v":0},{"$f":"IFERROR(#REF!,0)*CS5","v":0},{"$f":"IFERROR(#REF!,0)*CS5","v":0},{"$f":"IFERROR(#REF!,0)*CS5","v":0},{"$f":"IFERROR(#REF!,0)*CS5","v":0},{"$f":"IFERROR(#REF!,0)*CW5","v":0},{"$f":"IFERROR(#REF!,0)*CW5","v":0},{"$f":"IFERROR(#REF!,0)*CW5","v":0},{"$f":"IFERROR(#REF!,0)*CW5","v":0},{"$f":"IFERROR(#REF!,0)*DA5","v":0},{"$f":"IFERROR(#REF!,0)*DA5","v":0},{"$f":"IFERROR(#REF!,0)*DA5","v":0},{"$f":"IFERROR(#REF!,0)*DA5","v":0},{"$f":"IFERROR(#REF!,0)*DE5","v":0},{"$f":"IFERROR(#REF!,0)*DE5","v":0},{"$f":"IFERROR(#REF!,0)*DE5","v":0},{"$f":"IFERROR(#REF!,0)*DE5","v":0},{"$f":"IFERROR(#REF!,0)*DI5","v":0},{"$f":"IFERROR(#REF!,0)*DI5","v":0},{"$f":"IFERROR(#REF!,0)*DI5","v":0},{"$f":"IFERROR(#REF!,0)*DI5","v":0},{"$f":"IFERROR(#REF!,0)*DM5","v":0},{"$f":"IFERROR(#REF!,0)*DM5","v":0},{"$f":"IFERROR(#REF!,0)*DM5","v":0},{"$f":"IFERROR(#REF!,0)*DM5","v":0},{"$f":"IFERROR(#REF!,0)*DQ5","v":0},{"$f":"IFERROR(#REF!,0)*DQ5","v":0},{"$f":"IFERROR(#REF!,0)*DQ5","v":0},{"$f":"IFERROR(#REF!,0)*DQ5","v":0},{"$f":"IFERROR(#REF!,0)*DU5","v":0},{"$f":"IFERROR(#REF!,0)*DU5","v":0},{"$f":"IFERROR(#REF!,0)*DU5","v":0},{"$f":"IFERROR(#REF!,0)*DU5","v":0},{"$f":"IFERROR(#REF!,0)*DY5","v":0},{"$f":"IFERROR(#REF!,0)*DY5","v":0},{"$f":"IFERROR(#REF!,0)*DY5","v":0},{"$f":"IFERROR(#REF!,0)*DY5","v":0},{"$f":"IFERROR(#REF!,0)*EC5","v":0},{"$f":"IFERROR(#REF!,0)*EC5","v":0},{"$f":"IFERROR(#REF!,0)*EC5","v":0},{"$f":"IFERROR(#REF!,0)*EC5","v":0},{"$f":"IFERROR(#REF!,0)*EG5","v":0},{"$f":"IFERROR(#REF!,0)*EG5","v":0},{"$f":"IFERROR(#REF!,0)*EG5","v":0},{"$f":"IFERROR(#REF!,0)*EG5","v":0},{"$f":"IFERROR(#REF!,0)*EK5","v":0},{"$f":"IFERROR(#REF!,0)*EK5","v":0},{"$f":"IFERROR(#REF!,0)*EK5","v":0},{"$f":"IFERROR(#REF!,0)*EK5","v":0},{"$f":"IFERROR(#REF!,0)*EO5","v":0},{"$f":"IFERROR(#REF!,0)*EO5","v":0},{"$f":"IFERROR(#REF!,0)*EO5","v":0},{"$f":"IFERROR(#REF!,0)*EO5","v":0},{"$f":"IFERROR(#REF!,0)*ES5","v":0},{"$f":"IFERROR(#REF!,0)*ES5","v":0},{"$f":"IFERROR(#REF!,0)*ES5","v":0},{"$f":"IFERROR(#REF!,0)*ES5","v":0},{"$f":"IFERROR(#REF!,0)*EW5","v":0},{"$f":"IFERROR(#REF!,0)*EW5","v":0},{"$f":"IFERROR(#REF!,0)*EW5","v":0},{"$f":"IFERROR(#REF!,0)*EW5","v":0},{"$f":"IFERROR(#REF!,0)*FA5","v":0},{"$f":"IFERROR(#REF!,0)*FA5","v":0},{"$f":"IFERROR(#REF!,0)*FA5","v":0},{"$f":"IFERROR(#REF!,0)*FA5","v":0},{"$f":"IFERROR(#REF!,0)*FE5","v":0},{"$f":"IFERROR(#REF!,0)*FE5","v":0},{"$f":"IFERROR(#REF!,0)*FE5","v":0},{"$f":"IFERROR(#REF!,0)*FE5","v":0},{"$f":"IFERROR(#REF!,0)*FI5","v":0},{"$f":"IFERROR(#REF!,0)*FI5","v":0},{"$f":"IFERROR(#REF!,0)*FI5","v":0},{"$f":"IFERROR(#REF!,0)*FI5","v":0},{"$f":"IFERROR(#REF!,0)*FM5","v":0},{"$f":"IFERROR(#REF!,0)*FM5","v":0},{"$f":"IFERROR(#REF!,0)*FM5","v":0},{"$f":"IFERROR(#REF!,0)*FM5","v":0},{"$f":"IFERROR(#REF!,0)*FQ5","v":0},{"$f":"IFERROR(#REF!,0)*FQ5","v":0},{"$f":"IFERROR(#REF!,0)*FQ5","v":0},{"$f":"IFERROR(#REF!,0)*FQ5","v":0},{"$f":"IFERROR(#REF!,0)*FU5","v":0},{"$f":"IFERROR(#REF!,0)*FU5","v":0},{"$f":"IFERROR(#REF!,0)*FU5","v":0},{"$f":"IFERROR(#REF!,0)*FU5","v":0},{"$f":"IFERROR(#REF!,0)*FY5","v":0},{"$f":"IFERROR(#REF!,0)*FY5","v":0},{"$f":"IFERROR(#REF!,0)*FY5","v":0},{"$f":"IFERROR(#REF!,0)*FY5","v":0},{"$f":"IFERROR(#REF!,0)*GC5","v":0},{"$f":"IFERROR(#REF!,0)*GC5","v":0},{"$f":"IFERROR(#REF!,0)*GC5","v":0},{"$f":"IFERROR(#REF!,0)*GC5","v":0},{"$f":"IFERROR(#REF!,0)*GG5","v":0},{"$f":"IFERROR(#REF!,0)*GG5","v":0},{"$f":"IFERROR(#REF!,0)*GG5","v":0},{"$f":"IFERROR(#REF!,0)*GG5","v":0},{"$f":"IFERROR(#REF!,0)*GK5","v":0},{"$f":"IFERROR(#REF!,0)*GK5","v":0},{"$f":"IFERROR(#REF!,0)*GK5","v":0},{"$f":"IFERROR(#REF!,0)*GK5","v":0},{"$f":"IFERROR(#REF!,0)*GO5","v":0},{"$f":"IFERROR(#REF!,0)*GO5","v":0},{"$f":"IFERROR(#REF!,0)*GO5","v":0},{"$f":"IFERROR(#REF!,0)*GO5","v":0},{"$f":"IFERROR(#REF!,0)*GS5","v":0},{"$f":"IFERROR(#REF!,0)*GS5","v":0},{"$f":"IFERROR(#REF!,0)*GS5","v":0},{"$f":"IFERROR(#REF!,0)*GS5","v":0},{"v":0,"d":"0.00"},{"v":0,"d":"0.00"},{"v":0,"d":"0.00"},{"v":0,"d":"0.00"}]
[null,{"$f":"#REF!","v":{"$error":"#REF!"}},{"$f":"#REF!","v":{"$error":"#REF!"}},{"$f":"IFERROR(#REF!,0)*E5","v":0},{"$f":"IFERROR(#REF!,0)*E5","v":0},{"$f":"IFERROR(#REF!,0)*E5","v":0},{"$f":"IFERROR(#REF!,0)*E5","v":0},{"$f":"IFERROR(#REF!,0)*I5","v":0},{"$f":"IFERROR(#REF!,0)*I5","v":0},{"$f":"IFERROR(#REF!,0)*I5","v":0},{"$f":"IFERROR(#REF!,0)*I5","v":0},{"$f":"IFERROR(#REF!,0)*M5","v":0},{"$f":"IFERROR(#REF!,0)*M5","v":0},{"$f":"IFERROR(#REF!,0)*M5","v":0},{"$f":"IFERROR(#REF!,0)*M5","v":0},{"$f":"IFERROR(#REF!,0)*Q5","v":0},{"$f":"IFERROR(#REF!,0)*Q5","v":0},{"$f":"IFERROR(#REF!,0)*Q5","v":0},{"$f":"IFERROR(#REF!,0)*Q5","v":0},{"$f":"IFERROR(#REF!,0)*U5","v":0},{"$f":"IFERROR(#REF!,0)*U5","v":0},{"$f":"IFERROR(#REF!,0)*U5","v":0},{"$f":"IFERROR(#REF!,0)*U5","v":0},{"$f":"IFERROR(#REF!,0)*Y5","v":0},{"$f":"IFERROR(#REF!,0)*Y5","v":0},{"$f":"IFERROR(#REF!,0)*Y5","v":0},{"$f":"IFERROR(#REF!,0)*Y5","v":0},{"$f":"IFERROR(#REF!,0)*AC5","v":0},{"$f":"IFERROR(#REF!,0)*AC5","v":0},{"$f":"IFERROR(#REF!,0)*AC5","v":0},{"$f":"IFERROR(#REF!,0)*AC5","v":0},{"$f":"IFERROR(#REF!,0)*AG5","v":0},{"$f":"IFERROR(#REF!,0)*AG5","v":0},{"$f":"IFERROR(#REF!,0)*AG5","v":0},{"$f":"IFERROR(#REF!,0)*AG5","v":0},{"$f":"IFERROR(#REF!,0)*AK5","v":0},{"$f":"IFERROR(#REF!,0)*AK5","v":0},{"$f":"IFERROR(#REF!,0)*AK5","v":0},{"$f":"IFERROR(#REF!,0)*AK5","v":0},{"$f":"IFERROR(#REF!,0)*AO5","v":0},{"$f":"IFERROR(#REF!,0)*AO5","v":0},{"$f":"IFERROR(#REF!,0)*AO5","v":0},{"$f":"IFERROR(#REF!,0)*AO5","v":0},{"$f":"IFERROR(#REF!,0)*AS5","v":0},{"$f":"IFERROR(#REF!,0)*AS5","v":0},{"$f":"IFERROR(#REF!,0)*AS5","v":0},{"$f":"IFERROR(#REF!,0)*AS5","v":0},{"$f":"IFERROR(#REF!,0)*AW5","v":0},{"$f":"IFERROR(#REF!,0)*AW5","v":0},{"$f":"IFERROR(#REF!,0)*AW5","v":0},{"$f":"IFERROR(#REF!,0)*AW5","v":0},{"$f":"IFERROR(#REF!,0)*BA5","v":0},{"$f":"IFERROR(#REF!,0)*BA5","v":0},{"$f":"IFERROR(#REF!,0)*BA5","v":0},{"$f":"IFERROR(#REF!,0)*BA5","v":0},{"$f":"IFERROR(#REF!,0)*BE5","v":0},{"$f":"IFERROR(#REF!,0)*BE5","v":0},{"$f":"IFERROR(#REF!,0)*BE5","v":0},{"$f":"IFERROR(#REF!,0)*BE5","v":0},{"$f":"IFERROR(#REF!,0)*BI5","v":0},{"$f":"IFERROR(#REF!,0)*BI5","v":0},{"$f":"IFERROR(#REF!,0)*BI5","v":0},{"$f":"IFERROR(#REF!,0)*BI5","v":0},{"$f":"IFERROR(#REF!,0)*BM5","v":0},{"$f":"IFERROR(#REF!,0)*BM5","v":0},{"$f":"IFERROR(#REF!,0)*BM5","v":0},{"$f":"IFERROR(#REF!,0)*BM5","v":0},{"$f":"IFERROR(#REF!,0)*BQ5","v":0},{"$f":"IFERROR(#REF!,0)*BQ5","v":0},{"$f":"IFERROR(#REF!,0)*BQ5","v":0},{"$f":"IFERROR(#REF!,0)*BQ5","v":0},{"$f":"IFERROR(#REF!,0)*BU5","v":0},{"$f":"IFERROR(#REF!,0)*BU5","v":0},{"$f":"IFERROR(#REF!,0)*BU5","v":0},{"$f":"IFERROR(#REF!,0)*BU5","v":0},{"$f":"IFERROR(#REF!,0)*BY5","v":0},{"$f":"IFERROR(#REF!,0)*BY5","v":0},{"$f":"IFERROR(#REF!,0)*BY5","v":0},{"$f":"IFERROR(#REF!,0)*BY5","v":0},{"$f":"IFERROR(#REF!,0)*CC5","v":0},{"$f":"IFERROR(#REF!,0)*CC5","v":0},{"$f":"IFERROR(#REF!,0)*CC5","v":0},{"$f":"IFERROR(#REF!,0)*CC5","v":0},{"$f":"IFERROR(#REF!,0)*CG5","v":0},{"$f":"IFERROR(#REF!,0)*CG5","v":0},{"$f":"IFERROR(#REF!,0)*CG5","v":0},{"$f":"IFERROR(#REF!,0)*CG5","v":0},{"$f":"IFERROR(#REF!,0)*CK5","v":0},{"$f":"IFERROR(#REF!,0)*CK5","v":0},{"$f":"IFERROR(#REF!,0)*CK5","v":0},{"$f":"IFERROR(#REF!,0)*CK5","v":0},{"$f":"IFERROR(#REF!,0)*CO5","v":0},{"$f":"IFERROR(#REF!,0)*CO5","v":0},{"$f":"IFERROR(#REF!,0)*CO5","v":0},{"$f":"IFERROR(#REF!,0)*CO5","v":0},{"$f":"IFERROR(#REF!,0)*CS5","v":0},{"$f":"IFERROR(#REF!,0)*CS5","v":0},{"$f":"IFERROR(#REF!,0)*CS5","v":0},{"$f":"IFERROR(#REF!,0)*CS5","v":0},{"$f":"IFERROR(#REF!,0)*CW5","v":0},{"$f":"IFERROR(#REF!,0)*CW5","v":0},{"$f":"IFERROR(#REF!,0)*CW5","v":0},{"$f":"IFERROR(#REF!,0)*CW5","v":0},{"$f":"IFERROR(#REF!,0)*DA5","v":0},{"$f":"IFERROR(#REF!,0)*DA5","v":0},{"$f":"IFERROR(#REF!,0)*DA5","v":0},{"$f":"IFERROR(#REF!,0)*DA5","v":0},{"$f":"IFERROR(#REF!,0)*DE5","v":0},{"$f":"IFERROR(#REF!,0)*DE5","v":0},{"$f":"IFERROR(#REF!,0)*DE5","v":0},{"$f":"IFERROR(#REF!,0)*DE5","v":0},{"$f":"IFERROR(#REF!,0)*DI5","v":0},{"$f":"IFERROR(#REF!,0)*DI5","v":0},{"$f":"IFERROR(#REF!,0)*DI5","v":0},{"$f":"IFERROR(#REF!,0)*DI5","v":0},{"$f":"IFERROR(#REF!,0)*DM5","v":0},{"$f":"IFERROR(#REF!,0)*DM5","v":0},{"$f":"IFERROR(#REF!,0)*DM5","v":0},{"$f":"IFERROR(#REF!,0)*DM5","v":0},{"$f":"IFERROR(#REF!,0)*DQ5","v":0},{"$f":"IFERROR(#REF!,0)*DQ5","v":0},{"$f":"IFERROR(#REF!,0)*DQ5","v":0},{"$f":"IFERROR(#REF!,0)*DQ5","v":0},{"$f":"IFERROR(#REF!,0)*DU5","v":0},{"$f":"IFERROR(#REF!,0)*DU5","v":0},{"$f":"IFERROR(#REF!,0)*DU5","v":0},{"$f":"IFERROR(#REF!,0)*DU5","v":0},{"$f":"IFERROR(#REF!,0)*DY5","v":0},{"$f":"IFERROR(#REF!,0)*DY5","v":0},{"$f":"IFERROR(#REF!,0)*DY5","v":0},{"$f":"IFERROR(#REF!,0)*DY5","v":0},{"$f":"IFERROR(#REF!,0)*EC5","v":0},{"$f":"IFERROR(#REF!,0)*EC5","v":0},{"$f":"IFERROR(#REF!,0)*EC5","v":0},{"$f":"IFERROR(#REF!,0)*EC5","v":0},{"$f":"IFERROR(#REF!,0)*EG5","v":0},{"$f":"IFERROR(#REF!,0)*EG5","v":0},{"$f":"IFERROR(#REF!,0)*EG5","v":0},{"$f":"IFERROR(#REF!,0)*EG5","v":0},{"$f":"IFERROR(#REF!,0)*EK5","v":0},{"$f":"IFERROR(#REF!,0)*EK5","v":0},{"$f":"IFERROR(#REF!,0)*EK5","v":0},{"$f":"IFERROR(#REF!,0)*EK5","v":0},{"$f":"IFERROR(#REF!,0)*EO5","v":0},{"$f":"IFERROR(#REF!,0)*EO5","v":0},{"$f":"IFERROR(#REF!,0)*EO5","v":0},{"$f":"IFERROR(#REF!,0)*EO5","v":0},{"$f":"IFERROR(#REF!,0)*ES5","v":0},{"$f":"IFERROR(#REF!,0)*ES5","v":0},{"$f":"IFERROR(#REF!,0)*ES5","v":0},{"$f":"IFERROR(#REF!,0)*ES5","v":0},{"$f":"IFERROR(#REF!,0)*EW5","v":0},{"$f":"IFERROR(#REF!,0)*EW5","v":0},{"$f":"IFERROR(#REF!,0)*EW5","v":0},{"$f":"IFERROR(#REF!,0)*EW5","v":0},{"$f":"IFERROR(#REF!,0)*FA5","v":0},{"$f":"IFERROR(#REF!,0)*FA5","v":0},{"$f":"IFERROR(#REF!,0)*FA5","v":0},{"$f":"IFERROR(#REF!,0)*FA5","v":0},{"$f":"IFERROR(#REF!,0)*FE5","v":0},{"$f":"IFERROR(#REF!,0)*FE5","v":0},{"$f":"IFERROR(#REF!,0)*FE5","v":0},{"$f":"IFERROR(#REF!,0)*FE5","v":0},{"$f":"IFERROR(#REF!,0)*FI5","v":0},{"$f":"IFERROR(#REF!,0)*FI5","v":0},{"$f":"IFERROR(#REF!,0)*FI5","v":0},{"$f":"IFERROR(#REF!,0)*FI5","v":0},{"$f":"IFERROR(#REF!,0)*FM5","v":0},{"$f":"IFERROR(#REF!,0)*FM5","v":0},{"$f":"IFERROR(#REF!,0)*FM5","v":0},{"$f":"IFERROR(#REF!,0)*FM5","v":0},{"$f":"IFERROR(#REF!,0)*FQ5","v":0},{"$f":"IFERROR(#REF!,0)*FQ5","v":0},{"$f":"IFERROR(#REF!,0)*FQ5","v":0},{"$f":"IFERROR(#REF!,0)*FQ5","v":0},{"$f":"IFERROR(#REF!,0)*FU5","v":0},{"$f":"IFERROR(#REF!,0)*FU5","v":0},{"$f":"IFERROR(#REF!,0)*FU5","v":0},{"$f":"IFERROR(#REF!,0)*FU5","v":0},{"$f":"IFERROR(#REF!,0)*FY5","v":0},{"$f":"IFERROR(#REF!,0)*FY5","v":0},{"$f":"IFERROR(#REF!,0)*FY5","v":0},{"$f":"IFERROR(#REF!,0)*FY5","v":0},{"$f":"IFERROR(#REF!,0)*GC5","v":0},{"$f":"IFERROR(#REF!,0)*GC5","v":0},{"$f":"IFERROR(#REF!,0)*GC5","v":0},{"$f":"IFERROR(#REF!,0)*GC5","v":0},{"$f":"IFERROR(#REF!,0)*GG5","v":0},{"$f":"IFERROR(#REF!,0)*GG5","v":0},{"$f":"IFERROR(#REF!,0)*GG5","v":0},{"$f":"IFERROR(#REF!,0)*GG5","v":0},{"$f":"IFERROR(#REF!,0)*GK5","v":0},{"$f":"IFERROR(#REF!,0)*GK5","v":0},{"$f":"IFERROR(#REF!,0)*GK5","v":0},{"$f":"IFERROR(#REF!,0)*GK5","v":0},{"$f":"IFERROR(#REF!,0)*GO5","v":0},{"$f":"IFERROR(#REF!,0)*GO5","v":0},{"$f":"IFERROR(#REF!,0)*GO5","v":0},{"$f":"IFERROR(#REF!,0)*GO5","v":0},{"$f":"IFERROR(#REF!,0)*GS5","v":0},{"$f":"IFERROR(#REF!,0)*GS5","v":0},{"$f":"IFERROR(#REF!,0)*GS5","v":0},{"$f":"IFERROR(#REF!,0)*GS5","v":0},{"v":0,"d":"0.00"},{"v":0,"d":"0.00"},{"v":0,"d":"0.00"},{"v":0,"d":"0.00"}]
[null,{"$f":"#REF!","v":{"$error":"#REF!"}},{"$f":"#REF!","v":{"$error":"#REF!"}},{"$f":"IFERROR(#REF!,0)*E5","v":0},{"$f":"IFERROR(#REF!,0)*E5","v":0},{"$f":"IFERROR(#REF!,0)*E5","v":0},{"$f":"IFERROR(#REF!,0)*E5","v":0},{"$f":"IFERROR(#REF!,0)*I5","v":0},{"$f":"IFERROR(#REF!,0)*I5","v":0},{"$f":"IFERROR(#REF!,0)*I5","v":0},{"$f":"IFERROR(#REF!,0)*I5","v":0},{"$f":"IFERROR(#REF!,0)*M5","v":0},{"$f":"IFERROR(#REF!,0)*M5","v":0},{"$f":"IFERROR(#REF!,0)*M5","v":0},{"$f":"IFERROR(#REF!,0)*M5","v":0},{"$f":"IFERROR(#REF!,0)*Q5","v":0},{"$f":"IFERROR(#REF!,0)*Q5","v":0},{"$f":"IFERROR(#REF!,0)*Q5","v":0},{"$f":"IFERROR(#REF!,0)*Q5","v":0},{"$f":"IFERROR(#REF!,0)*U5","v":0},{"$f":"IFERROR(#REF!,0)*U5","v":0},{"$f":"IFERROR(#REF!,0)*U5","v":0},{"$f":"IFERROR(#REF!,0)*U5","v":0},{"$f":"IFERROR(#REF!,0)*Y5","v":0},{"$f":"IFERROR(#REF!,0)*Y5","v":0},{"$f":"IFERROR(#REF!,0)*Y5","v":0},{"$f":"IFERROR(#REF!,0)*Y5","v":0},{"$f":"IFERROR(#REF!,0)*AC5","v":0},{"$f":"IFERROR(#REF!,0)*AC5","v":0},{"$f":"IFERROR(#REF!,0)*AC5","v":0},{"$f":"IFERROR(#REF!,0)*AC5","v":0},{"$f":"IFERROR(#REF!,0)*AG5","v":0},{"$f":"IFERROR(#REF!,0)*AG5","v":0},{"$f":"IFERROR(#REF!,0)*AG5","v":0},{"$f":"IFERROR(#REF!,0)*AG5","v":0},{"$f":"IFERROR(#REF!,0)*AK5","v":0},{"$f":"IFERROR(#REF!,0)*AK5","v":0},{"$f":"IFERROR(#REF!,0)*AK5","v":0},{"$f":"IFERROR(#REF!,0)*AK5","v":0},{"$f":"IFERROR(#REF!,0)*AO5","v":0},{"$f":"IFERROR(#REF!,0)*AO5","v":0},{"$f":"IFERROR(#REF!,0)*AO5","v":0},{"$f":"IFERROR(#REF!,0)*AO5","v":0},{"$f":"IFERROR(#REF!,0)*AS5","v":0},{"$f":"IFERROR(#REF!,0)*AS5","v":0},{"$f":"IFERROR(#REF!,0)*AS5","v":0},{"$f":"IFERROR(#REF!,0)*AS5","v":0},{"$f":"IFERROR(#REF!,0)*AW5","v":0},{"$f":"IFERROR(#REF!,0)*AW5","v":0},{"$f":"IFERROR(#REF!,0)*AW5","v":0},{"$f":"IFERROR(#REF!,0)*AW5","v":0},{"$f":"IFERROR(#REF!,0)*BA5","v":0},{"$f":"IFERROR(#REF!,0)*BA5","v":0},{"$f":"IFERROR(#REF!,0)*BA5","v":0},{"$f":"IFERROR(#REF!,0)*BA5","v":0},{"$f":"IFERROR(#REF!,0)*BE5","v":0},{"$f":"IFERROR(#REF!,0)*BE5","v":0},{"$f":"IFERROR(#REF!,0)*BE5","v":0},{"$f":"IFERROR(#REF!,0)*BE5","v":0},{"$f":"IFERROR(#REF!,0)*BI5","v":0},{"$f":"IFERROR(#REF!,0)*BI5","v":0},{"$f":"IFERROR(#REF!,0)*BI5","v":0},{"$f":"IFERROR(#REF!,0)*BI5","v":0},{"$f":"IFERROR(#REF!,0)*BM5","v":0},{"$f":"IFERROR(#REF!,0)*BM5","v":0},{"$f":"IFERROR(#REF!,0)*BM5","v":0},{"$f":"IFERROR(#REF!,0)*BM5","v":0},{"$f":"IFERROR(#REF!,0)*BQ5","v":0},{"$f":"IFERROR(#REF!,0)*BQ5","v":0},{"$f":"IFERROR(#REF!,0)*BQ5","v":0},{"$f":"IFERROR(#REF!,0)*BQ5","v":0},{"$f":"IFERROR(#REF!,0)*BU5","v":0},{"$f":"IFERROR(#REF!,0)*BU5","v":0},{"$f":"IFERROR(#REF!,0)*BU5","v":0},{"$f":"IFERROR(#REF!,0)*BU5","v":0},{"$f":"IFERROR(#REF!,0)*BY5","v":0},{"$f":"IFERROR(#REF!,0)*BY5","v":0},{"$f":"IFERROR(#REF!,0)*BY5","v":0},{"$f":"IFERROR(#REF!,0)*BY5","v":0},{"$f":"IFERROR(#REF!,0)*CC5","v":0},{"$f":"IFERROR(#REF!,0)*CC5","v":0},{"$f":"IFERROR(#REF!,0)*CC5","v":0},{"$f":"IFERROR(#REF!,0)*CC5","v":0},{"$f":"IFERROR(#REF!,0)*CG5","v":0},{"$f":"IFERROR(#REF!,0)*CG5","v":0},{"$f":"IFERROR(#REF!,0)*CG5","v":0},{"$f":"IFERROR(#REF!,0)*CG5","v":0},{"$f":"IFERROR(#REF!,0)*CK5","v":0},{"$f":"IFERROR(#REF!,0)*CK5","v":0},{"$f":"IFERROR(#REF!,0)*CK5","v":0},{"$f":"IFERROR(#REF!,0)*CK5","v":0},{"$f":"IFERROR(#REF!,0)*CO5","v":0},{"$f":"IFERROR(#REF!,0)*CO5","v":0},{"$f":"IFERROR(#REF!,0)*CO5","v":0},{"$f":"IFERROR(#REF!,0)*CO5","v":0},{"$f":"IFERROR(#REF!,0)*CS5","v":0},{"$f":"IFERROR(#REF!,0)*CS5","v":0},{"$f":"IFERROR(#REF!,0)*CS5","v":0},{"$f":"IFERROR(#REF!,0)*CS5","v":0},{"$f":"IFERROR(#REF!,0)*CW5","v":0},{"$f":"IFERROR(#REF!,0)*CW5","v":0},{"$f":"IFERROR(#REF!,0)*CW5","v":0},{"$f":"IFERROR(#REF!,0)*CW5","v":0},{"$f":"IFERROR(#REF!,0)*DA5","v":0},{"$f":"IFERROR(#REF!,0)*DA5","v":0},{"$f":"IFERROR(#REF!,0)*DA5","v":0},{"$f":"IFERROR(#REF!,0)*DA5","v":0},{"$f":"IFERROR(#REF!,0)*DE5","v":0},{"$f":"IFERROR(#REF!,0)*DE5","v":0},{"$f":"IFERROR(#REF!,0)*DE5","v":0},{"$f":"IFERROR(#REF!,0)*DE5","v":0},{"$f":"IFERROR(#REF!,0)*DI5","v":0},{"$f":"IFERROR(#REF!,0)*DI5","v":0},{"$f":"IFERROR(#REF!,0)*DI5","v":0},{"$f":"IFERROR(#REF!,0)*DI5","v":0},{"$f":"IFERROR(#REF!,0)*DM5","v":0},{"$f":"IFERROR(#REF!,0)*DM5","v":0},{"$f":"IFERROR(#REF!,0)*DM5","v":0},{"$f":"IFERROR(#REF!,0)*DM5","v":0},{"$f":"IFERROR(#REF!,0)*DQ5","v":0},{"$f":"IFERROR(#REF!,0)*DQ5","v":0},{"$f":"IFERROR(#REF!,0)*DQ5","v":0},{"$f":"IFERROR(#REF!,0)*DQ5","v":0},{"$f":"IFERROR(#REF!,0)*DU5","v":0},{"$f":"IFERROR(#REF!,0)*DU5","v":0},{"$f":"IFERROR(#REF!,0)*DU5","v":0},{"$f":"IFERROR(#REF!,0)*DU5","v":0},{"$f":"IFERROR(#REF!,0)*DY5","v":0},{"$f":"IFERROR(#REF!,0)*DY5","v":0},{"$f":"IFERROR(#REF!,0)*DY5","v":0},{"$f":"IFERROR(#REF!,0)*DY5","v":0},{"$f":"IFERROR(#REF!,0)*EC5","v":0},{"$f":"IFERROR(#REF!,0)*EC5","v":0},{"$f":"IFERROR(#REF!,0)*EC5","v":0},{"$f":"IFERROR(#REF!,0)*EC5","v":0},{"$f":"IFERROR(#REF!,0)*EG5","v":0},{"$f":"IFERROR(#REF!,0)*EG5","v":0},{"$f":"IFERROR(#REF!,0)*EG5","v":0},{"$f":"IFERROR(#REF!,0)*EG5","v":0},{"$f":"IFERROR(#REF!,0)*EK5","v":0},{"$f":"IFERROR(#REF!,0)*EK5","v":0},{"$f":"IFERROR(#REF!,0)*EK5","v":0},{"$f":"IFERROR(#REF!,0)*EK5","v":0},{"$f":"IFERROR(#REF!,0)*EO5","v":0},{"$f":"IFERROR(#REF!,0)*EO5","v":0},{"$f":"IFERROR(#REF!,0)*EO5","v":0},{"$f":"IFERROR(#REF!,0)*EO5","v":0},{"$f":"IFERROR(#REF!,0)*ES5","v":0},{"$f":"IFERROR(#REF!,0)*ES5","v":0},{"$f":"IFERROR(#REF!,0)*ES5","v":0},{"$f":"IFERROR(#REF!,0)*ES5","v":0},{"$f":"IFERROR(#REF!,0)*EW5","v":0},{"$f":"IFERROR(#REF!,0)*EW5","v":0},{"$f":"IFERROR(#REF!,0)*EW5","v":0},{"$f":"IFERROR(#REF!,0)*EW5","v":0},{"$f":"IFERROR(#REF!,0)*FA5","v":0},{"$f":"IFERROR(#REF!,0)*FA5","v":0},{"$f":"IFERROR(#REF!,0)*FA5","v":0},{"$f":"IFERROR(#REF!,0)*FA5","v":0},{"$f":"IFERROR(#REF!,0)*FE5","v":0},{"$f":"IFERROR(#REF!,0)*FE5","v":0},{"$f":"IFERROR(#REF!,0)*FE5","v":0},{"$f":"IFERROR(#REF!,0)*FE5","v":0},{"$f":"IFERROR(#REF!,0)*FI5","v":0},{"$f":"IFERROR(#REF!,0)*FI5","v":0},{"$f":"IFERROR(#REF!,0)*FI5","v":0},{"$f":"IFERROR(#REF!,0)*FI5","v":0},{"$f":"IFERROR(#REF!,0)*FM5","v":0},{"$f":"IFERROR(#REF!,0)*FM5","v":0},{"$f":"IFERROR(#REF!,0)*FM5","v":0},{"$f":"IFERROR(#REF!,0)*FM5","v":0},{"$f":"IFERROR(#REF!,0)*FQ5","v":0},{"$f":"IFERROR(#REF!,0)*FQ5","v":0},{"$f":"IFERROR(#REF!,0)*FQ5","v":0},{"$f":"IFERROR(#REF!,0)*FQ5","v":0},{"$f":"IFERROR(#REF!,0)*FU5","v":0},{"$f":"IFERROR(#REF!,0)*FU5","v":0},{"$f":"IFERROR(#REF!,0)*FU5","v":0},{"$f":"IFERROR(#REF!,0)*FU5","v":0},{"$f":"IFERROR(#REF!,0)*FY5","v":0},{"$f":"IFERROR(#REF!,0)*FY5","v":0},{"$f":"IFERROR(#REF!,0)*FY5","v":0},{"$f":"IFERROR(#REF!,0)*FY5","v":0},{"$f":"IFERROR(#REF!,0)*GC5","v":0},{"$f":"IFERROR(#REF!,0)*GC5","v":0},{"$f":"IFERROR(#REF!,0)*GC5","v":0},{"$f":"IFERROR(#REF!,0)*GC5","v":0},{"$f":"IFERROR(#REF!,0)*GG5","v":0},{"$f":"IFERROR(#REF!,0)*GG5","v":0},{"$f":"IFERROR(#REF!,0)*GG5","v":0},{"$f":"IFERROR(#REF!,0)*GG5","v":0},{"$f":"IFERROR(#REF!,0)*GK5","v":0},{"$f":"IFERROR(#REF!,0)*GK5","v":0},{"$f":"IFERROR(#REF!,0)*GK5","v":0},{"$f":"IFERROR(#REF!,0)*GK5","v":0},{"$f":"IFERROR(#REF!,0)*GO5","v":0},{"$f":"IFERROR(#REF!,0)*GO5","v":0},{"$f":"IFERROR(#REF!,0)*GO5","v":0},{"$f":"IFERROR(#REF!,0)*GO5","v":0},{"$f":"IFERROR(#REF!,0)*GS5","v":0},{"$f":"IFERROR(#REF!,0)*GS5","v":0},{"$f":"IFERROR(#REF!,0)*GS5","v":0},{"$f":"IFERROR(#REF!,0)*GS5","v":0},{"v":0,"d":"0.00"},{"v":0,"d":"0.00"},{"v":0,"d":"0.00"},{"v":0,"d":"0.00"}]
[null,{"$f":"#REF!","v":{"$error":"#REF!"}},{"$f":"#REF!","v":{"$error":"#REF!"}},{"$f":"IFERROR(#REF!,0)*E5","v":0},{"$f":"IFERROR(#REF!,0)*E5","v":0},{"$f":"IFERROR(#REF!,0)*E5","v":0},{"$f":"IFERROR(#REF!,0)*E5","v":0},{"$f":"IFERROR(#REF!,0)*I5","v":0},{"$f":"IFERROR(#REF!,0)*I5","v":0},{"$f":"IFERROR(#REF!,0)*I5","v":0},{"$f":"IFERROR(#REF!,0)*I5","v":0},{"$f":"IFERROR(#REF!,0)*M5","v":0},{"$f":"IFERROR(#REF!,0)*M5","v":0},{"$f":"IFERROR(#REF!,0)*M5","v":0},{"$f":"IFERROR(#REF!,0)*M5","v":0},{"$f":"IFERROR(#REF!,0)*Q5","v":0},{"$f":"IFERROR(#REF!,0)*Q5","v":0},{"$f":"IFERROR(#REF!,0)*Q5","v":0},{"$f":"IFERROR(#REF!,0)*Q5","v":0},{"$f":"IFERROR(#REF!,0)*U5","v":0},{"$f":"IFERROR(#REF!,0)*U5","v":0},{"$f":"IFERROR(#REF!,0)*U5","v":0},{"$f":"IFERROR(#REF!,0)*U5","v":0},{"$f":"IFERROR(#REF!,0)*Y5","v":0},{"$f":"IFERROR(#REF!,0)*Y5","v":0},{"$f":"IFERROR(#REF!,0)*Y5","v":0},{"$f":"IFERROR(#REF!,0)*Y5","v":0},{"$f":"IFERROR(#REF!,0)*AC5","v":0},{"$f":"IFERROR(#REF!,0)*AC5","v":0},{"$f":"IFERROR(#REF!,0)*AC5","v":0},{"$f":"IFERROR(#REF!,0)*AC5","v":0},{"$f":"IFERROR(#REF!,0)*AG5","v":0},{"$f":"IFERROR(#REF!,0)*AG5","v":0},{"$f":"IFERROR(#REF!,0)*AG5","v":0},{"$f":"IFERROR(#REF!,0)*AG5","v":0},{"$f":"IFERROR(#REF!,0)*AK5","v":0},{"$f":"IFERROR(#REF!,0)*AK5","v":0},{"$f":"IFERROR(#REF!,0)*AK5","v":0},{"$f":"IFERROR(#REF!,0)*AK5","v":0},{"$f":"IFERROR(#REF!,0)*AO5","v":0},{"$f":"IFERROR(#REF!,0)*AO5","v":0},{"$f":"IFERROR(#REF!,0)*AO5","v":0},{"$f":"IFERROR(#REF!,0)*AO5","v":0},{"$f":"IFERROR(#REF!,0)*AS5","v":0},{"$f":"IFERROR(#REF!,0)*AS5","v":0},{"$f":"IFERROR(#REF!,0)*AS5","v":0},{"$f":"IFERROR(#REF!,0)*AS5","v":0},{"$f":"IFERROR(#REF!,0)*AW5","v":0},{"$f":"IFERROR(#REF!,0)*AW5","v":0},{"$f":"IFERROR(#REF!,0)*AW5","v":0},{"$f":"IFERROR(#REF!,0)*AW5","v":0},{"$f":"IFERROR(#REF!,0)*BA5","v":0},{"$f":"IFERROR(#REF!,0)*BA5","v":0},{"$f":"IFERROR(#REF!,0)*BA5","v":0},{"$f":"IFERROR(#REF!,0)*BA5","v":0},{"$f":"IFERROR(#REF!,0)*BE5","v":0},{"$f":"IFERROR(#REF!,0)*BE5","v":0},{"$f":"IFERROR(#REF!,0)*BE5","v":0},{"$f":"IFERROR(#REF!,0)*BE5","v":0},{"$f":"IFERROR(#REF!,0)*BI5","v":0},{"$f":"IFERROR(#REF!,0)*BI5","v":0},{"$f":"IFERROR(#REF!,0)*BI5","v":0},{"$f":"IFERROR(#REF!,0)*BI5","v":0},{"$f":"IFERROR(#REF!,0)*BM5","v":0},{"$f":"IFERROR(#REF!,0)*BM5","v":0},{"$f":"IFERROR(#REF!,0)*BM5","v":0},{"$f":"IFERROR(#REF!,0)*BM5","v":0},{"$f":"IFERROR(#REF!,0)*BQ5","v":0},{"$f":"IFERROR(#REF!,0)*BQ5","v":0},{"$f":"IFERROR(#REF!,0)*BQ5","v":0},{"$f":"IFERROR(#REF!,0)*BQ5","v":0},{"$f":"IFERROR(#REF!,0)*BU5","v":0},{"$f":"IFERROR(#REF!,0)*BU5","v":0},{"$f":"IFERROR(#REF!,0)*BU5","v":0},{"$f":"IFERROR(#REF!,0)*BU5","v":0},{"$f":"IFERROR(#REF!,0)*BY5","v":0},{"$f":"IFERROR(#REF!,0)*BY5","v":0},{"$f":"IFERROR(#REF!,0)*BY5","v":0},{"$f":"IFERROR(#REF!,0)*BY5","v":0},{"$f":"IFERROR(#REF!,0)*CC5","v":0},{"$f":"IFERROR(#REF!,0)*CC5","v":0},{"$f":"IFERROR(#REF!,0)*CC5","v":0},{"$f":"IFERROR(#REF!,0)*CC5","v":0},{"$f":"IFERROR(#REF!,0)*CG5","v":0},{"$f":"IFERROR(#REF!,0)*CG5","v":0},{"$f":"IFERROR(#REF!,0)*CG5","v":0},{"$f":"IFERROR(#REF!,0)*CG5","v":0},{"$f":"IFERROR(#REF!,0)*CK5","v":0},{"$f":"IFERROR(#REF!,0)*CK5","v":0},{"$f":"IFERROR(#REF!,0)*CK5","v":0},{"$f":"IFERROR(#REF!,0)*CK5","v":0},{"$f":"IFERROR(#REF!,0)*CO5","v":0},{"$f":"IFERROR(#REF!,0)*CO5","v":0},{"$f":"IFERROR(#REF!,0)*CO5","v":0},{"$f":"IFERROR(#REF!,0)*CO5","v":0},{"$f":"IFERROR(#REF!,0)*CS5","v":0},{"$f":"IFERROR(#REF!,0)*CS5","v":0},{"$f":"IFERROR(#REF!,0)*CS5","v":0},{"$f":"IFERROR(#REF!,0)*CS5","v":0},{"$f":"IFERROR(#REF!,0)*CW5","v":0},{"$f":"IFERROR(#REF!,0)*CW5","v":0},{"$f":"IFERROR(#REF!,0)*CW5","v":0},{"$f":"IFERROR(#REF!,0)*CW5","v":0},{"$f":"IFERROR(#REF!,0)*DA5","v":0},{"$f":"IFERROR(#REF!,0)*DA5","v":0},{"$f":"IFERROR(#REF!,0)*DA5","v":0},{"$f":"IFERROR(#REF!,0)*DA5","v":0},{"$f":"IFERROR(#REF!,0)*DE5","v":0},{"$f":"IFERROR(#REF!,0)*DE5","v":0},{"$f":"IFERROR(#REF!,0)*DE5","v":0},{"$f":"IFERROR(#REF!,0)*DE5","v":0},{"$f":"IFERROR(#REF!,0)*DI5","v":0},{"$f":"IFERROR(#REF!,0)*DI5","v":0},{"$f":"IFERROR(#REF!,0)*DI5","v":0},{"$f":"IFERROR(#REF!,0)*DI5","v":0},{"$f":"IFERROR(#REF!,0)*DM5","v":0},{"$f":"IFERROR(#REF!,0)*DM5","v":0},{"$f":"IFERROR(#REF!,0)*DM5","v":0},{"$f":"IFERROR(#REF!,0)*DM5","v":0},{"$f":"IFERROR(#REF!,0)*DQ5","v":0},{"$f":"IFERROR(#REF!,0)*DQ5","v":0},{"$f":"IFERROR(#REF!,0)*DQ5","v":0},{"$f":"IFERROR(#REF!,0)*DQ5","v":0},{"$f":"IFERROR(#REF!,0)*DU5","v":0},{"$f":"IFERROR(#REF!,0)*DU5","v":0},{"$f":"IFERROR(#REF!,0)*DU5","v":0},{"$f":"IFERROR(#REF!,0)*DU5","v":0},{"$f":"IFERROR(#REF!,0)*DY5","v":0},{"$f":"IFERROR(#REF!,0)*DY5","v":0},{"$f":"IFERROR(#REF!,0)*DY5","v":0},{"$f":"IFERROR(#REF!,0)*DY5","v":0},{"$f":"IFERROR(#REF!,0)*EC5","v":0},{"$f":"IFERROR(#REF!,0)*EC5","v":0},{"$f":"IFERROR(#REF!,0)*EC5","v":0},{"$f":"IFERROR(#REF!,0)*EC5","v":0},{"$f":"IFERROR(#REF!,0)*EG5","v":0},{"$f":"IFERROR(#REF!,0)*EG5","v":0},{"$f":"IFERROR(#REF!,0)*EG5","v":0},{"$f":"IFERROR(#REF!,0)*EG5","v":0},{"$f":"IFERROR(#REF!,0)*EK5","v":0},{"$f":"IFERROR(#REF!,0)*EK5","v":0},{"$f":"IFERROR(#REF!,0)*EK5","v":0},{"$f":"IFERROR(#REF!,0)*EK5","v":0},{"$f":"IFERROR(#REF!,0)*EO5","v":0},{"$f":"IFERROR(#REF!,0)*EO5","v":0},{"$f":"IFERROR(#REF!,0)*EO5","v":0},{"$f":"IFERROR(#REF!,0)*EO5","v":0},{"$f":"IFERROR(#REF!,0)*ES5","v":0},{"$f":"IFERROR(#REF!,0)*ES5","v":0},{"$f":"IFERROR(#REF!,0)*ES5","v":0},{"$f":"IFERROR(#REF!,0)*ES5","v":0},{"$f":"IFERROR(#REF!,0)*EW5","v":0},{"$f":"IFERROR(#REF!,0)*EW5","v":0},{"$f":"IFERROR(#REF!,0)*EW5","v":0},{"$f":"IFERROR(#REF!,0)*EW5","v":0},{"$f":"IFERROR(#REF!,0)*FA5","v":0},{"$f":"IFERROR(#REF!,0)*FA5","v":0},{"$f":"IFERROR(#REF!,0)*FA5","v":0},{"$f":"IFERROR(#REF!,0)*FA5","v":0},{"$f":"IFERROR(#REF!,0)*FE5","v":0},{"$f":"IFERROR(#REF!,0)*FE5","v":0},{"$f":"IFERROR(#REF!,0)*FE5","v":0},{"$f":"IFERROR(#REF!,0)*FE5","v":0},{"$f":"IFERROR(#REF!,0)*FI5","v":0},{"$f":"IFERROR(#REF!,0)*FI5","v":0},{"$f":"IFERROR(#REF!,0)*FI5","v":0},{"$f":"IFERROR(#REF!,0)*FI5","v":0},{"$f":"IFERROR(#REF!,0)*FM5","v":0},{"$f":"IFERROR(#REF!,0)*FM5","v":0},{"$f":"IFERROR(#REF!,0)*FM5","v":0},{"$f":"IFERROR(#REF!,0)*FM5","v":0},{"$f":"IFERROR(#REF!,0)*FQ5","v":0},{"$f":"IFERROR(#REF!,0)*FQ5","v":0},{"$f":"IFERROR(#REF!,0)*FQ5","v":0},{"$f":"IFERROR(#REF!,0)*FQ5","v":0},{"$f":"IFERROR(#REF!,0)*FU5","v":0},{"$f":"IFERROR(#REF!,0)*FU5","v":0},{"$f":"IFERROR(#REF!,0)*FU5","v":0},{"$f":"IFERROR(#REF!,0)*FU5","v":0},{"$f":"IFERROR(#REF!,0)*FY5","v":0},{"$f":"IFERROR(#REF!,0)*FY5","v":0},{"$f":"IFERROR(#REF!,0)*FY5","v":0},{"$f":"IFERROR(#REF!,0)*FY5","v":0},{"$f":"IFERROR(#REF!,0)*GC5","v":0},{"$f":"IFERROR(#REF!,0)*GC5","v":0},{"$f":"IFERROR(#REF!,0)*GC5","v":0},{"$f":"IFERROR(#REF!,0)*GC5","v":0},{"$f":"IFERROR(#REF!,0)*GG5","v":0},{"$f":"IFERROR(#REF!,0)*GG5","v":0},{"$f":"IFERROR(#REF!,0)*GG5","v":0},{"$f":"IFERROR(#REF!,0)*GG5","v":0},{"$f":"IFERROR(#REF!,0)*GK5","v":0},{"$f":"IFERROR(#REF!,0)*GK5","v":0},{"$f":"IFERROR(#REF!,0)*GK5","v":0},{"$f":"IFERROR(#REF!,0)*GK5","v":0},{"$f":"IFERROR(#REF!,0)*GO5","v":0},{"$f":"IFERROR(#REF!,0)*GO5","v":0},{"$f":"IFERROR(#REF!,0)*GO5","v":0},{"$f":"IFERROR(#REF!,0)*GO5","v":0},{"$f":"IFERROR(#REF!,0)*GS5","v":0},{"$f":"IFERROR(#REF!,0)*GS5","v":0},{"$f":"IFERROR(#REF!,0)*GS5","v":0},{"$f":"IFERROR(#REF!,0)*GS5","v":0},{"v":0,"d":"0.00"},{"v":0,"d":"0.00"},{"v":0,"d":"0.00"},{"v":0,"d":"0.00"}]

{"sheet":"CF annual","index":3,"n_rows":160,"n_cols":13,"rows_kept":160,"hidden":true,"merged":[[1,1,2,1],[1,2,2,2],[1,3,2,3],[1,4,2,4],[1,6,1,9],[37,4,38,4],[37,6,37,9],[77,4,78,4],[77,6,77,9],[87,6,87,9]]}
[]
[null,"Баланс",{"$f":"#REF!","v":{"$error":"#REF!"}},{"$f":"#REF!","v":{"$error":"#REF!"}},"Влияние кредита +/-","После выдачи","Прогноз"]
[{"$nulls":5},{"$f":"D2","v":{"$error":"#REF!"}},"+1 год","+2 года","+3 года","+4 года",null,"Delta"]
[]
[null,"Текущие активы",{"$f":"#REF!","v":{"$error":"#REF!"}},{"$f":"#REF!","v":{"$error":"#REF!"}},0,{"$f":"F6+F7+F9+F13+F15","v":{"$error":"#REF!"}},{"$f":"G6+G7+G9+G13+G15","v":{"$error":"#REF!"}},{"$error":"#REF!"},{"$error":"#REF!"},{"$error":"#REF!"}]
[null,"Касса и банковский счета",{"$f":"#REF!","v":{"$error":"#REF!"}},{"$f":"#REF!","v":{"$error":"#REF!"}},0,{"$f":"D6+E6","v":{"$error":"#REF!"}},{"$f":"G134","v":{"$error":"#REF!"}},{"$f":"H134","v":{"$error":"#REF!"}},{"$f":"I134","v":{"$error":"#REF!"}},{"$f":"J134","v":{"$error":"#REF!"}}]
[null,"Всего дебиторов",{"$f":"#REF!","v":{"$error":"#REF!"}},{"$f":"#REF!","v":{"$error":"#REF!"}},0,{"$f":"D7+E7","v":{"$error":"#REF!"}},{"$f":"G8+G40-G91","v":{"$error":"#REF!"}},{"$f":"H8+H40-H91","v":{"$error":"#REF!"}},{"$error":"#REF!"},{"$error":"#REF!"},null,null,{"$f":"C8/C7","v":{"$error":"#REF!"}}]
[null,"Краткосрочные дебиторы",{"$f":"#REF!","v":{"$error":"#REF!"}},{"$f":"#REF!","v":{"$error":"#REF!"}},0,{"$f":"D8+E8","v":{"$error":"#REF!"}},{"$f":"F8+(G40-G91)*$M$7","v":{"$error":"#REF!"}},{"$f":"G8+(H40-H91)*$M$7","v":{"$error":"#REF!"}},{"$error":"#REF!"},{"$error":"#REF!"},null,{"$f":"D8-C8","v":{"$error":"#REF!"}}]
[null,"Всего ТМЗ",{"$f":"#REF!","v":{"$error":"#REF!"}},{"$f":"#REF!","v":{"$error":"#REF!"}},0,{"$f":"F10+F11+F12","v":{"$error":"#REF!"}},{"$f":"G10+G11+G12","v":{"$error":"#REF!"}},{"$f":"H10+H11+H12","v":{"$error":"#REF!"}},{"$error":"#REF!"},{"$error":"#REF!"},null,{"$f":"D9-C9","v":{"$error":"#REF!"}}]
[null,"Сырье и полуфабрикаты",{"$f":"#REF!+#REF!","v":{"$error":"#REF!"}},{"$f":"#REF!+#REF!","v":{"$error":"#REF!"}},0,{"$f":"D10+E10","v":{"$error":"#REF!"}},{"$f":"F10+(-G49+G98-G50+G99)*$M$16*$M$10","v":{"$error":"#REF!"}},{"$f":"G10+(-H49+H98-H50+H99)*$M$16*$M$10","v":{"$error":"#REF!"}},{"$f":"H10+(-I49+I98-I50+I99)*$M$16*$M$10","v":{"$error":"#REF!"}},{"$f":"I10+(-J49+J98-J50+J99)*$M$16*$M$10","v":{"$error":"#REF!"}},null,{"$f":"D10-C10","v":{"$error":"#REF!"}},{"$f":"F10/($F$10+$F$11)","v":{"$error":"#REF!"}}]
[null,"Готовая продукция",{"$f":"#REF!","v":{"$error":"#REF!"}},{"$f":"#REF!","v":{"$error":"#REF!"}},0,{"$f":"D11+E11","v":{"$error":"#REF!"}},{"$f":"F11+(-G49+G98-G50+G99)*$M$16*$M$11","v":{"$error":"#REF!"}},{"$f":"G11+(-H49+H98-H50+H99)*$M$16*$M$11","v":{"$error":"#REF!"}},{"$f":"H11+(-I49+I98-I50+I99)*$M$16*$M$11","v":{"$error":"#REF!"}},{"$f":"I11+(-J49+J98-J50+J99)*$M$16*$M$11","v":{"$error":"#REF!"}},null,{"$f":"D11-C11","v":{"$error":"#REF!"}},{"$f":"F11/($F$10+$F$11)","v":{"$error":"#REF!"}}]
[null,"Товары отгруженные",{"$f":"#REF!","v":{"$error":"#REF!"}},{"$f":"#REF!","v":{"$error":"#REF!"}},0,{"$f":"D12+E12","v":{"$error":"#REF!"}},{"$f":"F12","v":{"$error":"#REF!"}},{"$f":"G12","v":{"$error":"#REF!"}},{"$f":"H12","v":{"$error":"#REF!"}},{"$f":"I12","v":{"$error":"#REF!"}}]
[null,"Прочие тек активы (без РБП)",{"$f":"#REF!","v":{"$error":"#REF!"}},{"$f":"#REF!","v":{"$error":"#REF!"}},0,{"$f":"D13","v":{"$error":"#REF!"}},{"$f":"F13+(F23-(-G49+G98-G50+G99)*(1-$M$16))*(G84*(G85-E85))+(F26+G118-G119)*(G83*(G85-E85))+(G126-G127)*(G83*(G85-E85))","v":{"$error":"#REF!"}},{"$f":"G13+(G23-(-H49+H98-H50+H99)*(1-$M$16))*(H84*(H85-F85))+(G26+H118-H119)*(H83*(H85-F85))+(H126-H127)*(H83*(H85-F85))","v":{"$error":"#REF!"}},{"$f":"H13+(H23-(-I49+I98-I50+I99)*(1-$M$16))*(I84*(I85-G85))+(H26+I118-I119)*(I83*(I85-G85))+(I126-I127)*(I83*(I85-G85))","v":{"$error":"#REF!"}},{"$f":"I13+(I23-(-J49+J98-J50+J99)*(1-$M$16))*(J84*(J85-H85))+(I26+J118-J119)*(J83*(J85-H85))+(J126-J127)*(J83*(J85-H85))","v":{"$error":"#REF!"}}]
[null,"НДС",{"$f":"#REF!","v":{"$error":"#REF!"}},{"$f":"#REF!","v":{"$error":"#REF!"}},0,{"$f":"D14+E14","v":{"$error":"#REF!"}},{"$f":"F14-G45+G92","v":{"$error":"#REF!"}},{"$f":"G14-H45+H92","v":{"$error":"#REF!"}},{"$f":"H14-I45+I92","v":{"$error":"#REF!"}},{"$f":"I14-J45+J92","v":{"$error":"#REF!"}},null,{"$f":"D14-C14","v":{"$error":"#REF!"}}]
[null,"Расходы будущих периодов",{"$f":"#REF!","v":{"$error":"#REF!"}},{"$f":"#REF!","v":{"$error":"#REF!"}},0,{"$f":"D15","v":{"$error":"#REF!"}},{"$f":"F15","v":{"$error":"#REF!"}},{"$f":"G15","v":{"$error":"#REF!"}},{"$f":"H15","v":{"$error":"#REF!"}},{"$f":"I15","v":{"$error":"#REF!"}}]
[null,"Постоянные активы",{"$f":"#REF!","v":{"$error":"#REF!"}},{"$f":"#REF!","v":{"$error":"#REF!"}},{"$f":"E17+E18","v":0},{"$f":"F17+F18","v":{"$error":"#REF!"}},{"$error":"#REF!"},{"$error":"#REF!"},{"$error":"#REF!"},{"$f":"J17+J18","v":{"$error":"#REF!"}},null,"I/C",{"$f":"(F10+F11)/(F10+F23)","v":{"$error":"#REF!"}}]
[null,"Основные средства",{"$f":"#REF!","v":{"$error":"#REF!"}},{"$f":"#REF!","v":{"$error":"#REF!"}},0,{"$f":"D17+E17","v":{"$error":"#REF!"}},{"$f":"F17-G103","v":{"$error":"#REF!"}},{"$f":"G17-H103","v":{"$error":"#REF!"}},{"$f":"H17-I103","v":{"$error":"#REF!"}},{"$f":"I17-J103","v":{"$error":"#REF!"}}]
[null,"Прочие постоянные активы",{"$f":"#REF!","v":{"$error":"#REF!"}},{"$f":"#REF!","v":{"$error":"#REF!"}},0,{"$f":"D18+E18","v":{"$error":"#REF!"}},{"$f":"F18-G111","v":{"$error":"#REF!"}},{"$f":"G18-H111","v":{"$error":"#REF!"}},{"$f":"H18-I111","v":{"$error":"#REF!"}},{"$f":"I18-J111","v":{"$error":"#REF!"}}]
[null,"Всего Активы",{"$f":"#REF!","v":{"$error":"#REF!"}},{"$f":"#REF!","v":{"$error":"#REF!"}},0,{"$f":"F5+F16","v":{"$error":"#REF!"}},{"$f":"G5+G16","v":{"$error":"#REF!"}},{"$f":"H5+H16","v":{"$error":"#REF!"}},{"$error":"#REF!"},{"$error":"#REF!"}]
[]
[null,"Обязательства",{"$f":"#REF!","v":{"$error":"#REF!"}},{"$f":"#REF!","v":{"$error":"#REF!"}},0,{"$f":"F22+F29","v":{"$error":"#REF!"}},{"$f":"G22+G29","v":{"$error":"#REF!"}},{"$f":"H22+H29","v":{"$error":"#REF!"}},{"$f":"I22+I29","v":{"$error":"#REF!"}},{"$f":"J22+J29","v":{"$error":"#REF!"}}]
[null,"Краткосрочная задолж.",{"$f":"#REF!","v":{"$error":"#REF!"}},{"$f":"#REF!","v":{"$error":"#REF!"}},0,{"$f":"F23+F24+F25+F26+F27+F28","v":{"$error":"#REF!"}},{"$f":"G23+G24+G25++G26+G27+G28","v":{"$error":"#REF!"}},{"$f":"H23+H24+H25+H26+H27+H28","v":{"$error":"#REF!"}},{"$f":"I23+I24+I25++I26+I27+I28","v":{"$error":"#REF!"}},{"$f":"J23+J24+J25+J26+J27+J28","v":{"$error":"#REF!"}}]
[null,"перед поставщиками и подрядчиками",{"$f":"#REF!","v":{"$error":"#REF!"}},{"$f":"#REF!","v":{"$error":"#REF!"}},0,{"$f":"D23+E23","v":{"$error":"#REF!"}},{"$f":"(F23-(-G49+G98-G50+G99)*(1-$M$16))*(1+G84*(G85-E85))","v":{"$error":"#REF!"}},{"$f":"(G23-(-H49+H98-H50+H99)*(1-$M$16))*(1+H84*(H85-F85))","v":{"$error":"#REF!"}},{"$f":"(H23-(-I49+I98-I50+I99)*(1-$M$16))*(1+I84*(I85-G85))","v":{"$error":"#REF!"}},{"$f":"(I23-(-J49+J98-J50+J99)*(1-$M$16))*(1+J84*(J85-H85))","v":{"$error":"#REF!"}}]
[null,"авансы полученные",{"$f":"#REF!","v":{"$error":"#REF!"}},{"$f":"#REF!","v":{"$error":"#REF!"}},0,{"$error":"#REF!"},{"$f":"F24","v":{"$error":"#REF!"}},{"$f":"G24","v":{"$error":"#REF!"}},{"$error":"#REF!"},{"$f":"I24","v":{"$error":"#REF!"}}]
[null,"Кредиты в БНБ-Банке",{"$f":"#REF!","v":{"$error":"#REF!"}},{"$f":"#REF!","v":{"$error":"#REF!"}},0,{"$error":"#REF!"},{"$f":"F25+G115-G116","v":{"$error":"#REF!"}},{"$f":"G25+H115-H116","v":{"$error":"#REF!"}},{"$f":"H25+I115-I116","v":{"$error":"#REF!"}},{"$f":"I25+J115-J116","v":{"$error":"#REF!"}},null,{"$f":"D23-C23","v":{"$error":"#REF!"}}]
[null,"Прочие кредиты и займы",{"$f":"#REF!","v":{"$error":"#REF!"}},{"$f":"#REF!","v":{"$error":"#REF!"}},0,{"$error":"#REF!"},{"$f":"(F26+G118-G119)*(1+G83*(G85-E85))","v":{"$error":"#REF!"}},{"$f":"(G26+H118-H119)*(1+H83*(H85-G85))","v":{"$error":"#REF!"}},{"$f":"(H26+I118-I119)*(1+I83*(I85-H85))","v":{"$error":"#REF!"}},{"$f":"(I26+J118-J119)*(1+J83*(J85-I85))","v":{"$error":"#REF!"}},null,{"$f":"D24-C24","v":{"$error":"#REF!"}}]
[null,"Бюджет и фонды",{"$f":"#REF!","v":{"$error":"#REF!"}},{"$f":"#REF!","v":{"$error":"#REF!"}},0,{"$error":"#REF!"},{"$f":"F27","v":{"$error":"#REF!"}},{"$f":"G27","v":{"$error":"#REF!"}},{"$error":"#REF!"},{"$f":"I27","v":{"$error":"#REF!"}}]
[null,"Прочие кредиторы",{"$f":"#REF!","v":{"$error":"#REF!"}},{"$f":"#REF!","v":{"$error":"#REF!"}},0,{"$error":"#REF!"},{"$f":"F28","v":{"$error":"#REF!"}},{"$error":"#REF!"},{"$error":"#REF!"},{"$f":"I28","v":{"$error":"#REF!"}}]
[null,"Долгосрочная задолж.",{"$f":"#REF!","v":{"$error":"#REF!"}},{"$f":"#REF!","v":{"$error":"#REF!"}},0,{"$f":"F30+F31","v":{"$error":"#REF!"}},{"$f":"G30+G31","v":{"$error":"#REF!"}},{"$f":"H30+H31","v":{"$error":"#REF!"}},{"$f":"I30+I31","v":{"$error":"#REF!"}},{"$f":"J30+J31","v":{"$error":"#REF!"}}]
[null,"Кредиты в БНБ-Банке",{"$f":"#REF!","v":{"$error":"#REF!"}},{"$f":"#REF!","v":{"$error":"#REF!"}},0,{"$f":"D30+E30","v":{"$error":"#REF!"}},{"$f":"F30+G123-G124","v":{"$error":"#REF!"}},{"$f":"G30+H123-H124","v":{"$error":"#REF!"}},{"$f":"H30+I123-I124","v":{"$error":"#REF!"}},{"$f":"I30+J123-J124","v":{"$error":"#REF!"}}]
[null,"Прочая долгосрочная задолженность",{"$f":"#REF!","v":{"$error":"#REF!"}},{"$f":"#REF!","v":{"$error":"#REF!"}},0,{"$f":"D31+E31","v":{"$error":"#REF!"}},{"$f":"F31","v":{"$error":"#REF!"}},{"$f":"G31","v":{"$error":"#REF!"}},{"$error":"#REF!"},{"$f":"I31","v":{"$error":"#REF!"}}]
[null,"Собственный капитал",{"$f":"#REF!","v":{"$error":"#REF!"}},{"$f":"#REF!","v":{"$error":"#REF!"}},0,{"$f":"F33+F34+F35","v":{"$error":"#REF!"}},{"$f":"G33+G34+G35","v":{"$error":"#REF!"}},{"$f":"H33+H34+H35","v":{"$error":"#REF!"}},{"$error":"#REF!"},{"$error":"#REF!"}]
[null,"Уставный фонд",{"$f":"#REF!","v":{"$error":"#REF!"}},{"$f":"#REF!","v":{"$error":"#REF!"}},0,{"$f":"D33+E33","v":{"$error":"#REF!"}},{"$f":"F33","v":{"$error":"#REF!"}},{"$f":"G33","v":{"$error":"#REF!"}},{"$error":"#REF!"},{"$f":"I33","v":{"$error":"#REF!"}}]
[null,"Прочие фонды",{"$f":"#REF!","v":{"$error":"#REF!"}},{"$f":"#REF!","v":{"$error":"#REF!"}},0,{"$f":"D34+E34","v":{"$error":"#REF!"}},{"$f":"F34","v":{"$error":"#REF!"}},{"$error":"#REF!"},{"$error":"#REF!"},{"$f":"I34","v":{"$error":"#REF!"}}]
[null,"Накопленная прибыль (Убыток)",{"$f":"#REF!","v":{"$error":"#REF!"}},{"$f":"#REF!","v":{"$error":"#REF!"}},0,{"$f":"D35+E35","v":{"$error":"#REF!"}},{"$f":"F35+G74","v":{"$error":"#REF!"}},{"$f":"G35+H74","v":{"$error":"#REF!"}},{"$error":"#REF!"},{"$error":"#REF!"}]
[null,"Всего Пассивы",{"$f":"#REF!","v":{"$error":"#REF!"}},{"$f":"#REF!","v":{"$error":"#REF!"}},0,{"$f":"F32+F21","v":{"$error":"#REF!"}},{"$f":"G21+G32","v":{"$error":"#REF!"}},{"$f":"H21+H32","v":{"$error":"#REF!"}},{"$f":"I21+I32","v":{"$error":"#REF!"}},{"$f":"J21+J32","v":{"$error":"#REF!"}}]
[{"$nulls":5},{"$f":"F19-F36","v":{"$error":"#REF!"}},{"$f":"G19-G36","v":{"$error":"#REF!"}},{"$f":"H19-H36","v":{"$error":"#REF!"}},{"$f":"I19-I36","v":{"$error":"#REF!"}},{"$f":"J19-J36","v":{"$error":"#REF!"}}]
[null,"Детализированные данные отчета о прибылях и убытках","с",{"$f":"MIN(#REF!)","v":{"$error":"#REF!"}},"Доля в выручке",null,"Прогноз"]
[null,"в годовом выражении, тыс. BYN","по",{"$f":"MAX(#REF!)","v":{"$error":"#REF!"}},null,null,"+1 год","+2 года","+3 года","+4 года"]
[null,"Выручка всего, в т. ч.",null,{"$f":"D41+D42+D43","v":{"$error":"#REF!"}},{"$f":"D40/$D$40","v":{"$error":"#REF!"}},null,{"$f":"G41+G42+G43","v":{"$error":"#REF!"}},{"$f":"H41+H42+H43","v":{"$error":"#REF!"}},{"$error":"#REF!"},{"$error":"#REF!"}]
[null,"Товарооборот по торговле",{"$f":"#REF!","v":{"$error":"#REF!"}},{"$f":"#REF!*12","v":{"$error":"#REF!"}},{"$f":"D41/$D$40","v":{"$error":"#REF!"}},null,{"$f":"D41","v":{"$error":"#REF!"}},{"$f":"G41","v":{"$error":"#REF!"}},{"$f":"H41","v":{"$error":"#REF!"}},{"$f":"I41","v":{"$error":"#REF!"}}]
[null,"Выручка от производства",{"$f":"#REF!","v":{"$error":"#REF!"}},{"$f":"#REF!*12","v":{"$error":"#REF!"}},{"$error":"#REF!"},null,{"$f":"D42","v":{"$error":"#REF!"}},{"$f":"G42","v":{"$error":"#REF!"}},{"$error":"#REF!"},{"$f":"I42","v":{"$error":"#REF!"}}]
[null,"Выручка от прочей деятельности",{"$f":"#REF!","v":{"$error":"#REF!"}},{"$f":"#REF!*12","v":{"$error":"#REF!"}},{"$error":"#REF!"},null,{"$error":"#REF!"},{"$f":"G43","v":{"$error":"#REF!"}},{"$error":"#REF!"},{"$f":"I43","v":{"$error":"#REF!"}}]
[null,"Налог. платежи, уплач. из выручки, в т.ч.",null,{"$f":"D45+D46","v":{"$error":"#REF!"}},{"$error":"#REF!"},null,{"$f":"G45+G46","v":{"$error":"#REF!"}},{"$f":"H45+H46","v":{"$error":"#REF!"}},{"$error":"#REF!"},{"$error":"#REF!"}]
[null,"НДС",{"$f":"#REF!","v":{"$error":"#REF!"}},{"$f":"#REF!*12","v":{"$error":"#REF!"}},{"$error":"#REF!"},null,{"$error":"#REF!"},{"$error":"#REF!"},{"$error":"#REF!"},{"$f":"I45","v":{"$error":"#REF!"}}]
[null,"Прочие налоги из выручки",{"$f":"#REF!","v":{"$error":"#REF!"}},{"$f":"#REF!*12","v":{"$error":"#REF!"}},{"$error":"#REF!"},null,{"$error":"#REF!"},0,0,{"$f":"I46","v":0}]
[null,"Чистая выручка",null,{"$f":"D40-D44","v":{"$error":"#REF!"}},{"$error":"#REF!"},null,{"$f":"G40-G44","v":{"$error":"#REF!"}},{"$f":"H40-H44","v":{"$error":"#REF!"}},{"$f":"I40-I44","v":{"$error":"#REF!"}},{"$f":"J40-J44","v":{"$error":"#REF!"}}]
[null,"Материальные затраты, в т.ч.",null,{"$f":"SUM(D49:D51)","v":{"$error":"#REF!"}},{"$error":"#REF!"},null,{"$f":"G49+G50+G51","v":{"$error":"#REF!"}},{"$f":"H49+H50+H51","v":{"$error":"#REF!"}},{"$error":"#REF!"},{"$error":"#REF!"}]
[null,"Стоимость приобретения товаров для торговли",{"$f":"#REF!","v":{"$error":"#REF!"}},{"$f":"#REF!*12","v":{"$error":"#REF!"}},{"$error":"#REF!"},null,{"$f":"D49","v":{"$error":"#REF!"}},{"$f":"G49","v":{"$error":"#REF!"}},{"$error":"#REF!"},{"$f":"I49","v":{"$error":"#REF!"}}]
[null,"Стоимость сырья, материалов для производства",{"$f":"#REF!","v":{"$error":"#REF!"}},{"$f":"#REF!*12","v":{"$error":"#REF!"}},{"$error":"#REF!"},null,{"$error":"#REF!"},{"$f":"G50","v":{"$error":"#REF!"}},{"$f":"H50","v":{"$error":"#REF!"}},{"$f":"I50","v":{"$error":"#REF!"}}]
[null,"Материальные затраты по прочей деятельности",{"$f":"#REF!","v":{"$error":"#REF!"}},{"$f":"#REF!*12","v":{"$error":"#REF!"}},{"$error":"#REF!"},null,{"$error":"#REF!"},0,0,{"$f":"I51","v":0}]
[null,"Валовая прибыль",null,{"$f":"D47-D48","v":{"$error":"#REF!"}},{"$error":"#REF!"},null,{"$f":"G47-G48","v":{"$error":"#REF!"}},{"$f":"H47-H48","v":{"$error":"#REF!"}},{"$f":"I47-I48","v":{"$error":"#REF!"}},{"$f":"J47-J48","v":{"$error":"#REF!"}}]
[null,"Общие расходы",null,{"$f":"D54+D55+D56+D57+D58+D62+D64-D65+D63","v":{"$error":"#REF!"}},{"$error":"#REF!"},null,{"$f":"G54+G55+G56+G57+G58+G62+G64-G65+G63","v":{"$error":"#REF!"}},{"$error":"#REF!"},{"$error":"#REF!"},{"$error":"#REF!"}]
[null,"ФОТ  без отчислений в ФСЗН",{"$f":"#REF!","v":{"$error":"#REF!"}},{"$f":"#REF!*12","v":{"$error":"#REF!"}},{"$error":"#REF!"},null,{"$f":"D54","v":{"$error":"#REF!"}},{"$f":"G54","v":{"$error":"#REF!"}},{"$error":"#REF!"},{"$f":"I54","v":{"$error":"#REF!"}}]
[null,"Аренда и коммунальные услуги",{"$f":"#REF!","v":{"$error":"#REF!"}},{"$f":"#REF!*12","v":{"$error":"#REF!"}},{"$error":"#REF!"},null,{"$error":"#REF!"},{"$error":"#REF!"},{"$error":"#REF!"},{"$f":"I55","v":{"$error":"#REF!"}}]
[null,"Транспортные затраты",{"$f":"#REF!","v":{"$error":"#REF!"}},{"$f":"#REF!*12","v":{"$error":"#REF!"}},{"$error":"#REF!"},null,{"$error":"#REF!"},{"$f":"G56","v":{"$error":"#REF!"}},{"$f":"H56","v":{"$error":"#REF!"}},{"$f":"I56","v":{"$error":"#REF!"}}]
[null,"Общехозяйственные расходы",{"$f":"#REF!","v":{"$error":"#REF!"}},{"$f":"#REF!*12","v":{"$error":"#REF!"}},{"$error":"#REF!"},null,{"$error":"#REF!"},{"$f":"G57","v":{"$error":"#REF!"}},{"$f":"H57","v":{"$error":"#REF!"}},{"$f":"I57","v":{"$error":"#REF!"}}]
[null,"Налог. платежи (включ. в с/с), в т.ч:",null,{"$f":"D59+D60+D61","v":{"$error":"#REF!"}},{"$error":"#REF!"},null,{"$f":"G59+G60+G61","v":{"$error":"#REF!"}},{"$f":"H59+H60+H61","v":{"$error":"#REF!"}},{"$error":"#REF!"},{"$error":"#REF!"}]
[null,"ФСЗН",{"$f":"#REF!","v":{"$error":"#REF!"}},{"$f":"#REF!*12","v":{"$error":"#REF!"}},{"$error":"#REF!"},null,{"$error":"#REF!"},{"$f":"G59","v":{"$error":"#REF!"}},{"$f":"H59","v":{"$error":"#REF!"}},{"$f":"I59","v":{"$error":"#REF!"}}]
[null,"Страховые платежи в Белгосстрах",{"$f":"#REF!","v":{"$error":"#REF!"}},{"$f":"#REF!*12","v":{"$error":"#REF!"}},{"$error":"#REF!"},null,{"$error":"#REF!"},{"$f":"G60","v":{"$error":"#REF!"}},{"$error":"#REF!"},{"$f":"I60","v":{"$error":"#REF!"}}]
[null,"Прочие налоги, включаемые в с/с",{"$f":"#REF!","v":{"$error":"#REF!"}},{"$f":"#REF!*12","v":{"$error":"#REF!"}},{"$error":"#REF!"},null,{"$error":"#REF!"},{"$error":"#REF!"},{"$error":"#REF!"},{"$f":"I61","v":{"$error":"#REF!"}}]
[null,"Представительские и командировочные",{"$f":"#REF!","v":{"$error":"#REF!"}},{"$f":"#REF!*12","v":{"$error":"#REF!"}},{"$error":"#REF!"},null,{"$error":"#REF!"},{"$error":"#REF!"},{"$error":"#REF!"},{"$f":"I62","v":{"$error":"#REF!"}}]
[null,"Выплаты процентов по кредитам и займам",{"$f":"#REF!","v":{"$error":"#REF!"}},{"$f":"#REF!*12","v":{"$error":"#REF!"}},{"$error":"#REF!"},null,{"$f":"(G117+G120+G125+G128)","v":0},0,0,0]
[null,"Прочие расходы",{"$f":"#REF!","v":{"$error":"#REF!"}},{"$f":"#REF!*12","v":{"$error":"#REF!"}},{"$error":"#REF!"},null,{"$error":"#REF!"},{"$error":"#REF!"},{"$error":"#REF!"},{"$error":"#REF!"}]
[null,"Прочие доходы",{"$f":"#REF!","v":{"$error":"#REF!"}},{"$f":"#REF!*12","v":{"$error":"#REF!"}},{"$error":"#REF!"},null,{"$error":"#REF!"},{"$error":"#REF!"},{"$error":"#REF!"},{"$error":"#REF!"}]
[null,"Доходы от инвест.деятельности",{"$f":"#REF!","v":{"$error":"#REF!"}},{"$f":"#REF!*12","v":{"$error":"#REF!"}},{"$error":"#REF!"},null,{"$error":"#REF!"},{"$error":"#REF!"},{"$error":"#REF!"},{"$error":"#REF!"}]
[null,"Расходы от инвест.деятельности",{"$f":"#REF!","v":{"$error":"#REF!"}},{"$f":"#REF!*12","v":{"$error":"#REF!"}},{"$error":"#REF!"},null,{"$error":"#REF!"},{"$error":"#REF!"},{"$error":"#REF!"},{"$error":"#REF!"}]
[null,"Доходы от финансовой деятельности",{"$f":"#REF!","v":{"$error":"#REF!"}},{"$f":"#REF!*12","v":{"$error":"#REF!"}},{"$error":"#REF!"},null,{"$f":"0","v":0},0,0,0]
[null,"Расходы от финансовой деятельности",{"$f":"#REF!","v":{"$error":"#REF!"}},{"$f":"#REF!*12","v":{"$error":"#REF!"}},{"$error":"#REF!"},null,{"$f":"0","v":0},0,0,0]
[null,"Прибыль от бизнеса",null,{"$f":"D52-D53","v":{"$error":"#REF!"}},{"$error":"#REF!"},null,{"$f":"G52-G53","v":{"$error":"#REF!"}},{"$f":"H52-H53","v":{"$error":"#REF!"}},{"$error":"#REF!"},{"$error":"#REF!"}]
[null,"Прибыль до налогооблажения",null,{"$f":"D70+D66-D67+D68-D69","v":{"$error":"#REF!"}},{"$error":"#REF!"},null,{"$f":"G70+G66-G67+G68-G69","v":{"$error":"#REF!"}},{"$f":"H70+H66-H67+H68-H69","v":{"$error":"#REF!"}},{"$error":"#REF!"},{"$error":"#REF!"}]
[null,"Налог на прибыль, другие сборы и платежи из прибыли",{"$f":"#REF!","v":{"$error":"#REF!"}},{"$f":"#REF!*12","v":{"$error":"#REF!"}},{"$error":"#REF!"},null,{"$f":"D72","v":{"$error":"#REF!"}},{"$f":"G72","v":{"$error":"#REF!"}},{"$error":"#REF!"},{"$f":"I72","v":{"$error":"#REF!"}}]
[null,"Проецируемые ежемесячные изъятия учредителей из Пр",{"$f":"#REF!","v":{"$error":"#REF!"}},{"$f":"#REF!*12","v":{"$error":"#REF!"}},{"$error":"#REF!"},null,0,0,0,{"$f":"I73","v":0}]
[null,"Чистая прибыль ",null,{"$f":"D71-D72-D73","v":{"$error":"#REF!"}},{"$error":"#REF!"},null,{"$f":"G71-G72-G73","v":{"$error":"#REF!"}},{"$f":"H71-H72-H73","v":{"$error":"#REF!"}},{"$error":"#REF!"},{"$error":"#REF!"}]
[null,"Амортизация",{"$f":"#REF!","v":{"$error":"#REF!"}},{"$f":"#REF!*12","v":{"$error":"#REF!"}},{"$error":"#REF!"},null,0,0,0,{"$f":"I75","v":0}]
[null,"EBITDA",null,{"$f":"D74+D75+D63","v":{"$error":"#REF!"}},{"$error":"#REF!"},null,{"$f":"G74+G75+G63","v":{"$error":"#REF!"}},{"$error":"#REF!"},{"$error":"#REF!"},{"$error":"#REF!"}]
[]
[null,"Управляющие параметры",null,null,"Фактич. значение",null,"Прогноз"]
[{"$nulls":6},"+1 год","+2 года","+3 года","+4 года"]
[null,"Денежные поступления к Выручка",{"v":3336,"d":"3,336"},{"$f":"C80-L8+L26","v":{"$error":"#REF!"}},{"$f":"MIN(D80/C80,1)","v":{"$error":"#REF!"}},null,{"v":0.85,"d":"85%"},{"$f":"G80","v":{"v":0.85,"d":"85%"}},{"$f":"H80","v":{"v":0.85,"d":"85%"}},{"$f":"I80","v":{"v":0.85,"d":"85%"}}]
[null,"Затраты на себестоимость к себестоимости",{"v":2147,"d":"2,147"},{"$f":"C81-L25+L9","v":{"$error":"#REF!"}},{"$f":"D81/C81","v":{"$error":"#REF!"}},null,{"$f":"E81","v":{"$error":"#REF!"}},{"$f":"G81","v":{"$error":"#REF!"}},{"$f":"H81","v":{"$error":"#REF!"}},{"$f":"I81","v":{"$error":"#REF!"}}]
[null,"Выплаты по НДС к НДС",{"v":826.9999999999999,"d":"827"},{"$f":"C82+L14","v":{"$error":"#REF!"}},{"$f":"D82/C82","v":{"$error":"#REF!"}},null,{"v":1,"d":"100%"},{"v":1,"d":"100%"},{"v":1,"d":"100%"},{"$f":"I82","v":{"v":1,"d":"100%"}}]
[null,"Доля валютных кредитов в Прочие кредиты и займы",{"$nulls":4},{"v":0,"d":"0%"},{"v":0,"d":"0%"},{"v":0,"d":"0%"},{"$f":"I83","v":{"v":0,"d":"0%"}}]
[null,"Вылютная составляющей в задолженности перед поставщиками и подрядчиками",{"$nulls":4},{"v":0.87,"d":"87%"},{"v":0.87,"d":"87%"},{"v":0.87,"d":"87%"},{"$f":"I84","v":{"v":0.87,"d":"87%"}}]
[null,"Курс BYN/USD",null,null,1.98,null,{"v":2,"d":"2.000"},{"$f":"G85","v":{"v":2,"d":"2.000"}},{"$f":"H85","v":{"v":2,"d":"2.000"}},{"$f":"I85","v":{"v":2,"d":"2.000"}}]
[]
[]
[null,"Cash Flow",{"$nulls":4},"Прогноз"]
[{"$nulls":6},"+1 год","+2 года","+3 года","+4 года"]
[null,"Деньги вначале периода",{"$nulls":4},{"$f":"F6","v":{"$error":"#REF!"}},{"$f":"G134","v":{"$error":"#REF!"}},{"$f":"H134","v":{"$error":"#REF!"}},{"$f":"I134","v":{"$error":"#REF!"}}]
[null,"Поступления от выручки",{"$nulls":4},{"$f":"G40*G80","v":{"$error":"#REF!"}},{"$f":"H40*H80","v":{"$error":"#REF!"}},{"$f":"I40*I80","v":{"$error":"#REF!"}},{"$f":"J40*J80","v":{"$error":"#REF!"}}]
[null,"НДС",{"$nulls":4},{"$f":"G45*G82","v":{"$error":"#REF!"}},{"$f":"H45*H82","v":{"$error":"#REF!"}},{"$f":"I45*I82","v":{"$error":"#REF!"}},{"$f":"J45*J82","v":{"$error":"#REF!"}}]
[null,"Прочие налоги из выручки",{"$nulls":4},{"$f":"G46","v":{"$error":"#REF!"}},{"$f":"H46","v":0},{"$f":"I46","v":0},{"$f":"J46","v":0}]
[null,"Чистые поступления",{"$nulls":4},{"$f":"G91-G92-G93","v":{"$error":"#REF!"}},{"$f":"H91-H92-H93","v":{"$error":"#REF!"}},{"$error":"#REF!"},{"$error":"#REF!"}]
[null,"Доступные деньги",{"$nulls":4},{"$f":"G94+G90","v":{"$error":"#REF!"}},{"$f":"H94+H90","v":{"$error":"#REF!"}},{"$error":"#REF!"},{"$error":"#REF!"}]
[]
[null,"Материальные затраты, в т.ч.",{"$nulls":4},{"$f":"G98+G99+G100","v":{"$error":"#REF!"}},{"$f":"H98+H99+H100","v":{"$error":"#REF!"}},{"$error":"#REF!"},{"$error":"#REF!"}]
[null,"Стоимость приобретения товаров для торговли",{"$nulls":4},{"$f":"G49*G$81","v":{"$error":"#REF!"}},{"$error":"#REF!"},{"$error":"#REF!"},{"$error":"#REF!"}]
[null,"Стоимость сырья, материалов для производства",{"$nulls":4},{"$error":"#REF!"},{"$error":"#REF!"},{"$error":"#REF!"},{"$error":"#REF!"}]
[null,"Материальные затраты по прочей деятельности",{"$nulls":4},{"$f":"G51","v":{"$error":"#REF!"}},{"$f":"H51","v":0},{"$f":"I51","v":0},{"$f":"J51","v":0}]
[null,"Деньги после прямых расходов",{"$nulls":4},{"$f":"G94-G97","v":{"$error":"#REF!"}},{"$f":"H94-H97","v":{"$error":"#REF!"}},{"$f":"I94-I97","v":{"$error":"#REF!"}},{"$f":"J94-J97","v":{"$error":"#REF!"}}]
[null,"Общие расходы",{"$nulls":4},{"$f":"G53-G63","v":{"$error":"#REF!"}},{"$f":"H53-H63","v":{"$error":"#REF!"}},{"$f":"I53-I63","v":{"$error":"#REF!"}},{"$f":"J53-J63","v":{"$error":"#REF!"}}]
[null,"(+)Амортизация",{"$nulls":4},{"$f":"G75","v":0},{"$f":"H75","v":0},{"$f":"I75","v":0},{"$f":"J75","v":0}]
[null,"Доходы/расходы от фин. и инв. деятельности",{"$nulls":4},{"$f":"G66-G67+G68-G69","v":{"$error":"#REF!"}},{"$f":"H66-H67+H68-H69","v":{"$error":"#REF!"}},{"$f":"I66-I67+I68-I69","v":{"$error":"#REF!"}},{"$f":"J66-J67+J68-J69","v":{"$error":"#REF!"}}]
[null,"Налог на прибыль, другие сборы и платежи из прибыли",{"$nulls":4},{"$f":"G72","v":{"$error":"#REF!"}},{"$f":"H72","v":{"$error":"#REF!"}},{"$f":"I72","v":{"$error":"#REF!"}},{"$f":"J72","v":{"$error":"#REF!"}}]
[null,"Деньги от операций",{"$nulls":4},{"$f":"G101-G102+G103+G104-G105","v":{"$error":"#REF!"}},{"$f":"H101-H102+H103+H104-H105","v":{"$error":"#REF!"}},{"$error":"#REF!"},{"$error":"#REF!"}]
[]
[null,"Инвестиции"]
[null,"Деинвестиции",{"$nulls":4},0,0,0,0]
[null,"Инвестиции",{"$nulls":4},0,0,0,0]
[null,"Деньги от инвестиций",{"$nulls":4},{"$f":"G109-G110","v":0},{"$f":"H109-H110","v":0},0,0]
[]
[null,"Деньги от финансирования"]
[null,"Краткосрочные"]
[null,"Получение кредитов БНБ",{"$nulls":4},0,0,0,0]
[null,"Выплата кредитов БНБ",{"$nulls":4},0,0,0,0]
[null,"Проценты БНБ",{"$nulls":4},0,0,0,0]
[null,"Получение других кредитов и займов",{"$nulls":4},0,0,0,0]
[null,"Выплата других кредитов ",{"$nulls":4},0,0,0,0]
[null,"Проценты по другим кредитам и займам",{"$nulls":4},0,0,0,0]
[null,"Лизинги",{"$nulls":4},0,0,0,0]
[null,"Долгосрочные"]
[null,"Получение кредитов БНБ",{"$nulls":4},0,0,0,0]
[null,"Выплата кредитов БНБ",{"$nulls":4},0,0,0,0]
[null,"Проценты БНБ",{"$nulls":4},0,0,0,0]
[null,"Получение других кредитов и займов",{"$nulls":4},0,0,0,0]
[null,"Выплата других кредитов ",{"$nulls":4},0,0,0,0]
[null,"Проценты по другим кредитам и займам",{"$nulls":4},0,0,0,0]
[null,"Лизинги",{"$nulls":4},0,0,0,0]
[null,"Проецируемые ежемесячные изъятия учредителей из Пр",{"$nulls":4},{"$f":"G73","v":0},{"$f":"H73","v":0},{"$f":"I73","v":0},{"$f":"J73","v":0}]
[null,"Денежный поток от финансирования",{"$nulls":4},{"$f":"(G115-G116-G117+G118-G119-G120-G121)+(G123-G124-G125+G126-G127-G128-G129)-G130","v":0},{"$f":"(H115-H116-H117+H118-H119-H120-H121)+(H123-H124-H125+H126-H127-H128-H129)-H130","v":0},0,0]
[]
[null,"Деньги за период",{"$nulls":4},{"$f":"G106+G111+G131","v":{"$error":"#REF!"}},{"$f":"H106+H111+H131","v":{"$error":"#REF!"}},{"$error":"#REF!"},{"$error":"#REF!"}]
[null,"Деньги в конце периода",{"$nulls":4},{"$f":"G133+G90","v":{"$error":"#REF!"}},{"$f":"H133+H90","v":{"$error":"#REF!"}},{"$f":"I133+I90","v":{"$error":"#REF!"}},{"$f":"J133+J90","v":{"$error":"#REF!"}}]
[]
[]
[]
[]
[null,"Коэффициенты"]
[null,"ОПИУ"]
[null,"Точка безубыточности",null,{"$f":"(D53+D72)/(D47-D48)","v":{"$error":"#REF!"}},null,null,{"$f":"(G53+G72)/(G47-G48)","v":{"$error":"#REF!"}},{"$f":"(H53+H72)/(H47-H48)","v":{"$error":"#REF!"}},{"$f":"(I53+I72)/(I47-I48)","v":{"$error":"#REF!"}},{"$f":"(J53+J72)/(J47-J48)","v":{"$error":"#REF!"}}]
[null,"Чистые оборотные средства",null,{"$f":"D5-D22","v":{"$error":"#REF!"}},null,null,{"$f":"G5-G22","v":{"$error":"#REF!"}},{"$f":"H5-H22","v":{"$error":"#REF!"}},{"$f":"I5-I22","v":{"$error":"#REF!"}},{"$f":"J5-J22","v":{"$error":"#REF!"}}]
[null,"Оборачиваемость дебиторов (дни)",null,{"$f":"(D7/D48)*30","v":{"$error":"#REF!"}},null,null,{"$f":"(G7/G48)*30","v":{"$error":"#REF!"}},{"$f":"(H7/H48)*30","v":{"$error":"#REF!"}},{"$f":"(I7/I48)*30","v":{"$error":"#REF!"}},{"$f":"(J7/J48)*30","v":{"$error":"#REF!"}}]
[null,"Оборачиваемость ТМЗ (дни)",null,{"$f":"(D9/D48)*30","v":{"$error":"#REF!"}},null,null,{"$f":"(G9/G48)*30","v":{"$error":"#REF!"}},{"$f":"(H9/H48)*30","v":{"$error":"#REF!"}},{"$f":"(I9/I48)*30","v":{"$error":"#REF!"}},{"$f":"(J9/J48)*30","v":{"$error":"#REF!"}}]
[null,"Оборачиваемость кредиторов (дни)",null,{"$f":"(D23/D48)*30","v":{"$error":"#REF!"}},null,null,{"$f":"(G23/G48)*30","v":{"$error":"#REF!"}},{"$f":"(H23/H48)*30","v":{"$error":"#REF!"}},{"$f":"(I23/I48)*30","v":{"$error":"#REF!"}},{"$f":"(J23/J48)*30","v":{"$error":"#REF!"}}]
[null,"Разрыв в финансировании(об. Дебиторов + ТМЗ - кредиторов) (дни)",null,{"$f":"D143+D144-D145","v":{"$error":"#REF!"}},null,null,{"$f":"G143+G144-G145","v":{"$error":"#REF!"}},{"$f":"H143+H144-H145","v":{"$error":"#REF!"}},{"$f":"I143+I144-I145","v":{"$error":"#REF!"}},{"$f":"J143+J144-J145","v":{"$error":"#REF!"}}]
[null,"Покрытие процентов (EBITDA/%%)",null,{"$f":"(D70+D63+D75)/D63","v":{"$error":"#REF!"}},null,null,{"$f":"(G70+G63+G75)/G63","v":{"$error":"#REF!"}},{"$f":"(H70+H63+H75)/H63","v":{"$error":"#REF!"}},{"$f":"(I70+I63+I75)/I63","v":{"$error":"#REF!"}},{"$f":"(J70+J63+J75)/J63","v":{"$error":"#REF!"}}]
[null,"Период амортизации кредита (DEBT/EBITDA)",null,{"$f":"(#REF!+D30+D25+D26)/(D70+D63+D75)","v":{"$error":"#REF!"}},null,null,{"$f":"(#REF!+G30+G25+G26)/(G70+G63+G75)","v":{"$error":"#REF!"}},{"$f":"(#REF!+H30+H25+H26)/(H70+H63+H75)","v":{"$error":"#REF!"}},{"$f":"(#REF!+I30+I25+I26)/(I70+I63+I75)","v":{"$error":"#REF!"}},{"$f":"(#REF!+J30+J25+J26)/(J70+J63+J75)","v":{"$error":"#REF!"}}]
[null,"EBIT / %%"]
[null,"Прирост расходов будущих периодов",{"$nulls":4},{"$f":"G13-F13","v":{"$error":"#REF!"}},{"$f":"H13-G13","v":{"$error":"#REF!"}},{"$f":"I13-H13","v":{"$error":"#REF!"}},{"$f":"J13-I13","v":{"$error":"#REF!"}}]
[null,"Кэш Флоу"]
[]
[null,"Точка безубыточности",{"$nulls":4},{"$f":"(G102-G103)/(G94-G97)","v":{"$error":"#REF!"}},{"$f":"(H102-H103)/(H94-H97)","v":{"$error":"#REF!"}},{"$f":"(I102-I103)/(I94-I97)","v":{"$error":"#REF!"}},{"$f":"(J102-J103)/(J94-J97)","v":{"$error":"#REF!"}}]
[null,"Оборачиваемость дебиторов (дни)",{"$nulls":4},{"$f":"(G7/G97)*30","v":{"$error":"#REF!"}},{"$f":"(H7/H97)*30","v":{"$error":"#REF!"}},{"$f":"(I7/I97)*30","v":{"$error":"#REF!"}},{"$f":"(J7/J97)*30","v":{"$error":"#REF!"}}]
[null,"Оборачиваемость ТМЗ (дни)",{"$nulls":4},{"$f":"(G9/G97)*30","v":{"$error":"#REF!"}},{"$f":"(H9/H97)*30","v":{"$error":"#REF!"}},{"$f":"(I9/I97)*30","v":{"$error":"#REF!"}},{"$f":"(J9/J97)*30","v":{"$error":"#REF!"}}]
[null,"Оборачиваемость кредиторов (дни)",{"$nulls":4},{"$f":"(G23/G97)*30","v":{"$error":"#REF!"}},{"$f":"(H23/H97)*30","v":{"$error":"#REF!"}},{"$f":"(I23/I97)*30","v":{"$error":"#REF!"}},{"$f":"(J23/J97)*30","v":{"$error":"#REF!"}}]
[null,"Разрыв в финансировании(об. Дебиторов + ТМЗ - кредиторов) (дни)",{"$nulls":4},{"$f":"G154+G155-G156","v":{"$error":"#REF!"}},{"$f":"H154+H155-H156","v":{"$error":"#REF!"}},{"$error":"#REF!"},{"$error":"#REF!"}]
[null,"Покрытие процентов (оп.Кэш/%%)",{"$nulls":4},{"$f":"G106/(G117+G120+G125+G128)","v":{"$error":"#REF!"}},{"$f":"H106/(H117+H120+H125+H128)","v":{"$error":"#REF!"}},{"$error":"#REF!"},{"$error":"#REF!"}]
[null,"Период амортизации кредита (DEBT/EBITDA)",{"$nulls":4},{"$f":"(G25+G26+G30+#REF!)/G106","v":{"$error":"#REF!"}},{"$f":"(H25+H26+H30+#REF!)/H106","v":{"$error":"#REF!"}},{"$f":"(I25+I26+I30+#REF!)/I106","v":{"$error":"#REF!"}},{"$f":"(J25+J26+J30+#REF!)/J106","v":{"$error":"#REF!"}}]
[null,"EBIT / %%",{"$nulls":4},{"$f":"G106/(G117+G120+G125+G128)","v":{"$error":"#REF!"}},{"$f":"H106/(H117+H120+H125+H128)","v":{"$error":"#REF!"}},{"$error":"#REF!"},{"$error":"#REF!"}]

{"sheet":"Эффективность проекта","index":4,"n_rows":25,"n_cols":7,"rows_kept":25,"hidden":true,"merged":[[1,1,1,3],[25,1,27,3]]}
[]
[null,"Оценка эффективности проекта"]
[null,null,"Месяц","Год",null,"Кол-во нового реализованного товара / мес.",{"v":1000,"d":"1,000"}]
[null,"Выручка текущая",100,{"$f":"C4*12","v":{"v":1200,"d":"1,200"}},null,"Цена реализации за ед.",0.02]
[null,"Прирост выручки",{"$f":"G5","v":20},{"$f":"C5*12","v":240},null,"Прирост выручки / мес.",{"$f":"G3*G4","v":20}]
[]
[null,"Себестоимость текущая",65,780,null,"Себестоимость ед.",0.01]
[null,"Изменение себестоимости",{"$f":"G8","v":10},120,null,"Прирост себестоимости / мес.",{"$f":"G3*G7","v":10}]
[]
[null,"Общие расходы текущие",30,360]
[null,"Изменения в общих расходах",{"$f":"C12-C13","v":7},{"$f":"D12+D13","v":108}]
[null,"Прирост общих расходов",8,96]
[null,"Снижение общих расходов",1,12]
[]
[null,"Операционная прибыль текущая",{"$f":"C4-C7-C10","v":5},60]
[null,"Изменение в операционной прибыли",{"$f":"C5-C8-C11","v":3},36]
[]
[null,"Выплата по кредиту - проценты",1,10]
[null,"Выплата по кредиту - основной долг",4,48]
[null,"Выплата по кредиту - всего",{"$f":"C18+C19","v":5},{"$f":"D18+D19","v":58}]
[]
[null,"Покрытие из проекта",{"$f":"C16/C20","v":{"v":0.6,"d":"60%"}},{"$f":"D16/D20","v":{"v":0.6206896551724138,"d":"62%"}}]
[null,"Покрытие всего",{"$f":"(C15+C16)/C20","v":{"v":1.6,"d":"160%"}},{"$f":"(D15+D16)/D20","v":{"v":1.6551724137931034,"d":"166%"}}]
[]
[null,"Комментарий"]

{"sheet":"ToDo","index":5,"n_rows":14,"n_cols":4,"rows_kept":14,"hidden":true}
["Амортизация в деОПИУ - перенести в раздел справочного, не считать в Общих расходах",null,null,"Изменения внесены"]
["К/с кредиты в БНБ-Банке в балансе",null,null,"В работе"]
["СК с квазикапиталом в столбце \"после выдачи\"",null,null,"Отложено/отменено"]
["В деОПИУ исправить формы банка, чтобы можно было сразу вставлять в тройные столбцы"]
["Добавить столбец  с нормативами - с Димой Г "]
["состав кредиторской зад-ти - неправильно считать доля"]
["Кредитная нагрузка - EBIT считается к процентам, упростить формулу - с Димой Г"]
["Исправиь расчет EBIT, EBITDA - с Димой Г"]
["Арендная ставка - исправиь формулу пересчета в EUR"]
["Проверить и при необходимость исправить лист \"Отраслевые особенности\" - с Димой Г"]
["Добавить в \"Отраслевые особенности\" сверу Производство - в разрезе основный продуктов - с Димой Г"]
["Добавить прогноз Cash Flow - с Сеитом"]
["Добавить историю инвестиций - с Сеитом"]
["Добавить оценку эффективности проекта - с Сеитом"]

{"sheet":"Заключение УР","index":6,"n_rows":167,"n_cols":54,"rows_kept":167,"hidden":true,"merged":[[4,39,4,44],[6,39,6,44],[8,3,8,48],[10,3,10,9],[10,10,10,28],[10,30,10,34],[10,35,10,41],[10,43,10,46],[10,47,10,48],[12,3,12,5],[12,6,12,17],[12,19,12,23],[12,24,12,26],[12,29,12,32],[12,34,12,38],[12,42,12,46],[12,47,12,48],[14,3,14,13],[15,3,16,48],[18,3,18,9],[18,10,18,14],[18,15,18,17],[18,18,18,23],[18,24,18,29],[18,30,18,34],[18,35,18,42],[19,3,19,9],[19,10,19,14],[19,15,19,17],[19,18,19,23],[19,24,19,29],[19,30,19,34],[19,35,19,42],[20,3,20,9],[20,10,20,14],[20,15,20,17],[20,18,20,23],[20,24,20,29],[20,30,20,34],[20,35,20,42],[21,3,21,9],[21,10,21,14],[21,15,21,17],[21,18,21,23],[21,24,21,29],[21,30,21,34],[21,35,21,42],[22,3,22,9],[22,10,22,14],[22,15,22,17],[22,18,22,23],[22,24,22,29],[22,30,22,34],[22,35,22,42],[23,3,23,9],[23,10,23,14],[23,15,23,17],[23,18,23,23],[23,24,23,29],[23,30,23,34],[23,35,23,42],[24,3,24,9],[24,10,24,14],[24,15,24,17],[24,18,24,23],[24,24,24,29],[24,30,24,34],[24,35,24,42],[25,3,25,9],[25,10,25,14],[25,15,25,17],[25,18,25,23],[25,24,25,29],[25,30,25,34],[25,35,25,42],[26,3,26,9],[26,10,26,14],[26,15,26,17],[26,18,26,23],[26,24,26,29],[26,30,26,34],[26,35,26,42],[28,3,28,48],[30,3,30,9],[30,10,30,14],[30,15,30,20],[30,21,30,23],[30,24,30,26],[30,27,30,30],[30,31,30,35],[30,36,30,45],[31,3,31,9],[31,10,31,14],[31,15,31,20],[31,21,31,23],[31,24,31,26],[31,27,31,30],[31,31,31,35],[31,36,31,45],[32,3,32,9],[32,10,32,14],[32,15,32,20],[32,21,32,23],[32,24,32,26],[32,27,32,30],[32,31,32,35],[32,36,32,45],[33,3,33,9],[33,10,33,14],[33,15,33,20],[33,21,33,23],[33,24,33,26],[33,27,33,30],[33,31,33,35],[33,36,33,45],[34,3,34,9],[34,10,34,14],[34,15,34,20],[34,21,34,23],[34,24,34,26],[34,27,34,30],[34,31,34,35],[34,36,34,45],[35,3,35,9],[35,10,35,14],[35,15,35,20],[35,21,35,23],[35,24,35,26],[35,27,35,30],[35,31,35,35],[35,36,35,45],[38,3,45,48],[47,3,47,48],[49,13,49,16],[49,17,49,20],[49,21,49,22],[49,23,49,26],[49,27,49,28],[50,3,50,12],[50,13,50,16],[50,17,50,20],[50,21,50,22],[50,23,50,26],[50,27,50,28],[51,3,51,12],[51,13,51,16],[51,17,51,20],[51,21,51,22],[51,23,51,26],[51,27,51,28],[52,3,52,12],[52,13,52,16],[52,17,52,20],[52,21,52,22],[52,23,52,26],[52,27,52,28],[53,3,53,12],[53,13,53,16],[53,17,53,20],[53,21,53,22],[53,23,53,26],[53,27,53,28],[54,3,54,12],[54,13,54,16],[54,17,54,20],[54,21,54,22],[54,23,54,26],[54,27,54,28],[55,3,55,12],[55,13,55,16],[55,17,55,20],[55,21,55,22],[55,23,55,26],[55,27,55,28],[56,3,56,12],[56,13,56,16],[56,17,56,20],[56,21,56,22],[56,23,56,26],[56,27,56,28],[57,3,57,12],[57,13,57,16],[57,17,57,20],[57,21,57,22],[57,23,57,26],[57,27,57,28],[58,3,58,12],[58,13,58,16],[58,17,58,20],[58,21,58,22],[58,23,58,26],[58,27,58,28],[59,3,59,12],[59,13,59,16],[59,17,59,20],[59,21,59,22],[59,23,59,26],[59,27,59,28],[60,3,60,12],[60,13,60,16],[60,17,60,20],[60,21,60,22],[60,23,60,26],[60,27,60,28],[61,3,61,12],[61,13,61,16],[61,17,61,20],[61,21,61,22],[61,23,61,26],[61,27,61,28],[62,3,62,12],[62,13,62,16],[62,17,62,20],[62,21,62,22],[62,23,62,26],[62,27,62,28],[63,3,63,12],[63,13,63,16],[63,17,63,20],[63,21,63,22],[63,23,63,26],[63,27,63,28],[64,3,64,12],[64,13,64,16],[64,17,64,20],[64,21,64,22],[64,23,64,26],[64,27,64,28],[65,3,65,12],[65,13,65,16],[65,17,65,20],[65,21,65,22],[65,23,65,26],[65,27,65,28],[66,3,66,12],[66,13,66,16],[66,17,66,20],[66,21,66,22],[66,23,66,26],[66,27,66,28],[67,3,67,12],[67,13,67,16],[67,17,67,20],[67,21,67,22],[67,23,67,26],[67,27,67,28],[69,11,69,20],[69,21,69,24],[69,25,69,26],[69,27,69,28],[71,11,71,20],[71,21,71,24],[71,25,71,26],[71,27,71,28],[73,3,73,48],[75,3,75,20],[75,21,75,24],[75,25,75,28],[75,29,75,30],[75,31,75,34],[75,35,75,36],[76,3,76,20],[76,21,76,24],[76,25,76,28],[76,29,76,30],[76,31,76,34],[76,35,76,36],[77,3,77,20],[77,21,77,24],[77,25,77,28],[77,29,77,30],[77,31,77,34],[77,35,77,36],[78,3,78,12],[78,13,78,20],[78,21,78,24],[78,25,78,28],[78,29,78,30],[78,31,78,34],[78,35,78,36],[79,3,79,12],[79,13,79,20],[79,21,79,24],[79,25,79,28],[79,29,79,30],[79,31,79,34],[79,35,79,36],[80,3,80,20],[80,21,80,24],[80,25,80,28],[80,29,80,30],[80,31,80,34],[80,35,80,36],[82,3,82,12],[82,13,82,14],[82,15,82,18],[82,19,82,20],[82,21,82,22],[82,23,82,26],[82,27,82,28],[84,3,84,12],[84,13,84,14],[84,15,84,18],[84,19,84,20],[84,21,84,22],[84,23,84,26],[84,27,84,28],[86,3,86,14],[86,15,86,16],[88,3,88,14],[88,15,88,16],[90,3,90,9],[90,10,90,11],[90,13,90,15],[90,16,90,17],[92,3,92,48],[94,10,94,13],[94,19,94,22],[94,32,94,36],[94,41,94,45],[96,3,96,12],[96,13,96,20],[96,23,96,27],[96,28,98,48],[97,13,97,20],[98,13,98,20],[99,13,99,20],[100,3,100,14],[100,15,100,21],[100,23,100,27],[100,28,101,48],[103,3,103,17],[103,18,103,22],[103,23,103,27],[103,28,104,48],[106,3,106,17],[106,18,106,22],[106,23,106,27],[106,28,107,48],[109,3,109,15],[109,16,109,21],[109,23,109,27],[109,28,110,48],[112,3,112,48],[115,3,115,9],[115,10,115,24],[117,3,117,12],[117,13,117,24],[119,3,119,7],[119,8,119,14],[121,3,121,5],[121,6,121,14],[123,3,123,7],[123,8,123,14],[125,3,125,18],[125,19,125,24],[125,28,126,48],[128,3,128,12],[128,13,128,24],[128,28,129,48],[131,3,131,12],[131,13,131,24],[131,28,132,48],[134,3,134,18],[134,19,134,24],[134,28,135,48],[137,3,137,18],[137,19,137,24],[137,28,138,48],[140,3,140,48],[142,3,142,12],[142,13,142,16],[142,17,142,18],[142,19,142,20],[142,21,142,27],[142,28,142,31],[142,32,142,33],[142,36,142,42],[142,43,142,46],[142,47,142,48],[144,3,144,12],[144,13,144,18],[144,21,144,27],[144,28,144,31],[146,3,146,12],[146,13,146,21],[146,23,146,27],[146,28,148,48],[148,3,148,12],[148,13,148,21],[150,3,150,18],[150,19,150,21],[150,23,150,27],[150,28,151,48],[153,3,153,17],[153,18,153,21],[153,23,153,27],[153,28,154,48],[156,3,156,48],[159,3,163,48],[166,3,166,9],[166,11,166,17],[166,29,166,35],[166,37,166,43]]}
[]
[{"$nulls":51},"курсы"]
[{"$nulls":32},"Заключение",{"$nulls":3},"Управления рисков"]
[]
[{"$nulls":32},"Дата составления"]
[]
[{"$nulls":32},"Сотрудник УР"]
[]
[{"$nulls":3},"Общая информация"]
[]
[{"$nulls":3},"Наименование клиента:",{"$nulls":26},"Отрасль (общ.)",{"$nulls":4},"Transportation Center",{"$nulls":7},"Cost of risk:"]
[]
[{"$nulls":3},"Сегмент:",{"$nulls":15},"Текущий лимит:",{"$nulls":7},"(USD)",{"$nulls":6},"Группа риска:",{"$nulls":7},"Доп. Доходность:"]
[]
[{"$nulls":3},"Группа взаимосвязаных должников:"]
[]
[]
[]
[{"$nulls":3},"Клиент",{"$nulls":6},"Вид лимита",{"$nulls":4},"Валюта",null,null,"Лимит зад-ти",{"$nulls":5},"Текущая задо-ть",{"$nulls":5},"Срок окончания",{"$nulls":4},"Участие в продуктах СМАрт"]
{"$rows_empty":9}
[{"$nulls":3},"Запрос клиента"]
[]
[{"$nulls":3},"Вид запроса",{"$nulls":6},"Описание",{"$nulls":4},"Сумма",{"$nulls":5},"Валюта",null,null,"Срок, мес",null,null,"Ставка/плата",{"$nulls":3},"Обеспечение",{"$nulls":4},"Твердый залог (в вал. договора)"]
[]
[]
[]
[]
[]
[]
[{"$nulls":3},"Заключение сотрудника УР:"]
{"$rows_empty":9}
[{"$nulls":3},"Финансовое состояние (тыс. USD)"]
[]
[{"$nulls":3},"Показатель",{"$nulls":9},"2014-12-31",{"$nulls":3},"2015-12-31",{"$nulls":3},"%",null,"2016-06-30",{"$nulls":3},"%"]
[{"$nulls":3},"Выручка",{"$nulls":17},{"$f":"R51/N51","v":{"$error":"#DIV/0!"}},{"$nulls":5},{"$f":"X51/R51","v":{"$error":"#DIV/0!"}}]
[{"$nulls":3},"Рентабельность",{"$nulls":17},{"$error":"#DIV/0!"},{"$nulls":5},{"$error":"#DIV/0!"}]
[{"$nulls":3},"Валовая прибыль",{"$nulls":17},{"$error":"#DIV/0!"},{"$nulls":5},{"$error":"#DIV/0!"}]
[{"$nulls":3},"Прибыль от реализации",{"$nulls":17},{"$error":"#DIV/0!"},{"$nulls":5},{"$error":"#DIV/0!"}]
[{"$nulls":3},"EBIT",{"$nulls":17},{"$error":"#DIV/0!"},{"$nulls":5},{"$error":"#DIV/0!"}]
[{"$nulls":3},"EBITDA",{"$nulls":17},{"$error":"#DIV/0!"},{"$nulls":5},{"$error":"#DIV/0!"}]
[{"$nulls":3},"Чистая прибыль",{"$nulls":17},{"$error":"#DIV/0!"},{"$nulls":5},{"$error":"#DIV/0!"}]
[{"$nulls":3},"Валюта баланса",{"$nulls":17},{"$error":"#DIV/0!"},{"$nulls":5},{"$error":"#DIV/0!"}]
[{"$nulls":3},"Собственный капитал",{"$nulls":17},{"$error":"#DIV/0!"},{"$nulls":5},{"$error":"#DIV/0!"}]
[{"$nulls":3},"Внеоборотные активы",{"$nulls":17},{"$error":"#DIV/0!"},{"$nulls":5},{"$error":"#DIV/0!"}]
[{"$nulls":3},"Дебиторская задолженность",{"$nulls":17},{"$error":"#DIV/0!"},{"$nulls":5},{"$error":"#DIV/0!"}]
[{"$nulls":3},"Запасы, сырье, материалы",{"$nulls":17},{"$error":"#DIV/0!"},{"$nulls":5},{"$error":"#DIV/0!"}]
[{"$nulls":3},"Кредиторская задолженность",{"$nulls":17},{"$error":"#DIV/0!"},{"$nulls":5},{"$error":"#DIV/0!"}]
[{"$nulls":3},"Производственный/бизнес цикл",{"$nulls":17},{"$error":"#DIV/0!"},{"$nulls":5},{"$error":"#DIV/0!"}]
[{"$nulls":3},"Оборачиваемость деб. зад-ти",{"$nulls":17},{"$error":"#DIV/0!"},{"$nulls":5},{"$error":"#DIV/0!"}]
[{"$nulls":3},"Оборачиваемость кред. зад-ти",{"$nulls":17},{"$error":"#DIV/0!"},{"$nulls":5},{"$error":"#DIV/0!"}]
[{"$nulls":3},"Оборачиваемость ТВО",{"$nulls":17},{"$error":"#DIV/0!"},{"$nulls":5},{"$error":"#DIV/0!"}]
[{"$nulls":3},"Cash-flow",{"$nulls":17},{"$error":"#DIV/0!"},{"$nulls":5},{"$error":"#DIV/0!"}]
[]
[{"$nulls":11},"Просроченная деб. зад-ть",{"$nulls":13},"USD,",{"$nulls":3},"%"]
[]
[{"$nulls":11},"Просроченная кред. зад-ть",{"$nulls":13},"USD,",{"$nulls":3},"%"]
[]
[{"$nulls":3},"Кредитная нагрузка (USD)"]
[]
[{"$nulls":3},"Показатель",{"$nulls":17},"2014-12-31",{"$nulls":3},"2015-12-31",{"$nulls":3},"%",null,"2016-06-30",{"$nulls":3},"%"]
[{"$nulls":3},"Кредитный портфель (в т.ч. Лизинг и внебаланс)",{"$nulls":25},{"$f":"Z77/V77","v":{"$error":"#DIV/0!"}},{"$nulls":5},{"$f":"AF77/Z77","v":{"$error":"#DIV/0!"}}]
[{"$nulls":3},"К погашению 12 мес.",{"$nulls":25},{"$f":"Z78/V78","v":{"$error":"#DIV/0!"}},{"$nulls":5},{"$f":"AF78/Z78","v":{"$error":"#DIV/0!"}}]
[{"$nulls":3},"Долгосрочный",{"$nulls":25},{"$error":"#DIV/0!"},{"$nulls":5},{"$error":"#DIV/0!"}]
[{"$nulls":3},"Внебалансовые обязательства",{"$nulls":25},{"$error":"#DIV/0!"},{"$nulls":5},{"$error":"#DIV/0!"}]
[{"$nulls":3},"Расчетный лимит финансирования OK:",{"$nulls":25},{"$error":"#DIV/0!"},{"$nulls":5},{"$error":"#DIV/0!"}]
[]
[{"$nulls":3},"Среднемесячный платеж (12 мес.)",{"$nulls":9},"по ОД",{"$nulls":5},"USD,",null,"по %",{"$nulls":5},"USD"]
[]
[{"$nulls":3},"Максимальный платеж (12 мес.)",{"$nulls":9},"по ОД",{"$nulls":5},"USD,",null,"по %",{"$nulls":5},"USD"]
[]
[{"$nulls":3},"Среднемес. платеж / среднемес. выручка:",{"$nulls":11},0.07]
[]
[{"$nulls":3},"Макс. платеж / среднемес. выручка:",{"$nulls":11},0.07]
[]
[{"$nulls":3},"Кред. портфель / EBITDA:",{"$nulls":6},"-",null,null,"EBIT / %:",null,null,"-"]
[]
[{"$nulls":3},"Деловая репутация",{"$nulls":47},{"$f":"SUM(AZ95:AZ109)","v":0},{"$f":"IF(AZ93<-2,\"высокий\",IF(AND(AZ93>=-2,AZ93<=2),\"средний\",\"приемлемый\"))","v":"средний"},"уровень риска"]
[]
[{"$nulls":3},"Опыт работы клиента:",{"$nulls":6},"более 5 лет",{"$nulls":3},", руководители:",{"$nulls":4},"более 5 лет",{"$nulls":6},"Кредитная история:",{"$nulls":5},"положительная",{"$nulls":4},", просрочки",{"$nulls":3},"8-30 дней",{"$nulls":9},{"$f":"VLOOKUP(K95,list!$R$2:$AE$6,13,0)","v":"Да(более срока фин-ия)"}]
[]
[{"$nulls":3},"Участие в судах",{"$nulls":9},"компания",{"$nulls":9},"Комментарий:"]
[{"$nulls":13},"учредитель"]
[{"$nulls":13},"руководитель"]
[{"$nulls":13},"поручитель"]
[{"$nulls":3},"Институциональная развитость бизнеса:",{"$nulls":11},"высокая",{"$nulls":7},"Комментарий:",{"$nulls":27},{"$f":"VLOOKUP(T95,list!$R$2:$AE$6,13,0)","v":"Да(более срока фин-ия)"}]
[{"$nulls":51},{"$f":"VLOOKUP(AG95,list!F2:AE5,25,0)","v":"Да(более срока фин-ия)"}]
[]
[{"$nulls":3},"Наличие УО(учредители,руководители,поручители):",{"$nulls":14},"Да (не погашено)",{"$nulls":4},"Комментарий:",{"$nulls":27},{"$f":"VLOOKUP(P101,list!$S$2:$AE$4,12,0)","v":"Да(более срока фин-ия)"}]
[{"$nulls":51},{"$f":"VLOOKUP(S104,list!$O$1:$AE$4,16,0)","v":"Нет"}]
[]
[{"$nulls":3},"Арест активов, претензии контролирующих органов:",{"$nulls":14},"Да(несущественно)",{"$nulls":4},"Комментарий:",{"$nulls":27},{"$f":"VLOOKUP(S107,list!$T$1:$AE$4,11,0)","v":"Да(менее срока фин-ия)"}]
[{"$nulls":51},{"$f":"VLOOKUP(Q110,list!$AC$1:$AE$4,3,0)","v":0}]
[]
[{"$nulls":3},"Нарушение условий ковенант и соглашений:",{"$nulls":12},"Незначительно",{"$nulls":6},"Комментарий:"]
[]
[]
[{"$nulls":3},"Операционная среда",{"$nulls":47},{"$f":"SUM(AZ115:AZ139)","v":0},{"$f":"IF(AZ113<-3,\"высокий\",IF(AND(AZ113>=-3,AZ113<=4),\"средний\",\"приемлемый\"))","v":"средний"},"уровень риска"]
[]
[]
[{"$nulls":3},"Вход в отрасль:",{"$nulls":6},"Вход в отрасль требует значительных вложений",{"$nulls":40},{"$f":"VLOOKUP(K116,list!$H$1:$AE$4,23,0)","v":"Да(более срока фин-ия)"}]
[]
[{"$nulls":3},"Конкурентные преимущества:",{"$nulls":9},"Наличие конкурентных преимуществ",{"$nulls":37},{"$f":"VLOOKUP(N118,list!I1:AE4,22,0)","v":"Да(менее срока фин-ия)"}]
[]
[{"$nulls":3},"Ценовые риски:",{"$nulls":4},"бюджетный сегмент",{"$nulls":42},{"$f":"VLOOKUP(I120,list!$K$1:$AE$4,20,0)","v":"Да(более срока фин-ия)"}]
[]
[{"$nulls":3},"Спрос:",null,null,"Товар первой необходимости",{"$nulls":44},{"$f":"VLOOKUP(G122,list!$J$1:$AE$4,21,0)","v":"Да(более срока фин-ия)"}]
[]
[{"$nulls":3},"Сезонность:",{"$nulls":4},"в целом, не характерна",{"$nulls":42},{"$f":"VLOOKUP(I124,list!$Q$1:$AE$4,14,0)","v":"Да(менее срока фин-ия)"}]
[{"$nulls":36},"Комментарии:"]
[{"$nulls":3},"Наличие необходимых лицензий/разрешений:",{"$nulls":15},"Да(менее срока фин-ия)",{"$nulls":31},{"$f":"VLOOKUP(T126,list!$AD$1:$AE$4,2,0)","v":0}]
[]
[]
[{"$nulls":3},"Зависимость от поставщиков:",{"$nulls":9},"умеренная (доля 1 кредитора менее 30%)",{"$nulls":37},{"$f":"VLOOKUP(N129,list!$L$1:$AE$4,19,0)","v":"Да(менее срока фин-ия)"}]
[]
[]
[{"$nulls":3},"Зависимость от дебиторов:",{"$nulls":9},"умеренная (доля 1 дебитора менее 30%)",{"$nulls":14},"фактически полная зависимость от Беларуськалия",{"$nulls":22},{"$f":"VLOOKUP(N132,list!$M$1:$AE$4,18,0)","v":"Да(менее срока фин-ия)"}]
[]
[]
[{"$nulls":3},"Наличие среди дебиторов государственных компаний:",{"$nulls":15},"Да(негативно влияет)",{"$nulls":8},"Беларуськалий",{"$nulls":22},{"$f":"VLOOKUP(T135,list!$W$1:$AE$4,9,0)","v":-1}]
[]
[]
[{"$nulls":3},"Географическая принадлежность бизнеса:",{"$nulls":15},"г.Минск",{"$nulls":31},{"$f":"IF('Заключение УР'!T138=\"г.Минск\",1,VLOOKUP(T138,list!$P$1:$AE$4,15,0))","v":1}]
[]
[]
[{"$nulls":3},"Качество обепечения",{"$nulls":47},{"$f":"SUM(AZ143:AZ155)","v":{"$error":"#N/A"}},{"$f":"IF(AZ141<0,\"высокий\",IF(AND(AZ141>=0,AZ141<=2),\"средний\",\"приемлемый\"))","v":{"$error":"#N/A"}},"уровень риска"]
[]
[{"$nulls":3},"Залоговая стоимсоть обеспечения:",{"$nulls":13},"USD,",null,"в т.ч.",null," Залог недвижимости:",{"$nulls":10},"USD",null,";",null,"гарантийный депозит",{"$nulls":6},"-",{"$nulls":3},"USD"]
[]
[{"$nulls":3},"Ликвидность залога:",{"$nulls":9},"приемлемая",{"$nulls":7},"Доля недвижимости:",{"$nulls":6},"70 - 99 %",{"$nulls":22},{"$f":"VLOOKUP(N145,list!$X$1:$AE$4,8,0)","v":1}]
[{"$nulls":51},{"$f":"VLOOKUP(AC145,list!$Y$1:$AE$4,7,0)","v":0}]
[{"$nulls":3},"Поручительство юридических лиц:",{"$nulls":19},"Комментарий:",{"$nulls":27},{"$f":"VLOOKUP(N147,list!$AA$1:$AE$4,5,0)","v":{"$error":"#N/A"}}]
[]
[{"$nulls":3},"Поручительство физических лиц:",{"$nulls":47},{"$f":"VLOOKUP(N149,list!$Z$1:$AE$4,6,0)","v":{"$error":"#N/A"}}]
[]
[{"$nulls":3},"Наличие отсрочки по предоставлению обеспечения:",{"$nulls":15},"Да",{"$nulls":3},"Комментарий:"]
[]
[]
[{"$nulls":3},"Поступление выручки клиента на счета в банке:",{"$nulls":14},"менее 50% ",{"$nulls":4},"Комментарий:",{"$nulls":27},{"$f":"VLOOKUP(S154,list!$AB$1:$AE$4,4,0)","v":-1}]
[]
[]
[{"$nulls":3},"Выводы"]
[]
[{"$nulls":3},"Классификация клиента / Задолженности",{"$nulls":11}," по 1 гр.риска"]
{"$rows_empty":7}
[{"$nulls":3},"__________________________ /",{"$nulls":7},{"$f":"AN7","v":0},{"$nulls":7},"/Исполнитель",{"$nulls":9},"__________________________ /",{"$nulls":7},"Семеняк А.И.",{"$nulls":7},"/Руководитель"]

{"sheet":"list","index":7,"n_rows":11,"n_cols":36,"rows_kept":11,"hidden":true}
["Currency","Products","Loan Type","Segm","belong to","history","Parts","otrasl","Competition","Ask","Value","Post","deb","sotr","uo","geo","sezon","opyt","inst","arest","branch","HLR","gos","zalog","nedv","fl","ul","vyr","kov","lic","points","surety type","Segm","RiskGroup","otvetst","BB"]
["BYN","ВКЛ","Возобновляемая кредитная линия","Nano (< 150 000 USD)","Корпо","отрицательная","компания","Барьеры для новых игроков отсутствуют","Отсутствие конкурентных преимуществ","Элластичный","премиум сегмент","высокая (доля 1 кредитора более 30%)","высокая (доля 1 дебитора более 30%)","Голота Д.И.","Да (не погашено)","Областной центр","присутствует","до 2 лет","решения одного лица","Да(существенно)","Trade & Services",{"v":0.01127,"d":"1.127%"},"Да(негативно влияет)","низкая","< 70 %","отсутствует","отсутствует","менее 50% ","Да","Нет",-1,"Основное","Nano","RG_N0","Сухая Е. М.",{"$f":"\"Анализ структуры баланса\"& IF(#REF!=\"\",\"\",\", \"&#REF!)","v":{"$error":"#REF!"}}]
["USD","НВКЛ","Невозобновляемая кредитная линия","Micro (150 001 - 500 000 USD)","МСБ","отсутствует","учредитель","Ограничения связаны с гос регулированием","Наличие конкурентных преимуществ","Неэлластичный","средний сегмент","умеренная (доля 1 кредитора менее 30%)","умеренная (доля 1 дебитора менее 30%)","Жилко Д.М.","Да (погашено)","Районный рентр","в целом, не характерна","3-5 лет","средняя","Да(несущественно)","Industry",{"v":0.02383,"d":"2.383%"},"Да(несущественно)","средняя","70 - 99 %","в наличии (менее 70% выручки)","в наличии (менее 75% соб-ти)","50 - 90%","Незначительно","Да(менее срока фин-ия)",0,"Дополн-ое","Micro","RG_N1","Косачева К. Н.",{"$f":"\"Анализ структуры активов и обязательств\"& IF(#REF!=\"\",\"\",\", \"&#REF!)","v":{"$error":"#REF!"}}]
["EUR","Разовый кредит","Разовый кредит","Small Low (500 001 - 2 500 000 USD)",null,"положительная","руководитель","Вход в отрасль требует значительных вложений","Ключевой/Нишевой игрок","Товар первой необходимости","бюджетный сегмент","низкая (диверсифицированная КЗ)","низкая (диверсифицированная ДЗ)","Силантьева Ю.С.","Отсутствует","Диверсифицированная","отсутствует","более 5 лет","высокая","Отсутствует","Finance & Lease",{"v":0.00178,"d":"0.178%"},"Отсутствует","приемлемая",">= 100%","в наличии (более 70% выручки)","в наличии (более 75% соб-ти)","90 - 100%","Нет","Да(более срока фин-ия)",1,null,"Small","RG_N2","Рудик А. В."]
["RUB","Гарантия",null,"Small Up (2 500 001 - 5 000 000 USD)",null,null,"поручитель",{"$nulls":6},"Микулич Д.В.",null,"г.Минск",{"$nulls":4},"Other",{"v":0.04019,"d":"4.019%"},{"$nulls":10},"Medium","RG_N3","Бугуева Ю. С."]
[null,"Аккредитив",null,"Medium Low (5 000 001 - 10 000 000 USD)",{"$nulls":9},"Семеняк А.И.",{"$nulls":7},{"v":0.02365,"d":"2.365%"},{"$nulls":10},"Large","RG_S0"]
[null,"Овердрафт",null,"Medium Up (10 000 001 - 15 000 000 USD)",{"$nulls":9},"Ярош М.Л.",{"$nulls":7},{"v":2.99E-3,"d":"0.299%"},{"$nulls":11},"RG_S1"]
[{"$nulls":3},"Large (15 000 001> USD)",{"$nulls":17},{"v":0.03131,"d":"3.131%"},{"$nulls":11},"RG_S2"]
[{"$nulls":21},{"v":0.06728,"d":"6.728%"}]
[{"$nulls":21},{"v":0.00178,"d":"0.178%"}]
[{"$nulls":21},{"v":0.02066,"d":"2.066%"}]

{"sheet":"PD","index":8,"n_rows":141,"n_cols":85,"rows_kept":141,"hidden":true}
[{"$f":"#REF!&\"|\"&#REF!&\"|\"&#REF!","v":{"$error":"#REF!"}},1,2,3,4,5,6,7,8,9,10,11,12,13,14,15,16,17,18,19,20,21,22,23,24,25,26,27,28,29,30,31,32,33,34,35,36,37,38,39,40,41,42,43,44,45,46,47,48,49,50,51,52,53,54,55,56,57,58,59,60,61,62,63,64,65,66,67,68,69,70,71,72,73,74,75,76,77,78,79,80,81,82,83,84]
["Trade & Services|Nano|RG_N0",0,1.015009236671183E-3,3.4238019378952677E-3,0.007293361122800607,0.011798706997703927,0.016737103681662584,0.02203178320639388,0.027627839222878,0.0334801864526824,0.039549933187968046,0.04580300361705799,0.052209456368639155,0.058742986129986144,0.06538050038356011,0.07210174634588044,0.07888897939308603,0.08572666815261447,0.09260123250038998,0.09950081112301651,0.10641505559224787,0.11333494815713062,0.12025264070536605,0.12716131258046007,0.13405504516334532,0.14092871133486254,0.14777787812795226,0.1545987210554105,0.16138794876082566,0.16814273678736855,0.17486066939220207,0.18153968845426702,0.18817804863102808,0.19477427801637975,0.2013271436382675,0.2078356212115922,0.21429886863051667,0.22071620274520412,0.22708707902205677,0.23341107373440254,0.2396878683729445,0.24591723600273568,0.25209902932650974,0.25823317024337217,0.2643196407175723,0.2703584747947279,0.2763497516228137,0.28229358935276616,0.28819013980897645,0.2940395838334967,0.29984212721968495,0.3055979971614647,0.3113074391535443,0.3169707142859858,0.32258809688356604,0.32815987244655914,0.33368633585498525,0.3391677898031232,0.3446045434352401,0.34999691115713566,0.35534521160128557,0.36064976672616206,0.3659109010327497,0.3711289408834142,0.3763042139101501,0.38143704850087007,0.3865277733538283,0.39157671709152136,0.39658420792650334,0.401550573372509,0.40647613999511295,0.4113612331968848,0.4162061770326375,0.42101129405092425,0.42577690515842614,0.4305033295043003,0.43519088438192755,0.43983988514582567,0.44445064514177784,0.4490234756484725,0.4535586858291681,0.45805658269208654,0.46251747105840124,0.46694165353683315,0.4713294305039906]
["Trade & Services|Nano|RG_N1",1.8612879173981844E-3,0.00518617436697206,0.01061705573425178,0.017876105939084556,0.0256196458563747,0.0335445392267298,0.0415581565470158,0.04960761287224719,0.05765755208193567,0.06568269720423407,0.07366464104567683,0.08159009785435693,0.08944968692156512,0.09723701021767825,0.10494793722287431,0.11258004775210435,0.12013219827975381,0.12760418541998877,0.1349964858835332,0.1423100565607124,0.14954618178497386,0.1567063575294598,0.16379220443222678,0.17080540324809732,0.17774764767708257,0.1846206105923983,0.191425920542259,0.1981651460742213,0.20483978596497288,0.21145126386089932,0.21800092616841837,0.22449004229619826,0.2309198065585145,0.237291341211708,0.24360570022320968,0.2498638734722146,0.2560667911586593,0.26221532825731103,0.26831030890020807,0.27435251060631327,0.28034266830439086,0.28628147811561977,0.29216960087778193,0.29800766540415474,0.30379627147841204,0.309535992592607,0.31522737843924437,0.32087095717098385,0.32646723744300565,0.33201671025377366,0.3375198506000705,0.34297711896190813,0.34838896263236035,0.35375581690662306,0.3590781061437456,0.36435624471355255,0.3695906378403305,0.3747816823539083,0.37992976735784495,0.38503527482356176,0.39009858011842347,0.39512005247500087,0.4001000554080238,0.4050389470848724,0.4099370806548468,0.4147948045418975,0.41961246270500235,0.4243903948699121,0.42912893673558333,0.4338284201582439,0.43848917331570486,0.4431115208542392,0.4476957840200781,0.45224228077734263,0.4567513259140162,0.46122323113737684,0.4656583051601412,0.4700568537784246,0.47441917994249233,0.4787455838211587,0.4830363628605907,0.4872918118381809,0.49151222291207536,0.495697885666871]
["Trade & Services|Nano|RG_N2",1.1756976049626976E-3,0.010629901359486575,0.029787990350525574,0.057529987151771704,0.08318336518883884,0.1054889446383323,0.1248455713191595,0.1417574611251818,0.1566767239639834,0.16997798909203612,0.18196436581880032,0.19287979120262133,0.2029204371927182,0.21224413731727296,0.2209779874906931,0.2292244348502056,0.23706614850384333,0.2445699160908833,0.25178976247949647,0.2587694474099106,0.2655444671010642,0.27214365947300306,0.2785904924390903,0.2849040986438135,0.29110010722094737,0.2971913129517068,0.30318821507968235,0.309099451564872,0.3149321493962255,0.32069220746317967,0.3263845251989902,0.33201318758313203,0.3375816149921707,0.34309268471129223,0.34854882957698435,0.3539521181473971,0.35930431993669004,0.36460695856019537,0.3698613550842035,0.375068663430278,0.3802298993274271,0.3853459640187882,0.39041766369882647,0.39544572547130485,0.40043081046856466,0.4053735246518749,0.41027442771507133,0.4151340404348669,0.41995285074741917,0.42473131877907355,0.4294698810172992,0.4341689537738295,0.43882893606437695,0.4434502120068122,0.448033152821378,0.45257811850157853,0.45708545921218635,0.4615555164608445,0.4659886240815821,0.4703851090618754,0.4747452922394014,0.4790694888901249,0.4833580092256512,0.4876111588147257,0.49182923894124086,0.49601254690903396,0.5001613763020392,0.504276017206935,0.5083567564042476,0.5124038775328925,0.5164176612323245,0.5203983852657867,0.52434632462759,0.5282617516368787,0.5321449360199529,0.5359961449828822,0.5398156432758792,0.5436036932506632,0.5473605549118595,0.5510864859633121,0.5547817418500539,0.5584465757965649,0.5620812388418507,0.5656859798717939]
["Trade & Services|Nano|RG_N3",0.08618867294075591,0.202878405930633,0.33716800241572864,0.3711091320947597,0.38539403619628676,0.39588598807288056,0.4047989024219062,0.41281300520550546,0.42018646780636637,0.4270487034666416,0.4334887933523639,0.43957616872957705,0.4453669595191554,0.45090706623170973,0.4562341755439514,0.4613792906616815,0.46636795326793856,0.4712212338224232,0.4759565379467261,0.4805882643543544,0.4851283423116828,0.48958667113235377,0.4939714799044318,0.498289622202427,0.5025468177572874,0.5067478508117944,0.5108967330718025,0.5149968376921692,0.5190510095432662,0.5230616560360194,0.5270308219973331,0.5309602514487699,0.5348514386214677,0.5387056701168956,0.5425240597779429,0.5463075775532648,0.550057073407872,0.5537732971449935,0.5574569148504641,0.5611085225449661,0.5647286575262229,0.5683178077985702,0.5718764199177879,0.5754049055219268,0.5789036467718546,0.5823730008865381,0.5858133039261886,0.5892248739500942,0.592608013654256,0.5959630125760117,0.5992901489380099,0.6025896911916306,0.6058618993097998,0.6091070258707297,0.6123253169671429,0.6155170129697546,0.6186823491689794,0.6218215563148414,0.624934861071746,0.6280224864020147,0.6310846518897846,0.6341215740149639,0.6371334663853424,0.640120539933621,0.6430830030850253,0.646021061900235,0.648934920197596,0.6518247796579316,0.6546908399147328,0.6575332986320593,0.6603523515721,0.6631481926540332,0.6659210140055597,0.6686710060082581,0.671398357337734,0.6741032549993713,0.6767858843603712,0.6794464291786486,0.6820850716290708,0.6847019923274413,0.6872973703525714,0.6898713832667218,0.6924242071346628,0.6949560165415481]
["Trade & Services|Nano|RG_S0",0.03904016126511533,0.08807028879008891,0.14501356696120568,0.19525272354953985,0.23870720261211617,0.2762574745455367,0.3087178233205597,0.3368303400655779,0.3612412052025847,0.3825047655938111,0.40109465496642854,0.41741471244160894,0.43180875469891444,0.4445691314040729,0.4559441510727109,0.4661444992838953,0.47534876997753467,0.48370822108110373,0.49135085472330625,0.49838491141325386,0.5049018572843682,0.5109789340037544,0.5166813322955859,0.5220640422296584,0.527173426459249,0.5320485564112919,0.536722345980597,0.5412225124966303,0.5455723905527337,0.5497916206510972,0.5538967314625766,0.5579016317726652,0.5618180258321469,0.5656557638063765,0.5694231372786526,0.5731271282731806,0.5767736189883512,0.5803675683421099,0.5839131605023199,0.5874139297837344,0.5908728656199221,0.5942925007462807,0.5976749852444528,0.6010221486863795,0.6043355522670074,0.6076165325189676,0.6108662379523516,0.6140856597511836,0.6172756574794662,0.6204369805987783,0.6235702864720675,0.6266761554208957,0.6297551033128843,0.6328075920798547,0.6358340385029616,0.6388348215470833,0.6418102884812836,0.6447607599839477,0.647686534399072,0.6505878912832156,0.6534650943599554,0.6563183939796771,0.6591480291665764,0.6619542293213602,0.6647372156369195,0.6674972022748489,0.6702343973427999,0.6729490037060725,0.6756412196613193,0.678311239495625,0.6809592539503532,0.6835854506059299,0.6861900142010289,0.6887731268973731,0.6913349684994815,0.6938757166371198,0.696395546916906,0.6988946330484258,0.7013731469493032,0.7038312588329133,0.7062691372817951,0.708686949309292,0.7110848604115153,0.7134630346113616]
["Trade & Services|Nano|RG_S1",0.24576046917789296,0.6101928605037692,0.65982757721052,0.6750503347344082,0.6853001781778825,0.6930776660521007,0.699661245631712,0.7054703265988832,0.7106711492049336,0.7153699363039857,0.719648491572201,0.7235734985879442,0.7272003090147146,0.7305751024791741,0.7337364634864628,0.7367166487897316,0.7395426339776613,0.7422369843148342,0.7448185809642847,0.747303227065669,0.7497041537235449,0.7520324425341945,0.754297378485852,0.7565067447563714,0.7586670690128194,0.7607838292206677,0.7628616256410333,0.7649043245874318,0.7669151785912472,0.768896926856498,0.7708518792436786,0.7727819864880632,0.7746888989120629,0.7765740155192558,0.7784385250472319,0.7802834402972095,0.7821096268419379,0.7839178270326331,0.7857086800746849,0.7874827388156979,0.7892404837839894,0.7909823349275409,0.7927086614297338,0.7944197899166112,0.7961160113189125,0.797797586609069,0.7994647515973339,0.8011177209411026,0.8027566914962878,0.8043818451185413,0.8059933510044839,0.8075913676483637,0.809176044477222,0.8107475232173276,0.8123059390360057,0.8138514214957644,0.8153840953515781,0.8169040812171329,0.8184114961216072,0.8199064539750281,0.8213890659572771,0.8228594408433504,0.824317685275407,0.8257639039904026,0.8271982000106619,0.8286206748035372,0.8300314284152741,0.8314305595833764,0.8328181658310408,0.8341943435466497,0.835559188050811,0.8369127936530251,0.8382552536997114,0.83958666061504,0.8409071059357733,0.8422166803411228,0.8435154736784566,0.8448035749855546,0.8460810725099912,0.8473480537261298,0.8486046053501274,0.8498508133532872,0.8510867629740329,0.8523125387287389]
["Trade & Services|Nano|RG_S2",0.805877182643669,0.8462897524569422,0.8567983053377886,0.8632440725471338,0.8664846185487981,0.8688513879423158,0.8708897009158398,0.8727192763786098,0.8743910429701095,0.8759357110081871,0.87737562699471,0.8787284701969865,0.8800085764990836,0.8812276534597653,0.8823952865684117,0.8835193340548648,0.884606244385398,0.8856613139889599,0.8866888971105251,0.887692576916153,0.8886753051276809,0.8896395160598469,0.8905872198167923,0.8915200785072537,0.8924394686126587,0.8933465320556097,0.8942422180409907,0.8951273173566465,0.8960024905079828,0.8968682908070028,0.8977251833300283,0.8985735604905876,0.8994137548374261,0.9002460495763682,0.9010706872241079,0.9018878767280438,0.9026977993258966,0.9035006133695185,0.9042964582969779,0.9050854579040009,0.9058677230388457,0.9066433538225518,0.9074124414783613,0.9081750698392356,0.9089313165901686,0.9096812542919726,0.910424951224968,0.9111624720842322,0.9118938785524904,0.9126192297721443,0.9133385827341587,0.9140519925984165,0.9147595129575898,0.9154611960544657,0.9161570929609202,0.9168472537253022,0.9175317274938042,0.9182105626104171,0.9188838066992635,0.9195515067324376,0.9202137090859284,0.9208704595857562,0.9215218035460679,0.9221677858006402,0.9228084507289733,0.9234438422779578,0.9240740039799153,0.9246989789676764,0.9253188099872384,0.925933539408449,0.9265432092340822,0.9271478611076049,0.9277475363198824,0.9283422758150195,0.9289321201955053,0.929517109726793,0.9300972843414235,0.9306726836427821,0.9312433469085608,0.9318093130939815,0.9323706208348312,0.9329273084503424,0.9334794139459537,0.9340269750159707]
["Trade & Services|Micro|RG_N0",0,6.6806203041269024E-4,0.002659926634796467,0.006054471597586408,0.010171342626332432,0.014791129982633695,0.01981657049786612,0.02518703748792505,0.030855279245916446,0.036780904837229365,0.04292832801711236,0.04926592068210314,0.05576551446735551,0.0624020205021459,0.06915310437865134,0.07599889766410647,0.08292173910944688,0.08990594195519391,0.09693758471740682,0.1040043232186559,0.11109522184952213,0.1182006022195418,0.1253119075120452,0.13242158100207363,0.13952295733201356,0.14661016526601087,0.15367804076169977,0.16072204930645828,0.16773821656553825,0.1747230664813663,0.18167356604747306,0.1885870760573382,0.19546130719839833,0.20229428092503438,0.2090842946020036,0.21582989046196874,0.2225298279679457,0.2291830592140635,0.23578870703640062,0.24234604554020991,0.24885448278090924,0.25531354536412704,0.2617228647551435,0.2680821651105364,0.2743912524649734,0.2806500051241247,0.2868583651308016,0.29301633068586147,0.29912394941831383,0.30518131241058893,0.31118854889521935,0.3171458215483694,0.32305332231384054,0.3289112686984895,0.33471990048651085,0.3404794768258394,0.3461902736451042,0.3518525813641686,0.35746670286539645,0.36303295169643385,0.3685516504785461,0.3740231294974416,0.3794477254560866,0.3848257803713007,0.39015764059795904,0.3954436559664358,0.4006841790205299,0.40587956434454325,0.4110301679694532,0.41613634684924655,0.4211984583994869,0.4262168600910769,0.43119190909296823,0.4361239619582732,0.4410133743488578,0.44586050079404865,0.45066569447957816,0.4554293070633289,0.4601516885148263,0.464833186975772,0.46947414863921705,0.4740749176452428,0.47863583599126047,0.48315724345525246]
["Trade & Services|Micro|RG_N1",9.0337807700861784E-4,0.003321204272266681,0.00858701222322513,0.01621221954925576,0.02452160449844417,0.03304823006692963,0.0416420506138475,0.05024305736805897,0.05881963609401432,0.06735138547045724,0.07582384596431882,0.08422651136485564,0.09255181794527191,0.10079448238056349,0.10895100610189169,0.11701928461924396,0.12499829460099188,0.1328878424657996,0.1406883627245594,0.14840075680647372,0.15602626484953777,0.16356636429635202,0.17102269023963998,0.1783969733683831,0.18569099211301987,0.19290653620497897,0.20004537937457814,0.20710925933062696,0.21409986351031227,0.2210188193718932,0.22786768823598108,0.2346479618725253,0.24136106118736111,0.24800833649034904,0.2545910689317602,0.26111047277878924,0.2675676982733457,0.2739638348684279,0.2802999146857723,0.2865769160740395,0.292795767176149,0.2989573494378282,0.30506250100809285,0.3111120199971146,0.31710666756850475,0.32304717085204476,0.3289342256698308,0.33476849907407386,0.34055063169873623,0.34628123993007076,0.35196091790317197,0.3575902393330303,0.3631697591894519,0.36870001522567486,0.3741815293706806,0.3796148089951369,0.38500034806067956,0.3903386281618885,0.3956301194698823,0.4008752815859668,0.40607456431325806,0.41122840835366775,0.4163372459371111,0.421401501389274,0.42642159164377713,0.4313979267040891,0.43633091006008734,0.4412209390637351,0.4460684052679433,0.45087369473231104,0.45563718829909666,0.4603592618424498,0.4650402864936471,0.46968062884480355,0.4742806511332893,0.47884071140885953,0.4833611636853016,0.48784235807822246,0.4922846409304318,0.4966883549262275,0.501053839195753,0.5053814294104767,0.5096714578707306,0.5139242535861486]
["Trade & Services|Micro|RG_N2",0,4.772662280110228E-3,0.0189074233256048,0.04127634043706224,0.06360821057349098,0.08411353927726564,0.1026057296039929,0.11927765804822411,0.13438282431471904,0.14815762490102377,0.16080626043961127,0.17250130192226631,0.18338764350923276,0.19358672209371325,0.20320028302255358,0.2123135884060026,0.22099811313043108,0.22931380094313444,0.23731095013808512,0.24503178924881905,0.2525117937660237,0.2597807866005117,0.26686385797196904,0.2737821345021417,0.2805534223622064,0.28719274521208943,0.2937127942399442,0.3001243047495963,0.30643637135785623,0.3126567118732276,0.3187918882669225,0.3248474917614157,0.330828297905346,0.33673839653833837,0.3425813007435551,0.34836003821303646,0.35407722788912216,0.35973514427606806,0.36533577142407603,0.3708808482605394,0.37637190666973536,0.3818103034935594,0.38719724743478756,0.39253382168458595,0.3978210029623854,0.4030596775445094,0.40825065476447725,0.41339467838970245,0.4184924362138651,0.4235445681494555,0.4285516730591248,0.43351431452607014,0.4384330257315105,0.4433083135803529,0.44814066219356,0.4529305358667902,0.4576783815790025,0.4623846311213968,0.4670497029058865,0.4716740035029156,0.47625792895056185,0.4808018658702477,0.4853061924188274,0.4897712791021454,0.49419748947123404,0.498585180719015,0.5029347041925899,0.5072464058338639,0.5115206265592755,0.5157577025877458,0.5199579657245595,0.5241217436077087,0.528249359922235,0.5323411345872638,0.5363973839197147,0.5404184207780668,0.544404554689059,0.5483560919597635,0.5522733357771171,0.5561565862966806,0.5600061407221351,0.5638222933768067,0.567605335768317,0.5713555566473004]
["Trade & Services|Micro|RG_N3",0.06151873383556183,0.19933071828841753,0.34847592718373055,0.39370333530546103,0.41164853519587385,0.4219483840051612,0.42989249176978606,0.4369270866651029,0.4434750218109707,0.4496821520438306,0.45561573050810594,0.4613177252299059,0.46681963572495494,0.47214701381903734,0.4773211651803888,0.48236002415851026,0.48727874191964976,0.4920901416446258,0.4968050906502022,0.5014328103314638,0.5059811359167057,0.5104567346265891,0.5148652890549895,0.5192116513863487,0.523499973131731,0.5277338143040892,0.5319162353200882,0.5360498743864909,0.5401370126856926,0.5441796293033064,0.5481794475290279,0.5521379739006171,0.5560565311415714,0.5599362859591055,0.5637782725146948,0.5675834122498887,0.5713525306413596,0.5750863713678518,0.5787856082950292,0.5824508556198303,0.5860826764618388,0.5896815901437285,0.5932480783646331,0.5967825904381778,0.6002855477398995,0.6037573474860679,0.6071983659468119,0.6106089611803617,0.6139894753616868,0.6173402367674014,0.6206615614692026,0.6239537547800202,0.6272171124902216,0.6304519219254738,0.6336584628530021,0.6368370082588922,0.6399878250156227,0.6431111744560958,0.6462073128679603,0.6492764919199417,0.6523189590301188,0.6553349576846046,0.6583247277138112,0.6612885055324201,0.664226524348258,0.6671390143445193,0.6700262028391154,0.6728883144243806,0.6757255710898884,0.6785381923307352,0.6813263952433054,0.6840903946102421,0.6868304029760991,0.6895466307149417,0.6922392860909805,0.6949085753131736,0.6975547025845944,0.7001778701472586,0.7027782783230014,0.7053561255509146,0.7079116084217899,0.7104449217099412,0.7129562584027411,0.7154458097281513]
["Trade & Services|Micro|RG_S0",0.04310245507249729,0.08938962971087694,0.1404101131697462,0.18568287106410916,0.22479259432218557,0.2583747744678318,0.28723298351526044,0.3121112832889574,0.3336513603359693,0.35239522105234844,0.36879767959751325,0.38323953535196437,0.3960393382478849,0.4074634425666408,0.4177344853044612,0.4270385058630524,0.4355309161581018,0.4433415038550643,0.4505786240036334,0.4573327098999618,0.46367921310757765,0.4696810649198256,0.47539073670135973,0.4808519640749276,0.48610118944791614,0.4911687685824074,0.49607997953412136,0.5008558660935357,0.5055139426666164,0.5100687831732579,0.5145325128845213,0.5189152190523432,0.5232252936128629,0.527469719087355,0.531654306996147,0.5357838965847717,0.5398625203908405,0.5438935421152071,0.5478797713687082,0.5518235591182793,0.5557268770301643,0.5595913833836402,0.56341847778971,0.5672093465817688,0.5709650004377264,0.5746863055357648,0.5783740093306747,0.5820287618577079,0.5856511333203915,0.5892416285929541,0.5928006991629045,0.5963287529514987,0.5998261623765122,0.6032932709605198,0.6067303987368174,0.6101378466625108,0.6135159002127728,0.6168648323006664,0.620184905642267,0.6234763746662811,0.6267394870502717,0.6299744849513869,0.6331816059876785,0.6363610840162792,0.6395131497465704,0.6426380312197084,0.6457359541802901,0.6488071423612916,0.6518518176995909,0.654870200496209,0.6578625095327953,0.6608289621537222,0.663769774321386,0.6666851606508446,0.6695753344287343,0.6724405076204196,0.6752808908685339,0.6780966934854131,0.6808881234413909,0.6836553873504967,0.6863986904547423,0.6891182366079093,0.6918142282595143,0.6944868664394598]
["Trade & Services|Micro|RG_S1",0.2594459451432256,0.615402367697971,0.6846067722551823,0.7072302114319656,0.7168585487328004,0.7227330300638678,0.7273361790962359,0.7313672753423361,0.7350470458438636,0.738463937385348,0.741666595639024,0.7446890932649748,0.7475582511043479,0.7502961201240661,0.7529210961771573,0.7554485996887949,0.7578915785174865,0.7602609121746415,0.76256574639013,0.7648137726733717,0.7670114626107661,0.7691642644032668,0.7712767677673736,0.7733528422948193,0.7753957535374272,0.7774082603965636,0.7793926968218792,0.781351040341916,0.7832849695443819,0.7851959122839727,0.7870850861101764,0.7889535321677765,0.7908021436214986,0.7926316894872325,0.7944428346103785,0.7962361564127363,0.7980121589293643,0.7997712845728907,0.8015139239923078,0.8032404243341474,0.8049510961643092,0.8066462192671687,0.8083260475036531,0.8099908128806422,0.8116407289594625,0.8132759937106012,0.8148967919044534,0.8165032971133975,0.8180956733883125,0.819674076662438,0.821238655926909,0.8227895542151191,0.8243269094270367,0.8258508550195576,0.8273615205847376,0.8288590323342051,0.8303435135050778,0.8318150847002161,0.833273864173557,0.8347199680695225,0.8361535106240325,0.8375746043334192,0.8389833600965166,0.8403798873343349,0.8417642940910073,0.8431366871190947,0.8444971719518278,0.8458458529644406,0.8471828334263984,0.8485082155460262,0.8498221005087921,0.8511245885102997,0.8524157787848621,0.8536957696303917,0.8549646584302155,0.8562225416723248,0.8574695149664842,0.8587056730595528,0.8599311098493132,0.8611459183970541,0.86235019093911,0.8635440188975275,0.8647274928900017,0.8659007027391982]
["Trade & Services|Micro|RG_S2",0.7984992363516141,0.8634259686244607,0.8804415931069157,0.8859230520400171,0.8883331624488224,0.8898782650194946,0.8911498381105467,0.8923111007922665,0.8934108955285988,0.8944668630813104,0.8954875950521687,0.8964786246232654,0.897444121917797,0.8983874352689863,0.8993113119967878,0.90021802160857,0.9011094424595492,0.9019871297662894,0.9028523711752081,0.9037062327584892,0.9045495972295408,0.9053831957167656,0.9062076341737999,0.9070234153174215,0.9078309568359035,0.9086306064883605,0.9094226546137577,0.9102073444830542,0.9109848808566052,0.91175543704923,0.9125191607553471,0.9132761788447439,0.9140266013045476,0.9147705244736973,0.9155080336917529,0.9162392054634402,0.9169641092232595,0.9176828087702378,0.918395363431015,0.9191018289995454,0.9198022584934278,0.9204967027600042,0.9211852109596318,0.921867830948774,0.9225446095815942,0.9232155929454451,0.9238808265429218,0.9245403554308778,0.9251942243249338,0.9258424776764556,0.9264851597276946,0.9271223145497312,0.9277539860669823,0.9283802180713219,0.929001054228271,0.9296165380772295,0.9302267130273276,0.9308316223501479,0.9314313091703095,0.9320258164546871,0.9326151870008674,0.9331994634253031,0.9337786881515127,0.9343529033985828,0.9349221511701616,0.9354864732440691,0.9360459111626102,0.9366005062236402,0.9371502994724045,0.9376953316941556,0.9382356434075337,0.9387712748586876,0.9393022660161034,0.9398286565661056,0.9403504859089882,0.9408677931557352,0.9413806171252892,0.9418889963423234,0.9423929690354789,0.9428925731360275,0.9433878462769207,0.9438788257921932,0.9443655487166838,0.9448480517860459]
["Trade & Services|Small|RG_N0",0,7.4983214072115378E-4,2.5126651442527546E-3,0.005505416612948732,9.099927165996528E-3,0.013125739862509068,0.01750926480121531,0.022200323359347945,0.02715790932624047,0.0323464776372599,0.037734709505504165,0.04329488736974633,0.04900244757752772,0.054835609750606015,0.06077505568087041,0.0668036476366862,0.07290618029071733,0.07906916190789612,0.08528062114969129,0.09152993635554298,0.09780768457280273,0.10410550795579544,0.11041599545576218,0.1167325779842091,0.12304943545844765,0.12936141433470819,0.13566395440524662,0.14195302378484378,0.14822506114201386,0.1544769243436657,0.16070584478109945,0.1669093867319704,0.17308541118883947,0.17923204365156245,0.18534764543925988,0.1914307881290002,0.19748023077352836,0.20349489959016168,0.20947386984803387,0.2154163497117855,0.22132166582708845,0.2271892504574947,0.23301863000340814,0.2388094147528276,0.24456128973019522,0.25027400652446613,0.2559473759906178,0.26158126173043805,0.2671755742687437,0.27273026585033894,0.27824532579115663,0.28372077632425835,0.2891566688877942,0.2945530808077484,0.2999101123333823,0.3052278839878206,0.3105065342002636,0.3157462171899014,0.32094710107481533,0.326109366182005,0.33123320353722996,0.33631881351562637,0.34136640463608775,0.3463761924842081,0.35134839875020074,0.35628325036964925,0.36118097875623373,0.36604181911672595,0.37086600983957657,0.3756537919493313,0.3804054086199372,0.38512110474073236,0.38980112652956445,0.3944457211880753,0.39905513659470565,0.4036296210314471,0.40816942294078573,0.41267479070965446,0.4171459724775492,0.4215832159662601,0.4259867683289395,0.43035687601646694,0.4346937846592854,0.43899773896307587]
["Trade & Services|Small|RG_N1",8.891035882989506E-4,3.2996225175688787E-3,0.007838781983593284,0.014420726061384793,0.021535940548771726,0.02884229133492488,0.03623908071605172,0.043679658668021114,0.05113461231544923,0.05858244077524278,0.06600669908663902,0.07339473866994525,0.08073691324501574,0.08802598054807446,0.0952566239402664,0.10242506373579555,0.10952874051586489,0.11656605734073634,0.12353617036924705,0.13043881927342954,0.13727419033513505,0.1440428063438109,0.15074543843522778,0.1573830358577488,0.16395667035530176,0.170467492438851,0.17691669730103995,0.1833054985285858,0.1896351080979551,0.1959067214134914,0.20212150637322754,0.20828059563417767,0.2143850814027103,0.22043601220224857,0.22643439117469652,0.23238117555751955,0.2382772770485343,0.24412356282786316,0.24992085705339984,0.2556699426843571,0.2613715635185519,0.2670264263542933,0.27263520320812007,0.27819853353605595,0.28371702641922736,0.2891912626852111,0.294621796944838,0.3000091595307754,0.3053538583293757,0.31065638050128264,0.31591719408935975,0.3211367495148223,0.3263154809641707,0.33145380767076044,0.33655213509570087,0.34161085601333324,0.34663035150686616,0.35161099187989053,0.3565531374895093,0.3614571395067223,0.3663233406095426,0.37115207561409835,0.37594367204872103,0.38069845067574165,0.38541672596542914,0.39009880652620904,0.3947449954950147,0.3993555908913323,0.4039308859382348,0.40847116935343125,0.412976725613114,0.4174478351911512,0.42188477477595365,0.42628781746714056,0.43065723295394087,0.43499328767709133,0.4392962449758312,0.44356636522144516,0.4478039059386718,0.452009121916169,0.4561822653071135,0.46032358572091153,0.4644333303069002,0.46851174383083477]
["Trade & Services|Small|RG_N2",1.0582308056216229E-3,0.008342781946882157,0.022972824143295018,0.045409798335044486,0.06716809319459989,0.08688700076868783,0.10458187649539155,0.12049413201460046,0.1348795959883348,0.14796590692123207,0.15994780083364493,0.170990215620517,0.18123248616782295,0.19079223910386228,0.19976876124032714,0.20824586196505365,0.21629429399393166,0.2239737976176471,0.23133482599874527,0.23842000080365294,0.2452653400189925,0.25190129339640455,0.2583536155140071,0.26464410181076664,0.2707912090232832,0.2768105781281194,0.2827154750768003,0.28851716222797297,0.2942252113662868,0.29984776749439424,0.3053917711454756,0.3108631457483987,0.31626695555164935,0.32160753874634174,0.3268886196981799,0.3321134035822205,0.33728465619490683,0.3424047712800639,0.3474758273366334,0.352499635565119,0.35747778034790995,0.3624116534381719,0.3673024828463322,0.37215135725688564,0.37695924667665703,0.38172701990490177,0.38645545932239894,0.39114527341823274,0.3957971074069256,0.40041155223301367,0.404989152213387,0.4095304115283526,0.41403579973924953,0.41850575648255706,0.4229406954669622,0.42734100788008544,0.4317070652949213,0.4360392221520325,0.4403378178817283,0.44460317872050786,0.44883561926766397,0.45303544382087385,0.4572029475236413,0.461338417352425,0.4654421329670428,0.46951436744436037,0.47355538791224083,0.4775654560981793,0.4815448288048787,0.48549375832319575,0.4894124927913359,0.4933012765078649,0.49716035020499044,0.5009899512876268,0.5047903140429519,0.508561669824488,0.5123042472141577,0.5160182721652755,0.5197039681290152,0.5233615561665371,0.5269912550486541,0.530593281344654,0.5341678495016742,0.5377151719158334]
["Trade & Services|Small|RG_N3",0.07693060401886365,0.17440706846317394,0.30943506029386036,0.3453882774009155,0.36061582040188916,0.3709765061107499,0.37967386595263913,0.387523941405801,0.39478252381889434,0.40156730203348207,0.4079554275622872,0.4140067594994252,0.41977039160414004,0.42528724077325014,0.43059157115330793,0.4357121249466807,0.4406730351509996,0.445494580835969,0.45019381647117684,0.4547850973548598,0.4592805185935855,0.4636902819793141,0.4680230026852523,0.4722859657158611,0.47648534039818025,0.48062635982885904,0.4847134710467597,0.488750460746488,0.4927405605520608,0.49668653520581185,0.5005907564736295,0.5044552651054249,0.5082818228040956,0.5120719558344722,0.5158269916352066,0.519548089572454,0.5232362667871322,0.52689241993139,0.5305173434595296,0.534111745029763,0.5376762584822523,0.5412114547829348,0.5447178512591775,0.5481959194002806,0.5516460914515293,0.5550687659934421,0.5584643126668799,0.5618330761787642,0.5651753797014709,0.5684915277608154,0.5717818086923543,0.575046496733004,0.5782858538043125,0.5815001310347908,0.5846895700612126,0.587854404142509,0.5909948591146099,0.5941111542101513,0.5972035027632503,0.6002721128164206,0.6033171876440635,0.6063389262047674,0.6093375235327685,0.6123131710773672,0.6152660569977574,0.6181963664196145,0.6211042816588376,0.6239899824170448,0.6268536459527425,0.6296954472315159,0.6325155590581055,0.6353141521928161,0.6380913954543613,0.6408474558109434,0.6435824984611176,0.6462966869057711,0.6489901830123672,0.6516631470724406,0.6543157378532014,0.6569481126439879,0.6595604272982042,0.6621528362713037,0.6647254926552965,0.6672785482102014]
["Trade & Services|Small|RG_S0",0.06994920304996075,0.13530458480473956,0.1994520874922795,0.2540559810431331,0.30005934041503113,0.33879646666872665,0.37147650713153424,0.3991294864216053,0.4226147561034326,0.4426453659451991,0.4598121217493063,0.4746043464243165,0.4874272601924544,0.4986164161965161,0.5084496654581729,0.5171570687359938,0.5249291065622715,0.5319234795367696,0.5382707409881907,0.5440789625394554,0.5494375986499872,0.5544206876676131,0.5590895032914469,0.5634947507808588,0.5676783860443262,0.5716751223261197,0.5755136780988124,0.5792178105686426,0.5828071715803436,0.5862980163963192,0.5897037905969867,0.5930356160184377,0.5963026930560922,0.5995126336910719,0.602671737133877,0.605785217940101,0.6088573947628724,0.6118918465064421,0.6148915414851273,0.6178589442305104,0.6207961037932499,0.6237047267258586,0.6265862373859198,0.6294418277460704,0.6322724985216047,0.6350790931154464,0.6378623256224604,0.6406228039215032,0.6433610487066602,0.646077509162521,0.648772575866901,0.6514465914038152,0.6540998590861827,0.6567326501187215,0.659345209474343,0.6619377607100242,0.6645105099089484,0.667063648903274,0.669597357905031,0.672111807650436,0.6746071611445243,0.6770835750777981,0.6795412009740058,0.6819801861177787,0.6844006743022498,0.686802806429684,0.689186720992283,0.6915525544554852,0.6939004415620881,0.6962305155722203,0.6985429084514794,0.7008377510173078,0.7031151730518395,0.7053753033879314,0.7076182699738489,0.7098441999210486,0.7120532195386639,0.7142454543576073,0.7164210291466431,0.7185800679223171,0.7207226939542625,0.7228490297670846,0.7249591971397863,0.7270533171034848]
["Trade & Services|Small|RG_S1",0.16924266579665542,0.511158633688903,0.5577028053830608,0.5735129731351748,0.5825371017544397,0.5893683646826551,0.5952800860140874,0.6006252188157392,0.6055395145306508,0.6101014170726693,0.6143685280658602,0.6183870895831403,0.6221952276902325,0.6258246140960224,0.6293016174887596,0.6326482096376584,0.6358827074510387,0.6390203875260148,0.6420739966685898,0.6450541763657238,0.6479698158137794,0.6508283455664303,0.6536359818122512,0.6563979295993592,0.659118551920534,0.6618015104060873,0.6644498824026499,0.6670662584106115,0.669652823183436,0.6722114232355787,0.6747436230430965,0.6772507518364508,0.6797339425652662,0.6821941643489671,0.6846322495061838,0.6870489160720366,0.6894447865595696,0.6918204035945275,0.6941762429469645,0.6965127243952796,0.6988302207851533,0.7011290655850524,0.7034095591893728,0.7056719741782174,0.7079165597077819,0.7101435451761977,0.7123531432854375,0.7145455525997206,0.7167209596840656,0.7188795408926665,0.7210214638651413,0.7231468887790169,0.7252559693987555,0.7273488539549189,0.729425685881472,0.7314866044345814,0.733531745212378,0.7355612405919334,0.7375752200969983,0.7395738107078158,0.7415571371224547,0.7435253219775404,0.745478486034975,0.7474167483401444,0.7493402263562117,0.7512490360783444,0.7531432921310859,0.755023107851567,0.7568885953608075,0.7587398656249926,0.7605770285083089,0.7624001928186606,0.7642094663473791,0.7660049559038591,0.7677867673459036,0.7695550056064344,0.771309774717124,0.773051177829414,0.7747793172333095,0.776494294374283,0.7781962098685649,0.7798851635170547,0.781561254318055,0.783224580478993]
["Trade & Services|Small|RG_S2",0.7430718226767795,0.788725316311445,0.8050938401662808,0.8119804572089914,0.8159543581250149,0.8190388324347574,0.8217091974206652,0.8241065244685879,0.8262929431095629,0.8283075689560377,0.8301799826264875,0.8319339995812237,0.8335891408342806,0.8351614833693641,0.8366642820790471,0.838108465999873,0.8395030446343771,0.8408554430165255,0.8421717785204916,0.8434570896280489,0.8447155249874032,0.8459504996323451,0.8471648240399701,0.8483608107244984,0.8495403622541096,0.8507050439070303,0.8518561436281027,0.8529947214876995,0.8541216504646721,0.8552376500603687,0.8563433139903316,0.857439132984767,0.8585255135505023,0.8596027933995471,0.860671254127221,0.8617311316217366,0.8627826246035057,0.8638259016232407,0.8648611067906955,0.865888364458544,0.8669077830467428,0.8679194581603478,0.8689234751269865,0.8699199110580611,0.8709088365194679,0.8718903168825167,0.8728644134132417,0.8738311841480013,0.874790684594747,0.8757429682923236,0.8766880872543737,0.87762609231964,0.8785570334265234,0.8794809598265203,0.8803979202484825,0.8813079630234579,0.8822111361780605,0.8831074875028353,0.8839970646008725,0.8848799149209202,0.8857560857784355,0.8866256243673389,0.8874885777646999,0.8883449929301248,0.8891949167012676,0.8900383957865808,0.8908754767561907,0.8917062060315826,0.892530629874632,0.8933487943763874,0.8941607454459106,0.8949665287994049,0.895766189949791,0.8965597741968463,0.8973473266179799,0.8981288920596875,0.8989045151297059,0.8996742401898702,0.9004381113496591,0.9011961724604127,0.90194846711019,0.9026950386192377,0.9034359300360324,0.9041711841338614]
["Trade & Services|Medium|RG_N0",1.0024837332417195E-3,3.4180672971698117E-3,7.619008408055611E-3,0.013044649011942635,0.019124012274673908,0.02564882314966717,0.03251654469477385,0.0396564227202638,0.04701245502119142,0.054538551501014,0.062196378925762685,0.0699539507361775,0.07778453667365541,0.08566577655050679,0.09357895018820916,0.10150837359993126,0.10944089874568722,0.11736549861311961,0.1252729226991889,0.1331554106319987,0.14100645384590715,0.14882059700536904,0.15659327233624024,0.1643206612254155,0.1719995784377146,0.17962737511136276,0.18720185736173345,0.19472121787305663,0.20218397831070128,0.209588940759768,0.21693514670329733,0.2242218423070845,0.23144844898746558,0.23861453841135585,0.24571981122073747,0.2527640788919978,0.25974724823837275,0.26666930814481893,0.27353031819187146,0.28033039888085204,0.2870697232191673,0.2937485094630174,0.3003670148469641,0.30692553015660373,0.3134243750229595,0.3198638938359139,0.326244452189665,0.3325664337863218,0.33883023773478543,0.34503627619134286,0.35118497229621526,0.3572767583669074,0.3633120743147828,0.3692913662560175,0.37521508529210046,0.38108368643845864,0.3868976276826943,0.3926573691564048,0.39836337240667663,0.40401609975516845,0.40961601373425877,0.41516357659108094,0.4206592498514263,0.4261034939365003,0.4314967678263827,0.43683952876479437,0.44213223200043,0.4473753305606805,0.4525692750540682,0.4577145134981494,0.4628114911700192,0.4678606504768824,0.4728624308444512,0.4778172686211784,0.48272559699656964,0.48758784593200666,0.49240444210269674,0.4971758088495136,0.5019023661396323,0.506584530534984,0.5112227151676584,0.5158173297214845,0.5203687804190962,0.5248774700138691]
["Trade & Services|Medium|RG_N1",0.000744583332118349,3.0630353602659043E-3,0.007576474721965181,0.013701810954767133,0.02059123895531815,0.027946461855836,0.03563225636048929,0.04356124898670597,0.0516673079387045,0.05989802837255537,0.06821143824309044,0.0765738844936294,0.08495842840892652,0.09334356436173213,0.10171218332864891,0.11005073182868741,0.11834852908393347,0.12659721272792898,0.13479028903474619,0.14292276814024946,0.1509908683678662,0.15899177673000792,0.16692345508354126,0.17478448337693164,0.18257393302150488,0.19029126471759464,0.19793624612335073,0.20550888561455832,0.2130093790844753,0.22043806730314178,0.22779540182003094,0.23508191777197698,0.24229821226605555,0.24944492725755277,0.2565227360469665,0.26353233268579207,0.27047442371570135,0.2773497217753779,0.28415894069839304,0.29090279179791534,0.2975819810928472,0.30419720727769745,0.31074916027720817,0.3172385202581167,0.3236659569958376,0.330032129514397,0.33633768593455854,0.34258326347848256,0.34876948859006046,0.35489697713876267,0.3609663346818144,0.3669781567651127,0.37293302924776955,0.37883152863873415,0.38467422243678023,0.3904616694673894,0.3961944202118303,0.4018730171251189,0.4074979949406259,0.41306988095993336,0.4185891953271802,0.42405645128762126,0.42947215543048595,0.43483680791648466,0.44015090269049834,0.44541492768011554,0.45062936498076,0.45579469102820114,0.4609113767592553,0.4659798877614876,0.4710006844127069,0.47597422201102035,0.48090095089618057,0.4857813165629205,0.4906157597669291,0.4954047166240805,0.5001486187034846,0.5048478931148873,0.5095029625909073,0.5141142455645572,0.5186821562424618,0.5232071046741491,0.5276894968177595,0.5321297346024869]
["Trade & Services|Medium|RG_N2",0.016966552695253514,0.037603428490947895,0.06684759236554538,0.10000921211451086,0.1302110988388565,0.15644931418888333,0.17914221100017055,0.19888258095968417,0.2162014320138264,0.23153931055075758,0.24525546790940342,0.2576417409382839,0.2689350684696318,0.27932786795103515,0.28897647632219786,0.2980079865624486,0.30652578058781466,0.3146140076032203,0.3223412101106438,0.32976326093239466,0.336925743115119,0.3438658791682206,0.35061409560406065,0.3571952922304222,0.3636298723247519,0.3699345790720368,0.3761231749732033,0.38220699392608587,0.38819539002245335,0.39409610253171734,0.39991555284498437,0.405659086163081,0.4113311682929466,0.41693554595861054,0.4224753774473707,0.42795333912736644,0.4333717123319019,0.43873245426208946,0.44403725587510035,0.44928758917015366,0.4544847458338226,0.45962986884043977,0.4647239783062826,0.46976799265483615,0.4747627459542323,0.4797090021284462,0.48460746661407733,0.48945879592897,0.4942636055329969,0.49902247629135654,0.5037359597937408,0.5084045827362881,0.5130288505353787,0.5176092503114598,0.522146253355904,0.5266403171733571,0.5310918871752486,0.5355013980864429,0.5398692751158112,0.5441959349323536,0.5484817864810216,0.5527272316662675,0.5569326659263399,0.5610984787172435,0.5652250539219176,0.5693127701974388,0.5733620012707913,0.5773731161918966,0.5813464795510743,0.5852824516668534,0.5891813887490286,0.5930436430410119,0.5968695629448312,0.6006594931315585,0.6044137746394758,0.6081327449618963,0.611816738126242,0.6154660847657055,0.6190811121846099,0.6226621444183952,0.6262095022890095,0.6297235034563591,0.6332044624663641,0.6366526907960836]
["Trade & Services|Medium|RG_N3",0.07463046778896391,0.21158399177275372,0.31736276572848854,0.3553186065300842,0.3745334808924513,0.3885712976102052,0.4004678860916286,0.4110252866321022,0.4205637272379588,0.42927766212841006,0.4373124850827746,0.4447843327469401,0.4517876288199626,0.4583995033697244,0.46468304928320286,0.47068990971758307,0.47646237622150106,0.4820350990310558,0.4874364832179515,0.49268982892830565,0.49781426283236185,0.5028254991414391,0.5077364614664734,0.5125577910324277,0.517298262069544,0.521965121376001,0.5265643659259287,0.5311009698511368,0.5355790700479561,0.5400021179656527,0.5443730037494324,0.5486941577816522,0.5529676337426793,0.5571951765597406,0.5613782779969819,0.5655182221374491,0.5696161225971328,0.573672952975713,0.5776895717744405,0.5816667427874614,0.5856051517896654,0.5895054201943326,0.5933681162313625,0.5971937640966914,0.6009828514415749,0.6047358355034003,0.6084531481248687,0.6121351998635444,0.615782383357068,0.6193950760793147,0.6229736425982015,0.626518436425751,0.6300298015345595,0.6335080736013535,0.6369535810273005,0.64036664577571,0.6437475840603912,0.6470967069118752,0.6504143206437748,0.6537007272374988,0.6569562246602272,0.6601811071283379,0.6633756653262589,0.6665401865889009,0.6696749550543347,0.6727802517921697,0.675856354912085,0.6789035396561524,0.6819220784779296,0.6849122411107469,0.6878742946271736,0.6908085034912812,0.6937151296050207,0.6965944323497957,0.6994466686241021,0.7022720928779542,0.7050709571446742,0.7078435110705223,0.7105900019425494,0.7133106747149855,0.7160057720344185,0.7186755342639662,0.7213201995066127,0.7239400036278382]
["Trade & Services|Medium|RG_S0",0.07137564264861232,0.13878633945600305,0.20065476361890963,0.2529129995533277,0.29674215106109636,0.33357151897735404,0.3646297120567529,0.3909367386691579,0.4133333964255558,0.4325114481414086,0.4490396969985142,0.4633857123643217,0.4759337711819007,0.48699963990465045,0.49684274479137824,0.5056761889043108,0.5136749950806724,0.5209828878283005,0.5277178721520462,0.5339768219427707,0.5398392531239022,0.5453704258756761,0.5506238948009732,0.5556436049128767,0.5604656140305484,0.5651195079206617,0.5696295627828004,0.5740157000084091,0.5782942701804559,0.5824786967249208,0.5865800042280398,0.5906072519907951,0.5945678897361341,0.5984680493760494,0.6023127842706207,0.6061062653751391,0.6098519419968763,0.6135526735059602,0.6172108372124936,0.6208284166911286,0.6244070740690768,0.6279482091645785,0.631453007845999,0.6349224815570242,0.6383574996045256,0.6417588155190708,0.6451270885626681,0.6484629012650469,0.6517667737110793,0.655039175171672,0.6582805335635368,0.6614912431355093,0.6646716707070964,0.6678221607258901,0.6709430393620601,0.6740346178184351,0.67709719500214,0.6801310596770905,0.6831364921947936,0.6861137658830153,0.6890631481572294,0.691984901407764,0.6948792837057686,0.6977465493630923,0.7005869493746169,0.7034007317662299,0.7061881418672544,0.7089494225225798,0.711684814256834,0.7143945554005661,0.7170788821864756,0.7197380288221622,0.7223722275445864,0.7249817086604033,0.7275667005754893,0.7301274298163026,0.7326641210451713,0.7351769970711579,0.737666278857795,0.7401321855286981,0.7425749343718322,0.7449947408430311,0.7473918185692112,0.7497663793516187]
["Trade & Services|Medium|RG_S1",0.2934999157235492,0.5520798344636983,0.5966086679733829,0.6120067742383578,0.6219718344353568,0.6300906562766873,0.6371782189709622,0.6435136303548648,0.6492472654848194,0.654486677038975,0.659317008122806,0.6638075561682677,0.6680151078183965,0.6719862678818913,0.6757592928486962,0.6793655832538918,0.6828309084140352,0.6861764133662036,0.6894194469364985,0.6925742426050621,0.695652478191132,0.6986637357930903,0.7016158796454266,0.7045153664440935,0.7073675001265,0.7101766409769896,0.7129463771846098,0.71567966554246,0.7183789467933195,0.7210462401503616,0.7236832207179464,0.7262912828756067,0.7288715921434237,0.7314251275984989,0.7339527165431616,0.7364550628219215,0.7389327699344496,0.7413863598864957,0.7438162885518234,0.7462229581794657,0.7486067275665729,0.7509679203234378,0.753306831580342,0.7556237334226794,0.75791887928896,0.7601925075237244,0.7624448442424894,0.764676105637202,0.7668864998272071,0.7690762283414834,0.7712454873021475,0.7733944683663081,0.7755233594727903,0.7776323454316043,0.7797216083869607,0.7817913281788581,0.783841682623551,0.7858728477293527,0.7878849978610842,0.7898783058639254,0.7918529431553327,0.7938090797919994,0.7957468845174496,0.7976665247947412,0.7995681668278518,0.8014519755745768,0.8033181147531883,0.8051667468446146,0.8069980330915252,0.8088121334953899,0.8106092068123376,0.8123894105484399,0.8141529009548936,0.8158998330234437,0.8176303604822981,0.8193446357927039,0.8210428101462981,0.822725033463299,0.8243914543915682,0.8260422203065494,0.8276774773120674,0.829297370241961,0.8309020426625084,0.832491636875603]
["Trade & Services|Medium|RG_S2",0.8781988701850806,0.9033564185477997,0.9092309834008535,0.9118505429166344,0.9133965269644116,0.914632075791803,0.9157441392220913,0.9167808934782513,0.9177602442159144,0.9186925462074388,0.91958542684802,0.9204449711417662,0.9212761375377172,0.9220829875237575,0.9228688518708922,0.9236364628322172,0.9243880619463702,0.9251254884797353,0.9258502520710519,0.9265635923991692,0.9272665281760851,0.9279598973582753,0.9286443901353805,0.9293205759804919,0.9299889258196719,0.9306498301914815,0.9313036141132112,0.9319505492435097,0.9325908638264581,0.9332247508159193,0.9338523745080016,0.9344738759510173,0.935089377354209,0.9356989856769355,0.9363027955474398,0.9369008916335559,0.9374933505656932,0.9380802424943526,0.9386616323495685,0.9392375808574641,0.939808145359095,0.9403733804685257,0.9409333386003488,0.9414880703913167,0.9420376250362308,0.9425820505545129,0.9431213940008473,0.9436557016307896,0.9441850190302062,0.9447093912157406,0.9452288627121452,0.9457434776112084,0.9462532796160994,0.9467583120742178,0.9472586180010324,0.9477542400969065,0.9482452207585109,0.9487316020861017,0.9492134258876811,0.949690733680847,0.95016356669297,0.9506319658601932,0.9510959718256479,0.9515556249371815,0.9520109652448305,0.9524620324982098,0.9529088661439483,0.9533515053232637,0.9537899888697421,0.9542243553073662,0.9546546428488204,0.9550808893940868,0.9555031325293356,0.9559214095261104,0.9563357573407967,0.9567462126143668,0.9571528116723824,0.9575555905252431,0.957954584868661,0.9583498300843483,0.9587413612408968,0.9591292130948372,0.959513420091858,0.9598940163681731]
["Trade & Services|Large|RG_N0",0,3.4423373184153577E-4,1.038972887017569E-3,2.0430743773934747E-3,0.003311605703541558,4.8099402155653585E-3,0.006511852391344666,0.00839653506737359,0.0104466233315159,0.012647049372047454,0.014984393772165776,0.01744651142267369,0.020022306278520235,0.022701586767413823,0.025474965399096543,0.028333783166510185,0.031270048399645624,0.034276384543770855,0.037345983882223405,0.040472565573047015,0.04365033708269104,0.04687395847789365,0.050138509237207946,0.053439457350308216,0.05677263053062345,0.0601341893984435,0.06352060250979992,0.06692862311764022,0.07035526755949156,0.07379779517171006,0.07725368963543475,0.08072064166395987,0.08419653294562068,0.08767942126054826,0.09116752669382358,0.09465921887165361,0.09815300515119467,0.1016475196985492,0.10514151339324732,0.108633844501184,0.11212347006150582,0.11560943793632236,0.11909087947535155,0.12256700275069148,0.12603708631984584,0.12950047347791227,0.13295656696247932,0.1364048240772662,0.13984475220288856,0.14327590466534346,0.14669787693488445,0.1501103031299081,0.15351285280230065,0.15690522798240428,0.160287160463363,0.16365840930610087,0.1670187585475799,0.17036801509628408,0.17370600680008472,0.1770325806727689,0.1803476012665579,0.18365094917891542,0.18694251968284617,0.19022222147072324,0.19348997550245756,0.1967457139495414,0.19998937922716295,0.20322092310720496,0.20644030590550883,0.20964749573731248,0.21284246783525582,0.21602520392479682,0.21919569165229538,0.22235392406140475,0.22549989911376198,0.22863361925029496,0.23175509098976246,0.2348643245614195,0.23796133356895466,0.24104613468308006,0.2441187473603692,0.24717919358613702,0.2502274976393374,0.25326368587762205]
["Trade & Services|Large|RG_N1",8.889569867860062E-4,2.4690081475649646E-3,0.004657705526780938,0.007283404479703173,0.010206022924061737,0.01333504262570162,0.016613617661811846,0.020004880920244036,0.023483608867536223,0.02703152231319012,0.03063467130071171,0.03428196251095138,0.03796430707912956,0.04167410688687805,0.04540492807910995,0.049151280556711675,0.05290845952729305,0.05667242510660235,0.06043970661022723,0.06420732389782001,0.067972721234102,0.07173371083516777,0.07548842422448486,0.079235270075637,0.08297289755207551,0.0867001643660682,0.09041610892231416,0.0941199260147802,0.09781094562376741,0.10148861442269644,0.10515247965556064,0.10880217508937873,0.11243740878311696,0.11605795244666194,0.1196636321913592,0.12325432049803128,0.1268299292497486,0.1303904036953552,0.13393571722618813,0.13746586686286152,0.1409808693616666,0.144480757861276,0.14796557900023072,0.15143539044428528,0.15489025877024706,0.15833025765958128,0.16175546636088747,0.16516596838547565,0.16856185040476782,0.17194320132220117,0.17531011149577463,0.17866267209042364,0.1820009745420746,0.18532511011757127,0.18863516955671578,0.1919312427844627,0.19521341868287942,0.19848178491386154,0.20173642778479714,0.20497743215042724,0.20820488134506832,0.2114188571401667,0.21461943972285502,0.21780670769179059,0.22098073806708796,0.22414160631161975,0.22728938636136148,0.23042415066280522,0.23354597021576878,0.23665491462018884,0.23975105212571224,0.24283444968309537,0.24590517299658904,0.24896328657663058,0.2520088537922895,0.25504193692301824,0.25806259720935054,0.261070894902266,0.2640668893110061,0.2670506388491813,0.2700222010790535,0.2729816327539209,0.27592898985855974,0.27886432764770774]
["Trade & Services|Large|RG_N2",0,2.9714777614823925E-3,0.008398676726267785,0.015245326883089114,0.022662631992469314,0.03016471005032025,0.03750857754948828,0.04458670384803892,0.05136223323342217,0.05783352783731118,0.06401544185818842,0.06992964372530475,0.07559973377506056,0.08104887534079398,0.08629872865419977,0.09136904924742649,0.09627761614638747,0.1010403156620767,0.10567129120886394,0.11018311402328852,0.11458695286459661,0.1188927327825757,0.12310927914957842,0.12724444617979122,0.13130523058208882,0.13529787159386553,0.13922793883157794,0.14310040938286184,0.14691973546514225,0.15068990384248138,0.1544144880534574,0.1580966943708867,0.1617394022944193,0.1653452002709403,0.168916417244997,0.17245515056106275,0.1759632906699971,0.17944254303219218,0.18289444755832587,0.18632039588421628,0.1897216467379804,0.19309933962466666,0.19645450702500158,0.19978808528022302,0.2031009243136142,0.20639379632083524,0.2096674035450728,0.21292238523904944,0.21615932390376394,0.21937875088322095,0.22258115138514079,0.22576696898953505,0.22893660969993668,0.23209044558584754,0.2352288180594986,0.23835204082521116,0.24146040253541085,0.2445541691836127,0.24763358626139828,0.2506988807034886,0.25375026264243755,0.256787926992181,0.25981205487764836,0.26282281492583864,0.265820364432161,0.2688048504144097,0.27177641056547414,0.27473517411474635,0.27768126260717874,0.28061479060803546,0.28353586634057476,0.28644459226317165,0.2893410655917432,0.2922253787727554,0.2950976199115685,0.2979578731604106,0.30080621906984534,0.30364273490722377,0.30646749494527004,0.3092805707236426,0.31208203128603906,0.3148719433951637,0.31765037172765415,0.3204173790508595]
["Trade & Services|Large|RG_N3",0.040502069009384425,0.08066328804782913,0.11025718425824863,0.12953255136198488,0.14231519655787353,0.15139683423059258,0.1584071198226168,0.1642438819376827,0.1693948938438078,0.1741258168472254,0.17858310936493033,0.18284925828421433,0.18697224853636657,0.19098127776602203,0.19489515353813186,0.19872679994907416,0.20248569381160714,0.20617919677906382,0.20981329667721277,0.2133930309328122,0.21692273743716295,0.2204062104668485,0.22384680330153262,0.22724750003117888,0.2306109688326412,0.23393960352908427,0.23723555730307438,0.2405007708363197,0.24373699626983403,0.24694581788496217,0.2501286701210571,0.25328685337507895,0.2564215479213123,0.259533826218456,0.2626246638216514,0.2656949490803763,0.26874549177491736,0.27177703082165516,0.27479024115904427,0.2777857399109169,0.28076409191090923,0.28372581466092256,0.286671382787241,0.28960123204996063,0.29251576295452536,0.29541534400825337,0.29830031465961176,0.30117098795356023,0.30402765293242123,0.30687057680837193,0.3097000069307153,0.31251617256851855,0.31531928652695523,0.3181095466137062,0.32088713697003374,0.32365222927960596,0.3264049838667884,0.32914555069492024,0.33187407027402116,0.334590674486429,0.3372954873380233,0.33998862564193677,0.34267019964098194,0.3453403135744215,0.34799906619416926,0.3506465512350252,0.35328285784311336,0.3559080709663012,0.3585222717100252,0.3611255376616313,0.36371794318605144,0.3662995596953796,0.3688704558946749,0.37143069800610995,0.3739803499733885,0.3765194736481842,0.37904812896019396,0.3815663740722564,0.3840742655218566,0.3865718583502191,0.3890592062200864,0.3915363615231787,0.3940033754782471,0.39646029822054724]
["Trade & Services|Large|RG_S0",0.030619425161540058,0.06069148581479941,0.08938715968352162,0.11612344528111992,0.14072423140685997,0.1632134435506348,0.18370705234681017,0.20235868199603846,0.21933222219764142,0.23478836330830213,0.24887835985713883,0.2617415263817451,0.27350462908518225,0.2842822091846184,0.2941773343169195,0.3032825175766061,0.3116806720319306,0.3194460359941602,0.3266450395486777,0.333337101069646,0.33957535167251257,0.34540729006888876,0.3508753723305536,0.3560175418355646,0.3608677047889515,0.3654561565142579,0.36980996337343425,0.373953304780874,0.3779077793782068,0.3816926790520643,0.3853252341174812,0.3888208326586452,0.39219321671690327,0.39545465774223065,0.398616113476997,0.4016873682177961,0.4046771582002354,0.40759328367089914,0.4104427090482968,0.41323165242872667,0.41596566556200476,0.4186497053044652,0.4212881974511836,0.4238850937548029,0.4264439228535532,0.42896783575506053,0.4314596464544423,0.43392186820418305,0.4363567458986439,0.4387662849871336,0.4411522772856633,0.4435163240183019,0.4458598563839528,0.44818415391298,0.4504903608500126,0.4527795007741332,0.4550524896451761,0.4573101474447613,0.45955320856271925,0.461782331063489,0.4639981049527086,0.46620105955137575,0.4683916700734781,0.470570363492737,0.472737523774943,0.47489349654417035,0.47703859324384135,0.47917309484707504,0.48129725516491473,0.48341130379581254,0.4855154487550917,0.4876098788189463,0.4896947656138216,0.491770265478702,0.4938365211248706,0.4958936631150577,0.4979418111815381,0.4999810754006236,0.5020115572391198,0.5040333504866352,0.5060465420861288,0.5080512128737487,0.5100474382378166,0.512035288705749]
["Trade & Services|Large|RG_S1",0.12784950620851662,0.21562029824465523,0.26402936351410017,0.2911199801840221,0.30690252326661416,0.3166832553649072,0.32327216924123026,0.32815799813259,0.33212964918656696,0.3356052570592134,0.33880651931110195,0.341851075205888,0.344801455189903,0.34769101469225827,0.3505376707784996,0.3533511754572646,0.35613696452569144,0.35889819247821675,0.36163680694223266,0.3643541148547139,0.36705107993713515,0.3697284783287331,0.37238697952117583,0.3750271881001519,0.37764966504301334,0.3802549384510099,0.3828435089022213,0.3854158521320753,0.3879724204410093,0.3905136435416282,0.39303992919833064,0.39555166382600015,0.3980492131190594,0.4005329227346117,0.4030031190306713,0.4054601098505264,0.40790418534077355,0.4103356187901843,0.41275466747760936,0.41516157351872207,0.4175565647031203,0.4199398553149398,0.4223116469316004,0.4246721291965804,0.4270214805632013,0.4293598690073125,0.4316874527075213,0.43400438069223024,0.43631079345324786,0.4386068235261419,0.44089259603782627,0.44316822922212007,0.4454338349042143,0.44768951895512055,0.44993538171728265,0.45217151840259895,0.45439801946414793,0.4566149709429276,0.45882245479092454,0.4610205491718128,0.4632093287405614,0.4653888649031981,0.46755922605793354,0.4697204778188132,0.4718726832230097,0.47401590292282325,0.4761501953634062,0.4782756169471738,0.4803922221858157,0.4825000638407675,0.48459919305295807,0.4866896594625917,0.4887715113196863,0.4908447955860378,0.49290955802923886,0.49496584330934257,0.49701369505871607,0.4990531559555993,0.5010842677918425,0.503107071535267,0.5051216073870619,0.5071279148345977,0.5091260327000132,0.5111159991849049]
["Trade & Services|Large|RG_S2",0.3781988701850806,0.5782224911275593,0.6846230452158508,0.7415116140354562,0.7721605214129297,0.7888875657645229,0.7982200966458447,0.8036189862129823,0.8069200710370207,0.8090977650202817,0.8106697497926545,0.8119114828330495,0.8129699098893244,0.8139237512524562,0.8148154684561268,0.8156682189567004,0.8164948525385587,0.8173026883938765,0.818096054814951,0.8188776421239552,0.8196492258126014,0.8204120551947067,0.8211670641685601,0.8219149871574257,0.8226564243160474,0.8233918794234113,0.8241217829217551,0.8248465067474559,0.8255663745131594,0.8262816689607075,0.8269926377317144,0.8276994980369075,0.8284024405556473,0.8291016327621517,0.8297972218011795,0.8304893369947943,0.8311780920382077,0.8318635869285644,0.8325459096615768,0.833225137724888,0.8339013394126873,0.834574574982762,0.8352448976744884,0.8359123546040188,0.8365769875510096,0.8372388336495706,0.8378979259946553,0.8385542941738311,0.8392079647332273,0.8398589615854525,0.8405073063663775,0.8411530187468883,0.8417961167050088,0.8424366167631655,0.8430745341948171,0.8437098832041744,0.8443426770823027,0.8449729283425146,0.845600648837612,0.8462258498612402,0.8468485422353429,0.8474687363854725,0.8480864424054981,0.8487016701130694,0.849314429097027,0.8499247287578102,0.8505325783417792,0.8511379869702591,0.8517409636640136,0.8523415173637658,0.8529396569473076,0.8535353912436714,0.8541287290447781,0.8547196791149198,0.8553082501983917,0.8558944510255473,0.8564782903175129,0.857059776789768,0.8576389191547699,0.8582157261237763,0.858790206408,0.8593623687192093,0.8599322217698744,0.8604997742729417]
["Industry|Nano|RG_N0",0,1.0290340040021821E-3,3.0875730435945773E-3,0.00674210086479368,0.011000761812837918,0.01559225929197086,0.020448434457251696,0.0255319632644595,0.03081272461077937,0.03626432142360654,0.04186313701435244,0.04758796077178945,0.05341975476425681,0.05934145706736525,0.06533780171140981,0.07139515173173587,0.07750134456822406,0.08364554942612273,0.08981813617087296,0.09601055524310886,0.10221522801170412,0.10842544693964101,0.11463528491607157,0.12083951310356245,0.1270335266580489,0.13321327769709018,0.1393752149169013,0.14551622928817537,0.1516336052931976,0.15772497720086195,0.16378828991090263,0.1698217639331687,0.17582386410152023,0.18179327165448467,0.1877288593458931,0.1936296692781205,0.19949489317817012,0.20532385486261504,0.21111599466133524,0.21687085559209332,0.2225880710983312,0.22826735418121935,0.23390848777402987,0.23951131622243377,0.24507573774843489,0.2506016977884467,0.25608918310759543,0.26153821660278304,0.2669488527164638,0.27232117339156436,0.27765528450558863,0.28295131272878227,0.2882094027573476,0.293429714878176,0.2986124228264569,0.30375771190189,0.30886577731312365,0.31393682272351003,0.3189710589743601,0.3239687029646242,0.3289299766683682,0.33385510627358095,0.3387443214277712,0.3435978545775189,0.3484159403906538,0.35319881525107377,0.35794671681739737,0.3626598836376933,0.36733855481345323,0.3719829697067921,0.3765933676855827,0.3811699879018662,0.38571306909944425,0.3902228494470516,0.3946995663939464,0.3991434565451384,0.4035547555538142,0.40793369802881874,0.4122805174553106,0.4165954461269426,0.42087871508812086,0.42513055408507255,0.4293511915246126,0.43354085443963136]
["Industry|Nano|RG_N1",0.002432514730838814,0.005805321580977207,0.010394834551299935,0.016363572547163713,0.022754557079644452,0.029312339971423244,0.035972125291593236,0.042700560354235105,0.04947325897394271,0.05627089626529802,0.06307782668532401,0.06988134635023346,0.07667117199248516,0.08343902309558099,0.09017827542739806,0.09688367190922428,0.10355108122473443,0.11017729648910188,0.11675986757202549,0.12329696167843505,0.12978724763333155,0.13622980002898719,0.14262401999536062,0.14896956986485732,0.155266319434444,0.16151430189343433,0.16771367779406102,0.17386470570279375,0.17996771839054568,0.1860231036056215,0.19203128862977425,0.19799272794953057,0.20390789348581978,0.20977726691813417,0.21560133371769422,0.22138057856972218,0.22711548191991104,0.2328065174261835,0.23845415013528248,0.24405883523582045,0.24962101726614724,0.25514112967763747,0.26061959467246504,0.2660568232502422,0.27145321541055856,0.2768091604689061,0.28212503745207507,0.28740121554616516,0.29263805457613423,0.29783590550051825,0.3029951109087825,0.3081160055118598,0.3131989166189216,0.318244164595421,0.323252063299029,0.3282229204913313,0.3331570382241294,0.338054713199936,0.34291623710682756,0.3477418969282378,0.35253197522858526,0.3572867504158396,0.3620064969822732,0.3666914857247252,0.37134198394574325,0.37595825563697294,0.38054056164614,0.38508915982893116,0.38960430518702394,0.39408624999345254,0.39853524390642747,0.40295153407265466,0.4073353652211264,0.4116869797482847,0.4160066177953865,0.4202945173188317,0.42455091415415264,0.428776042074299,0.4329701328427977,0.4371334162623125,0.4412661202190787,0.4453684707236423,0.44944069194829145,0.4534830062615296]
["Industry|Nano|RG_N2",3.2065141189019557E-3,0.010585536350524127,0.02201595746814509,0.038924044589987244,0.0556654444438567,0.07109096810843804,0.08521580229498657,0.09819188294677286,0.11017099616733124,0.12128816487177446,0.13166031175600296,0.14138798635753383,0.1505575155554395,0.15924298190461394,0.16750794838261526,0.17540694565830942,0.18298675130017292,0.19028748922700847,0.1973435743714016,0.20418452417694516,0.21083565556841416,0.21731868344567776,0.22365223451800445,0.2298522883697418,0.2359325559892704,0.24190480456405186,0.24777913611383884,0.2535642264743395,0.2592675302312248,0.2648954564189665,0.2704535191230314,0.2759464665422717,0.28137839156788697,0.2867528265048101,0.29207282419108055,0.2973410274523416,0.3025597285548107,0.30773092008471453,0.312856338479884,0.31793750126536774,0.3229757388955578,0.3279722219770104,0.33292798453594535,0.33784394389976896,0.3427209176807212,0.34755963827999703,0.3523607652708407,0.35712489596774544,0.36185257444483077,0.36654429922867615,0.37120052985847807,0.37582169247861313,0.3804081846048691,0.38496037918519477,0.38947862805833067,0.39396326489869854,0.3984146077230998,0.4028329610237853,0.407218617583056,0.4115718600165065,0.4158929620851351,0.4201821898106592,0.42443980242333246,0.4286660531672591,0.4328611899845167,0.4370254560962583,0.44115909049627344,0.44526232837019936,0.4493354014516123,0.45337853832455793,0.45739196468065485,0.4613759035376897,0.4653305754255843,0.46925619854473327,0.47315298890095564,0.47702116042066633,0.48086092504932315,0.4846724928357446,0.48845607200449614,0.4922118690182079,0.4959400886313998,0.49964093393715003,0.5033146064077341,0.5069613059301883]
["Industry|Nano|RG_N3",0.07164430765439869,0.1415443662669695,0.2620648715610912,0.2971049399558757,0.31060091762810393,0.3203939486225005,0.32904090978582534,0.33700538398970514,0.34444838327464955,0.35145533343156365,0.3580875863867041,0.36439541782801377,0.37042147016408966,0.3762021849249825,0.3817687555902437,0.38714789216485135,0.39236246651584616,0.3974320638095252,0.4023734549991511,0.4072010018537311,0.4119270041402916,0.416561997169435,0.4211150067485475,0.42559376759263734,0.43000491038916444,0.4343541219795287,0.43864628248913906,0.442885582695819,0.44707562446032434,0.45121950664232857,0.45531989858119515,0.4593791029253209,0.4633991093400086,0.46738164040585206,0.47132819083247524,0.47524006095182025,0.4791183853172951,0.48296415711678886,0.48677824900604383,0.49056143088181914,0.49431438503959946,0.49803771909658534,0.5017319770058127,0.5053976484402115,0.5090351767851008,0.5126449659430888,0.5162273861257658,0.5197827787812473,0.523311460784948,0.526813728002394,0.5302898583170138,0.5337401142022442,0.5371647449056803,0.5405639883030519,0.5439380724713168,0.5472872170229036,0.5506116342369285,0.5539115300179177,0.557187104708041,0.5604385537749978,0.5636660683944075,0.5668698359427351,0.5700500404143971,0.5732068627746367,0.5763404812580235,0.5794510716209458,0.5825388073551977,0.5856038598686919,0.5886463986384075,0.5916665913399101,0.5946646039571107,0.5976406008753766,0.6005947449606206,0.603527197626595,0.6064381188922692,0.6093276674308783,0.6121960006119815,0.6150432745376617,0.6178696440738145,0.620675262877332,0.623460283419851,0.6262248570086354,0.6289691338050646,0.6316932628411299]
["Industry|Nano|RG_S0",0.02694316026898716,0.06179461500051467,0.10634945627341535,0.14736847278305465,0.18343587987977758,0.21505317717447586,0.2428077884484989,0.267231652869372,0.28878949641895546,0.30788229916900345,0.324854904796848,0.34000365049861214,0.35358312412545534,0.36581201261739305,0.3768781405818681,0.38694280617799914,0.39614451097295644,0.40460216793241965,0.41241786020922844,0.4196792133436801,0.42646143480117416,0.4328290672820616,0.4388374957837411,0.44453424283409326,0.4499600815249941,0.4551499918484866,0.4601339822844255,0.4649377955279178,0.4695835146094164,0.47409008339107994,0.47847375346927845,0.48274846783119063,0.4869261901656452,0.4910171874822268,0.49503027262022614,0.49897301230614044,0.5028519056243665,0.5066725370825532,0.5104397078653854,0.5141575483650699,0.5178296146420323,0.5214589710954707,0.5250482613019444,0.5285997687038,0.5321154685916626,0.5355970726210131,0.5390460669273862,0.5424637447539231,0.5458512343754544,0.5492095229919912,0.5525394771689068,0.555841860318988,0.5591173476510453,0.5623665389492445,0.565589969495368,0.5687881194016225,0.5719614215833476,0.5751102685681438,0.5782350183097774,0.5813359991510607,0.5844135140591898,0.5874678442392616,0.5904992522164624,0.5935079844643748,0.596494273645659,0.5994583405217898,0.6024003955803194,0.6053206404211088,0.6082192689369504,0.6110964683188548,0.6139524199118621,0.6167872999434675,0.6196012801435211,0.6223945282717035,0.6251672085663131,0.6279194821260913,0.6306515072350763,0.6333634396390134,0.6360554327805824,0.6387276379996315,0.6413802047036915,0.6440132805132536,0.6466270113856348,0.6492215417206779]
["Industry|Nano|RG_S1",0.18198866968465444,0.5426273575277838,0.614255481990289,0.629613465494425,0.6377544146983272,0.6441536544538046,0.6497474657092239,0.6548241404821014,0.6594933784453858,0.6638181470073213,0.6678467294917712,0.6716195018562483,0.6751708975493117,0.6785304146644885,0.6817233483619762,0.6847713932383337,0.687693155525711,0.6905045920334183,0.6932193869288833,0.6958492752414385,0.6984043206034662,0.7008931536684269,0.7033231767400444,0.7057007393715915,0.7080312890275915,0.7103195003266538,0.7125693858905594,0.714784391399991,0.7169674770918883,0.7191211876190646,0.7212477119223395,0.7233489345329149,0.7254264795227646,0.7274817481488907,0.7295159510895152,0.7315301360432374,0.7335252113530233,0.7355019662230747,0.7374610880160404,0.7394031770487831,0.7413287592454657,0.7432382969556401,0.7451321982011891,0.7470108245783208,0.7488744980085136,0.750723506504583,0.7525581090942453,0.7543785400231541,0.7561850123418712,0.7579777209662255,0.7597568452876426,0.76152255139899,0.7632749939920295,0.7650143179744614,0.7667406598476051,0.768454148879811,0.7701549081056066,0.7718430551762205,0.7735187030833937,0.775181960775194,0.7768329336798164,0.7784717241510143,0.7800984318468063,0.7817131540513949,0.7833159859487728,0.7849070208552416,0.7864863504170022,0.7880540647780687,0.7896102527229709,0.7911550017980574,0.7926883984146362,0.794210527936711,0.7957214747556565,0.797221322353827,0.7987101533587938,0.8001880495896438,0.8016550920965706,0.8031113611947834,0.8045569364936233,0.8059918969216238,0.8074163207481528,0.8088302856021673,0.8102338684885344,0.8116271458023023]
["Industry|Nano|RG_S2",0.844329594503304,0.9171439462870913,0.925053644033336,0.9287012049168107,0.9305745187104373,0.9318619782743063,0.9329588013528514,0.9339498581151049,0.9348593283264506,0.9357002588775396,0.9364823945942962,0.9372137924382278,0.9379013045328572,0.9385507979177871,0.9391673033280302,0.9397551354171371,0.9403179946136063,0.9408590543538461,0.9413810359669449,0.9418862729849675,0.9423767663691484,0.9428542319277228,0.9433201410219867,0.9437757555039531,0.9442221576972109,0.9446602761191549,0.9450909075450772,0.9455147359305129,0.9459323486358401,0.9463442503348214,0.9467508749351545,0.9471525957929554,0.9475497344634087,0.9479425681956762,0.9483313363507918,0.948716245896025,0.9490974761074864,0.9494751825940965,0.9498495007399979,0.9502205486487183,0.950588429660554,0.9509532345044727,0.9513150431371078,0.951673926313917,0.95202994693114,0.9523831611716677,0.9527336194831955,0.9530813674129632,0.953426446319897,0.9537688939819757,0.9541087451140778,0.9544460318093679,0.9547807839153919,0.9551130293544392,0.9554427943963449,0.9557701038907165,0.9560949814645588,0.9564174496904009,0.9567375302292808,0.9570552439523141,0.9573706110440223,0.9576836510901339,0.9579943831521717,0.9583028258308016,0.9586089973196245,0.958912915450845,0.9592145977340417,0.9595140613890762,0.9598113233740305,0.9601064004089248,0.9603993089958582,0.9606900654361177,0.9609786858447183,0.9612651861627715,0.9615495821680105,0.9618318894837642,0.9621121235866132,0.9623902998129381,0.9626664333645282,0.9629405393134021,0.9632126326059602,0.9634827280665773,0.9637508404007205,0.9640169841976713]
["Industry|Micro|RG_N0",0,6.1075457108498738E-4,0.002295571381819707,0.005531801450949459,0.009442352782531464,0.013727908608922682,0.01828907228645222,0.023081098201332337,0.028074239790328467,0.03324395054568055,0.038568462203906424,0.04402810697128098,0.049605048659510854,0.055283113565720444,0.06104765032435176,0.06688540263890574,0.0727843912011768,0.07873380384822494,0.08472389356572346,0.09074588402445494,0.09679188232009313,0.10285479856003842,0.10892827192194553,0.1150066027985628,0.12108469064137409,0.12715797711966492,0.1332223942205495,0.13927431692795852,0.14531052013359438,0.1513281394495915,0.1573246356104331,0.1632977621700448,0.1692455362185154,0.17516621186126638,0.1810582562214661,0.18692032774388978,0.19275125659512815,0.1985500269709625,0.20431576113679537,0.2100477050412227,0.2157452153561461,0.22140774780925912,0.22703484668631196,0.23262613539129798,0.23818130796263742,0.2437001214526034,0.2491823890856749,0.25462797411925914,0.2600367843373408,0.26540876711412603,0.27074390499070583,0.27604221171319726,0.28130372868577247,0.2865285217964976,0.29171667857800293,0.2968683056687295,0.3019835265438783,0.30706247948824933,0.3121053157859343,0.3171121981043346,0.32208329905224853,0.32701879989381966,0.33191888940199127,0.3367837628367808,0.34161362103519366,0.3464086696009534,0.3511691181834458,0.3558951798363741,0.36058707044761035,0.36524500823261885,0.3698692132846237,0.37445990717541194,0.3790173126013055,0.3835416530694153,0.3880331526198061,0.39249203557966755,0.396918526346002,0.4013128491937122,0.4056752281063068,0.41000588662673987,0.4143050477261675,0.4185729336886444,0.422809766009998,0.4270157653093061]
["Industry|Micro|RG_N1",1.4746048904492473E-3,0.003915627523558004,0.008147317658321957,0.014203524690923605,0.02083096289877243,0.02763114444878741,0.034490009421888145,0.04136979273800142,0.04825285488523469,0.05512777012790302,0.061985834345442754,0.06882005870648251,0.07562476767898438,0.08239536122569781,0.08912813641086967,0.09582014127037436,0.10246905201850665,0.10907306921750261,0.11563082991018576,0.12214133331729558,0.12860387808491527,0.1350180093666085,0.141383474274632,0.14770018444721555,0.1539681846608636,0.16018762657254804,0.16635874681028526,0.17248184874509026,0.17855728737539103,0.1845854568389941,0.190566780139611,0.19650170073650597,0.20239067569847438,0.2082341701683797,0.2140326529229466,0.21978659284536517,0.22549645615630615,0.23116270427286795,0.23678579218536608,0.24236616725923746,0.24790426838410737,0.2534005254046252,0.2588553587783386,0.26426917941492073,0.2696423886587274,0.27497537838314084,0.28026853117063244,0.28552222055709187,0.290736811322855,0.2959126598161276,0.3010501142972354,0.30614951529441947,0.31121119596379965,0.3162354824477157,0.32122269422696637,0.32617314446354784,0.331087140331384,0.3359649833332638,0.34080696960279167,0.34561339019063064,0.35038453133469677,0.3551206747142624,0.35982209768816015,0.36448907351745663,0.3691218715730995,0.373720757529139,0.37828599354219106,0.3828178384178522,0.38731654776480046,0.39178237413732303,0.3962155671670098,0.4006163736843344,0.4049850378308282,0.4093218011625234,0.41362690274531405,0.4179005792428487,0.42214306499754034,0.4263545921052394,0.43053539048408296,0.43468568793800333,0.43880571021533993,0.44289568106297156,0.4469558222763529,0.45098635374581025]
["Industry|Micro|RG_N2",0.002030816513939258,5.9572185561308204E-3,0.013372225975744782,0.024893929029013304,0.037072514170655844,0.04889621437214899,0.06015828017733007,0.0708574841998484,0.08103726609770487,0.09074705182316554,0.10003358750038868,0.1089393123289562,0.11750233322308239,0.12575674134990245,0.1337329816825567,0.14145821028063074,0.14895662544830582,0.15624977084428018,0.16335681144385972,0.17029478395036912,0.17707882342365325,0.18372236791402283,0.19023734285448626,0.19663432690038146,0.20292270082500527,0.20911078098909336,0.21520593880557723,0.22121470752229194,0.22714287754674026,0.2329955814404751,0.23877736961747523,0.24449227769197227,0.2501438863371424,0.2557353744372508,0.26126956624239117,0.2667489731669104,0.2721758308098599,0.27755213171819626,0.2828796543607439,0.2881599887328722,0.29339455896814126,0.2985846432935513,0.3037313916291864,0.30883584110069157,0.31389892970387306,0.31892150833450356,0.32390435137287943,0.32884816599158584,0.3337536003360421,0.3386212507105215,0.3434516678872665,0.34824536264288286,0.3530028106142196,0.35772445655528723,0.36241071806728964,0.36706198886543356,0.3716786416387039,0.3762610305521746,0.380809493435551,0.38532435369644474,0.3898059219922831,0.3942544976906874,0.3986703701445643,0.4030538198049791,0.4074051191920818,0.41172453374188595,0.4160123225445253,0.4202687389876932,0.4244940313172838,0.42868844312576787,0.4328522137775272,0.43698557877922617,0.4410887701022874,0.44516201646365255,0.449205543570233,0.45321957433177057,0.45720432904623143,0.4611600255613319,0.4650868794153344,0.46898510395985143,0.47285491046704115,0.4766965082232735,0.48051010461107224,0.4842959051809087]
["Industry|Micro|RG_N3",0.0469743685492046,0.1364541078403761,0.2695262243642971,0.314101881239957,0.3306227712289405,0.33968293971293423,0.3467354102428663,0.3531211453669979,0.3591756434513628,0.3649957863288248,0.3706209120489698,0.3760750085990727,0.3813766696768057,0.3865416104507936,0.39158345076043827,0.3965140761187606,0.40134387924410275,0.40608195416046566,0.41073626186915346,0.41531377416395515,0.41982059904005264,0.42426209018540945,0.42864294260701546,0.4329672761557325,0.437238708482875,0.4414604187654336,0.44563520336685797,0.4497655244523211,0.45385355244834563,0.4579012031240896,0.4619101699733424,0.46588195249050784,0.4698178808589765,0.47371913750488215,0.4775867759121289,0.4814217370446685,0.48522486367841633,0.48899691290709507,0.49273856705300406,0.49645044318461445,0.5001331014174514,0.5037870521524971,0.5074127623869044,0.5110106612148242,0.514581144621287,0.5181245796590951,0.5216413080873222,0.525131649540089,0.5285959042856027,0.5320343556278581,0.5354472719967643,0.5388349087666586,0.5421975098381014,0.5455353090134116,0.548848531192532,0.5521373934124245,0.555402105750242,0.5586428721079355,0.5618598908937004,0.5650533556136889,0.5682234553857014,0.5713703753850555,0.5744942972315265,0.5775953993251026,0.5806738571372987,0.5837298434638996,0.5867635286442427,0.5897750807514859,0.592764665757724,0.5957324476773183,0.5986785886913588,0.601603249255797,0.6045065881954511,0.6073887627858016,0.6102499288242303,0.613090240692148,0.6159098514092541,0.618708912681013,0.6214875749402796,0.6242459873838871,0.6269842980048971,0.6297026536211157,0.6324011999004026,0.6350800813832224]
["Industry|Micro|RG_S0",0.03100545407636912,0.06340790587897786,0.10202446977955026,0.13770951351083752,0.16913507767193034,0.19654022028025847,0.22044964243513773,0.2413805554587156,0.25978650119326796,0.27605416189263043,0.29051081759130765,0.30343295365132844,0.31505404730170844,0.32557125351605504,0.33515107012894635,0.3439341214776134,0.35203919430550545,0.3595666423191658,0.3666012582966216,0.3732146972582273,0.3794675211046926,0.38541092405658056,0.39108818889897784,0.396535916174947,0.4017850618504738,0.40686181339624905,0.4117883295328804,0.4165833649271935,0.4212627977913196,0.42584007552493774,0.4303265911715671,0.4347320014625146,0.4390644955383158,0.44333102201787356,0.4475374808884267,0.4516888856799381,0.4557895005360086,0.4598429560751472,0.4638523473302486,0.46782031654281947,0.47174912315700707,0.47564070299430916,0.4794967182824362,0.4833185999522765,0.4871075833977877,0.4908647387085923,0.49459099622877134,0.49828716816333485,0.5019539668423216,0.5055920201582478,0.509201884612994,0.5127840563429189,0.5163389804341019,0.519867058791526,0.5233686567853526,0.5268441088630593,0.5302937232871321,0.5337177861334185,0.5371165646644394,0.5404903101743659,0.543839260387476,0.5471636414793111,0.5504636697790922,0.5537395532029372,0.5569914924597843,0.5602196820654699,0.5634243111949373,0.5666055643979284,0.5697636221995912,0.572898661604122,0.5760108565167547,0.5791003780970352,0.5821673950543104,0.5852120738946575,0.5882345791270457,0.5912350734352999,0.5942137178214111,0.5971706717248617,0.6001060931219062,0.6030201386081154,0.6059129634669748,0.6087847217268781,0.6116355662084855,0.6144656485640948]
["Industry|Micro|RG_S1",0.19567414564998709,0.5462176174289276,0.634433381167747,0.6588488512328428,0.6675527184353196,0.6724013678731753,0.6761978521902351,0.6796110942452009,0.682813223127681,0.6858596478536079,0.6887767582232243,0.6915823322629495,0.6942904889616244,0.6969130670601437,0.6994601512119887,0.7019403722533264,0.7043611292879639,0.7067287712726277,0.7090487500849069,0.711325750681208,0.7135638020642461,0.715766371981467,0.717936447782202,0.7200766054845895,0.7221890687932788,0.7242757595480702,0.7263383408627471,0.7283782540259238,0.7303967500765643,0.732394916831603,0.7343737020281628,0.7363339331451458,0.7382763343858445,0.7402015412324967,0.7421101129234977,0.7440025431527117,0.7458792692466488,0.7477406800380461,0.7495871226226608,0.7514189081590104,0.7532363168477008,0.7550396022072714,0.7568289947466486,0.7586047051199185,0.7603669268368458,0.7621158385920507,0.7638516062667755,0.7655743846494862,0.7672843189149681,0.7689815458959471,0.770666195176442,0.7723383900319137,0.7739982482377419,0.775645882764515,0.7772814023760157,0.7789049121435523,0.780516513888359,0.7821163065621511,0.7837043865745001,0.7852808480744811,0.7868457831930022,0.7883992822513277,0.7899414339405337,0.7914723254759781,0.7929920427302903,0.7945006703478998,0.7959982918437,0.7974849896880802,0.7989608453802495,0.8004259395115016,0.8018803518198476,0.8033241612372322,0.8047574459303937,0.8061802833362648,0.8075927501926943,0.8089949225651571,0.8103868758700289,0.8117686848949132,0.8131404238164504,0.8145021662159678,0.815853985093286,0.8171959528789452,0.8185281414450856,0.8198506221151751]
["Industry|Micro|RG_S2",0.8369516482112491,0.934172799654546,0.9513032176635214,0.9549668724178599,0.9561104578451453,0.9567177473205133,0.9571933933326633,0.9576261750320555,0.9580371575928832,0.9584322698441857,0.9588139078830412,0.9591835541129887,0.9595423820849346,0.9598914044786351,0.9602315162568388,0.9605635130375642,0.9608881029832196,0.9612059164474265,0.9615175144130619,0.96182339601968,0.9621240053065718,0.9624197372543117,0.9627109431936096,0.9629979356430876,0.9632809926321327,0.9635603615601066,0.9638362626386642,0.9641088919597205,0.9643784242276723,0.964645015190848,0.9649088038038043,0.9651699141490035,0.9654284571435836,0.965684532054354,0.9659382278418011,0.9661896243517563,0.9664387933714428,0.9666857995648698,0.9669307013009598,0.9671735513863737,0.9674143977137112,0.9676532838346135,0.9678902494662596,0.9681253309388178,0.9683585615905829,0.9685899721167837,0.9688195908773845,0.9690474441686027,0.9692735564623411,0.9694979506172555,0.9697206480647598,0.9699416689728944,0.9701610323906498,0.9703787563750399,0.9705948581029586,0.9708093539696137,0.9710222596751292,0.9712335903007211,0.971443360375686,0.9716515839363002,0.9718582745775963,0.9720634454988717,0.9722671095436815,0.9724692792349828,0.9726699668060126,0.9728691842274183,0.9730669432310942,0.9732632553311255,0.9734581318421904,0.9736515838957343,0.973843622454183,0.974034258323443,0.9742235021638921,0.9744113645000513,0.9745978557290982,0.9747829861283666,0.9749667658619567,0.9751492049865675,0.9753303134566471,0.9755101011289471,0.9756885777665534,0.9758657530424626,0.9760416365427567,0.9762162377694288]
["Industry|Small|RG_N0",0,7.5566458093644713E-4,0.002181177181271524,0.004992568482406631,8.376052840110542E-3,0.012093139133013395,0.016075039904510015,0.020287128104256206,0.024702875668065723,0.02929904715467391,0.03405467631651126,0.038950739561175285,0.043969967886881504,0.049096693702881354,0.05431671288403155,0.059617157971068986,0.06498638129958668,0.07041384736654875,0.07589003384213874,0.0814063406607531,0.08695500664212244,0.09252903311251102,0.09812211401767867,0.10372857204316141,0.10934330028267139,0.11496170902138071,0.12057967722701043,0.12619350836758764,0.13179989020014463,0.13739585819928124,0.14297876231822124,0.1485462367976478,0.1540961727591263,0.15962669334026447,0.16513613114791026,0.1706230078236432,0.17608601553259812,0.18152400020229909,0.1869359463527189,0.19232096337225865,0.19767827310681496,0.2030071986406226,0.20830715415818013,0.21357763578634237,0.21881821332464835,0.22402852278020086,0.22920825963097435,0.23435717274835102,0.23947505891601722,0.24456175788814005,0.24961714793502532,0.25464114182927855,0.2596336832298813,0.2645947434255955,0.2695243184027491,0.27442242620576435,0.27928910456180217,0.28412440874362604,0.2889284096472701,0.2937011920633487,0.298442853122883,0.3031535009003731,0.30783325315851784,0.3124822362205031,0.31710058395715346,0.3216884368774853,0.32624594131232176,0.3307732486816499,0.33527051483731557,0.33973789947348293,0.34417556559803714,0.3485836790587813,0.3529624081188933,0.3573119230766587,0.3616323959249924,0.36592400004670994,0.3701869099419157,0.37442130098423837,0.3786273492029716,0.3828052310884768,0.38695512341846827,0.39107720310304306,0.3951716470465336,0.39923863202445586]
["Industry|Small|RG_N1",0.00146033040173958,0.003902946154785305,0.007585171553346359,0.01286630874500836,0.0186292714798973,0.02456827380168549,0.030605988366045223,0.036711225342232076,0.042863827885515335,0.049047980098502884,0.05525063161071287,0.061460906071233744,0.06766973670844062,0.07386958226957996,0.08005419039174176,0.08621839743830345,0.0923579586410831,0.09846940389643496,0.10454991536688141,0.11059722363376484,0.11660951963463632,0.12258538003108252,0.12852370400247534,0.13442365975858575,0.14028463931711815,0.14610622030768966,0.15188813374725568,0.15763023688826355,0.16333249037396555,0.16899493904879012,0.17461769586838322,0.18020092843637966,0.18574484776525915,0.19124969891858176,0.19671575324301058,0.202143301942117,0.2075326507811336,0.21288411574351374,0.2181980194871794,0.22347468847137694,0.22871445064469398,0.23391763360152065,0.23908456312849205,0.24421556207458228,0.24931094948885052,0.2543710399786267,0.25939614324839555,0.2643865637859849,0.2693426006680556,0.2742645474614594,0.27915269220090994,0.28400731742668867,0.28882870026888535,0.2936171125670133,0.2983728210158145,0.3030960873297364,0.30778716841995596,0.31244631657900035,0.3170737796689951,0.3216698013103864,0.3262346210686677,0.3307684746372019,0.33527159401470086,0.33974420767630265,0.3441865407375041,0.3485988151104599,0.3529812496523643,0.35733406030579734,0.3616574602310484,0.36595165993052986,0.37021686736547316,0.37445328806515793,0.3786611252289678,0.38284057982159475,0.3869918506617351,0.39111513450462754,0.3952106261187904,0.3992785183573102,0.4033190022240307,0.4073322669349789,0.41131849997535563,0.4152778871524035,0.41921061264445025,0.4231168590464116]
["Industry|Small|RG_N2",3.0890473195608805E-3,0.008838024884654263,0.017518426716477388,0.030411773300755972,0.04363274581932467,0.05625578603914194,0.06816862848206615,0.07940722625935868,0.09002961132632067,0.10009351011401292,0.10965246592135551,0.118755357223245,0.12744656046647856,0.13576623905267618,0.14375065521274802,0.1514324804669844,0.158841096522036,0.16600288262171697,0.1729414870464224,0.1796780814609554,0.1862315975219439,0.19261894567882754,0.198855216484198,0.20495386500161825,0.21092687908607807,0.21678493243314537,0.22253752336297467,0.22819310033687223,0.233759175206818,0.23924242517990868,0.24464878444617452,0.24998352637436796,0.25525133712980436,0.2604563815139707,0.2656023617695534,0.2706925700383673,0.2757299351045712,0.2807170640023617,0.28565627901662327,0.2905496505571434,0.29539902634218723,0.3002060572855636,0.30497222044279876,0.30969883933661485,0.3143871019494635,0.31903807664127143,0.3236527262236316,0.32823192039726984,0.3327764467375398,0.33728702039278297,0.3417642926424564,0.3462088584458112,0.3506212630974469,0.35500200809311055,0.35935155629752485,0.36367033649567687,0.3679587473997642,0.3722171611757618,0.3764459265462467,0.3806453715195942,0.3848158057898692,0.3889575228465866,0.39307080182895454,0.3971559091551604,0.4012130999536774,0.40524261932038863,0.4092447034225199,0.41321958046787866,0.41716747155570577,0.4210885914234991,0.424983149102455,0.4288513484926592,0.43269338886782066,0.4365094653181668,0.4402997691390756,0.44406448817210636,0.44780380710428336,0.4515179077307769,0.45520696918549874,0.4588711681435797,0.46251067899921267,0.4661256740219169,0.46971632349390624,0.47328279583091276]
["Industry|Small|RG_N3",0.06238623873250641,0.1145514656810943,0.2360011026757241,0.2727157848804769,0.28673984898879,0.29603508259780037,0.30405256831681315,0.3114656379578807,0.3184443820178724,0.3250606609959103,0.3313626057193087,0.33738918447339244,0.3431735769199822,0.34874437261660146,0.3541262835710928,0.3593406965294889,0.36440613569965463,0.36933865777457947,0.37415219075025835,0.3788588249978756,0.38346906354493493,0.38799203744249794,0.39243569121891436,0.39680694268339883,0.40111182071832313,0.40535558416872863,0.4095428244866269,0.4136775544039262,0.41776328458102124,0.4218030898995415,0.42579966683015813,0.4297553831035253,0.43367232073913775,0.437552313338729,0.4413969784240402,0.4452077454902194,0.44898588035305464,0.4527325062884261,0.45644862239386236,0.4601351195432256,0.4637927942549702,0.46742236075089066,0.4710244614448114,0.47459967606839126,0.4781485296133905,0.4816714992457394,0.48516902032603004,0.48864149165314785,0.49208928003229313,0.4955127242552578,0.4989121385692478,0.5022878157005148,0.5056400294903747,0.5089690371936645,0.5122750814831605,0.5155583921978172,0.5188191878677669,0.5220576770447569,0.5252740594629852,0.5284685270520766,0.5316412648211374,0.5347924516303878,0.5379222608647508,0.5410308610219314,0.5441184162259131,0.5471850866753944,0.5502310290354794,0.5532563967798594,0.5562613404898129,0.5592460081155317,0.5622105452045841,0.5651550951017112,0.5680797991236165,0.5709847967119425,0.5738702255672233,0.5767362217662426,0.5795829198649202,0.5824104529885789,0.5852189529112053,0.5880085501251173,0.5907793739022632,0.5935315523482299,0.5962652124498921,0.598980480117522]
["Industry|Small|RG_S0",0.05785220205383257,0.11041983955301109,0.16359161675667366,0.2100724689702118,0.2497989566372092,0.28370223457820387,0.312701998478248,0.3375906188459924,0.3590344905517891,0.3775912317359315,0.39372700484481254,0.40783151689478153,0.42023062977779146,0.43119689451362236,0.44095834014010504,0.44970580542026267,0.45759905569346637,0.4647718871003671,0.4713363866812078,0.47738648870657047,0.48300094416356065,0.4882458008085374,0.4931764749525546,0.4978394826195568,0.5022738864538424,0.5065125053728209,0.5105829261478981,0.5145083495877281,0.5183082985755203,0.5219992106937384,0.5255949344040356,0.529107144611733,0.5325456908277453,0.5359188889593616,0.5392337659420993,0.5424962649074987,0.5457114173159126,0.5488834874271389,0.5520160936002716,0.5551123101783262,0.5581747530988304,0.5612056518584935,0.5642069100314662,0.5671801561825878,0.5701267867177136,0.5730480019629908,0.575944836555713,0.5788181850543486,0.5816688235288858,0.5844974277700571,0.587304588653365,0.5900908251078752,0.5928565950677168,0.5956023047238629,0.5983283163431558,0.6010349548790885,0.603722513563231,0.606391258636292,0.6090414333526977,0.6116732613714783,0.6142869496285188,0.616882690770332,0.6194606652169691,0.622021042911134,0.6245639848016837,0.6270896441022138,0.6295981673591259,0.6320896953582535,0.6345643638946462,0.6370223044263192,0.6394636446295915,0.6418885088709306,0.644297018607945,0.6466892927302388,0.6490654478492105,0.6514255985445019,0.653769857573632,0.6560983360503649,0.658411143596519,0.6607083884712193,0.6629901776809882,0.665256617073562,0.6675078114178832,0.6697438644723558]
["Industry|Small|RG_S1",0.10547086630341687,0.44362678750491835,0.5108676849741994,0.5267257732928448,0.5338881192513061,0.5392373435044933,0.5440120518804773,0.5484737720113839,0.5526989647359328,0.5567254436168985,0.5605803549013614,0.5642859101845095,0.5678608956002994,0.5713213288890814,0.5746809005693447,0.57795132620621,0.581142640950989,0.5842634485526031,0.5873211325061977,0.5903220353092388,0.5932716107641325,0.5961745534730643,0.5990349090177729,0.6018561677706195,0.6046413448243353,0.607393048141742,0.6101135367017146,0.6128047701439046,0.6154684511840024,0.6181060618767482,0.6207188946397123,0.6233080788122353,0.6258746034067998,0.628419336611079,0.630943042515144,0.6334463954674002,0.6359299924027455,0.6383943634355295,0.640839980966689,0.6432672675177721,0.6456766024734107,0.6480683278873246,0.6504427534844136,0.6528001609723186,0.6551408077594961,0.6574649301629255,0.6597727461766846,0.6620644578624885,0.6643402534146173,0.6666003089442538,0.6688447900219101,0.6710738530111966,0.6732876462225404,0.6754863109114709,0.6776699821426763,0.679838789538093,0.6819928579247817,0.6841323078961631,0.6862572562983329,0.6883678166515735,0.6904640995157915,0.6925462128074305,0.694614262074379,0.6966683507345118,0.6987085802827383,0.7007350504707797,0.70274785946332,0.7047471039736938,0.7067328793818437,0.7087052798369162,0.7106643983465476,0.7126103268546166,0.7145431563090037,0.7164629767206901,0.7183698772153551,0.7202639460784682,0.7221452707947533,0.7240139380827675,0.7258700339252553,0.7277136435958391,0.7295448516825376,0.7313637421085366,0.7331703981505812,0.7349649024553074]
["Industry|Small|RG_S2",0.7815242345364144,0.8566737630685392,0.8712738150673759,0.8760937620467184,0.8787256232257231,0.8807567216074316,0.8825256849805728,0.884119192665393,0.885572923003368,0.8869099635670572,0.8881484222888992,0.8893032654539255,0.890387018342582,0.8914101962251746,0.8923816361429369,0.8933087691833408,0.8941978473753375,0.8950541334668917,0.8958820598265593,0.8966853615579682,0.8974671880533603,0.898230196511216,0.8989766303615625,0.8997083850581613,0.9004270632927006,0.9011340213489095,0.901830408033039,0.9025171973821359,0.9031952161552681,0.9038651669489133,0.9045276476407292,0.9051831677514431,0.9058321622188796,0.9064750029981128,0.9071120088347819,0.9077434535025912,0.9083695727491299,0.9089905701548964,0.9096066220775341,0.9102178818257395,0.9108244831842222,0.9114265433917403,0.9120241656580036,0.912617441291613,0.9132064514997802,0.913791268910964,0.914371958863504,0.9149485804965488,0.9155211876738858,0.9160898297664816,0.916654552315514,0.9172153975942821,0.9177724050845197,0.9183256118802332,0.9188750530301486,0.9194207618281489,0.9199627700596288,0.9205011082104821,0.921035805644404,0.9215668907533198,0.9220943910850194,0.9226183334514522,0.9231387440206125,0.9236556483945005,0.9241690716752662,0.9246790385213245,0.9251855731949603,0.925688699602712,0.9261884413296271,0.9266848216683191,0.9271778636436168,0.9276675900334727,0.9281540233867044,0.9286371860380489,0.9291171001209431,0.9295937875783786,0.930067270172128,0.9305375694905921,0.9310047069554865,0.9314687038275437,0.9319295812113868,0.9323873600597078,0.9328420611768562,0.9332937052219359]
["Industry|Medium|RG_N0",1.0024837332417195E-3,3.253793309945999E-3,7.0395708547650844E-3,0.01209036421766629,0.01776746970222639,0.02383842055885853,0.030212323849582185,0.036833974656410993,0.043659814078441245,0.050652978816825345,0.05778185160321704,0.06501924494206239,0.07234176129020066,0.0797292542506045,0.0871643696891424,0.09463215406458511,0.10211971975623657,0.10961595880198496,0.11711129779300662,0.12459748779203704,0.13206742408544256,0.1395149913736447,0.1469349306737585,0.15432272477273362,0.16167449954567403,0.16898693885644073,0.17625721109788978,0.18348290571703485,0.19066197831430554,0.1977927031128323,0.20487363176913795,0.21190355764562904,0.21888148479196837,0.2258066009902092,0.23267825431039277,0.23949593270159236,0.24625924621019188,0.25296791147425124,0.25962173819160145,0.26622061730107055,0.2727645106520148,0.27925344196800395,0.28568748893684054,0.29206677628171335,0.2983914696877405,0.3046617704749032,0.31087791092280137,0.31704015016510595,0.32314877058232727,0.3292040746308,0.3352063820538149,0.3411560274277782,0.34705335800229975,0.3528987317983366,0.3586925159330492,0.36443508514396833,0.3701268204884959,0.37576810819774187,0.38135933866629707,0.386900905561806,0.39239320504017616,0.3978366350539881,0.40323159474317494,0.4085784838983585,0.4138777024883847,0.4191296502446078,0.4243347262953629,0.4294933288448392,0.4346058548912511,0.43967269997980213,0.4446942579864639,0.44967092092905414,0.4546030788025071,0.4594911194355879,0.46433542836661845,0.4691363887360621,0.47389438119405963,0.4786097838212273,0.4832829720612188,0.4879143186637227,0.49250419363671766,0.4970529642069379,0.501560994787623,0.5060286469527249]
["Industry|Medium|RG_N1",1.3158101455589787E-3,3.7604241512836215E-3,0.007581813009034801,0.012622700559182527,0.018345916740695217,0.024530498478252366,0.031072943927214162,0.037903317204309506,0.044965375514800926,0.05221193176078677,0.05960311038630377,0.06710519778695137,0.07468970896256634,0.08233259899810914,0.09001359312778151,0.09771561720146878,0.10542431350929957,0.11312762920178232,0.12081546645287912,0.12847938513615595,0.13611235016387038,0.14370851681184846,0.15126304835031604,0.15877196114890946,0.16623199314532427,0.17364049218052016,0.1809953212252393,0.18829477796655125,0.1955375266008617,0.20272254000122197,0.20984905070026885,0.21691650936286042,0.22392454962053507,0.23087295830847954,0.23776165028914073,0.24459064716869924,0.2513600593165171,0.2580700706860874,0.2647209260112527,0.27131292001547863,0.2778463883264429,0.2843216998345415,0.29073925027334013,0.29709945683352756,0.30340275365044783,0.30964958802953724,0.3158404172946044,0.32197570616141946,0.3280559245539646,0.3340815457933509,0.3400530451001551,0.3459708983600472,0.35183558111033214,0.35764756771159545,0.3634073306742194,0.369115340114262,0.37477206331719914,0.38037796439141913,0.385933503996236,0.39143913913161676,0.3968953229788743,0.4023025047833154,0.40766112977129904,0.4129716390954008,0.41823446980242196,0.42345005481986003,0.42861882295720033,0.4337411989190084,0.4388176033273265,0.44384845275131457,0.4488341597424442,0.4537751328738611,0.4586717767827851,0.463524492215034,0.46833367607093196,0.4730997214520121,0.4778230177080437,0.4825039504840153,0.48714290176678837,0.4917402499312029,0.49629636978547204,0.5008116326157471,0.5052864062297729,0.5097210549995784]
["Industry|Medium|RG_N2",0.01899736920919277,0.038943948907234405,0.06154533734665568,0.0861885042341761,0.10954891704228108,0.13086814796247762,0.15022349811374122,0.16783759348691707,0.18393054903053394,0.19869780649800348,0.2123098775015817,0.22491503530586637,0.23664207514401228,0.24760279009339448,0.2578941525659883,0.2676002297061079,0.27679386220854335,0.285538133590785,0.2938876543194326,0.3018896827089202,0.30958510220416197,0.3170092725327338,0.32419277026729515,0.3311620325713625,0.3379399163041668,0.3445461832237653,0.35099792074110187,0.35730990652988076,0.3634949242763346,0.36956403694778855,0.37552682315832986,0.38139158150343716,0.38716550711334713,0.39285484412819194,0.39846501731823364,0.40400074565229643,0.40946614024990197,0.41486478883148614,0.4201998285008811,0.42547400845003913,0.43068974396335863,0.4358491629140333,0.4409541457841295,0.44600636010054184,0.4510072900578971,0.455958261994496,0.46086046629642785,0.46571497622623664,0.470522764104365,0.47528471521266197,0.4800016397382897,0.4846742830323442,0.48930333441949425,0.4938894347621257,0.4984331829541705,0.5029351414953798,0.5073958412757492,0.5118157856816612,0.5161954541196778,0.5205353050404573,0.5248357785336734,0.5290972985548431,0.5333202748363829,0.5375051045278276,0.5416521736037982,0.5457618580728408,0.5498345250155681,0.5538705334764988,0.5578702352305283,0.5618339754419821,0.5657620932316513,0.5696549221650116,0.5735127906729462,0.5773360224146703,0.5811249365911728,0.5848798482162986,0.5886010683515687,0.5922889043099702,0.5959436598331838,0.599565635246086,0.6031551275918009,0.6067124307501103,0.6102378355416211,0.6137316298197469]
["Industry|Medium|RG_N3",0.060086102502606695,0.15127475130047885,0.24161536234112624,0.2787588348945282,0.2985029105058423,0.3135539596176624,0.326759851978247,0.3387513659856943,0.34975292648406237,0.3599094636173167,0.36933867925153696,0.3781404191681484,0.3863999065636948,0.3941899418900627,0.401572725675114,0.4086014103424369,0.4153214244540326,0.42177160283804954,0.42798515108256546,0.43399046872497665,0.43981185189014,0.44547009307262153,0.45098299315162804,0.456365798506096,0.4616315742048038,0.46679152263341794,0.47185525554551677,0.4768310263525049,0.48172592846789025,0.4865460646690589,0.49129669171269347,0.4959823438198227,0.5006069381173842,0.5051738646717108,0.5096860633640745,0.5141460895295988,0.518556170000172,0.5229182509524041,0.5272340387571156,0.5315050348522007,0.535732565511587,0.5399178072556705,0.5440618085398565,0.548165508264965,0.5522297515739355,0.5562553033315174,0.5602428596257606,0.5641930575806897,0.5681064837273261,0.5719836811441444,0.5758251555472464,0.5796313804842104,0.5834028017630896,0.587139841228829,0.5908428999829627,0.5945123611284321,0.5981485921094027,0.6017519467057257,0.6053227667329559,0.60886138349138,0.612368119001136,0.6158432870550646,0.6192871941162865,0.6227001400835301,0.6260824189438512,0.6294343193294909,0.6327561249931478,0.6360481152138383,0.639310565143716,0.6425437461046876,0.6457479258423566,0.6489233687437027,0.6520703360239583,0.6551890858873276,0.6582798736655028,0.6613429519373359,0.6643785706325344,0.6673869771218005,0.6703684162954894,0.6733231306325321,0.6762513602611188,0.6791533430124012,0.6820293144682883,0.6848795080042426]
["Industry|Medium|RG_S0",0.05927864165248416,0.11391826318258882,0.16518326037954778,0.209647056462969,0.24775446846328092,0.2804668451533321,0.3086575483554262,0.33306139452008215,0.3542917106815857,0.3728603625113658,0.389194750523382,0.40365191572134823,0.4165302555597454,0.42807926616530495,0.43850764843410417,0.4479900559285794,0.4566727145755735,0.4646781047947601,0.4721088641488854,0.4790510416785754,0.4855768127860838,0.49174674506100685,0.4976116901341714,0.5032143639567153,0.5085906673781664,0.5137707901669807,0.5187801343712131,0.5236400869009051,0.5283686662166608,0.5329810638564412,0.5374900980806244,0.5419065940444749,0.5462397025185198,0.5504971671890629,0.5546855489153584,0.5588104139405806,0.5628764919040512,0.566887808543531,0.5708477971766714,0.5747593923832854,0.578625108752831,0.5824471070959897,0.5862272501302085,0.5899671493238235,0.5936682043113409,0.5973316360648001,0.6009585148155691,0.6045497835613072,0.6081062778590985,0.6116287424936541,0.6151178455154825,0.6185741900650653,0.6219983243328896,0.6253907499496275,0.6287519290540826,0.6320822902473109,0.6353822336083714,0.6386521349194494,0.6418923492247902,0.6451032138282753,0.6482850508179674,0.651438169192064,0.6545628666489961,0.657659431094557,0.6607281419106473,0.6637692710232209,0.666783083801126,0.6697698398125607,0.6727297934616712,0.6756631945242895,0.6785702885988211,0.6814513174857828,0.6843065195073676,0.687136129776623,0.6899403804243224,0.6927195007903318,0.695473717585203,0.6982032550268134,0.7009083349561137,0.7035891769353948,0.7062459983319442,0.7088790143895015,0.7114884382895382,0.7140744812040606]
["Industry|Medium|RG_S1",0.2297281162303107,0.4751573456743402,0.5314846753370589,0.547938685392124,0.5575277542551749,0.5655293027325701,0.5727432006370902,0.5793524426369094,0.5854546348552883,0.5911265398340517,0.5964323142471588,0.6014258493257009,0.606152420094518,0.6106500706701317,0.6149507805023628,0.6190814422460655,0.6230646808687543,0.6269195398199956,0.6306620560163421,0.6343057418249404,0.6378619892273537,0.6413404088412245,0.6447491143906332,0.6480949614764613,0.6513837480473765,0.6546203827617434,0.6578090264205276,0.6609532108076908,0.6640559385698421,0.6671197671779194,0.6701468795212056,0.673139143272039,0.6760981608148422,0.6790253112444808,0.6819217856972504,0.6847886170752382,0.6876267050550526,0.6904368371295369,0.693219706311667,0.6959759260296117,0.6987060426577953,0.701410546058147,0.7040898784463592,0.7067444418480988,0.7093746043681719,0.7119807054603855,0.7145630603561846,0.7171219637851873,0.7196576930997347,0.7221705108978906,0.7246606672244418,0.7271284014169057,0.7295739436529931,0.7319975162470782,0.7343993347357258,0.7367796087860095,0.7391385429550326,0.7414763373245696,0.7437931880309674,0.7460892877072545,0.7483648258517197,0.7506199891349543,0.7528549616554452,0.7550699251521915,0.7572650591814702,0.7594405412637246,0.7615965470055912,0.7637332502012724,0.7658508229167766,0.7679494355599745,0.7700292569389358,0.7720904543106104,0.774133193421568,0.7761576385422311,0.7781639524957891,0.7801522966827876,0.782122831102209,0.7840757143697246,0.786011103733677,0.7879291550892575,0.7898300229912507,0.7917138606656617,0.7935808200204746,0.795431051655747]
["Industry|Medium|RG_S2",0.9166512820447155,0.9761440834563909,0.9803578087700446,0.9810553817067669,0.9815645813615723,0.9820374657363593,0.9824695580512726,0.9828620256046018,0.9832191372574604,0.9835453146588476,0.9838445245508994,0.984120234725285,0.9843754618865863,0.9846128267355222,0.9848346041599947,0.9850427675652618,0.9852390278136853,0.9854248673603347,0.9856015701314963,0.985770247640998,0.9859318617891453,0.9860872447423812,0.9862371162487267,0.9863820987046434,0.9865227302531226,0.9866594761604031,0.9867927386895676,0.98692286566316,0.9870501578836507,0.9871748755598542,0.9872972438690087,0.987417457767965,0.9875356861525707,0.987652075451698,0.9877667527312407,0.987879828373661,0.9879913983901152,0.9881015464147164,0.9882103454239578,0.988317859218624,0.9884241437005469,0.9885292479722385,0.9886332152836731,0.988736083847214,0.9888378875388495,0.9889386565014303,0.9890384176634708,0.9891371951852206,0.9892350108421127,0.9893318843543074,0.9894278336698483,0.9895228752079144,0.9896170240677522,0.9897102942080995,0.989802698601244,0.9898942493652856,0.9899849578776693,0.9900748348726335,0.9901638905248423,0.9902521345211582,0.990339576122233,0.9904262242153609,0.9905120873598344,0.9905971738258689,0.9906814916280098,0.9907650485538093,0.9908478521884471,0.990929909935874,0.9910112290369752,0.9910918165851802,0.9911716795398835,0.9912508247379923,0.9913292589038678,0.9914069886578913,0.9914840205238533,0.9915603609353344,0.9916360162412233,0.9917109927104962,0.9917852965363635,0.9918589338398758,0.9919319106730671,0.9920042330217013,0.9920759068076801,0.9921469378911599]
["Industry|Large|RG_N0",0,3.0898323920184337E-4,8.6254305482487263E-4,1.6672705513947278E-3,0.002688195833448273,3.8924817383942886E-3,0.005255771759676819,0.006760084491064866,0.008391495524082252,0.010138625366674283,0.011991745307735684,0.013942259020086039,0.01598240045752832,0.018105054433356735,0.020303646541157273,0.022572072297779834,0.024904648558510125,0.027296077687190445,0.02974141914983638,0.03223606555363316,0.03477572147354516,0.0373563841473441,0.03997432553115641,0.042626075435132485,0.04530840558340028,0.048018314509599584,0.05075301323459595,0.053509911690805746,0.05628660586595977,0.05908086564256501,0.06189062331026151,0.0647139627280621,0.06754910911282587,0.07039441942962398,0.07324837335908677,0.07610956481644954,0.07897669399686028,0.08184855992156816,0.08472405345985398,0.08760215080196823,0.09048190735888073,0.09336245206529253,0.09624298206309277,0.09912275774323959,0.10200109812488757,0.10487737655145804,0.10775101668424246,0.11062148877502842,0.11348830620013745,0.11635102223915321,0.11920922708249415,0.12206254505283909,0.12491063202624626,0.12775317303961126,0.13058988007188507,0.13342048998722,0.13624476262892551,0.13906247905379895,0.14187343989704732,0.1446774638586348,0.14747438630247847,0.1502640579604709,0.1530463437338352,0.15582112158481404,0.15858828151216395,0.1613477246043665,0.16409936216488383,0.16684311490417472,0.16957891219355462,0.17230669137632473,0.17502639713191773,0.17773798088910694,0.1804414002846086,0.18313661866366698,0.18582360461946074,0.18850233156839377,0.19117277735855032,0.19383492390879065,0.19648875687615022,0.19913426534937617,0.20177144156659577,0.20440028065526097,0.20702078039265023,0.20963294098533888]
["Industry|Large|RG_N1",1.4601838002266357E-3,0.003230380779480039,0.00528044591875223,0.007563166998707484,0.010012971383889997,0.01258171035956162,0.015237996784686517,0.01796140142402164,0.02073812833558492,0.02355837591581579,0.02641479846759275,0.029301615041196723,0.032214089138026314,0.03514821981981203,0.03810055357727954,0.041068065605362275,0.04404808138693493,0.047038222065344866,0.05003636419344903,0.053040608464987316,0.05604925430821619,0.05906077851116387,0.06207381678122701,0.06508714756097876,0.06809967766351231,0.0711104294314562,0.074118529207472,0.07712319695515003,0.08012373690164254,0.08311952909496652,0.08611002178412801,0.08909472454159155,0.09207320205659143,0.09504506853518652,0.09800998264928355,0.10096764298238416,0.1039177839247253,0.10686017197489442,0.10979460240898602,0.11272089628197919,0.11563889772929861,0.11854847153950634,0.12144950097178807,0.12434188579436856,0.12722554052223922,0.13010039283462463,0.13296638215447323,0.13582345837394588,0.1386715807114095,0.14151071668683454,0.14434084120375865,0.14716193572712402,0.14997398754733432,0.1527769891218185,0.15557093748624035,0.15835583372826495,0.16113168251749113,0.16389849168579104,0.16665627185286847,0.16940503609236499,0.1721447996343084,0.17487557960012057,0.1775973947667808,0.18031026535708572,0.18301421285325517,0.1857092598314142,0.18839542981473203,0.19107274714322664,0.193741236858448,0.1964009246014371,0.19905183652252326,0.20169399920167236,0.2043274395782322,0.2069521848890419,0.20956826261398098,0.2121757004281312,0.2147745261598118,0.21736476775382724,0.21994645323933745,0.22251961070182355,0.2250842682586791,0.2276404540380074,0.23018819616025185,0.23272752272232589]
["Industry|Large|RG_N2",0.002030816513939258,0.00488147224055717,0.008269277698360902,0.012126941342978276,0.016267031316316738,0.02054569955042196,0.02487367174164371,0.029198625080658583,0.033490514098968416,0.03773239532355403,0.041915039817198706,0.046033807405026994,0.050086825891655466,0.054073918543789096,0.05799596187794768,0.06185449279381262,0.06565146189824761,0.069389073962063,0.07306968146332996,0.07669571138935215,0.08026961358166741,0.08379382356266904,0.08727073547467509,0.09070268233821967,0.0940919217744515,0.09744062590786871,0.10075087452408127,0.10402465079052108,0.10726383900616426,0.11047022395829699,0.11364549154698034,0.11679123040110082,0.11990893425974264,0.1230000049328119,0.1260657556877835,0.12910741493673336,0.1321261301205896,0.1351229717066117,0.1380989372311156,0.14105495533290294,0.14399188973412327,0.146910543134737,0.14981166099462373,0.1526959351839386,0.15556400748775084,0.15841647295547823,0.16125388308930097,0.1640767488687268,0.166885543610886,0.1696807056680595,0.17246264096545524,0.17523172538342016,0.1779883069891603,0.18073270812369005,0.18346522735018458,0.18618614127019883,0.188895706214378,0.19159415981433608,0.19428172246234668,0.19695859866539092,0.19962497829995368,0.20228103777376683,0.20492694110047452,0.20756284089295177,0.2101888792807491,0.21280518875686785,0.21541189295880148,0.2180091073885066,0.2205969400756995,0.22317549218861218,0.22574485859608734,0.22830512838464354,0.2308563853339075,0.23339870835358176,0.23593217188490148,0.2384568462693292,0.24097279808704192,0.24348009046758304,0.24597878337487847,0.2484689338686558,0.2509505963441528,0.2534238227518607,0.25588866279891487,0.25834516413362224]
["Industry|Large|RG_N3",0.025957703723027203,0.042704107756400586,0.0603857109540574,0.07349392027462424,0.08272606678259435,0.0895182493442833,0.09488028786732225,0.0994156729002578,0.10346991536799062,0.10723838689705892,0.11083116963987912,0.11431027053817429,0.11771069315479821,0.12105231611842229,0.12434657399504395,0.12760020687688836,0.13081735892506588,0.13400074811360596,0.13715231435417372,0.14027357540475913,0.14336581969175913,0.1464302086345593,0.1494678291952687,0.15247971942817848,0.15546687970499273,0.15843027661883627,0.16137084339079555,0.16428947882769226,0.16718704589447578,0.1700643704226647,0.17292224018251448,0.1757614043911787,0.1785825736503111,0.18138642026966828,0.18417357891895317,0.18694464754759405,0.18970018851544188,0.19244072988323696,0.1951667668184179,0.1978787630785265,0.2005771525406746,0.20326234075110125,0.2059347064737195,0.20859460322074888,0.21124236075210986,0.2138782865332811,0.2165026671438609,0.21911576963119106,0.22171784280515583,0.22430911847171173,0.22688981260388144,0.22946012644989935,0.23202024757895784,0.2345703508656078,0.23711059941433504,0.23964114542619097,0.24216213100961806,0.24467368893779756,0.24717594335496887,0.24966901043423786,0.25215299898942234,0.25462801104347327,0.25709414235597977,0.25955148291220975,0.26200011737606727,0.2644401255092663,0.26687158255892834,0.2692945596157124,0.2717091239444879,0.27411533928945453,0.2765132661555125,0.27890296206758364,0.28128448180948223,0.283657877643839,0.28602319951448474,0.28838049523261045,0.29072981064793324,0.2930711898060149,0.29540467509279833,0.2977303073673575,0.30004812608377934,0.3023581694030356,0.30466047429563575,0.3069550766357966]
["Industry|Large|RG_S0",0.018522424165411888,0.036172783273791934,0.05336819250493145,0.06973810698261626,0.08509720270231697,0.09939472800029658,0.11265102260002981,0.12492128837695474,0.13627587407978975,0.1467896779891545,0.15653659625845767,0.16558676382235013,0.17400532955032,0.18185206142180405,0.18918138847419677,0.19604266111479426,0.20248050962656078,0.2085352357832669,0.21424320326799515,0.21963720968666806,0.22474683237694537,0.22959874531003477,0.23421700707137882,0.23862332125669022,0.2428372712342221,0.2468765314398847,0.25075705737732007,0.2544932563949692,0.2580981411640541,0.2615834676164016,0.26495985893555785,0.2682369170369078,0.27142332282624815,0.2745269263927681,0.2775548281716806,0.2805134520032104,0.283408610917368,0.28624556638692594,0.28902908171325487,0.2917634701402313,0.29445263822940626,0.2971001249742347,0.2997091370816881,0.3022825808053612,0.30482309067466745,0.307333055429383,0.3098146414371918,0.312269813843599,0.31470035567826,0.3171078851190936,0.31949387109522903,0.32185964739162676,0.3242064254018807,0.3265353056610631,0.328847288277326,0.3311432823691749,0.33342411460473015,0.33569053692977263,0.3379432335628129,0.34018282732773025,0.34240988538761014,0.34462492443718445,0.34682841540567666,0.3490207877168123,0.35120243314821303,0.35337370932830287,0.35553494290516646,0.35768643241848036,0.35982845090263804,0.361961248246491,0.3640850533326889,0.3662000759774022,0.3683065086892264,0.37040452826427306,0.3724942972328351,0.3745759651715512,0.376649669893673,0.37871553852884554,0.3807736885027308,0.38282422842583047,0.3848672588999801,0.38690287325018974,0.38893115818878504,0.3909521944181469]
["Industry|Large|RG_S1",0.06407770671527808,0.14957302011870674,0.2020818515655035,0.23285755458548923,0.25119375137047806,0.2625123304123571,0.2698776219065143,0.27501697320326807,0.2789039295045208,0.2820869805840566,0.2848748939205813,0.2874412530835358,0.28988343374530606,0.29225587484814847,0.29458884611822483,0.29689903200161927,0.29919549828587444,0.3014830537839814,0.30376414261054513,0.3060399077770245,0.3083107876182169,0.31057684900472504,0.3128379723903601,0.3150939535778419,0.31734455878150336,0.31958955359693136,0.32182871747954855,0.3240618502539178,0.32628877431145203,0.32850933454039516,0.3307233971234152,0.33293084782740046,0.3351315901235527,0.337325543315749,0.3395126407661609,0.34169282825814334,0.34386606250986534,0.34603230983816674,0.3481915449651052,0.3503437499564873,0.3524889132805841,0.3546270289752457,0.3567580959121927,0.35888211714808266,0.36099909935285474,0.36310905230676876,0.3652119884584205,0.3673079225368233,0.36939687121138515,0.3714788527942759,0.3735538869802849,0.375621994619807,0.3776831975210791,0.37973751827822305,0.3817849801220334,0.383825606790796,0.38585942241872745,0.3878864514398997,0.3899067185057587,0.3919202484145596,0.3939270660512368,0.39592719633639756,0.3979206641832787,0.39990749446164536,0.4018877119677264,0.40386134139939206,0.40582840733587183,0.4077889342213959,0.4097429463522175,0.4116904678665403,0.4136315227369334,0.41556613476486787,0.4174943275770547,0.4194161246233059,0.42133154917567456,0.423240624328662,0.4251433730003084,0.42703981793400697,0.42892998170090485,0.4308138867027706,0.4326915551752271,0.4345630091912622,0.4364282706649422,0.4382873613552655]
["Industry|Large|RG_S2",0.4166512820447155,0.6518941594662558,0.7847452696562475,0.8598051228934712,0.9022499721884869,0.9262885823488243,0.939939261121721,0.9477267573259438,0.952204360100404,0.9548128656895438,0.9563653016154963,0.9573204577783176,0.9579372391484313,0.958361765406744,0.9586765195286586,0.9589280806493543,0.9591427721970165,0.9593354908042975,0.9595146873289686,0.95968517669425,0.9598497226984097,0.9600099316856909,0.9601667563339935,0.9603207795392941,0.9604723742999222,0.9606217937041974,0.9607692215393255,0.9609148007318387,0.9610586493219564,0.9612008694389138,0.9613415523555264,0.9614807813533135,0.9616186333703376,0.9617551799762853,0.961890487978682,0.9620246198289015,0.962157633920816,0.9622895848325537,0.9624205235382743,0.9625504976038701,0.9626795513734185,0.962807726149423,0.9629350603679212,0.9630615897685779,0.9631873475594652,0.9633123645760997,0.9634366694343122,0.9635602886766053,0.9636832469117467,0.9638055669474488,0.963927269916083,0.9640483753934477,0.96416890151069,0.9642888650595238,0.9644082815909383,0.9645271655076206,0.964645530150342,0.9647633878785706,0.9648807501455878,0.964997627568388,0.9651140299926442,0.9652299665530173,0.965345445729086,0.9654604753971623,0.9655750628782533,0.9656892149824179,0.9658029380497564,0.9659162379882638,0.9660291203087583,0.9661415901570942,0.9662536523438516,0.9663653113716837,0.9664765714604948,0.9665874365706097,0.9666979104240836,0.9668079965242939,0.9669176981739458,0.9670270184916117,0.9671359604269203,0.9672445267744991,0.9673527201867704,0.9674605431856893,0.9675679981735095,0.9676750874426538]
["Finance & Lease|Nano|RG_N0",2.3939910047563446E-4,1.0797950325112003E-3,2.8486282656950187E-3,5.688130855878752E-3,0.00919586616068961,0.013209016114044157,0.017635133318296223,0.022414477320047827,0.027501129260514966,0.03285649641528541,0.038446741936803086,0.04424168866175616,0.05021425154429664,0.056340072473628815,0.06259724029898464,0.06896605380155771,0.07542881169899542,0.08196962314692004,0.08857423557635502,0.09522987795851731,0.1019251180862875,0.10864973268829047,0.11539458931846192,0.12215153905256905,0.12891331909558756,0.13567346446830789,0.1424262280011634,0.1491665079192789,0.15588978235563572,0.162592050179268,0.16926977757265493,0.1759198498370129,0.18253952794608083,0.1891264094082753,0.19567839303383205,0.20219364723781813,0.20867058154177354,0.2151078209663133,0.22150418303438965,0.22785865713018347,0.234170385981876,0.24043864905795426,0.24666284768634283,0.25284249172364237,0.2589771876182005,0.26506662772575346,0.2711105807500604,0.2771088831934059,0.28306143171316667,0.2889681762909163,0.29482911412986074,0.30064428420483724,0.3064137623967493,0.31213765715021463,0.3178161055994376,0.3234492701129467,0.329037335212912,0.3345805048293274,0.3400789998534604,0.3455330559586753,0.3509429216600632,0.3563088565873094,0.3616311299479115,0.3669100191602762,0.3721458086383869,0.3773387887116748,0.38248925466546546,0.3875975058889315,0.3926638451188783,0.39768857776893896,0.40267201133487096,0.40761445486765097,0.4125162185069556,0.41737761306841614,0.42219894967875166,0.4269805394535202,0.43172269321280166,0.43642572123063184,0.4410899330144645,0.4457156371113412,0.4503031409378143,0.45485275063098723,0.45936477091832767,0.4638395050041646]
["Finance & Lease|Nano|RG_N1",0.00384727864280926,0.00894235800490887,0.016105145115369604,0.025169875290263526,0.03490959098840603,0.04487259549709745,0.05485322608713631,0.06475546056726107,0.07452866349856146,0.08414415261372714,0.09358538523353312,0.10284343213565807,0.11191453319412588,0.12079857577201526,0.12949804523460698,0.13801725784015373,0.14636178442820713,0.15453801315457044,0.16255281765215937,0.17041330661792073,0.17812663676409599,0.18569987517548536,0.19313990014910506,0.2004533319188009,0.20764648648238548,0.21472534717749292,0.22169554978188072,0.22856237780912592,0.2353307653811504,0.24200530562331737,0.24859026297620865,0.2550895881744242,0.2615069349256686,0.26784567754790073,0.2741089290002553,0.28029955888420544,0.28642021110250554,0.29247332095081674,0.298461131485344,0.30438570906311196,0.3102489579927509,0.3160526342652856,0.3217983583583988,0.3274876271255462,0.33312182479440394,0.33870223310844266,0.3442300406517714,0.3497063514014198,0.3551321925534695,0.36050852167030956,0.36583623319612374,0.371116164386777,0.37634910069877126,0.38153578068005134,0.3866769004032955,0.39177311748001575,0.39682505469141005,0.40183330326950395,0.40679842585974557,0.41172095919389984,0.4166014164998603,0.4214402896728682,0.42623805123061115,0.43099515607278005,0.435712043063883,0.4403891364564638,0.4450268471703354,0.44962557394201924,0.4541857043572728,0.458707615778384,0.46319167617680745,0.4676382448807084,0.47204767324605634,0.4764203052590722,0.48075647807706506,0.48505652251400144,0.48932076347651693,0.4935495203555106,0.4977431073779427,0.5019018339229895,0.5060260048062848,0.5101159205355983,0.514171877540953,0.5181941683818778]
["Finance & Lease|Nano|RG_N2",1.1756976049626976E-3,8.475634366875583E-3,0.02496605307360139,0.04992601934991814,0.07483553828359908,0.09753605171209442,0.11764217237661358,0.1353939163792024,0.15116260440839543,0.1653037214784576,0.1781181761597998,0.18984991054183298,0.2006935807467816,0.2108038265778869,0.22030358408935152,0.22929090065030236,0.237844332476728,0.24602715994435304,0.25389066214544537,0.2614766572129668,0.268819474231451,0.2759474864815184,0.2828843064195196,0.28964971971716413,0.2962604178016015,0.30273057456489433,0.30907230233711486,0.31529601410668845,0.3214107127531646,0.327424223289689,0.3333433804557221,0.3391741811947981,0.3449219093980601,0.350591238639359,0.35618631735509004,0.3617108399422852,0.36716810649336457,0.37256107330303334,0.37789239583200557,0.3831644654628665,0.3883794411119614,0.3935392765497278,0.3986457441165901,0.40370045539184274,0.40870487927077265,0.413660357824382,0.41856812025172,0.4234292951833257,0.4282449215528267,0.4330159582201382,0.43774329250229455,0.44242774774542654,0.4470700900527622,0.4516710342679969,0.4562312493003447,0.46075136286657037,0.4652319657159293,0.4696736153959281,0.4740768396099182,0.4784421392115624,0.482769990876027,0.48706084948322065,0.4913151502444309,0.4955333106002205,0.49971573191436797,0.5038628009859194,0.5079748913990089,0.5120523647279708,0.5160955716133674,0.5201048527228699,0.5240805396094261,0.5280229554778096,0.5319324158694513,0.5358092292743895,0.5396536976782232,0.5434661170511063,0.5472467777850595,0.5509959650852077,0.5547139593199366,0.5584010363344316,0.5620574677315754,0.5656835211237526,0.5692794603587268,0.5728455457224076]
["Finance & Lease|Nano|RG_N3",0.05354859320763675,0.14825978302920606,0.258586425660534,0.30578791713184195,0.3316607523085072,0.34840286545125776,0.36126443661705865,0.37215734456360705,0.3818589342570564,0.3907191836339631,0.3989248776568153,0.4065941336947727,0.4138119425761374,0.42064434457888367,0.4271447650407637,0.43335732064045007,0.43931884854197,0.44506031883558306,0.45060789723352246,0.45598377901037623,0.46120685801611494,0.46629326996012943,0.4712568369786596,0.4761094334613165,0.48086128848506027,0.48552123688818216,0.490096928523056,0.49459500330265993,0.49902123815171917,0.5033806707880619,0.5076777043208701,0.5119161959056091,0.5160995320990173,0.5202306930795134,0.5243123075138428,0.5283466995402496,0.5323359290867464,0.5362818265382113,0.5401860225986899,0.5440499740580261,0.5478749860589341,0.5516622313672145,0.5554127670703232,0.5591275490649766,0.5628074446405462,0.5664532434197926,0.57006566688045,0.5736453766490833,0.577192981731483,0.5807090448208108,0.5841940878051144,0.5876485965790957,0.5910730252507359,0.594467799821132,0.5978333214054037,0.601169969053492,0.604478102221899,0.6077580629407163,0.6110101777144892,0.6142347591904689,0.6174321076234635,0.6206025121627404,0.6237462519831823,0.6268635972800586,0.6299548101443245,0.6330201453332143,0.6360598509490365,0.6390741690374598,0.6420633361151555,0.6450275836354442,0.6479671383995029,0.6508822229197665,0.6537730557413193,0.6566398517263713,0.6594828223062774,0.6623021757050143,0.6650981171375455,0.6678708489860914,0.6706205709569462,0.6733474802201682,0.6760517715341825,0.6787336373570894,0.6813932679462548,0.6840308514475707]
["Finance & Lease|Nano|RG_S0",0.04222955343259277,0.09074073219542672,0.14276299593862096,0.19046524777108517,0.23328467162156646,0.27131687895278467,0.30499329160757743,0.33479772414523096,0.36119622291235354,0.3846132755835652,0.4054272294084363,0.42397193955682916,0.4405404513977727,0.45538915925673956,0.46874188534001704,0.4807936812370831,0.49171429001309286,0.5016512599465628,0.5107327227808032,0.5190698585666652,0.5267590728444136,0.5338839128929385,0.5405167493317433,0.5467202481301847,0.5525486564167263,0.5580489236074238,0.5632616774277588,0.568222072476114,0.5729605271283915,0.5775033628464696,0.5818733583474935,0.5860902296245503,0.590171045482853,0.594130587064982,0.5979816587767859,0.6017353570832302,0.6054013028109058,0.6089878418609707,0.6125022185930329,0.6159507255773955,0.6193388329212721,0.6226712999458521,0.6259522716179522,0.6291853618157037,0.632373725226222,0.6355201194291207,0.6386269585082562,0.6416963593510376,0.6447301816362656,0.6477300623745588,0.6506974457470955,0.653633608886208,0.6565396841531073,0.6594166783918383,0.6622654895728226,0.6650869211826089,0.6678816946675181,0.6706504601966512,0.6733938059733109,0.6761122662924877,0.6788063285149744,0.6814764391053094,0.684123008860609,0.6867464174399667,0.689347017289117,0.691925137042128,0.6944810844707399,0.6970151490423426,0.6995276041392873,0.7020187089850627,0.7044887103166828,0.7069378438373037,0.7093663354784698,0.7117744024974249,0.7141622544314774,0.7165300939284551,0.718878117469707,0.7212065159999115,0.7235154754760231,0.7258051773460465,0.7280757989668891,0.7303275139693106,0.7325604925769185,0.7347749018852314]
["Finance & Lease|Nano|RG_S1",0.21245831327691916,0.4846730972447558,0.5541761955610871,0.5894830534191013,0.6084032527062708,0.621294496903462,0.631363399871262,0.6398935862200259,0.6474106464790605,0.6541685847597132,0.6603140140876337,0.6659468637122306,0.6711431432450354,0.6759642172587847,0.6804610908030259,0.6846767594678058,0.6886477311059355,0.6924051367582338,0.6959755998087971,0.6993819405880022,0.7026437578579205,0.7057779132715383,0.7087989373101142,0.7117193707884781,0.7145500530687574,0.7173003659646997,0.7199784406567098,0.7225913336233261,0.7251451765405241,0.7276453042474389,0.7300963641833533,0.7325024101339075,0.7348669826593932,0.7371931781950385,0.7394837084967114,0.7417409518430871,0.7439669971870404,0.7461636822668853,0.7483326265356258,0.7504752596384285,0.7525928460608204,0.7546865064792441,0.7567572362687354,0.7588059215573284,0.7608333531614331,0.7628402386893207,0.764827213059663,0.7667948476477611,0.7687436582427303,0.7706741119737559,0.7725866333419511,0.774481609475814,0.7763593947123317,0.7782203145920616,0.780064669344692,0.7818927369313773,0.7837047757013487,0.7855010267126796,0.7872817157605174,0.7890470551503987,0.7907972452493359,0.7925324758430976,0.7942529273244046,0.795958771733553,0.7976501736701935,0.7993272910925768,0.8009902760184779,0.8026392751401827,0.8042744303643419,0.8058958792861064,0.8075037556057714,0.809098189495097,0.8106793079195775,0.8122472349221252,0.8138020918729574,0.8153439976898582,0.816873069032477,0.8183894204738544,0.8198931646519751,0.8213844124037917,0.8228632728838658,0.824329853669499,0.8257842608539998,0.827226599129524]
["Finance & Lease|Nano|RG_S2",0.7988940763960491,0.8432127613821414,0.8812673301547891,0.8937012829844164,0.900246227356257,0.9041389738814772,0.9069493503641143,0.9092131059993009,0.9111519620641261,0.912865550321567,0.9144071043661305,0.9158100869823488,0.9170983349171594,0.9182901478879284,0.9194001479570213,0.9204402652983683,0.9214203483859318,0.922348588453485,0.9232318365523917,0.9240758497065574,0.9248854859728569,0.925664860813224,0.9264174733959528,0.9271463091921712,0.9278539237276745,0.9285425112652496,0.9292139613780057,0.9298699057495006,0.9305117570519815,0.9311407413759216,0.9317579253876171,0.9323642391584461,0.9329604954253856,0.933547405896724,0.9341255951012084,0.9346956121866643,0.9352579410003762,0.9358130087243095,0.9363611932905407,0.9369028297636481,0.9374382158454527,0.9379676166319011,0.9384912687309241,0.9390093838328528,0.9395221518107317,0.9400297434160497,0.9405323126255746,0.9410299986867481,0.9415229279022019,0.9420112151881426,0.942494965436445,0.9429742747061366,0.943449231266413,0.9439199165103146,0.9443864057556159,0.9448487689472709,0.9453070712738607,0.9457613737088608,0.9462117334861344,0.9466582045178489,0.9471008377619539,0.9475396815454552,0.9479747818489265,0.9484061825570111,0.9488339256790757,0.9492580515436517,0.949678598969852,0.9500956054185534,0.9505091071257905,0.9509191392205074,0.9513257358285476,0.951728930164536,0.9521287546131004,0.9525252408007102,0.9529184196592468,0.9533083214822953,0.953694975975016,0.954078412298363,0.9544586591083145,0.9548357445907055,0.9552096964921817,0.9555805421477307,0.9559483085051921,0.9563130221471016]
["Finance & Lease|Micro|RG_N0",2.3939910047563446E-4,8.4325449102376439E-4,2.3007226582089394E-3,0.004734591872572796,7.843941358747511E-3,0.011479657252506164,0.01554953866951671,0.01999203756566803,0.024760197246849296,0.02981510895310218,0.0351229698567047,0.04065372046174961,0.04638033937245554,0.052278421913558824,0.05832588643600599,0.06450274324788145,0.07079089855881081,0.07717398133840873,0.08363718743377978,0.09016713799768064,0.09675175044060387,0.1033801206412075,0.11004241540332783,0.11672977428848294,0.12343422004420902,0.13014857691739895,0.13686639619922444,0.14358188839901181,0.15028986149072174,0.15698566471844033,0.16366513748703168,0.17032456290111977,0.17696062555006667,0.1835703731687441,0.1901511818337948,0.196700724382867,0.20321694177009855,0.20969801709503513,0.21614235206429658,0.22254854566576485,0.2289153748539515,0.2352417770626172,0.241526834376749,0.2477697592107493,0.2539698813532394,0.26012663625131277,0.2662395544184725,0.27230825186092483,0.2783324214264528,0.28431182498882557,0.29024628638867195,0.29613568505902965,0.3019799502704142,0.30777905593630633,0.3135330159254633,0.319241879832474,0.32490572916254085,0.3305246738906162,0.33609884935878953,0.3416284134792439,0.34711354421320545,0.35255443729912717,0.357951304205906,0.363304370289248,0.3686138731313963,0.37388006104633936,0.3791031917343392,0.3842835310711801,0.38942135201894845,0.39451693364643253,0.3995705602483866,0.40458252055394617,0.4095531070154309,0.4144826151696197,0.41937134306435786,0.42421959074405263,0.42902765978824253,0.4337958528979964,0.4385244735254094,0.44321382554193,0.44786421294166795,0.4524759395762133,0.45704930891783707,0.4615846238482514]
["Finance & Lease|Micro|RG_N1",2.8893688024196934E-3,0.006964169561367467,0.013847149675419093,0.023157444335243187,0.033441162905253737,0.04407134087707896,0.05474967295022893,0.06533830921640978,0.07576995626486271,0.0860105935858366,0.096042954578076,0.10585903678089735,0.11545644746733412,0.12483644547495489,0.1340027724212262,0.14296088328101694,0.15171740171035522,0.16027971682833095,0.1686556778450838,0.1768533609644021,0.18488089181162273,0.19274631141210422,0.20045747664727656,0.20802198807699457,0.21544713945322155,0.22273988435657616,0.22990681626492182,0.23695415907021491,0.24388776563391215,0.2507131224390875,0.2574353587792263,0.26405925923531637,0.27058927844708747,0.2770295573913983,0.2833839405492998,0.2896559934801304,0.29584902043182953,0.30196608170615996,0.30801001056956206,0.3139834295580948,0.31988876607095096,0.32572826718352066,0.33150401363967946,0.33721793300535197,0.3428718119826383,0.3484673078968768,0.3540059593787546,0.3594891962706265,0.3649183487911104,0.37029465599523115,0.37561927356924657,0.3808932810001073,0.38611768815951103,0.3912934413419095,0.3964214287947647,0.40150248577796144,0.40653739918766046,0.4115269117781055,0.4164717260130366,0.4213725075764639,0.4262298885706593,0.4310444704273513,0.43581682655629006,0.440547504753596,0.44523702939062565,0.44988590340249957,0.45449461009392755,0.4590636147785545,0.46359336626672326,0.4680842982153156,0.4725368303521811,0.4769513695865981,0.48132831101622386,0.4856680388400768,0.48997092718625884,0.4942373408623477,0.4984676360356834,0.5026621608501196,0.5068212559852164,0.5109452551633044,0.5150344856093512,0.5190892684681083,0.5231099191825994,0.5270967478376329]
["Finance & Lease|Micro|RG_N2",0,0.002950387885368106,0.015358351312836116,0.036194690179891915,0.05862836160670707,0.08021836599668157,0.10013872682592917,0.1182773002471057,0.13476969498156843,0.14982060778120115,0.1636354593062171,0.1763977734913057,0.18826417973645432,0.19936582393020572,0.20981172041239296,0.2196923493466581,0.22908291363351982,0.23804610383264646,0.246634380011316,0.25489183092352785,0.26285568052755137,0.27055750658548094,0.27802422659246423,0.2852788965475276,0.2923413594377146,0.2992287730673057,0.3059560409548412,0.3125361652590883,0.31898053688235367,0.32529917485605264,0.331500924687522,0.3375936234144874,0.3435842375741545,0.349478979067333,0.3552834029203088,0.3610024901673992,0.36664071845471735,0.3722021224684414,0.3776903458932192,0.3831086862879177,0.38846013401058443,0.39374740611939274,0.3989729760112983,0.40413909942703,0.4092478373434414,0.4143010761870277,0.41930054573151015,0.4242478349845459,0.4291444063212783,0.43399160808352794,0.43879068583131475,0.44354279240678285,0.448248996948431,0.4529102929750016,0.4575276056427768,0.46210179826684067,0.4666336781856625,0.47112400203877985,0.4755734805191525,0.47998278265466826,0.4843525396671468,0.48868334845184264,0.49297577471578086,0.4972303558091612,0.5014476032804585,0.5056280051826613,0.5097720281552668,0.5138801193041388,0.5179527078991051,0.5219902069071735,0.5259930143774617,0.5299615146923454,0.5338960796978863,0.5377970697253281,0.5416648345142805,0.5454997140471793,0.5493020393036717,0.5530721329427282,0.5568103099195291,0.5605168780434805,0.5641921384830999,0.5678363862229524,0.5714499104773112,0.5750329950647682]
["Finance & Lease|Micro|RG_N3",0.02887865410244265,0.14181699803736453,0.26399769808158957,0.32178035217869155,0.35296916425553604,0.3717138797491034,0.38492862248341847,0.3954826546312106,0.40462145241461694,0.4128984298510212,0.4205768757979577,0.4277952298004843,0.43463620956694576,0.4411559253813958,0.447396433137688,0.4533913720933621,0.45916867997268457,0.46475204180817503,0.47016176521061215,0.4754153759851565,0.4805280622985719,0.4855130261221568,0.4903817710460303,0.4951443425232556,0.4998095305457749,0.5043850416933356,0.5088776457684853,0.5132933011325337,0.517637262085126,0.521914171046644,0.5261281378419047,0.5302828080103886,0.5343814217615355,0.5384268649395724,0.5424217131507935,0.5463682700294724,0.5502686004705449,0.55412455953292,0.5579378176127308,0.5617098823977288,0.5654421180396312,0.5691357619182964,0.572791939318283,0.576411676293072,0.5799959109537426,0.5835455033860936,0.58706124437223,0.5905438630687125,0.5939940337728986,0.597412381891548,0.6007994892106866,0.6041558985527593,0.6074821178959249,0.6107786240207138,0.614045865740941,0.61728426676856,0.6204942282559096,0.6236761310533829,0.6268303377158481,0.6299571942870636,0.6330570318877602,0.6361301681299673,0.6391769083774346,0.6421975468696498,0.6451923677248619,0.6481616458357197,0.6511056476695312,0.654024631983762,0.6569188504661599,0.6597885483078124,0.6626339647164983,0.6654553333768563,0.6682528828631535,0.671026837009792,0.67377741524411,0.6765048328855315,0.6792093014146678,0.6818910287155732,0.6845502192940103,0.6871870744742662,0.6898017925767805,0.692394569078605,0.6949655967584956,0.6975150658282405]
["Finance & Lease|Micro|RG_S0",0.04629184723997473,0.09242197145607786,0.1395578669916917,0.18252621863944798,0.22091229763576783,0.2548490921670681,0.2847650028753213,0.31113954632246055,0.3344329942129205,0.35506072446588444,0.37338807024836174,0.3897325172628803,0.40436838713009504,0.4175320264431164,0.4294267603203009,0.4402273629748902,0.45008399483817974,0.45912563028180264,0.46746302494191627,0.4751912768566965,0.4823920333170454,0.4891353904689163,0.49548152728236194,0.5014821102814769,0.5071815006755838,0.5126177913089216,0.517823697139025,0.5228273197201806,0.5276528033575361,0.5323208981598633,0.5368494431085294,0.5412537804353028,0.5455471110252232,0.5497407992002927,0.5538446340665336,0.5578670535959709,0.5618153367444538,0.5656957681568913,0.5695137793668786,0.5732740698434706,0.5769807107615413,0.5806372339629844,0.5842467082246067,0.5878118046469064,0.5913348527190236,0.5948178883930278,0.5982626953101653,0.6016708401582892,0.6050437029995908,0.6083825032876463,0.6116883221898477,0.6149621217430603,0.6182047612947494,0.621417011617044,0.6245995670257062,0.627753055788436,0.6308780490662109,0.6339750685964782,0.6370445932971315,0.6400870649446105,0.6431028930575385,0.646092459098531,0.649056120090726,0.6519942117318079,0.6549070510764889,0.657794938848306,0.6606581614329251,0.6634969925977219,0.6663116949760481,0.6691025213491427,0.6718697157539751,0.6746135144413038,0.6773341467048009,0.6800318355991496,0.6827067985624994,0.6853592479564957,0.6879893915352492,0.6905974328530106,0.6931835716189553,0.6957480040063038,0.6982909229220002,0.7008125182423038,0.7033129770189053,0.7057924836595427]
["Finance & Lease|Micro|RG_S1",0.2261437892422518,0.48948689868382816,0.5727376976850683,0.6146516242332638,0.6358203231772019,0.6486016161921415,0.65754531582192,0.6646304794769371,0.6706987532752127,0.6761290499255486,0.6811043226383245,0.6857233775602198,0.6900472247622479,0.6941186163219122,0.69797045754651,0.7016295883092596,0.7051186132445015,0.7084568905996302,0.71166114204044,0.7147458783812095,0.7177237254647544,0.7206056882527525,0.7234013716949843,0.726119168507626,0.7287664201631276,0.7313495555160148,0.733874210456902,0.7363453313404509,0.738767264476915,0.7411438336263525,0.7434784071507046,0.7457739562423389,0.7480331054475413,0.750258176532886,0.752451226596492,0.7546140812010831,0.7567483631983827,0.7588555178221501,0.7609368345478762,0.7629934661489985,0.7650264453208346,0.767036699192968,0.7690250620073458,0.7709922862019161,0.7729390521073538,0.7748659764366088,0.7767736197230015,0.7786624928418786,0.7805330627329534,0.7823857574249935,0.7842209704511711,0.786039064731823,0.7878403759913761,0.7896252157675352,0.7913938740633255,0.7931466216860836,0.7948837123118477,0.7966053843087011,0.7983118623483769,0.8000033588317277,0.8016800751504618,0.8033422028047386,0.8049899243937939,0.8066234144946343,0.808242840441995,0.8098483630211402,0.8114401370836735,0.8130183120953007,0.8145830326233994,0.8161344387713199,0.8176726665655076,0.8191978483008193,0.8207101128487679,0.8222095859328793,0.8236963903748473,0.8251706463147563,0.8266324714082498,0.8280819810032016,0.8295192882981488,0.8309445044844872,0.8323577388742056,0.8337590990147343,0.8351486907923007,0.8365266185250386]
["Finance & Lease|Micro|RG_S2",0.7915161301039942,0.8622255785288744,0.9041642900619983,0.9184348145918956,0.9253805546527903,0.9289582467628377,0.931154217354315,0.9327239322657332,0.9339907273299248,0.9350920795396438,0.9360894426170621,0.9370122424548565,0.9378762116440542,0.9386909864076485,0.9394632965003701,0.9401983298499779,0.940900339155963,0.9415729303926579,0.9422192152201723,0.9428419029272713,0.9434433636407324,0.9440256763818111,0.9445906680057914,0.9451399458938639,0.9456749259107085,0.9461968565380294,0.9467068398071975,0.9472058495024775,0.947694747014946,0.9481742951646004,0.9486451702607954,0.9491079726329898,0.9495632358319503,0.9500114346745191,0.9504529922818703,0.9508882862412121,0.9513176540036622,0.9517413976161266,0.952159787872136,0.9525730679554381,0.9529814566405013,0.9533851511057195,0.9537843294078672,0.9541791526600729,0.9545697669501372,0.9549563050312897,0.9553388878133855,0.955717625678973,0.9560926196455728,0.9564639623928134,0.9568317391707317,0.9571960286035037,0.9575569034011006,0.9579144309898124,0.958268674071242,0.9586196911181838,0.9589675368147836,0.9593122624474745,0.9596539162523957,0.9599925437243229,0.9603281878915274,0.9606608895604647,0.9609906875337231,0.9613176188042647,0.9616417187286315,0.9619630211814797,0.9622815586935282,0.9625973625747691,0.9629104630245746,0.9632208892301439,0.9635286694545764,0.9638338311157029,0.9641364008566873,0.9644364046092895,0.964733867650587,0.9650288146538584,0.9653212697342587,0.9656112564898434,0.965898798038437,0.9661839170507911,0.9664666357804209,0.9667469760904774,0.9670249594779622,0.9673006070955673]
["Finance & Lease|Small|RG_N0",2.3939910047563446E-4,9.653220216487709E-4,2.3526647360066497E-3,4.607598490482122E-3,7.446573789225492E-3,0.010748546433715657,0.014437718525247376,0.018463525362212203,0.022786346890832938,0.027372647561714085,0.0321928834179031,0.03722058198829297,0.04243185166790286,0.04780506599223996,0.05332062499840579,0.05896075687745231,0.0647093451037961,0.07055177448951105,0.07647479276135295,0.08246638553357354,0.08851566312066131,0.09461275793312916,0.10074873138629388,0.1069154893872223,0.11310570557252721,0.11931275155964108,0.125530633551464,0.13175393470161648,0.1379777627067138,0.1441977021444143,0.1504097711224844,0.15661038184557988,0.16279630474352902,0.16896463583817484,0.1751127670557553,0.18123835921876552,0.18733931747559307,0.19341376894823276,0.19946004239832152,0.20547664972980567,0.2114622691629475,0.21741572992926733,0.22333599835054574,0.22922216517730812,0.2350734340734012,0.24088911114344644,0.24666859540921734,0.2524113701494186,0.25811699502501856,0.2637850989192745,0.269415373427953,0.2750075669410405,0.280561479262515,0.2860769567195538,0.291553887716926,0.2969921986963004,0.30239185046382905,0.3077528348526626,0.3130751716900657,0.3183589060415322,0.32360410570679254,0.3288108589448731,0.33397927240742986,0.33910946926145746,0.3442015874841825,0.3492557783145069,0.35427220484678074,0.3592510407539721,0.36419246912847225,0.36909668142984203,0.37396387652977153,0.37879425984541065,0.38358804255302786,0.3883454408746845,0.3930666754312766,0.39775197065589923,0.4024015542620362,0.40701565676157925,0.41159451102813316,0.4161383519014764,0.42064741582942283,0.4251219405436709,0.4295621647665367,0.43396832794575035]
["Finance & Lease|Small|RG_N1",0.002875094313710026,0.00716100081830367,0.01356754590996928,0.022146987900929473,0.03156801399882137,0.04132595827861689,0.05117715259691092,0.06100595855413923,0.07074891787601482,0.08036767940354321,0.08983752698693287,0.09914233178979343,0.10827195500222453,0.11722069029589763,0.12598619650998544,0.1345687022288319,0.14297038622278288,0.15119488532137934,0.1592469008885631,0.16713188412342272,0.17485578529320928,0.18242485510251294,0.1898454886265195,0.19712410395734226,0.20426704909648488,0.21128053175981495,0.2181705676969194,0.22494294390150132,0.23160319373194072,0.23815658149398972,0.24460809447936555,0.2509624408200809,0.25722405182144364,0.2633970876873489,0.26948544575859423,0.27549277055581756,0.28142246505940594,0.28727770277444925,0.2930614402237665,0.2987764295897579,0.30442523128927285,0.31001022631730396,0.3155336282371527,0.32099749472847233,0.3264037386316993,0.3317541384490007,0.3370503482789865,0.34229390717586333,0.3474862479341196,0.35262870530779117,0.3577225236793161,0.36276886419734455,0.3677688114059213,0.37272337938948197,0.37763351745930085,0.3825001154075809,0.38732400835542524,0.3921059812205922,0.3968467728303084,0.40154707970357084,0.4062075595263786,0.410828834342235,0.4154114934791051,0.41995609623282326,0.4244631743257472,0.42893323415827095,0.4333667588696471,0.43776421022344886,0.4421260303319191,0.44645264323242423,0.4507444563282544,0.4550018617050827,0.4592252373335304,0.4634149481674667,0.4675713471469102,0.47169477611368793,0.47578556664734634,0.47984404082819593,0.48387051193380076,0.48786528507470056,0.49182865777466617,0.4957609205003407,0.4996623571447083,0.5035332454684514]
["Finance & Lease|Small|RG_N2",1.0582308056216229E-3,0.006562852815166484,0.01881667795962472,0.038980223753469705,0.060222737153986544,0.0805258712007519,0.09925725511072306,0.11638871756507405,0.1320674589401468,0.1464783852930488,0.15979662379959603,0.17217498318241306,0.18374291689440703,0.1946090245930547,0.20486426478254496,0.21458497316803662,0.22383544759506704,0.23267008593856406,0.2411351302300062,0.249270082801737,0.25710885530194955,0.2646807021167174,0.2720109803641869,0.2791217704630398,0.28603238452927887,0.2927597843967297,0.2993189266822067,0.30572304882474655,0.31198390724589564,0.31811197656170864,0.3241166170114899,0.33000621586112544,0.3357883074166291,0.34146967538784456,0.3470564406266947,0.3525541366920998,0.35796777523542633,0.363301902832831,0.3685606505956774,0.37374777765265,0.37886670940562583,0.38392057130651813,0.38891221877682225,0.39384426378960224,0.3987190985505061,0.4035389166463657,0.4083057319740739,0.4130213957163668,0.4176876115930044,0.4223059495841135,0.42687785829595104,0.43140467611707917,0.435887641294154,0.44032790104059116,0.4447265197777804,0.4490844865968783,0.4534027220191782,0.4576820841243801,0.4619233741085405,0.4661273413268951,0.47029468787097256,0.47442607272433673,0.4785221155368008,0.48258340005298267,0.48661047722752865,0.49060386805618167,0.4945640661490512,0.49849154006991847,0.5023867354631453,0.5062500769877188,0.5100819700761311,0.5138828025341388,0.5176529459959583,0.5213927572481005,0.5251025794338313,0.5287827431491415,0.5324335674401067,0.5360553607106138,0.5396484215486099,0.5432130394782811,0.5467494956448938,0.5502580634384178,0.5537390090614913,0.557192592046783]
["Finance & Lease|Small|RG_N3",0.04429052428574447,0.12021928713171771,0.22907738615892825,0.2773964979158534,0.30482073145448424,0.3225692090228089,0.3362050402831532,0.3477549676341267,0.3580600827131409,0.36748962049184253,0.3762338846715411,0.38440925153487715,0.39209833145044587,0.3993656031587137,0.4062640207570763,0.41283817211388896,0.41912606162258464,0.42516029067249983,0.43096893466858105,0.4365762392951932,0.44200319223290113,0.44726800035671427,0.4523864912977244,0.4573724528588272,0.46223792071050407,0.4669934227643751,0.47164818712714285,0.4762103193650175,0.4806869538596277,0.4850843832563068,0.4894081693595344,0.4936632382930466,0.4978539622942839,0.5019842301388961,0.5060575078783418,0.5100768913118237,0.5140451513943454,0.5179647735984918,0.5218379920927566,0.5256668194690318,0.529453072642184,0.533198395452137,0.5369042784207623,0.5405720760498318,0.5442030219903722,0.5477982423663634,0.551358767495499,0.5548855422155259,0.5583794349955983,0.5618412459872689,0.5652717141485929,0.5686715235567277,0.5720413090089438,0.5753816609986938,0.5786931301420092,0.5819762311197089,0.5852314461924806,0.5884592283386418,0.591660004058111,0.5948341758807039,0.5979821246121784,0.6011042113473695,0.6042007792762307,0.6072721553055123,0.6103186515161261,0.6133405664739092,0.6163381864094494,0.6193117862808435,0.6222616307316938,0.625187974955263,0.628091065474499,0.6309711408465728,0.6338284322996288,0.6366631643086185,0.6394755551163509,0.6422658172052398,0.645034157724657,0.6477807788782807,0.6505058782753791,0.6532096492495577,0.6558922811481437,0.6585539595950536,0.6611948667297088,0.6638151814242973]
["Finance & Lease|Small|RG_S0",0.07313859521743818,0.13964372119482943,0.20206323017231007,0.25665165224417924,0.30402982112717813,0.34496563060054086,0.38033029980594657,0.41092068762394585,0.4374373079699302,0.46048339041735775,0.48057440324957357,0.4981493147995556,0.5135814059872286,0.5271879029325809,0.5392383280113219,0.549961656837865,0.5595524216223614,0.5681759043579385,0.5759725508326224,0.5830617202679219,0.5895448695359684,0.5955082566335924,0.601025235638901,0.6061582046539025,0.6109602590588215,0.6154765945695001,0.6197456979118813,0.6238003572412958,0.6276685195950772,0.6313740185507509,0.6349371917621711,0.6383754050712919,0.6417034973658073,0.644934158206064,0.6480782484216451,0.651145072330364,0.6541426089188165,0.6570777082089344,0.6599562580892356,0.6627833260871887,0.6655632798786434,0.6682998897532008,0.6709964157650496,0.6736556818838845,0.6762801391087493,0.6788719192094254,0.6814328805071684,0.683964646892284,0.686468641094357,0.6889461130669476,0.6913981642180101,0.6938257681066197,0.6962297881327597,0.6986109926673776,0.7009700680024563,0.7033076294436597,0.7056242308195919,0.7079203726405745,0.7101965091049328,0.7124530541211741,0.7146903864893033,0.7169088543631935,0.7191087790978159,0.7212904585697546,0.723454170046366,0.7256001726678458,0.7277287095970274,0.729840009883717,0.7319342900835454,0.734011755665511,0.7360726022374476,0.7381170166144368,0.7401451777516069,0.7421572575596918,0.7441534216191236,0.7461338298062042,0.7480986368429983,0.7500479927809675,0.7519820434269769,0.7539009307191146,0.7558047930587468,0.7576937656043609,0.7595679805319954,0.761427567266419]
["Finance & Lease|Small|RG_S1",0.1359405098956816,0.38733646014455303,0.4494344160180307,0.4832005667099628,0.50099851490336,0.5132685116991772,0.5229415800267004,0.5312751618255812,0.5387630126974651,0.545634577145792,0.5520130128760112,0.5579773606018908,0.5635855838529273,0.568883800329055,0.5739102738895328,0.5786974070742251,0.5832729176286048,0.5876606465186835,0.5918811719914466,0.5959523031154133,0.5998894876801592,0.6037061539198856,0.6074139987748371,0.6110232320066363,0.6145427834689583,0.6179804794571703,0.6213431930243255,0.6246369723294871,0.6278671504158836,0.6310384392653683,0.6341550105185451,0.637220564869375,0.6402383918255882,0.6432114212608984,0.6461422679629706,0.6490332701950374,0.6518865231329473,0.6547039079083,0.6574871168780204,0.6602376756478381,0.6629569622988163,0.6656462241999466,0.6683065927339198,0.6709390962158697,0.6735446712447671,0.6761241726931125,0.67867838251163,0.6812080175010558,0.68371373618212,0.6861961448769207,0.6886558030995754,0.6910932283409392,0.6935089003209511,0.6959032647725263,0.6982767368126293,0.7006297039490234,0.7029625287650456,0.705275551319432,0.7075690912936323,0.7098434499150628,0.7120989116812919,0.7143357459071553,0.716554208114175,0.7187545412793839,0.7209369769586662,0.7231017362979828,0.7252490309443282,0.7273790638669283,0.729492030098013,0.7315881174014681,0.7336675068767554,0.7357303735046921,0.7377768866409677,0.739807210462651,0.7418215043723821,0.7438199233644534,0.745802618356542,0.7477697364904723,0.7497214214050332,0.7516578134835727,0.7535790500788135,0.7554852657170857,0.7573765922839564,0.7592531591930356]
["Finance & Lease|Small|RG_S2",0.7360887164291596,0.7779443289102072,0.8180955308409736,0.8306720912800659,0.8379790805525912,0.8425629984937982,0.8460690322161455,0.8490086815815431,0.8516055544867251,0.8539579471343722,0.8561183014314505,0.8581195723900509,0.8599856211155272,0.8617352512442916,0.8633839520453328,0.8649447548910796,0.8664287336572298,0.8678453461155448,0.8692026929387697,0.8705077260432387,0.8717664210644254,0.8729839220720086,0.8741646637635884,0.8753124749695709,0.8764306664856493,0.8775221056970024,0.8785892800428956,0.8796343510389324,0.8806592003019933,0.8816654687962735,0.8826545903289595,0.883627820164518,0.8845862594922618,0.8855308763686895,0.8864625236606793,0.8873819544351168,0.8882898351725861,0.8891867571253643,0.8900732460914662,0.8909497708354849,0.8918167503522998,0.8926745601403667,0.8935235376264533,0.8943639868626243,0.8951961825984283,0.8960203738160921,0.8968367868036797,0.8976456278302481,0.8984470854777633,0.8992413326766427,0.9000285284850784,0.9008088196465752,0.9015823419552663,0.9023492214544075,0.9031095754899071,0.9038635136377132,0.9046111385212874,0.905352546533179,0.9060878284728062,0.9068170701109279,0.9075403526898848,0.9082577533674894,0.9089693456114096,0.9096751995500001,0.9103753822847672,0.9110699581689917,0.911758989056461,0.9124425345237654,0.9131206520691864,0.9137933972908301,0.9144608240463385,0.9151229845962278,0.9157799297326572,0.9164317088952243,0.9170783702751876,0.9177199609093619,0.9183565267647843,0.9189881128151267,0.9196147631097182,0.9202365208359478,0.9208534283757275,0.9214655273566281,0.9220728586982258,0.9226754626541461]
["Finance & Lease|Medium|RG_N0",1.241882833717354E-3,3.5359052916237657E-3,0.007119746459903991,0.01167672316073894,0.016914772495706446,0.02267257745014119,0.02884922967387041,0.03537223354187758,0.04218429866581024,0.0492378577412402,0.056492491440968635,0.06391348126552235,0.07147084273098595,0.07913859797167004,0.08689419182798384,0.09471800812651748,0.10259296289961171,0.11050415967629568,0.11843859605195886,0.12638491311287348,0.13433318089737536,0.14227471427780014,0.15020191459673335,0.1581081331607553,0.16598755332671802,0.17383508843783518,0.18164629330027077,0.1894172872516391,0.19714468717378533,0.2048255490538526,0.21245731690846748,0.22003777806286376,0.22756502392563033,0.23503741552521923,0.24245355318027087,0.24981224976540528,0.25711250711005346,0.2643534951323619,0.27153453336502714,0.2786550745766319,0.28571469023193025,0.29271305756863286,0.29964994809745327,0.30652521735725513,0.3133387957786935,0.3200906805283171,0.32678092822111754,0.3334096484033656,0.3399769977195678,0.3464831746877822,0.3529284150165777,0.3593129874047898,0.36563718977209664,0.37190134587443113,0.378105802263498,0.3842509255542627,0.3903370999683172,0.39636472512458093,0.4023342140519209,0.4082459914010364,0.414100491835388,0.41989815858310914,0.425639442133747,0.4313247990653744,0.4369546909891199,0.44252958359949923,0.44804994582012736,0.4535162490354483,0.4589289664000703,0.4642885722181413,0.4695955413859551,0.4748503488916589,0.4800534693665374,0.48520537668289754,0.49030654359406084,0.4953574414124151,0.5003585397218683,0.5053103061214016,0.5102132059967417,0.5150677023174555,0.5198742554570315,0.5246333230337463,0.5293453597703243,0.5340108173705863]
["Finance & Lease|Medium|RG_N1",2.7305740575294247E-3,7.0472973269513454E-3,0.013777110662685166,0.022164560218807527,0.03143368588654393,0.041200693354802656,0.05125972451732327,0.06148507321175918,0.07179075272074634,0.08211390888051324,0.09240722861659166,0.10263484473693467,0.11276972828419547,0.1227918174507262,0.13268658159288424,0.14244388287105245,0.15205706106283606,0.1615221938773649,0.17083749837557471,0.18000284695079083,0.18901937669158406,0.19788917497063216,0.20661502726455858,0.21520021575224407,0.22364835930609095,0.23196328717979475,0.24014894008011298,0.2482092934457519,0.25614829868925926,0.2639698389244405,0.27167769633216965,0.27927552883590273,0.28676685418463904,0.294155039891821,0.30144329776710044,0.3086346820150018,0.31573209006932396,0.3227382654920634,0.3296558023968363,0.3364871509642693,0.34323462370478147,0.34990040219601976,0.35648654408078584,0.3629949901589251,0.3694275714452955,0.37578601609717355,0.38207195613962314,0.38828693393752683,0.39443240837907756,0.4005097607482726,0.40652030027398184,0.41246526935095934,0.41834584843417116,0.4241631606123487,0.42991827587004217,0.4356122150498686,0.4412459535283095,0.4468204246194866,0.452336522721935,0.4577951062236265,0.46319700018044313,0.46854299878303296,0.4738338676265581,0.4790703457973033,0.48425314778949624,0.48938296526502206,0.4944604686680148,0.49948630870560157,0.5044611177053651,0.5093855108593964,0.5142600873641323,0.5190854314645189,0.5238621134104259,0.528590690332634,0.53327170704517,0.5379056967802265,0.5424931818614194,0.5470346743206682,0.5515306764635572,0.5559816813876377,0.5603881734577573,0.5647506287421648,0.5690695154128187,0.5733452941130377]
["Finance & Lease|Medium|RG_N2",0.016966552695253514,0.03467469306119292,0.060668829035153096,0.08996153174555838,0.11777384228889617,0.14276804810783988,0.1649006249261762,0.18451697507255835,0.20202384888877312,0.21778943387604816,0.23212150603809958,0.24527008422351665,0.25743632036167685,0.2687817743379403,0.2794364446534926,0.28950530232116234,0.29907348157437674,0.30821036656271106,0.31697280032117453,0.3254076050795081,0.33355356487524035,0.3414429888327299,0.3491029472364469,0.3565562519267145,0.3638222365322504,0.370917379654117,0.3778558045260111,0.3846496812589337,0.39130955203791823,0.3978445951911517,0.404262840601956,0.41057134625423025,0.41677634361699933,0.4228833579488571,0.42889730833448875,0.43482259127302425,0.44066315085995084,0.4464225379929629,0.45210396055058344,0.45771032611208684,0.4632442784860731,0.4687082290758201,0.4741043839189364,0.4794347670864686,0.48470124100440193,0.4899055241621055,0.4950492065927772,0.5001337634464631,0.5051605669237174,0.510130896795038,0.5150459496959674,0.51990684735869,0.5247146439169045,0.5294703324007529,0.5341748505218901,0.5388290858347876,0.5434338803485873,0.5479900346538624,0.5524983116202045,0.5569594397133593,0.5613741159744909,0.56574300869888,0.5700667598468215,0.5743459872155748,0.5785812863978161,0.5827732325491001,0.5869223819842672,0.591029273620485,0.595094430282649,0.5991183598851421,0.6031015565024319,0.6070445013396465,0.6109476636130875,0.6148115013495896,0.6186364621127104,0.6224229836629054,0.6261714945581154,0.6298824147005331,0.6335561558347389,0.6371931220018717,0.6407937099540376,0.644358309532739,0.6478873040147386,0.6513810704284332]
["Finance & Lease|Medium|RG_N3",0.041990388055844735,0.15524253449092984,0.23841871233753523,0.2826077189973876,0.3098606666580912,0.3296404377822305,0.34572206406325334,0.3596199958952013,0.37200919695208357,0.3832443763025466,0.3935477809017103,0.403078510809069,0.41195970841894625,0.4202905086041838,0.4281522283656144,0.43561218055127837,0.4427263590837346,0.449541486397088,0.45609663964702296,0.4624245680512714,0.4685527703497895,0.4745043805739514,0.48029889849299257,0.4859527933092801,0.491480003495968,0.49689235130322695,0.5021998870064134,0.5074111752022279,0.5125335332249622,0.5175732299437488,0.5225356517288936,0.5274254411747772,0.5322466131860644,0.5370026522312493,0.5416965939093455,0.5463310934348636,0.5509084832013621,0.5554308212172475,0.5598999319049257,0.5643174405043031,0.5686848021146395,0.5730033262371994,0.5772741975387864,0.5814984934379831,0.5856771990175526,0.5898112196845547,0.5939013919314753,0.5979484924947169,0.6019532461592486,0.6059163324184621,0.6098383911650427,0.6137200275608192,0.6175618162102415,0.6213643047425718,0.6251280168914649,0.6288534551468286,0.6325411030422697,0.6361914271316853,0.6398048787003577,0.643381895249003,0.6469229017833937,0.6504283119372667,0.6538985289520755,0.6573339465336386,0.6607349496027741,0.6641019149544929,0.6674352118382071,0.6707352024695984,0.6740022424832607,0.6772366813339403,0.6804388626530775,0.6836091245664242,0.6867477999777005,0.689855216822578,0.6929316982966814,0.6959775630608119,0.6989931254261574,0.7019786955218951,0.7049345794472718,0.7078610794099794,0.7107584938524067,0.7136271175671516,0.7164672418029995,0.7192791543624293]
["Finance & Lease|Medium|RG_S0",0.07456503481608977,0.1422693125897762,0.2023929209719208,0.25423321387689224,0.2987210277028907,0.33689124380492597,0.3696997999954617,0.39797890707747074,0.4224386586356226,0.44368008215650906,0.4622101419415149,0.4784557816787314,0.492776261884464,0.5054737436184644,0.5168022793524402,0.5269754180288608,0.5361726247297683,0.5445446936927757,0.5522183093119163,0.5592998872540683,0.5658788079635223,0.5720301376897339,0.5778169175239193,0.5832920884645537,0.5885001099508347,0.5934783203360867,0.5982580801825378,0.6028657328395594,0.6073234113429239,0.6116497160919117,0.6158602838953255,0.6199682657168739,0.6239847277015876,0.6279189877486689,0.6317788979451564,0.6355710815320545,0.63930113169187,0.6429737782830195,0.6465930276678397,0.6501622799578193,0.6536844273076013,0.6571619363075354,0.660596917035614,0.6639911809187675,0.6673462892083087,0.6706635935843561,0.6739442701605319,0.6771893479557131,0.6803997327278906,0.6835762269210207,0.6867195463547251,0.6898303341851091,0.6929091725797175,0.6959565924780929,0.698973081749377,0.7019590920080243,0.7049150443064461,0.7078413338879597,0.7107383341536919,0.713606399972157,0.7164458704393244,0.7192570711794657,0.7220403162623772,0.7247959098002591,0.7275241472772079,0.7302253166556334,0.7328996992966592,0.7355475707255004,0.7381692012677213,0.7407648565780227,0.7433347980796399,0.7458792833294507,0.7483985663213939,0.7508928977387084,0.7533625251637592,0.7558076932527498,0.7582286438814021,0.7606256162666661,0.762998847068664,0.7653485704763633,0.7676750182798836,0.7699784199318389,0.7722590025997087,0.7745169912108861]
["Finance & Lease|Medium|RG_S1",0.2601977598225754,0.4212632117343302,0.47423533975383786,0.5011309985527042,0.5181239912312028,0.5309565545244026,0.5416540256537767,0.5510221326895115,0.5594303146449766,0.5670829797159387,0.5741151448024449,0.5806275104365496,0.586700260931095,0.5923992280067902,0.5977791859197201,0.6028859671616851,0.607758014069308,0.6124276044137691,0.6169218542331399,0.6212635511295415,0.6254718511480177,0.6295628630668766,0.6335501387578223,0.6374450848361075,0.6412573082420778,0.6449949063325933,0.6486647103609205,0.6522724898050682,0.65582312381454,0.6593207450453438,0.6627688603119795,0.6661704517776835,0.6695280618092639,0.6728438641225964,0.6761197234242993,0.6793572454016243,0.6825578186155505,0.6857226496024845,0.6888527922803016,0.6919491725783553,0.6950126090631784,0.6980438302074055,0.701043488845178,0.7040121742697476,0.7069504223555216,0.7098587240251186,0.7127375323302482,0.7155872683718003,0.7184083262480905,0.7212010771896371,0.7239658730132037,0.7267030490063308,0.7294129263355436,0.7320958140562925,0.7347520107900029,0.7373818061229753,0.7399854817729647,0.7425633125617952,0.7451155672261052,0.7476425090930762,0.7501443966435957,0.7526214839816305,0.7550740212254989,0.757502254834151,0.759906427879403,0.7622867802732667,0.764643548957995,0.7669769680652059,0.7692872690493823,0.7715746808001643,0.7738394297371068,0.7760817398899603,0.7783018329670152,0.7804999284136199,0.7826762434626212,0.7848309931781781,0.7869643904941509,0.7890766462480546,0.7911679692113995,0.7932385661170899,0.7952886416844394,0.7973183986422568,0.7993280377503764,0.8013177578199357]
["Finance & Lease|Medium|RG_S2",0.8712157639374607,0.9047251336613952,0.9254678248419181,0.9322897998815175,0.9357535367533282,0.937941966333845,0.9395945981942839,0.9409722638414814,0.9421787283494306,0.94326156963924,0.9442471122642463,0.9451527442727776,0.9459914343059258,0.9467735088391642,0.9475074459603532,0.9482002997302185,0.9488579726512034,0.9494854154902626,0.9500867851154989,0.9506655736451608,0.951224715763179,0.9517666784661805,0.9522935363108734,0.9528070345647026,0.9533086422198993,0.953799596498937,0.9542809402137328,0.9547535531220201,0.9552181782416168,0.9556754439300643,0.9561258824083095,0.9565699452987788,0.9570080166570863,0.9574404238999994,0.9578674469678563,0.9582893260054745,0.95870626780006,0.9591184511763776,0.959526031517297,0.9599291445508265,0.9603279095220704,0.9607224318494944,0.9611128053488903,0.9614991140950042,0.9618814339795174,0.962259834014606,0.9626343774233646,0.9630051225517111,0.9633721236308023,0.9637354314142885,0.9640950937108086,0.9644511558288155,0.964803660948059,0.9651526504297249,0.9654981640752831,0.9658402403424658,0.9661789165254235,0.9665142289049621,0.9668462128738,0.9671749030409803,0.9675003333188926,0.9678225369958007,0.9681415467962896,0.9684573949316562,0.9687701131419277,0.9690797327309227,0.9693862845955261,0.969689799250165,0.9699903068473008,0.9702878371946225,0.9705824197695074,0.9708740837312251,0.9711628579312755,0.9714487709221917,0.9717318509650753,0.9720121260360923,0.9722896238321164,0.9725643717756718,0.972836397019307,0.9731057264495013,0.9733723866901942,0.9736364041060057,0.9738978048052109,0.9741566146425115]
["Finance & Lease|Large|RG_N0",2.3939910047563446E-4,6.9199365571700252E-4,1.389480264124123E-3,0.002318884215247294,3.4637627099676173E-3,0.004808980872408103,0.006340979909335845,0.008047451504248335,0.009917041149136364,0.011939151833293615,0.01410382359378222,0.016401659288425848,0.018823776377426937,0.02136177282892491,0.0240077005869996,0.026754043100317388,0.029593695086733117,0.032519943605322295,0.03552644997803128,0.03860723234642761,0.041756648772164014,0.04496938084999657,0.04824041782983272,0.05156504125529184,0.05493881012899584,0.058357546613623835,0.06181732227490243,0.06531444486929686,0.06884544567577634,0.07240706736790473,0.0759962524197592,0.07961013203683005,0.08324601560109077,0.08690138061782104,0.09057386315047963,0.09426124872892297,0.09796146371551268,0.10167256711311946,0.10539274279868127,0.10912029216578469,0.112853627159685,0.1165912636882441,0.12033181539242412,0.12407398776021586,0.12781657256818854,0.13155844263520808,0.13529854687327633,0.13903590562088297,0.1427696062447248,0.1464987989961317,0.15022269310903422,0.15394055312680968,0.15765169544585197,0.16135548506421396,0.16505133252417445,0.1687386910380754,0.17241705378726277,0.17608595138443908,0.17974494949020042,0.18339364657498095,0.1870316718180654,0.19065868313575146,0.19427436533115208,0.19787842835851918,0.20147060569534692,0.20505065281587334,0.20861834575994537,0.21217347979154233,0.21571586814156846,0.21924534082982622,0.22276174356136816,0.22626493669269823,0.22975479426355241,0.23323120309023446,0.23669406191671616,0.24014328061993323,0.24357877946591713,0.24700048841360167,0.2504083464633318,0.2538023010472786,0.25718230745913245,0.2605483283206061,0.2639003330824263,0.26723829755763623]
["Finance & Lease|Large|RG_N1",0.002874947712197082,0.006200314133040738,0.010039692445465254,0.014246722569023384,0.018702956267275715,0.02332885256726251,0.02807197637857296,0.032896725110656,0.03777775410997527,0.04269611196571395,0.04763702190218539,0.05258859915886024,0.057541087636429025,0.06248638359245823,0.06741771984463585,0.07232944205408141,0.07721684002121657,0.082076013710033,0.08690376268065075,0.09169749241087768,0.09645513357834795,0.10117507179272282,0.10585608606126445,0.11049729473108577,0.11509810793107927,0.11965818571731049,0.12417740125081962,0.12865580842948238,0.1330936134683821,0.13749114998294254,0.14184885717976525,0.14616726080400294,0.1504469565305943,0.15468859552073,0.15889287189516826,0.16306051190297843,0.16719226458835457,0.1712888937796445,0.17535117124395866,0.17937987086790963,0.18337576374039843,0.18733961402710037,0.1912721755385839,0.19517418890497007,0.19904637927984348,0.2028894545048851,0.20670410367451386,0.21049099604680332,0.21425078025316552,0.21798408376484335,0.22169151257920328,0.22537365109322471,0.22903106213550833,0.23266428713161552,0.2362738463806558,0.2398602394237963,0.24342394548781754,0.2469654239890106,0.2504851150846368,0.25398344026087555,0.2574608029476946,0.2609175891524087,0.2643541681048695,0.26777089290826517,0.2711681011904215,0.27454611575129695,0.2779052452030685,0.2812457845998204,0.284568016054387,0.2878722093403682,0.2911586224777487,0.2944275023009012,0.2976790850080636,0.30091359669164336,0.3041312538489284,0.30733226387297713,0.31051682552362636,0.3136851293786935,0.31683735826556597,0.31997368767347023,0.32309428614678787,0.32619931565985716,0.3292889319737448,0.33236328497551665]
["Finance & Lease|Large|RG_N2",0,0.001348622500651474,4.9698757843235665E-3,0.01004935063806499,0.015933515134243955,0.02222288758645856,0.028690665156920304,0.03521159424733661,0.041717107946275804,0.0481696371455471,0.05454848467744476,0.060842197945018314,0.06704447850708158,0.07315198685717486,0.0791631551189054,0.08507753429997768,0.09089542529157586,0.0966176612026763,0.10224547125362886,0.10778038947465422,0.11322418882418459,0.11857883046166208,0.1238464226897286,0.129029186582608,0.13412942662541455,0.1391495053730216,0.1440918214959816,0.1489587907713258,0.15375282967957427,0.15847634132839294,0.16313170345993877,0.1677212583242242,0.17224730422043227,0.17671208852478854,0.18111780203865438,0.18546657450453383,0.18976047115091144,0.19400149013934093,0.1981915607989877,0.20233254254488373,0.20642622438647068,0.21047432494258303,0.21447849288786733,0.2184403077637646,0.22236128109462514,0.22624285775631162,0.23008641755081377,0.23389327694598264,0.23766469094453538,0.24140185505102288,0.2451059073095284,0.248777930388518,0.2524189536925248,0.25602995548325524,0.2596118649952902,0.2631655645338439,0.2666918915440688,0.27019164064318374,0.2736655656082722,0.2771143813139779,0.28053876561553104,0.2839393611735872,0.287316777218276,0.2906715912506438,0.2940043506803567,0.29731557439910916,0.30060575428968395,0.3038753566710257,0.3071248236800447,0.3103545745911613,0.31356500707484314,0.3167564983965822,0.31992940655791735,0.3230840713812278,0.3262208155401175,0.3293399455372725,0.33244175263172115,0.33552651371744757,0.33859449215531984,0.3416459385602864,0.34468109154577836,0.34770017842722534,0.3507034158865616,0.3536910105995528]
["Finance & Lease|Large|RG_N3",7.86198927626525E-3,0.03161695261120018,0.05019839269422777,0.0637508010325219,0.07407315653075551,0.0825005810648158,0.08983907942465146,0.09654206555564322,0.10285696245704123,0.10891710944727308,0.11479426466024366,0.12052739544918765,0.12613815030338815,0.1316390839319673,0.13703800127911464,0.1423402403059146,0.14754986520739782,0.15267028548364706,0.15770457330936996,0.16265562292452287,0.16752622776059461,0.17231911513735237,0.1770369594494446,0.1816823847946317,0.1862579627448948,0.19076620819754175,0.1952095747899468,0.19959045059908745,0.2039111544489734,0.20817393294319647,0.21238095823532419,0.21653432649875884,0.22063605703464617,0.22468809194803357,0.22869229632164467,0.23265045881958157,0.23656429265798565,0.24043543688511826,0.244265457918906,0.24805585129543212,0.2518080435870031,0.25552339445321054,0.25920319879281156,0.2628486889682721,0.2664610370784634,0.27004135725829403,0.27359070798701846,0.2771100943896125,0.2806004705179737,0.28406274160080575,0.28749776625291434,0.2909063586362904,0.29428929056680714,0.29764729356163694,0.30098106082360393,0.3042912491596647,0.3075784808315499,0.31084334533732816,0.3140864011232802,0.31730817722600446,0.32050917484512975,0.3236898688473914,0.3268507092031479,0.3299921223566753,0.3331145125317938,0.33621826297454965,0.3393037371348111,0.34237127978873727,0.34542121810415444,0.34845386265091893,0.35146950835837926,0.3544684354220561,0.35745091016165553,0.3604171858325141,0.3633675033925431,0.3663020922267069,0.36922117083101935,0.3721249474579994,0.37501362072546507,0.3778873801904916,0.3807464068902966,0.3835908738517512,0.3864209465711554,0.38923678346584684]
["Finance & Lease|Large|RG_S0",0.0338088173290175,0.06572696428297385,0.09542395487252298,0.12294470440445261,0.1484089330489508,0.17195969264848457,0.1937445412541918,0.21390689118746878,0.23258210584631955,0.2498959850998224,0.2659644505579794,0.2808938168954434,0.2947813316782478,0.3077158204856282,0.31977835473855964,0.3310429017231469,0.34157693816991685,0.351442020024587,0.36069430676436864,0.36938504142617434,0.3775609888122141,0.3852648348563359,0.3925355502552884,0.3994087213940404,0.40591685142824485,0.41208963418416766,0.4179542033245275,0.4235353590214377,0.4288557741814156,0.4339361820848653,0.43879554713426905,0.44345122025127626,0.44791908032224237,0.4522136629636476,0.4563482777622402,0.46033511503875624,0.46418534308775095,0.4679091967585891,0.47151605816319064,0.47501453022399065,0.4784125037100827,0.48171721835006887,0.484935318556177,0.4880729042452322,0.49113557719761414,0.4941284833549884,0.49705635142097904,0.49992352809571494,0.5027340102450097,0.5054914742775568,0.5081993029786566,0.5108606100264296,0.5134782623959789,0.5160549008383621,0.5185929586043422,0.5210946785675443,0.5235621288877146,0.5259972173421181,0.5284017044416215,0.5307772154375541,0.5331252513159551,0.535447198867185,0.5377443399110403,0.5400178597503843,0.5422688549198245,0.5444983402900763,0.5467072555832933,0.5488964713497682,0.5510667944519756,0.5532189730978895,0.5553537014618375,0.5574716239278091,0.5595733389870926,0.5616594028193406,0.5637303325836438,0.5657866094438883,0.5678286813505786,0.5698569655993987,0.5718718511850414,0.5738737009672495,0.5758628536645667,0.5778396256899708,0.5798043128413658,0.581757191858799]
["Finance & Lease|Large|RG_S1",0.09454735030754281,0.1392642100485353,0.16519381776439945,0.18141242293488946,0.19242158598017564,0.20063196306929176,0.20733119577018516,0.2132021021966165,0.2186049692990223,0.22372929579548995,0.22867456675960263,0.2334930058821852,0.23821212424327243,0.24284658234241246,0.2474044140278261,0.2518902809760655,0.2563071655251818,0.26065724363561577,0.26494232848306504,0.26916409008918907,0.2733241589151281,0.27742417002831926,0.28146577745425927,0.28545065412950976,0.28938048541693934,0.29325696023596926,0.2970817618182495,0.3008565590376658,0.30458299871700745,0.3082626990368694,0.3118972440364747,0.3154881791333319,0.31903700756340825,0.3225451876371827,0.3260141307098259,0.3294451997707953,0.3328397085667661,0.3361989211807309,0.3395240519986929,0.3428162660033486,0.3460766793414288,0.3493063601179146,0.35250632937620785,0.35567756222856195,0.35882098910572335,0.3619374970988498,0.3650279313704218,0.3680930966140846,0.37113375854620595,0.37415064541444265,0.37714444951082016,0.38011582867876853,0.3830654078052652,0.38599378029072484,0.3889015094905854,0.39178913012367367,0.39465714964342963,0.39750604956892427,0.40033628677335514,0.40314829472834096,0.40594248470289246,0.40871924691640715,0.4114789516454376,0.4142219502843223,0.41694857636005733,0.4196591465020211,0.42235396136736414,0.42503330652303684,0.4276974532855544,0.4303466595197027,0.4329811703974632,0.43560121911849686,0.4382070275935603,0.44079880709225644,0.4433767588565319,0.4459410746813324,0.4484919374638203,0.4510295217225405,0.45355399408789887,0.45606551376528837,0.45856423297216553,0.46105029735034536,0.4635238463547421,0.4659850136197447]
["Finance & Lease|Large|RG_S2",0.3712157639374607,0.5689998541872853,0.673650725933057,0.7293154865270317,0.7592365675009005,0.7756149146403101,0.7848614553512221,0.7903474812722678,0.7938465744319133,0.7962919251240668,0.7981745329433261,0.7997527097961913,0.8011623372240395,0.802474898990985,0.8037280250203194,0.8049415649066942,0.8061260437978888,0.8072871083459204,0.8084278621062009,0.809550090364883,0.8106549008375069,0.811743057359535,0.8128151524196092,0.8138716952744608,0.8149131560003121,0.815939986683444,0.8169526308731945,0.8179515271179345,0.8189371096164979,0.8199098075531168,0.8208700439160588,0.8218182341987388,0.8227547851732777,0.8236800938188317,0.8245945464323795,0.8254985179227082,0.8263923712757673,0.8272764571743936,0.8281511137539678,0.8290166664759542,0.8298734281024913,0.8307216987567526,0.8315617660554089,0.8323939053010899,0.8332183797241972,0.8340354407647446,0.8348453283860959,0.8356482714135374,0.8364444878915687,0.837234185454637,0.8380175617067842,0.8387948046063307,0.8395660928523003,0.840331596269797,0.8410914761919919,0.8418458858367701,0.8425949706764299,0.8433388687991239,0.8440777112609944,0.8448116224281781,0.8455407203080545,0.846265116869279,0.846984918350286,0.8477002255560759,0.8484111341432002,0.8491177348929542,0.8498201139728578,0.8505183531865728,0.8512125302124515,0.8519027188309601,0.8525889891412514,0.8532714077671878,0.8539500380531411,0.854624940249904,0.8552961716910675,0.8559637869602177,0.8566278380493126,0.8572883745086033,0.8579454435884522,0.8585990903734103,0.859249357908898,0.8598962873208343,0.8605399179285487,0.8611802873513004]
["Other|Nano|RG_N0",0,6.7059766020086261E-4,0.002412129687583184,5.9917238954251845E-3,0.010249135996146795,0.014860773787202531,0.01974383973182749,0.02485801569711887,0.03017369725846028,0.0356657008657307,0.04131156316768405,0.047091003208331074,0.052985671728921234,0.05897897285078218,0.06505591038375685,0.07120294792521398,0.07740787995751357,0.08365971293232016,0.08994855571229252,0.09626551881553694,0.10260262192216471,0.1089527091091151,0.11530937128966427,0.12166687534886271,0.128020099484758,0.1343644742866554,0.1406959291049421,0.14701084329140504,0.15330600191390736,0.15957855557428205,0.16582598398298248,0.17204606296811872,0.17823683461979256,0.1843965802929763,0.1905237962134489,0.19661717145145122,0.20267556804670617,0.20869800308626524,0.21468363255329723,0.2206317367804466,0.22654170735579915,0.23241303534283886,0.2382453006881097,0.24403816270166612,0.2497913515058529,0.2555046603575602,0.26117793875790235,0.2668110862713283,0.2724040469835333,0.2779568045342633,0.28346937766722846,0.2889418162449183,0.2943741976811824,0.29976662374904645,0.3051192177254146,0.31043212183809904,0.31570549498405054,0.32093951069077326,0.3261343552957157,0.3312902263209717,0.3364073310229171,0.34148588509848166,0.34652611153161894,0.35152823956522283,0.35649250378525466,0.36141914330521047,0.3663084010402847,0.3711605230616942,0.37597575802261657,0.3807543566480929,0.38549657128204157,0.3902026554852555,0.39487286367889457,0.39950745082856853,0.40410667216462426,0.40867078293471515,0.4132000381851481,0.4176946925678795,0.42215500017036145,0.4265812143657434,0.43097358768119987,0.43533237168239436,0.4396578168723061,0.4439501726028343]
["Other|Nano|RG_N1",1.424701715237504E-3,3.6188125186191996E-3,7.231388447169208E-3,0.012671547117699642,0.018733836690569265,0.02507847161331463,0.031610309768771855,0.03828080472518245,0.045055408407454464,0.05190653935852662,0.05881133004838624,0.06575064472526049,0.0727084638926884,0.07967140653667724,0.08662833163471106,0.09356999926341338,0.10048878105864473,0.10737841270156885,0.11423378244868165,0.12105075061903416,0.1278259956663474,0.13455688306850377,0.14124135378713426,0.14787782949930892,0.1544651321916432,0.1610024160427001,0.16748910980945675,0.1739248681839326,0.18030953080214263,0.18664308777394822,0.1929256507631193,0.19915742878546042,0.20533870801219112,0.21146983496851238,0.21755120260569258,0.223583238801022,0.2295663969053096,0.23550114801369412,0.2413879746836821,0.247227365865609,0.25301981284609104,0.258765806035319,0.2644658324549498,0.2701203738054882,0.27572990501095135,0.2812948931547258,0.28681579673425855,0.29229306517390696,0.29772713854519944,0.30311844745218436,0.30846741304668374,0.3137744471443071,0.319039952417181,0.3242643226436499,0.32944794299881874,0.33459119037284535,0.3396944337064281,0.34475803433505964,0.3497823463353802,0.35476771686843084,0.3597144865158157,0.36462298960577916,0.3694935545270168,0.37432650402870576,0.37912215550577144,0.38388082126884154,0.3886028087986763,0.39328842098513334,0.3979379563509306,0.40255170926062944,0.4071299701153725,0.41167302553399554,0.4161811585211858,0.42065464862339014,0.42509377207319715,0.4294988019229116,0.43387000816803684,0.4382076578613601,0.44251201521831324,0.44678334171425366,0.45102189617427957,0.45522793485616164,0.45940171152693854,0.46354347753369024]
["Other|Nano|RG_N2",2.257896899048672E-3,0.008181122119023453,0.020052509604408263,0.04045365107900885,0.06122244540004117,0.08051859210117944,0.09820856027331869,0.11442352322389844,0.12932893381585944,0.14308174323150288,0.15582197897184757,0.16767264545769467,0.17874137067407025,0.18912223071013987,0.19889743106187938,0.20813879650627123,0.21690907851197044,0.22526309958897842,0.2332487541863223,0.240907883896966,0.24827704265091544,0.2553881656540879,0.26226915412267954,0.26894438636179285,0.27543516442142046,0.2817601044104826,0.2879354775404634,0.29397550808657014,0.29989263368070307,0.3056977326732219,0.311400322707579,0.31700873413288244,0.32253026142517127,0.32797129539059194,0.3333374385757082,0.3386336060056871,0.34386411310466913,0.3490327524195161,0.35414286056418437,0.3591973766235606,0.36419889309953507,0.3691497003455921,0.3740518253168179,0.3789070653578352,0.3837170176598893,0.38848310493850147,0.39320659781333006,0.3978886343108885,0.40253023685745587,0.4071323270829229,0.411695738715599,0.41622122881242585,0.42070948753795917,0.4251611466783234,0.4295767870526235,0.43395694496357773,0.4383021178110456,0.4426127689763216,0.44688933207127496,0.45113221463437136,0.455341801345101,0.4595184568191644,0.46366252803876157,0.467774346465343,0.4718542298760897,0.4759024839600714,0.4799194037053958,0.4839052746046205,0.4878603737021709,0.4917849705044368,0.49567932777054063,0.49954370219943406,0.5033783450269476,0.5071835025446447,0.5109594165507868,0.5147063247423722,0.5184244610560409,0.5221140559646167,0.5257753367351731,0.529408527653733,0.5330138502210455,0.5365915233232946,0.5401417633810852,0.5436647844796167]
["Other|Nano|RG_N3",0.05449974795210676,0.14388938873403442,0.307142901444246,0.35421666071094526,0.3709634693373717,0.3818059036840835,0.3908982938731924,0.3991479669846658,0.4068261173845679,0.41404044871940976,0.42085462483443,0.42731753712615395,0.433470417027788,0.43934896488078595,0.4449843094107206,0.4504036430754061,0.45563073158332884,0.4606863491034124,0.46558865651602543,0.47035353163523824,0.4749948578131906,0.4795247762225845,0.48395390638260555,0.4882915389089161,0.49254580396869624,0.49672381848687064,0.5008318147694238,0.5048752528768531,0.508858918789353,0.512787010150117,0.5166632111496976,0.5204907579187356,0.5242724956251106,0.5280109283216599,0.5317082624593946,0.5353664448663128,0.5389871958914114,0.5425720383255679,0.5461223226340177,0.5496392489678482,0.5531238863630453,0.5565771894841194,0.5600000132242999,0.5633931254348853,0.5667572180218912,0.5700929166180205,0.5734007890116479,0.5766813524914888,0.5799350802455112,0.583162406935059,0.5863637335497921,0.5895394316356217,0.5926898469760922,0.5958153027974096,0.5989161025583692,0.6019925323786187,0.6050448631518655,0.6080733523846782,0.6110782457963281,0.614059778710576,0.6170181772663456,0.6199536594707605,0.622866436115014,0.6257567115708949,0.6286246844835038,0.6314705483736889,0.6342944921619812,0.6370967006242888,0.6398773547882769,0.6426366322782102,0.6453747076150175,0.6480917524774633,0.6507879359295492,0.6534634246185881,0.656118382947831,0.6587529732270035,0.6613673558036823,0.663961689178045,0.6665361301032091,0.6690908336730704,0.6716259533993076,0.674141641278998,0.6766380478540989,0.6791153222638796]
["Other|Nano|RG_S0",0.013117183006857332,0.04218989186855586,0.08792310447941096,0.1309257716615859,0.16941998659628965,0.20373357660784802,0.23431412853804778,0.26160295112467175,0.28600131637705367,0.3078641083437753,0.3275030206472925,0.3451913434131742,0.3611685701727494,0.37564453199674364,0.3888030467062902,0.4008051259543126,0.41179179029145674,0.4218865391234948,0.4311975174339328,0.4398194162217583,0.4478351391606664,0.4553172640515455,0.46232932417325934,0.4689269315864151,0.47515876176210425,0.4810674165488001,0.4866901804169425,0.4920596830980596,0.49720448013342816,0.5021495614397115,0.506916796762351,0.5115253258011263,0.5159918998381048,0.520331180860213,0.5245560034328224,0.5286776039346874,0.5327058211974272,0.5366492720949209,0.5405155051910872,0.5443111351711184,0.5480419604448461,0.5517130660157864,0.5553289134505331,0.5588934195561018,0.5624100251736972,0.5658817553227621,0.5693112717760705,0.5727009190124156,0.5760527643757904,0.579368633166857,0.5826501393021283,0.5858987120971129,0.5891156196603011,0.5923019893240933,0.5954588254855425,0.5985870251831612,0.6016873916952091,0.6047606464091324,0.6078074391805245,0.6108283573725736,0.6138239337429865,0.6167946533243803,0.6197409594257701,0.6226632588667058,0.6255619265415521,0.6284373093991046,0.6312897299119755,0.6341194891007774,0.6369268691699004,0.6397121358044902,0.642475540171943,0.645217320665737,0.6479377044246158,0.6506369086559428,0.653315141788375,0.6559726044758009,0.6586094904716898,0.6612259873905526,0.6638222773710797,0.6663985376536589,0.668954941083348,0.6714916565479548,0.6740088493596417,0.6765066815873836]
["Other|Nano|RG_S1",0.20037810057268662,0.5922144827206515,0.659260263152541,0.6761072453993682,0.6858659506872853,0.6933179518511365,0.699725995617884,0.70549319083608,0.7107599463457419,0.7156006703397548,0.7200701771938283,0.7242141266520943,0.7280719404036216,0.7316779868798395,0.7350623040754118,0.7382511611069995,0.7412675339376593,0.7441315183332298,0.7468606906155486,0.7494704233072842,0.7519741613997335,0.7543836641578909,0.7567092167458842,0.7589598154214476,0.7611433295837062,0.7632666435522217,0.7653357805991388,0.7673560114440681,0.7693319491476001,0.7712676320993597,0.7731665965861381,0.7750319402412233,0.7768663775144287,0.7786722881606649,0.7804517596207803,0.7822066240596199,0.783938490730973,0.7856487742555898,0.7873387193253225,0.7890094222823996,0.7906618499667355,0.7922968561750661,0.7939151960326769,0.795517538540834,0.797104477530054,0.7986765412204944,0.8002342005654748,0.8017778765320405,0.8033079464531283,0.8048247495689622,0.8063285918605063,0.807819750264833,0.8092984763509417,0.8107649995246413,0.8122195298224486,0.8136622603468715,0.8150933693888163,0.8165130222770658,0.8179213729897146,0.8193185655580129,0.8207047352892072,0.8220800098315877,0.8234445101019918,0.8247983510934398,0.8261416425783208,0.8274744897205835,0.8287969936086601,0.8301092517193591,0.8314113583216474,0.8327034048280988,0.8339854801007918,0.8352576707175623,0.8365200612037633,0.8377727342340147,0.8390157708078532,0.8402492504026848,0.8414732511070024,0.8426878497364494,0.8438931219349746,0.8450891422630331,0.846275984274534,0.847453720584012,0.8486224229253125,0.849782162202906]
["Other|Nano|RG_S2",0.8020088451003341,0.8729054222840027,0.8843312143387592,0.890140198298979,0.8934081501033622,0.8958186902113318,0.8978992541477969,0.8997779461195422,0.9014977348836524,0.9030821804703607,0.9045486904659303,0.9059117503875875,0.9071838628795056,0.9083759252015118,0.9094974590889957,0.9105567895145101,0.9115611961116865,0.91251704456995,0.9134299013723113,0.9143046341458065,0.9151454994585138,0.9159562196350985,0.9167400499602005,0.9174998374674349,0.9182380723628104,0.9189569330011085,0.9196583252196853,0.9203439167342072,0.9210151672132499,0.9216733545719537,0.9223195979577048,0.9229548778419108,0.9235800535803507,0.9241958787593882,0.924803014605756,0.9254020417029549,0.9259934702269579,0.9265777488873226,0.9271552727365483,0.9277263899901311,0.9282914079819351,0.9288505983638831,0.9294042016452998,0.9299524311552807,0.9304954765009901,0.9310335065856322,0.9315666722418217,0.9320951085290712,0.9326189367379745,0.9331382661383019,0.9336531955035274,0.9341638144402051,0.9346702045470203,0.9351724404252053,0.9356705905592633,0.936164718084545,0.9366548814561284,0.937141135031615,0.9376235295788589,0.9381021127182421,0.9385769293078885,0.9390480217791402,0.9395154304286852,0.9399791936729149,0.9404393482693714,0.9408959295095294,0.9413489713866116,0.9417985067416625,0.9422445673906941,0.9426871842353539,0.9431263873592524,0.9435622061118124,0.9439946691812602,0.9444238046581745,0.9448496400908213,0.9452722025333475,0.9456915185877666,0.9461076144405484,0.9465205158945185,0.9469302483966852,0.9473368370625259,0.9477403066972012,0.9481406818140996,0.9485379866510653]
["Other|Micro|RG_N0",0,3.1751167438236861E-4,1.7000054483259793E-3,0.004811470621610613,0.00866358060170603,0.012915604688143694,0.01744784649484037,0.022210960790914513,0.027176111064275123,0.03232106059604403,0.03762638037108968,0.04307439702352579,0.048648861358008194,0.05433480472643639,0.06011844493265393,0.06598710635634646,0.07192914557760843,0.07793388054446722,0.0839915229784243,0.09009311406518064,0.09623046350919363,0.10239609199178407,0.10858317702556113,0.1147855021572747,0.12099740943904393,0.12721375506358112,0.13342986804131973,0.13964151178508435,0.14584484846008414,0.1520364059526992,0.15821304731004096,0.16437194250299808,0.17051054236793595,0.17662655458598572,0.18271792156360608,0.18878280008354933,0.1948195426012925,0.20082668006821927,0.2068029061692197,0.21274706286879486,0.21865812716612,0.22453519896576807,0.23037748997686908,0.2361843135593386,0.2419550754414304,0.24768926523822468,0.2533864487057525,0.2590462606702684,0.2646683985767153,0.27025261660468775,0.27579872030418673,0.2813065617071924,0.28677603487455616,0.2922070718409542,0.2975996389236494,0.30295373336360193,0.3082693802700515,0.3135466298420851,0.3187855548429138,0.3239862483046204,0.3291488214430168,0.3342734017639834,0.3393601313442523,0.3444091652710615,0.3494206702264515,0.3543948232032088,0.35933181034059564,0.36423182586903996,0.36909507115391266,0.37392175382939,0.378712087014193,0.38346628860172793,0.38818458061781647,0.39286718863981157,0.39751434127145396,0.40212626966833037,0.4067032071092567,0.411245388609335,0.41575305057081485,0.4202264304682453,0.4246657665647205,0.42907129765631435,0.4334432628420681,0.43778190131713235]
["Other|Micro|RG_N1",4.6679187484793751E-4,1.7024749139456724E-3,0.004975686221197658,0.010609527625521658,0.01706269416036986,0.02381890896751726,0.03070851955561747,0.03767107326048134,0.04467815079234503,0.051711701966559095,0.058757983812659884,0.06580574885437981,0.07284558141773623,0.07986955918197056,0.08687102178730319,0.09384438685157095,0.10078499529264057,0.10768897895994195,0.11455314676221116,0.121374886573708,0.12815208072001785,0.13488303318228692,0.14156640692177175,0.14820116994623253,0.15478654892738533,0.16132198934017955,0.16780712123406208,0.17424172986677564,0.18062573053526737,0.1869591470282009,0.19324209320231256,0.19947475725209288,0.20565738830044147,0.21179028498827296,0.21787378578460664,0.223908260776374,0.2298941047298125,0.23583173124357162,0.24172156783812085,0.24756405184723548,0.25335962699567766,0.25910874056307576,0.26481184104775823,0.27046937625620415,0.2760817917540815,0.28164952962376444,0.2871730274809424,0.29265271770960927,0.29808902688049954,0.3034823753230287,0.3088331768251085,0.31414183843893767,0.31940876037407934,0.3246343359619144,0.32981895167794933,0.33496298721051726,0.3400668155661825,0.3451308032036816,0.3501553101895439,0.3551406903696522,0.36008729155196884,0.3649954556964699,0.3698655191090324,0.37469781263661706,0.37949266186159275,0.3842503872934852,0.38897130455678747,0.3936557245737841,0.3983039537415931,0.40291629410284546,0.4074930435096036,0.4120344957802645,0.4165409408493182,0.421012664909929,0.42544995054938883,0.42985307687755514,0.43422231964843677,0.4385579513751283,0.44286024143832625,0.4471294561886759,0.451365859043218,0.45556971057620854,0.45974126860459086,0.4638807882684012]
["Other|Micro|RG_N2",1.0821992940859742E-3,0.003775290020265062,0.01136012807299282,0.025288971629792902,0.04051122993389706,0.055454272659985274,0.06970608914239013,0.08320826872503408,0.09599483651236719,0.10812022902924079,0.11964028857457869,0.13060757192843878,0.14107041018070735,0.15107293090181106,0.1606553145941473,0.1698540964480761,0.17870246455336342,0.18723054217453267,0.19546565128609772,0.20343255716802786,0.2111536946263543,0.2186493766626697,0.2259379865197299,0.23303615407408035,0.2399589175596433,0.24671987159960512,0.2533313025035156,0.25980431175610996,0.26614892858689226,0.2723742124672406,0.27848834633650615,0.2844987213116891,0.29041201358787994,0.29623425418960975,0.30197089218719037,0.3076268519475231,0.31320658494605236,0.3187141166257647,0.3241530887505378,0.32952679766379644,0.3348382288293675,0.3400900879996164,0.34528482932636,0.3504246807026035,0.3555116665977602,0.36054762862559087,0.3655342440625293,0.37047304251424196,0.37536542091009206,0.3802126569885308,0.3850159214212147,0.3897762887097494,0.3944947469762807,0.39917220675760673,0.40380950890197354,0.40840743165816196,0.4129666970377974,0.4174879765239365,0.42197189619184294,0.4264190413013955,0.43082996041471044,0.43520516908725704,0.43954515317595255,0.44385037180338627,0.4481212600134082,0.4523582311497837,0.45656167898642397,0.4607319796348262,0.464869493251762,0.4689745655679155,0.4730475292560647,0.477088705155505,0.4810984033677039,0.48507692423664117,0.4890245592259059,0.49294159170337776,0.49682829764320424,0.5006849462537798,0.5045118005395303,0.5083091178034977,0.512077150096989,0.5158161446219018,0.5195263440907546,0.523207987048918]
["Other|Micro|RG_N3",0.02982980884691267,0.13886300642319466,0.31632124176484094,0.37703010090536443,0.3995259082060864,0.4103723674155144,0.41786781571296483,0.42430699209987294,0.4303159686516242,0.43607144878073834,0.4416310475883529,0.44702031650018403,0.45225550584934193,0.4573495508237601,0.46231370195203897,0.46715802300489606,0.47189158992938707,0.47652260642797656,0.48105849227048153,0.4855059592682424,0.48987107920218553,0.494159345224604,0.49837572751017495,0.5025247237110299,0.5066104046863382,0.51063645592917,0.5146062150767269,0.5185227058577605,0.5223886688013971,0.5262065890041883,0.5299787212268007,0.5337071125682521,0.5373936229438983,0.5410399435733578,0.5446476136661567,0.5482180354759617,0.551752487878764,0.5552521386161647,0.5587180553319272,0.5621512155180843,0.5655525154760542,0.5689227783883416,0.572262761587399,0.5755731631000341,0.5788546275382991,0.5821077514010251,0.5853330878440233,0.5885311509713888,0.5917024196952818,0.5948473412069796,0.5979663340978257,0.6010597911649475,0.6041280819331992,0.6071715549217076,0.6101905396806094,0.6131853486210468,0.6161562786592122,0.6191036126931736,0.6220276209293544,0.6249285620738652,0.627806684402369,0.630662226720798,0.6334954192280051,0.636306484290327,0.639095637137029,0.6418630864847035,0.6446090350978819,0.6473336802923787,0.6500372143872415,0.6527198251105717,0.6553816959639583,0.6580230065497764,0.6606439328651768,0.6632446475661986,0.6658253202050899,0.6683861174436022,0.6709272032447456,0.673448739045236,0.6759508839106331,0.6784337946749678,0.6808976260664691,0.6833425308208352,0.685768659783346,0.6881761620009791]
["Other|Micro|RG_S0",0.017179476814239297,0.044058101777194235,0.08378551202024984,0.12171231281660672,0.1558026863764136,0.18596223727981426,0.21259216565561972,0.2361539444311178,0.2570724405589003,0.2757184710353507,0.2924109291519951,0.307422933628071,0.32098818006172625,0.33330663547870326,0.34454946112640766,0.35486322411042837,0.36437349007607844,0.37318788575700246,0.3813987095639606,0.3890851573419844,0.39631522052950946,0.4031473054175366,0.40963161492335365,0.41581132809791593,0.4217236073207192,0.4274004586620386,0.432869467090696,0.43815442497469,0.443275869575989,0.44825154290645747,0.45309678532721753,0.4578248725860986,0.46244730455247834,0.46697405268784503,0.47141377225158293,0.4757739843574528,0.48006123224378605,0.48428121547979897,0.48843890528492123,0.49253864367338357,0.4965842287404381,0.5005789880692211,0.5045258419496792,0.5084273578557644,0.5122857974179315,0.5161031569495159,0.5198812024332479,0.5236214997441058,0.5273254407736391,0.5309942660259824,0.5346290841746607,0.5382308889999178,0.5418005740669614,0.545338945454733,0.5488467328013285,0.552324598894948,0.5557731480073377,0.5591929331393095,0.5625844623244554,0.5659482041170119,0.569284592372533,0.5725940304151556,0.5758768946724588,0.5791335378479278,0.5823642916915587,0.5855694694210026,0.5887493678386124,0.5919042691837062,0.5950344427541341,0.5981401463267224,0.6012216274022743,0.6042791242974346,0.6073128671028138,0.6103230785242423,0.6133099746218394,0.616273765459693,0.619214655677295,0.6221328449924594,0.6250285286442063,0.6279018977830214,0.6307531398149636,0.633582438705281,0.6363899752464817,0.6391759272951947]
["Other|Micro|RG_S1",0.2140635765380193,0.595512541528163,0.682695243441718,0.7102219447849261,0.7203903227655262,0.725924274127502,0.7300824190204871,0.7337344640275116,0.7371206616302205,0.7403170068968203,0.7433554691917118,0.7462552585090416,0.7490310538771485,0.7516952707838768,0.7542587740685095,0.7567311745678637,0.7591210047981957,0.7614358514808542,0.7636824664666001,0.765866862925188,0.7679943997116172,0.7700698556530753,0.7720974950713408,0.7740811256335824,0.7760241494709946,0.7779296083816514,0.779800223829806,0.7816384323641231,0.7834464169995359,0.785226135039821,0.786979342759157,0.788707617309693,0.790412376177468,0.7920948944700309,0.7937563202850413,0.7953976883793442,0.7970199323319443,0.7986238953714665,0.8002103400186656,0.8017799566769784,0.8033333712886731,0.8048711521605844,0.8063938160514841,0.8079018336026195,0.8093956341836899,0.810875610218354,0.8123421210461496,0.8137954963713296,0.815236039343485,0.8166640293098392,0.8180797242746852,0.819483363097525,0.820875167458005,0.8222553436126663,0.8236240839657984,0.8249815684742624,0.8263279659039928,0.827663434953976,0.828988125261796,0.8303021783033258,0.8316057281977892,0.8328989024282193,0.8341818224862658,0.83545460444935,0.8367173594973133,0.8379701943749471,0.8392132118061121,0.8404465108645508,0.8416701873059581,0.8428843338653883,0.8440890405236504,0.8452843947459558,0.846470481695738,0.8476473844262572,0.8488151840523286,0.8499739599042624,0.8511237896658913,0.8522647494983563,0.853396914151151,0.8545203570617658,0.8556351504451299,0.8567413653739283,0.8578390718507515,0.8589283388729388]
["Other|Micro|RG_S2",0.7946308988082792,0.889527576438858,0.9101040960937363,0.9151598735335343,0.9172674327329088,0.918661524454166,0.9198389070593237,0.9209186245143622,0.9219340061717705,0.9228972014809234,0.9238146964698527,0.9246911908284867,0.9255306138224318,0.9263364163394802,0.9271116752021271,0.927859146265638,0.928581301562688,0.9292803598504682,0.9299583132372569,0.9306169508182597,0.9312578797740036,0.9318825442380587,0.9324922421820685,0.9330881405322886,0.9336712887066301,0.9342426307400984,0.9348030161481109,0.9353532096609429,0.935893899948145,0.9364257074389937,0.936949191333674,0.9374648558897749,0.9379731560596897,0.9384745025464918,0.9389692663387144,0.9394577827780959,0.9399403552086694,0.9404172582505003,0.9408887407368536,0.9413550283495176,0.9418163259834017,0.942272819868289,0.9427246794727314,0.9431720592124893,0.9436150999836007,0.9440539305380908,0.9444886687184731,0.9449194225655357,0.9453462913124072,0.9457693662765684,0.9461887316602711,0.9466044652687569,0.9470166391547017,0.9474253201964503,0.9478305706168291,0.9482324484486301,0.9486310079522354,0.9490262999902923,0.9494183723638443,0.9498072701138761,0.9501930357918219,0.950575709702226,0.9509553301204164,0.9513319334877602,0.9517055545868071,0.9520762266983893,0.9524439817425374,0.9528088504048771,0.9531708622500051,0.9535300458231866,0.9538864287415791,0.954240037776065,0.9545908989246626,0.954939037478387,0.9552844780803418,0.9556272447787421,0.9559673610744994,0.9563048499639304,0.9566397339770958,0.9569720352122248,0.9573017753666304,0.9576289757644805,0.9579536573817524,0.9582758408686652]
["Other|Small|RG_N0",0,4.5370649001675922E-4,1.5577966940317374E-3,0.004187040497158998,0.007423547885076322,0.010999578926339307,0.014833931849652945,0.018891067581062633,0.02314679871703961,0.02758065156469486,0.032174148800351014,0.03691036500927381,0.041773754858594324,0.04675004221884217,0.05182612583823038,0.05698999234992223,0.062230634710954504,0.0675379756471721,0.07290279594118056,0.07831666742017354,0.08377189047904524,0.08926143595187411,0.09477889112858871,0.10031840970356694,0.10587466543805743,0.11144280931756549,0.11701842998778582,0.12259751725752069,0.1281764284636678,0.1337518575012925,0.13932080633060626,0.1448805587820341,0.15042865649021084,0.15596287679749757,0.16148121247730104,0.16698185313698924,0.17246316816943832,0.17792369113115336,0.183362105433434,0.18877723124117715,0.1941680134816016,0.199533510872443,0.20487288588599428,0.21018539557177077,0.21547038316656483,0.22072727042623969,0.22595555061881054,0.23115478212319227,0.23632458258247302,0.2414646235647247,0.2465746256882005,0.2516543541713173,0.2567036147710959,0.26172225007674854,0.2667101361278889,0.27166717932939427,0.27659331363730955,0.28148849799234316,0.286352713979496,0.2911859636941883,0.2959882677969248,0.3007596637400753,0.305500204151756,0.3102099553630867,0.31488899606628284,0.3195374160921228,0.3241553152963225,0.328742802545257,0.33329999479229644,0.33782701623678585,0.3423239975583901,0.34679107522016017,0.3512283908342577,0.35563609058480444,0.3600143247028067,0.3643632469885494,0.36868301437725515,0.3729737865441767,0.3772357255456237,0.3814689954927372,0.3856737622551016,0.3898501931915419,0.3939984569056905,0.39811872302411594]
["Other|Small|RG_N1",4.5251738613827022E-4,1.7223402917309846E-3,0.004403881073318099,0.009133512173856202,0.014526244658364152,0.020187908059642393,0.02600464228588741,0.03193188057949256,0.037943082421427264,0.044018059497779635,0.05014012106882828,0.05629516130064109,0.06247120210416022,0.06865807001883108,0.07484713384207763,0.08103108285467676,0.0872037373722423,0.09335988644559205,0.09949514868893965,0.10560585288820601,0.11168893554924664,0.11774185296382983,0.12376250572413112,0.1297491739164664,0.13570046148046183,0.14161524843766507,0.14749264987942176,0.15333198076247892,0.15913272569629086,0.1648945130218397,0.170617092580859,0.1763003166591482,0.18194412366028326,0.18754852412826223,0.19311358879098414,0.19863943834224218,0.20412623471921676,0.20957417366621553,0.21498347840442517,0.22035439425239353,0.2256871840634315,0.23098212436460483,0.23623950209790637,0.24145961187791284,0.2466427536920543,0.25178923097981915,0.2568993490360127,0.26197341369077753,0.2670117302256325,0.272014602490445,0.2769823321911344,0.28191521832212124,0.28681355672118164,0.29167763972751026,0.2965077559265166,0.3013041899672233,0.3060672224401626,0.3107971298054188,0.3154941843619726,0.32015865425080564,0.3247908034853494,0.3293908920038279,0.3339591757388802,0.3384959067005632,0.3430013330694556,0.34747569929711125,0.3519192462115647,0.35633221112598423,0.3607148279488973,0.36506732729469915,0.3693899365933991,0.37368288019876345,0.37794637949419024,0.38218065299579773,0.38638591645233494,0.39056238294162565,0.39471026296334605,0.39882976452800933,0.40292109324208814,0.4069844523892599,0.4110200430077958,0.415028063964149,0.41900871202282297,0.42296218191262125]
["Other|Small|RG_N2",0.002140430099707597,0.006666558318812914,0.015273547204137124,0.03030681567578409,0.04619495617420779,0.06151976079055869,0.07601371993914445,0.08967600382626335,0.1025601330824637,0.11472744731596927,0.12623727202139567,0.13714498138249046,0.14750175509487268,0.15735470687780156,0.16674709939984703,0.17571858048533026,0.1843054229865353,0.1925407616750775,0.20045482359954822,0.20807514963676588,0.2154268057327826,0.2225325828846683,0.22941318533731125,0.23608740679467505,0.24257229469267835,0.24888330276652607,0.255034432281254,0.26103836239051004,0.2669065701533981,0.2726494407792563,0.27827636869098016,0.28379585000336655,0.2892155670075145,0.29454246523846284,0.2997828236832758,0.30494231866254656,0.31002608189123143,0.3150387531959946,0.31998452833672403,0.32486720235025557,0.3296902088051286,0.3344566553277725,0.3391693557331657,0.3438308590669062,0.34844347584090135,0.3530093017216007,0.35753023890788194,0.36200801541535527,0.3664442024649488,0.3708402301561316,0.3751974015889694,0.37951690558432133,0.3837998281378081,0.38804716273064077,0.3922598196089182,0.3964386341325113,0.40058437428508137,0.4046977474280556,0.40877940637344756,0.4128299548431921,0.4168499523761128,0.42083991873769133,0.4248003378824204,0.4287316615136366,0.43263431228131155,0.4365086866542791,0.4403551574997638,0.4441740763998086,0.4479657757312511,0.4517305705332335,0.4554687601838327,0.45918062990522757,0.46286645211486965,0.4665264876383624,0.4701609867981701,0.4737701903908474,0.47735433056419785,0.4809136316046105,0.4844483106437826,0.487958578293102,0.4914446392131166,0.49490669262476356,0.4983449327683498,0.50175954931566]
["Other|Small|RG_N3",0.045241679030214484,0.11023732565739686,0.27073409903736245,0.3188826777932062,0.3363804332817772,0.34638636066266637,0.35442164228067835,0.36172965800144763,0.36860841465862926,0.37514985986152816,0.381398934316467,0.3873876698391839,0.3931427467774302,0.39868740886903037,0.4040421490704052,0.40922510046944693,0.4142523335585938,0.4191381064338486,0.4238950813811277,0.4285345138401003,0.4330664177237624,0.437499710271128,0.4418423391187717,0.44610139389692016,0.4502832043388828,0.4543934266227806,0.4584371194333697,0.4624188110332865,0.4663425584623895,0.47021199983697415,0.4740304005940404,0.4778006944165557,0.4815255194813087,0.48520725058934167,0.4888480276683025,0.49244978107480464,0.4960142540717282,0.49954302280920243,0.5030375140978237,0.5064990212276604,0.509928718056071,0.5133276715607092,0.5166968530308006,0.5200371480493798,0.5233493654013323,0.5266342450264064,0.5298924651226211,0.5331246484934009,0.5363313682211358,0.5395131527404995,0.5426704903765978,0.5458038334057362,0.5489136016901591,0.5520001859324182,0.5550639505900028,0.5581052364863981,0.5611243631507917,0.564121630915144,0.567097322794225,0.5700517061714631,0.5729850343109932,0.5758975477141057,0.5787894753363619,0.5816610356799053,0.5845124377739581,0.5873438820551212,0.5901555611578684,0.592947660624533,0.5957203595431073,0.59847383112031,0.6012082431965898,0.6039237587090445,0.60662053610761,0.6092987297293183,0.6119584901349236,0.6145999644117552,0.6172232964462521,0.6198286271692801,0.6224160947770131,0.6249858349298723,0.6275379809317588,0.630072663891594,0.6325900128689601,0.6350901550054687]
["Other|Small|RG_S0",0.04402622479170274,0.09000468390723229,0.14312488362205492,0.19059396264679895,0.23183304671302365,0.2675122464155311,0.2984231035577803,0.32527808871841757,0.3486880633238775,0.36917110859831037,0.3871656130296621,0.40304245807537675,0.41711551978575057,0.4296505613024862,0.44087273186767034,0.4509728854744967,0.46011290494112483,0.46843018892751126,0.47604143457009684,0.4830458273099967,0.4895277317198305,0.4955589621970838,0.5012006998415075,0.5065051112894589,0.5115167164180616,0.5162735443867043,0.520808111226104,0.5251482469256756,0.5293177955485545,0.5333372081862412,0.5372240454388763,0.5409934034781009,0.5446582755379271,0.548229858818387,0.5517178152209669,0.5551304930169503,0.5584751154403008,0.5617579412624379,0.5649844016193306,0.5681592166983339,0.5712864953334525,0.5743698200866909,0.5774123199959498,0.5804167328348686,0.5833854584472679,0.5863206044801615,0.5892240256377386,0.5920973574084097,0.5949420450730738,0.5977593686810313,0.6005504645769909,0.6033163439754399,0.6060579090048182,0.6087759665813712,0.6114712404195048,0.614144381440453,0.6167959768028601,0.619426557746407,0.6220366064120106,0.6246265617786474,0.6271968248368464,0.6297477631018691,0.6322797145550559,0.6347929910894164,0.6372878815249495,0.639764654250112,0.6422235595381085,0.6446648315800234,0.6470886902711265,0.6494953427817896,0.6518849849402525,0.6542578024508608,0.6566139719682876,0.6589536620455674,0.6612770339714581,0.6635842425106453,0.6658754365585747,0.6681507597212035,0.6704103508286587,0.6726543443906721,0.6748828710006765,0.6770960576946029,0.6792940282696744,0.6814769035678488]
["Other|Small|RG_S1",0.12386029719144907,0.49050631565531244,0.5527927720152984,0.5703821792929037,0.5784315413003364,0.5842653511716939,0.5893988072662169,0.5941729818602265,0.5986819571306896,0.6029655037579339,0.6070496416279351,0.6109554337218819,0.6147010874671357,0.6183026187328051,0.6217741852592717,0.6251283257570148,0.628376157645069,0.6315275474467554,0.6345912592736433,0.6375750846774942,0.6404859564007962,0.6433300481448768,0.6461128621705223,0.6488393062957364,0.6515137616428456,0.654140142305307,0.6567219479484587,0.6592623102242081,0.6617640337640956,0.6642296324155623,0.6666613613003094,0.6690612451993927,0.6714311037054848,0.6737725735271365,0.6760871282816729,0.678376096071522,0.680640675102425,0.6828819475703516,0.6851008920163963,0.6872983943249118,0.689475257519165,0.6916322104904706,0.6937699157807197,0.6958889765241705,0.6979899426420481,0.70007331637268,0.7021395572103963,0.7041890863180515,0.7062222904706692,0.7082395255812157,0.7102411198537848,0.7122273766044187,0.7141985767853183,0.7161549812442476,0.7180968327474322,0.720024357791154,0.7219377682244932,0.723837262703228,0.7257230279927418,0.7275952401358543,0.7294540654997888,0.7312996617149643,0.7331321785169435,0.7349517585016644,0.7367585378030064,0.7385526467007829,0.740334210166401,0.74210334835266,0.7438601770334861,0.7456048079987887,0.747337349409082,0.7490579061140288,0.7507665799386336,0.7524634699404176,0.7541486726405675,0.755822282231737,0.7574843907648994,0.7591350883174065,0.7607744631441821,0.7624026018137794,0.7640195893308559,0.765625509246455,0.7672204437573447,0.7688044737955302]
["Other|Small|RG_S2",0.7392034851334446,0.8118249927600238,0.8296983812309029,0.8357804384559517,0.8393524623149021,0.8421992041691163,0.8447143876616381,0.8470041954547299,0.8491117895451463,0.8510641448719051,0.8528822718604513,0.8545837399254586,0.8561835309176459,0.8576944930339747,0.8591276692456211,0.8604925641942232,0.8617973684077392,0.8630491483703586,0.8642540080998193,0.8654172266785105,0.8665433754242163,0.8676364177994413,0.8686997946749632,0.8697364971582596,0.8707491288564474,0.8717399591558563,0.8727109688577749,0.8736638893051529,0.874600235962147,0.875521337262335,0.8764283594179907,0.8773223277784307,0.8782041452371612,0.8790746081128187,0.8799344198656198,0.8807842029574171,0.8816245091179984,0.8824558282417053,0.8832785961057107,0.8840932010734889,0.8848999899233734,0.8856992729219924,0.8864913282452518,0.8872764058349536,0.8880547307666995,0.8888265061941195,0.8895919159253982,0.8903511266803209,0.8911042900694326,0.8918515443312187,0.8925930158583495,0.8933288205398464,0.8940590649424411,0.8947838473513061,0.8955032586876799,0.8962173833186139,0.896926299772097,0.8976300813690993,0.898328796782603,0.8990225105324124,0.8997112834234202,0.9003951729340529,0.9010742335607798,0.9017485171238426,0.902418073038736,0.9030829485574108,0.9037431889826995,0.9043988378590363,0.905049937142184,0.9056965273503514,0.906338647698812,0.9069763362198795,0.9076096298698864,0.9082385646246163,0.9088631755644772,0.9094834969505508,0.9100995622925303,0.9107114044094371,0.9113190554839101,0.9119225471107723,0.9125219103404985,0.9131171757181393,0.9137083733181952,0.914295532775879]
["Other|Medium|RG_N0",1.0024837332417195E-3,0.00297245334677255,0.00655846109610852,0.011664184734645842,0.017515838498181807,0.023821225260709435,0.030467451522136525,0.03739061733132426,0.04454233770273505,0.051882015174451714,0.05937472551444178,0.06699026862324692,0.07470250529600508,0.08248881053171402,0.09032960518462979,0.09820795156817894,0.1061092036536261,0.11402070428730503,0.12193152298044055,0.12983222873515393,0.1377146931417899,0.14557191964351932,0.15339789543129265,0.16118746291932884,0.16893620816996344,0.17664036399669333,0.184296725784026,0.19190257832943458,0.1994556322424514,0.20695396863393592,0.21439599099929318,0.22178038334673658,0.2291060737488496,0.2363722026055264,0.2435780950012667,0.2507232366218297,0.25780725276620187,0.2648298900512163,0.2717910004592994,0.27869052742583533,0.28552849370250305,0.292304990767492,0.2990201695834569,0.3056742325300545,0.31226742636044935,0.31880003605074336,0.325272379428273,0.33168480247947735,0.33803767525086115,0.34433138826772197,0.35056634940500075,0.35674298115304104,0.362861718228374,0.36892300548602575,0.3749272960953974,0.3808750499466031,0.3867667322583641,0.39260281236222416,0.398383762641051,0.40411005760257646,0.40978217307115344,0.4154005854830351,0.4209657712723224,0.4264782063363463,0.4319383655706554,0.4373467224650096,0.4427037487528562,0.44800991410769936,0.4532656858805973,0.4584715288737324,0.4636279051456309,0.4687352738441529,0.473794091063851,0.4788048097247197,0.48376787946971783,0.4886837465787716,0.4935528538972451,0.49837564077711044,0.5031525430292658,0.5078839928856391,0.5125704189698782,0.517212246275577,0.52180989615111,0.5263637862902634]
["Other|Medium|RG_N1",3.0799712995766866E-4,0.001533088462483834,0.004265183617335143,0.008556281598381087,0.01370655267783321,0.019428620919815336,0.025596590555073413,0.03213160426023705,0.0389717241379843,0.046064622791719086,0.053365324198781476,0.06083503627690047,0.06844028368040057,0.07615218313519947,0.08394582171884458,0.09179972059497057,0.09969537187791748,0.10761683845810009,0.11555040810835754,0.12348429441490533,0.13140837811796138,0.13931398333957712,0.14719368394214602,0.15504113591887497,0.1628509322827657,0.17061847740664604,0.17833987818484404,0.18601184974689083,0.19363163376344036,0.20119692765147856,0.20870582321591177,0.21615675346295526,0.22354844649182634,0.2308798855188871,0.2381502742158432,0.24535900665368707,0.2525056412391823,0.2595898781128859,0.266611539548775,0.2735705529570075,0.28046693614452317,0.2873007845342082,0.29407226008318166,0.3007815816752541,0.30742901679248164,0.31401487429662145,0.32053949817371663,0.32700326211447855,0.33340656481998154,0.3397498259367958,0.34603348253835287,0.3522579860803284,0.358423799767359,0.3645313962766821,0.3705812557914648,0.3765738643028161,0.38250971214488627,0.38838929273214556,0.3942131014720137,0.3999816348295454,0.4056953895239497,0.411354861839389,0.41696054703481655,0.4225129388396248,0.428012529023623,0.4334598070313769,0.43885525967226385,0.44419937085873795,0.44949262138629387,0.4547354887494811,0.4599284469890684,0.46507196656611044,0.47016651425923145,0.4752125530819317,0.4802105422171492,0.48516093696667706,0.4900641887133598,0.4949207448942671,0.49973104898328835,0.5044955404817997,0.5092146549162352,0.5138888238415558,0.5185184748497415,0.5231040315825543]
["Other|Medium|RG_N2",0.018048751989339487,0.036721794934198596,0.06011928531891735,0.08837931644217503,0.11605497889404152,0.1416322637993565,0.16498541675139589,0.1862961320817964,0.2057855476343765,0.22366079014722823,0.24010718072962683,0.25528896896303815,0.26935137834267436,0.2824226789125731,0.2946160849393333,0.3060314604332165,0.31675684471950266,0.32686981399342974,0.33643869443581653,0.3455236414648948,0.35417759859986575,0.36244714831389757,0.3703732661886997,0.37799198866468764,0.38533500371932927,0.39243017290691856,0.399301992358255,0.4059719995689143,0.41245913209883817,0.41878004366161603,0.42494938249612757,0.43098003638272575,0.4368833481871908,0.4426693053844701,0.4483467066269537,0.45392330807502224,0.4594059518972768,0.46480067907085176,0.4701128283653472,0.47534712317425076,0.48050774766251547,0.48559841352571576,0.49062241850262706,0.49558269764706686,0.5004818682445162,0.5053222691526849,0.5101059952512562,0.5148349276031536,0.5195107598565741,0.5241350213526094,0.5287090973465386,0.5332342467009313,0.5377116173647619,0.5421422599140965,0.5465271393959602,0.5508671456871518,0.555163102553578,0.5594157755726806,0.563625879061341,0.5677940821339509,0.5719210139998046,0.5760072685953591,0.5800534086349793,0.5840599691533285,0.5880274606034106,0.5919563715662496,0.5958471711211673,0.5997003109194758,0.6035162269990199,0.607295341372292,0.61103806341673,0.6147447910921962,0.6184159120074899,0.6220518043549852,0.625652837730076,0.6292193738500056,0.6327517671848105,0.6362503655115024,0.639715510401202,0.643147537647711,0.6465467776449304,0.6499135557195964,0.6532481924249863,0.6565510038005254]
["Other|Medium|RG_N3",0.04294154280031476,0.15256491381694695,0.28023874260562176,0.32984435877076096,0.3529369751754277,0.3688374868768457,0.3823474954072924,0.3945704383593516,0.4058180120801801,0.4162380898345042,0.4259373564139964,0.4350048326071422,0.4435172727221056,0.45154128570271346,0.45913475816656585,0.46634802259024455,0.473224859439553,0.4798033638077746,0.48611669605543445,0.49219373229539815,0.4980596282639531,0.5037363082482552,0.5092428891443015,0.5145960483465308,0.5198103429873877,0.5248984870257672,0.52987159180422,0.5347393749364471,0.539510341732101,0.5441919428007751,0.5487907109888719,0.5533123803811826,0.5577619897342943,0.5621439723935273,0.566462234472227,0.5707202228360571,0.5749209842304874,0.5790672167125863,0.5831613143948291,0.5872054063757031,0.5912013906166504,0.5951509634249839,0.5990556451157469,0.6029168023503233,0.6067356675843558,0.6105133560009195,0.6142508802557425,0.6179491633185796,0.6216090496577793,0.6252313149828728,0.6288166747320489,0.6323657914670489,0.6358792813168923,0.639357719593473,0.6428016456860834,0.6462115673280502,0.6495879643165723,0.652931291756353,0.6562419828884758,0.6595204515580178,0.6627670943669857,0.6659822925531245,0.6691664136299182,0.6723198128185384,0.6754428342985233,0.6785358123005156,0.681599072061378,0.6846329306593868,0.6876376977449141,0.6906136761800366,0.6935611625987619,0.6964804478980717,0.6993718176686576,0.7022355525730861,0.7050719286781362,0.7078812177471776,0.710663687497713,0.7134196018285375,0.7161492210204037,0.7188528019135776,0.7215305980652336,0.7241828598892617,0.7268098347807253,0.7294117672269214]
["Other|Medium|RG_S0",0.04545266439035433,0.09554310955785808,0.14776994124267467,0.1941567596627162,0.23453657790993185,0.26969501100114945,0.30040399248868926,0.32732634098738145,0.3510233709091212,0.37197030811859794,0.39056983188049516,0.40716341645521065,0.4220408441380018,0.4354482053973228,0.44759463549148265,0.45865799160931575,0.4687896402976099,0.47811849715486254,0.48675443773010174,0.494791179338356,0.502308717431789,0.5093753867205071,0.5160496059844945,0.5223813560961649,0.5284134328801625,0.534182509821963,0.539720040089941,0.5450530226820411,0.5502046536021133,0.55519487969055,0.5600408699773917,0.5647574171085546,0.5693572794462978,0.5738514728040799,0.578249519393926,0.5825596603997603,0.5867890376080726,0.5909438486986548,0.5950294800985267,0.5990506207111252,0.6030113593331752,0.6069152681489887,0.6107654743341573,0.6145647214975516,0.6183154224336624,0.6220197044394578,0.6256794482650035,0.6292963216100504,0.632871807945309,0.6364072313236175,0.6399037777496079,0.6433625135941923,0.6467844014700975,0.6501703139248829,0.653521045256867,0.6568373217158303,0.6601198103131448,0.6633691264341673,0.6665858404185067,0.6697704832504857,0.6729235514821491,0.6760455114940754,0.6791368031845758,0.6821978431652773,0.6852290275302871,0.6882307342568479,0.6912033252874178,0.6941471483362509,0.697062538457647,0.6999498194079649,0.7028093048291122,0.7056412992774589,0.7084460991188688,0.7112239933077439,0.7139752640655549,0.7167001874722473,0.7193990339821077,0.7220720688741225,0.724719552645509,0.7273417413559455,0.7299388869290124,0.7325112374164926,0.7350590372304266,0.737582527347162]
["Other|Medium|RG_S1",0.24811754711834288,0.5355500887897442,0.5936559303170279,0.6112022059550071,0.6216352366685797,0.6302988360947792,0.638081386194266,0.6451919580092216,0.6517317947899157,0.6577775481241248,0.6633938643021878,0.668636208735498,0.6735522953019,0.6781832017066672,0.6825643142478406,0.686726135370683,0.6906949744441467,0.6944935388662556,0.6981414401444104,0.7016556274333399,0.7050507591490536,0.7083395216903645,0.7115329029536324,0.7146404271851424,0.7176703567474488,0.7206298655542778,0.7235251882306236,0.7263617484614298,0.7291442694876814,0.731876869279298,0.7345631425484682,0.7372062314553749,0.7398088865924255,0.7423735196062673,0.7449022486231462,0.7473969374776526,0.7498592296033629,0.7522905773228062,0.7546922671705169,0.7570654417941344,0.7594111189024023,0.7617302076636288,0.7640235229021612,0.7662917973923192,0.7685356925079101,0.7707558074499296,0.7729526872444982,0.7751268296768006,0.7772786913041595,0.779408692671886,0.7815172228387494,0.7836046433044265,0.7856712914188008,0.7877174833421998,0.7897435166163603,0.7917496723978666,0.7937362173988741,0.7957034055739215,0.7976514795864548,0.7995806720841931,0.8014912068085907,0.8033832995602838,0.8052571590395089,0.8071129875779551,0.8089509817763352,0.8107713330600671,0.8125742281638241,0.8143598495542838,0.8161283757991836,0.8178799818897163,0.8196148395223747,0.8213331173455521,0.8230349811755063,0.8247205941856888,0.8263901170729181,0.8280437082034172,0.8296815237413401,0.8313037177620676,0.8329104423522572,0.8345018476983651,0.8360780821651411,0.8376392923653951,0.8391856232221674,0.8407172180242833]
["Other|Medium|RG_S2",0.8743305326417457,0.9339886123677842,0.9410859452480339,0.9431826932009083,0.9448281348830363,0.9463491033098571,0.9477467836323304,0.9490248499145577,0.9501944910456895,0.9512679320538809,0.9522564547733564,0.9531700772744698,0.9540176176939049,0.9548068220202292,0.9555444903062207,0.9562365904126379,0.9568883587320294,0.9575043890429936,0.9580887107998384,0.9586448580664141,0.9591759301778656,0.9596846450954744,0.9601733863122671,0.9606442440705072,0.9610990515657122,0.9615394167345734,0.9619667501552197,0.9623822895268819,0.9627871211414156,0.9631821987106481,0.9635683598705,0.9639463406447133,0.9643167881172744,0.9646802715327834,0.9650372920176453,0.9653882910916864,0.9657336581192524,0.9660737368307412,0.9664088310295652,0.9667392095854913,0.9670651108029399,0.9673867462419498,0.9677043040599551,0.9680179519341162,0.9683278396165662,0.9686341011684529,0.9689368569129694,0.969236215142573,0.9695322736112151,0.9698251208385651,0.9701148372498455,0.9704014961719486,0.9706851647039163,0.9709659044776048,0.971243772322372,0.9715188208458904,0.9717910989416667,0.9720606522325237,0.9723275234581302,0.9725917528136535,0.9728533782457125,0.9731124357110332,0.973368959402527,0.9736229819469151,0.9738745345775042,0.9741236472852581,0.9743703489509199,0.9746146674605816,0.9748566298068038,0.9750962621771154,0.9753335900314938,0.9755686381702243,0.9758014307933581,0.9760319915528342,0.9762603435981968,0.9764865096167198,0.9767105118686474,0.9769323722181706,0.9771521121606798,0.9773697528467647,0.977585315103376,0.9777988194525039,0.9780102861276923,0.978219735088659]
["Other|Large|RG_N0",0,8.3975609915447027E-5,3.3215092424551451E-4,7.9293049675535545E-4,1.4336529692555427E-3,2.219340110670607E-3,0.003124855184080307,0.004133216601197266,0.005232699516612349,0.006414759145588701,0.007672756566568857,0.009001214316617217,0.010395388821851797,0.011851025914388833,0.013364220716859205,0.014931336642210859,0.016548957741372675,0.018213859793463735,0.0199229918861763,0.02167346383899754,0.023462536863818655,0.025287616011882463,0.02714624360709561,0.029036093231610622,0.030954964034046253,0.032900775243970365,0.03487156083811937,0.036865464336820815,0.038880733725979826,0.04091571650799536,0.04296885488814993,0.045038681103644874,0.047123812901803896,0.049222949172739325,0.05133486574034838,0.05345841131407978,0.055592503602582236,0.05773612558916035,0.05988832196793252,0.06204819573870866,0.06421490495787195,0.06638765964194619,0.06856571882004342,0.07074838773100292,0.07293501516073696,0.07512499091508165,0.07731774342329985,0.07951273746728861,0.08170947203149834,0.083907478268565,0.08610631757568692,0.08830557977683516,0.09050488140596813,0.09270386408652165,0.0949021930025623,0.09709955545711968,0.09929565951335144,0.10149023271433898,0.10368302087746148,0.10587378695944837,0.10806230998836414,0.11024838405893386,0.11243181738777086,0.11461243142522023,0.11679006002068071,0.11896454863841367,0.12113575362099131,0.12330354149767371,0.12546778833514025,0.12762837912813016,0.12978520722767298,0.13193817380471015,0.13408718734702577,0.1362321631875149,0.13837302306192578,0.14050969469431282,0.14264211140853597,0.14477021176423382,0.14689393921578725,0.14901324179287334,0.1511280718012907,0.1532383855428123,0.15534414305289407,0.15744530785513688]
["Other|Large|RG_N1",4.5237078462532587E-4,1.0808495713054654E-3,1.995092443500851E-3,3.1910224498982206E-3,0.004599632755669747,0.006163258182068839,0.007842771459266049,0.009612491944631032,0.011455208837004517,0.013358874607659972,0.015314605726100038,0.017315506722203118,0.019355980912075327,0.0214313227934237,0.023537472562870764,0.025670864097225275,0.027828327165230402,0.03000702146505869,0.03220438966999594,0.034418122120555,0.036646128906880016,0.03888651685529885,0.04113756994394328,0.043397732252029635,0.04566559288167757,0.04793987248566741,0.05021941114929683,0.052503157443587266,0.05479015850989957,0.0570795510635828,0.05937055322289513,0.06166245708270219,0.06395462196244221,0.06624646826574808,0.06853747189563043,0.07082715917467079,0.0731151022245007,0.07540091476311157,0.07768424828235332,0.07996478857140951,0.08224225255513577,0.08451638541895425,0.08678695799454438,0.08905376438288352,0.09131661979329522,0.09357535857907585,0.09582983245201178,0.09807990885968361,0.10032546951089635,0.10256640903588754,0.10480263376916035,0.10703406064387776,0.10926061618774427,0.11148223561120436,0.11369886197960868,0.11591044546174709,0.11811694264782929,0.12031831593061436,0.1225145329439555,0.12470556605354115,0.1268913918950825,0.1290719909556239,0.13124734719404196,0.1334174476971523,0.13558228236816652,0.13774184364453465,0.1398961262424758,0.1420451269257435,0.14418884429639395,0.14632727860552666,0.14846043158215183,0.15058830627850467,0.15271090693028103,0.15482823883040533,0.15694030821507016,0.15904712216090044,0.16114868849219965,0.16324501569733177,0.16533611285337832,0.16742198955828946,0.16950265586981877,0.17157812225059785,0.17364839951876573,0.17571349880362147]
["Other|Large|RG_N2",1.0821992940859742E-3,2.5253564716805066E-3,0.004723422433082096,0.007764566504069975,0.011348198840901103,0.015218653192915637,0.019212528466688465,0.023233954273675122,0.02722886356465152,0.031167759440763703,0.03503532660753341,0.03882438154863205,0.04253238928644747,0.04615946265256131,0.049707210995489734,0.05317807473510779,0.056574938169670144,0.059900902194421804,0.06315914943880414,0.06635286325926153,0.06948517848437796,0.07255915118126761,0.07557774005682362,0.07854379516279485,0.08146005132685948,0.08432912474356298,0.08715351174770401,0.0899355891395344,0.0926776156389708,0.0953817341735513,0.0980499747855743,0.10068425799688269,0.10328639850610638,0.10585810911922203,0.10840100483374669,0.11091660701195884,0.11340634759056668,0.11587157328405129,0.11831354974702982,0.12073346566777415,0.12313243677073094,0.12551150971070793,0.12787166584545978,0.1302138248768375,0.13253884835355376,0.1348475430310367,0.13714066408586634,0.13941891818396274,0.14168296640307712,0.14393342701126335,0.14617087810391727,0.1483958601026953,0.15060887812018975,0.15281040419466946,0.15500087939951115,0.15718071583216878,0.1593502984876684,0.16150998702168895,0.16366011740830747,0.1658010034974582,0.16793293847708907,0.17005619624490356,0.1721710326944558,0.1742776869202279,0.17637638234616687,0.1784673277819946,0.180550718411436,0.1826267367163348,0.1846955533404517,0.186757327896562,0.1888122097202957,0.1908603385739902,0.1929018453036565,0.19493685245199527,0.19696547483024002,0.1989878200514492,0.2010039890277218,0.20301407643366698,0.20501817113832305,0.20701635660758955,0.20900871127911286,0.2109953089114467,0.21297621890919732,0.21495150662575652]
["Other|Large|RG_N3",0.008813144020735268,0.029918920839809182,0.057324533778049365,0.07750527858557452,0.0909219731942043,0.09989497197605357,0.10620456724532785,0.11096386192945018,0.11482703655918705,0.11817006510558328,0.12120717692937047,0.12406003195990065,0.12679765230994552,0.1294592229068636,0.1320670521367184,0.1346339230672274,0.13716725677104397,0.13967146650344014,0.14214928610174776,0.1446025172788916,0.1470324480938437,0.14944008566614894,0.15182628422150737,0.15419181438966334,0.15653739972902858,0.158863735142292,0.16117149543774714,0.16346133866184803,0.16573390677626354,0.16798982509458654,0.1702297012424041,0.17245412403983926,0.17466366250325388,0.17685886505187104,0.17904025894557893,0.18120834994944637,0.18336362220568886,0.1855065382877512,0.18763753940975003,0.18975704576548086,0.19186545697328045,0.19396315260556024,0.19605049278442702,0.1981278188272962,0.2001954539286948,0.2022537038665135,0.20430285772279466,0.2063431886107514,0.20837495440111142,0.21039839844209599,0.21241375026839482,0.2144212262954021,0.21642103049575429,0.2184133550558736,0.22039838101078787,0.2223762788559738,0.22434720913537848,0.2263113230051127,0.22826876277259428,0.23021966241115627,0.2321641480503274,0.23410233844215245,0.23603434540404583,0.23796027423877386,0.2398802241322386,0.24179428852979554,0.24370255549188077,0.24560510802975102,0.24750202442215918,0.2493933785137934,0.25127923999631013,0.25315967467278233,0.2550347447063737,0.2569045088540319,0.25876902268597385,0.26062833879171504,0.2624825069733675,0.26433157442690697,0.2661755859120827,0.26801458391161287,0.2698486087802851,0.27167769888454907,0.2735018907331628,0.27532121909942725]
["Other|Large|RG_S0",0.004696446903282063,0.01248005723425371,0.02290118322114643,0.03440270265474184,0.04611624689114278,0.05758546673164427,0.06858366028304562,0.07901117217417764,0.08883772479378133,0.09807000653296388,0.10673351823907248,0.11486247808784526,0.12249427738582189,0.12966650062668728,0.13641538451447796,0.14277507902558031,0.1487773505101997,0.15445152383946018,0.15982454957451392,0.16492113250699153,0.16976388640009457,0.17437349582557882,0.17876887502241576,0.18296731874965763,0.1869846428999662,0.19083531416297025,0.19453256883541278,0.19808852128297774,0.20151426274492848,0.20481995123781332,0.20801489331507442,0.2111076184071036,0.2141059464186937,0.2170170492075592,0.21984750651378587,0.22260335685835433,0.22529014388050958,0.2279129585391991,0.23047647756314865,0.2329849984972477,0.2354424716595358,0.23785252929294143,0.24021851216873355,0.2425434938741336,0.2448303029944339,0.24708154338004606,0.24929961267093678,0.251486719234704,0.25364489765992526,0.2557760229332139,0.2578818234165017,0.2599638927303027,0.26202370063898434,0.26406260302527756,0.26608185103330234,0.26808259945218654,0.2700659144058392,0.2720327804085384,0.27398410684064434,0.27592073389390337,0.2778434380314101,0.27975293700330794,0.2816498944556879,0.283534924166857,0.285408593942164,0.28727142919585225,0.2891239162459444,0.290966505345918,0.2927996134748877,0.29462362690615024,0.29643890357225533,0.29824577524322027,0.30004454953310156,0.3018355117488517,0.3036189265942208,0.3053950397403938,0.30716407927407857,0.3089262570328701,0.3106817698369021,0.312430800625054,0.3141735195033002,0.3159100847121672,0.3176406435196952,0.3193653330457789]
["Other|Large|RG_S1",0.08246713760331029,0.18246038121766858,0.24175570242971936,0.27624531679136966,0.296514321942532,0.3086938660424851,0.3162847446111397,0.32127741734557796,0.3248014866989074,0.3274972563380244,0.3297272553764604,0.331696425189669,0.3335203541408721,0.3352640019296298,0.3369636702630455,0.3386394644224482,0.340302358399,0.34195819795148286,0.34360996645736275,0.3452590654464448,0.34690603649819685,0.34855096661055596,0.35019371439591696,0.3518340350117404,0.3534716479975816,0.3551062730479012,0.35673764788973783,0.3583655362742961,0.35998973059878214,0.3616100516956049,0.3632263472055366,0.36483848931796004,0.3664463723040464,0.36804991006791843,0.36964903382869285,0.3712436899842243,0.37283383817358007,0.37441944953735873,0.3760005051659443,0.3775769947216737,0.3791489152194766,0.38071626995054164,0.3822790675342922,0.38383732108500646,0.38539104748059816,0.38694026672224924,0.3884850013747251,0.3900252760782471,0.39156111712376584,0.3930925520843508,0.39461960949619956,0.3961423185834786,0.39766070902184114,0.3991748107360361,0.4006846537275289,0.40219026792850776,0.40369168307905434,0.40518892862461986,0.4066820336312652,0.40817102671641836,0.40965593599315075,0.41113678902620787,0.4126136127982314,0.4140864336847898,0.4155552774369977,0.4170201691706479,0.41848113336090453,0.41993819384172604,0.42139137380928027,0.42284069582870887,0.4242861818436763,0.42572785318820927,0.4271657306003961,0.42859983423756987,0.43003018369264967,0.4314567980113577,0.4328796957100679,0.43429889479407635,0.435714412776114,0.43712626669494736,0.43853447313393934,0.4399390482394575,0.44134000773904125,0.4427373669592505]
["Other|Large|RG_S2",0.37433053264174565,0.5865247414384674,0.707283957735628,0.7761096297951207,0.8154411980377755,0.8380230143891465,0.8510905738984498,0.8587512350988464,0.8633365882919564,0.8661702753749789,0.8680038376536414,0.869264101609649,0.8701935893259074,0.8709302107974151,0.8715524941182442,0.8721052560607179,0.8726141713523966,0.8730940413384638,0.8735534867431225,0.8739976109783092,0.8744295116996308,0.8748511387490248,0.8752637811981456,0.8756683439391815,0.8760655048762388,0.8764558043863031,0.8768396963669548,0.87721757750306,0.8775898041861697,0.8779567024356951,0.8783185738534416,0.8786756993284909,0.8790283414639303,0.8793767462743636,0.8797211444637718,0.8800617524578431,0.8803987732883554,0.8807323973840522,0.8810628032982154,0.8813901583895887,0.881714619465797,0.8820363333942883,0.8823554376836116,0.8826720610366896,0.8829863238771701,0.883298338849681,0.8836082112947192,0.8839160396988915,0.8842219161212491,0.8845259265964929,0.8848281515158645,0.8851286659865683,0.8854275401705889,0.8857248396037861,0.8860206254961507,0.8863149550141032,0.8866078815457095,0.8868994549496703,0.887189721788925,0.8874787255496853,0.8877665068466932,0.8880531036154646,0.8883385512922567,0.8886228829824632,0.8889061296181151,0.8891883201051308,0.8894694814609304,0.8897496389430002,0.8900288161689613,0.8903070352286692,0.8905843167888426,0.8908606801906928,0.8911361435409969,0.8914107237970376,0.8916844368458008,0.8919572975778064,0.8922293199559209,0.8925005170794811,0.8927709012440374,0.8930404839970076,0.8933092761895125,0.8935772880246474,0.8938445291024307,0.8941110084616499]